Workbook

Sheet Q1 Data
A4: Mortality Table | E4: Surrender Rate | K4: For Q1(V)
A5: Age | B5: Mortality Rates | E5: Polict Year | F5: Surrender Rate | G5: Surrender Value Factor | K5: lx values
A6: 18 | B6: 0.000437 | E6: 1 | F6: 0 | G6: 0 | K6: Current age | L6: Male/Man | M6: Female/Women
A7: 19 | B7: 0.0004525 | E7: =E6+1 -> 2 | F7: 0 | G7: 0 | K7: 50 | L7: 9941.9225 | M7: 9952.6969
A8: 20 | B8: 0.000462 | E8: =E7+1 -> 3 | F8: 0.05 | G8: 0.8 | K8: 51 | L8: 9936.5041 | M8: 9947.4518
A9: 21 | B9: 0.000467 | E9: =E8+1 -> 4 | F9: 0.05 | G9: 0.85 | K9: 52 | L9: 9930.2441 | M9: 9941.4535
A10: 22 | B10: 0.0004685 | E10: =E9+1 -> 5 | F10: 0.05 | G10: 0.85 | K10: 53 | L10: 9922.995 | M10: 9934.574
A11: 23 | B11: 0.000468 | E11: =E10+1 -> 6 | F11: 0.05 | G11: 0.9 | K11: 54 | L11: 9914.5803 | M11: 9926.676
A12: 24 | B12: 0.0004665 | E12: =E11+1 -> 7 | F12: 0.05 | G12: 0.9 | K12: 55 | L12: 9904.8046 | M12: 9917.6229
A13: 25 | B13: 0.0004655 | E13: =E12+1 -> 8 | F13: 0.05 | G13: 0.95 | K13: 56 | L13: 9893.4339 | M13: 9907.2491
A14: 26 | B14: 0.0004655 | E14: =E13+1 -> 9 | F14: 0.05 | G14: 0.95 | K14: 57 | L14: 9880.1964 | M14: 9895.3703
A15: 27 | B15: 0.000467 | E15: =E14+1 -> 10 | F15: 0.05 | G15: 1 | K15: 58 | L15: 9864.8031 | M15: 9881.7642
A16: 28 | B16: 0.000471 | E16: =E15+1 -> 11 | F16: 0.15 | G16: 1.1 | K16: 59 | L16: 9846.9083 | M16: 9866.2004
A17: 29 | B17: 0.000478 | E17: =E16+1 -> 12 | F17: 0.15 | G17: 1.2 | K17: 60 | L17: 9826.1314 | M17: 9848.4313
A18: 30 | B18: 0.0004885 | E18: =E17+1 -> 13 | F18: 0.15 | G18: 1.25 | K18: 61 | L18: 9802.0475 | M18: 9828.1633
... A20: 32 | B20: 0.000521 | E20: =E19+1 -> 15 | F20: 0 | G20: 0 | K20: 63 | L20: 9738.388 | M20: 9775.8877
A21: 33 | B21: 0.000543 | K21: 64 | L21: 9696.9901 | M21: 9742.6399
A22: 34 | B22: 0.00057 | K22: 65 | L22: 9647.797 | M22: 9703.7083
A23: 35 | B23: 0.000601 | K23: 66 | L23: 9589.602 | M23: 9658.2853
A24: 36 | B24: 0.0006375 | K24: 67 | L24: 9521.065 | M24: 9605.4834
A25: 37 | B25: 0.000679 | K25: 68 | L25: 9440.717 | M25: 9544.3253
A26: 38 | B26: 0.0007265 | K26: 69 | L26: 9346.97 | M26: 9473.745
A27: 39 | B27: 0.00078 | K27: 70 | L27: 9238.134 | M27: 9392.6213
A28: 40 | B28: 0.00084 | K28: 71 | L28: 9112.449 | M28: 9299.7471
A29: 41 | B29: 0.0009075 | K29: 72 | L29: 8968.099 | M29: 9193.8602
A30: 42 | B30: 0.0009845 | K30: 73 | L30: 8803.265 | M30: 9073.6504
A31: 43 | B31: 0.001072 | K31: 74 | L31: 8616.17 | M31: 8937.7907
A32: 44 | B32: 0.0011725 | K32: 75 | L32: 8405.16 | M32: 8784.9545
... A68: 80 | B68: 0.0309925 | K68: 111 | L68: 1.3885 | M68: 17.9018
K69: 112 | L69: 0.7595 | M69: 11.0561
K70: 113 | L70: 0.4091 | M70: 6.6873
K71: 114 | L71: 0.2173 | M71: 3.9616
K72: 115 | L72: 0.114 | M72: 2.2989
K73: 116 | L73: 0.0591 | M73: 1.3071
K74: 117 | L74: 0.0304 | M74: 0.7284
K75: 118 | L75: 0.0155 | M75: 0.398
K76: 119 | L76: 0.0078 | M76: 0.2133
K77: 120 | L77: 0.0039 | M77: 0.1122

Sheet Q1(i)
A3: Policy Information
A4: Annual Premium | B4: 50000 | D4: Initial Expenses | E4: 5000 | G4: Interest rate | H4: 0.065
A5: PT | B5: 15 | D5: Renewal Expenses | E5: 1000 | G5: RDR | H5: 0.12
A6: Age | B6: 30 | D6: Inflation | E6: 0.025
A7: MATURITY OUTGO | B7: =B4*20 -> 1000000 | D7: Int Commission | E7: 0.25
A8: Death benefit | B8: =B4*20 -> 1000000 | D8: Renewal Commission | E8: 0.05
H10: Decrement | M10: Per Policy Cashflow | Y10: In force Cashflow
B11: Policy Year | C11: Age | E11: Qx | F11: Wx | H11: Probability In force at Start | I11: NO_DEATH | J11: NO_SURR | K11: Prob inf at END | M11: Premium | N11: Total Premium Paid to date | O11: SURR_FACTOR | P11: SURENDER_OUTGO | Q11: MATURITY OUTGO | R11: DEATH_OTGO | S11: Initial Expenses | T11: Renewal Expenses | U11: Initial Commission | V11: renewal Commission | W11: Reserve Per Policy | Y11: CF Premium | Z11: CF_Expenses | AA11: CF_Commission | AB11: CF_SURR_OUTGO | AC11: CF_DEATH_OUTGO | AD11: CF_MATURITY_OUTGO | AE11: Int on Cashflow | AF11: Net Cashflow | AH11: Reserve at End | AI11: Int on reserve | AJ11: Change in reserve | AL11: Profit | AM11: Discount factor | AP11: EPV of Profit | AQ11: =SUMPRODUCT(AL13:AL27,AM13:AM27) -> 72595.57
AH12: 0 | AM12: 1 | AP12: EPV of Premium | AQ12: =SUMPRODUCT(Y13:Y27,AM12:AM26) -> 319255.47 | AT12: Change of EPV
B13: 1 | C13: =B6 -> 30 | E13: =VLOOKUP(C13,'Q1 Data'!$A$5:$B$68,2,0) -> 0.0004885 | F13: =VLOOKUP(B13,'Q1 Data'!$E$5:$F$20,2,0) -> 0 | H13: 1 | I13: =H13*E13 -> 0.0004885 | J13: =H13*F13 -> 0 | K13: =H13-I13-J13 -> 0.9995115 | M13: =$B$4 -> 50000 | N13: =M13 -> 50000 | O13: =VLOOKUP(B13,'Q1 Data'!$E$5:$G$20,3,0) -> 0 | P13: =N13*O13 -> 0 | Q13: 0 | R13: =$B$8 -> 1000000 | S13: =E4 -> 5000 | U13: =$B$4*E7 -> 12500 | W13: =0.45*N13 -> 22500 | Y13: =M13*H13 -> 50000 | Z13: =-(S13+T13)*H13 -> -5000 | AA13: =-(U13+V13)*H13 -> -12500 | AB13: =-P13*J13 -> 0 | AC13: =-R13*I13 -> -488.5 | AD13: =-Q13*K13 -> 0 | AE13: =SUM(Y13:AA13)*$H$4 -> 2112.5 | AF13: =SUM(Y13:AE13) -> 34124 | AH13: =W13*K13 -> 22489.009 | AI13: =AH12*$H$4 -> 0 | AJ13: =AH12-AH13 -> -22489.009 | AL13: =AF13+AI13+AJ13 -> 11634.991 | AM13: =1/(1+$H$5)^B13 -> 0.89285714 | AP13: Profit Margin | AQ13: =AQ11/AQ12 -> 0.22739022
B14: =B13+1 -> 2 | C14: =C13+1 -> 31 | E14: =VLOOKUP(C14,'Q1 Data'!$A$5:$B$68,2,0) -> 0.0005025 | F14: =VLOOKUP(B14,'Q1 Data'!$E$5:$F$20,2,0) -> 0 | H14: =K13 -> 0.9995115 | I14: =H14*E14 -> 0.00050225453 | J14: =H14*F14 -> 0 | K14: =H14-I14-J14 -> 0.99900925 | M14: =$B$4 -> 50000 | N14: =SUM($M$13:M14) -> 100000 | O14: =VLOOKUP(B14,'Q1 Data'!$E$5:$G$20,3,0) -> 0 | P14: =N14*O14 -> 0 | Q14: 0 | R14: =$B$8 -> 1000000 | T14: =E5 -> 1000 | V14: =$B$4*$E$8 -> 2500 | W14: =0.45*N14 -> 45000 | Y14: =M14*H14 -> 49975.575 | Z14: =-(S14+T14)*H14 -> -999.5115 | AA14: =-(U14+V14)*H14 -> -2498.7787 | AB14: =-P14*J14 -> 0 | AC14: =-R14*I14 -> -502.25453 | AD14: =-Q14*K14 -> 0 | AE14: =SUM(Y14:AA14)*$H$4 -> 3021.0235 | AF14: =SUM(Y14:AE14) -> 48996.054 | AH14: =W14*K14 -> 44955.416 | AI14: =AH13*$H$4 -> 1461.7856 | AJ14: =AH13-AH14 -> -22466.407 | AL14: =AF14+AI14+AJ14 -> 27991.432 | AM14: =1/(1+$H$5)^B14 -> 0.79719388
B15: =B14+1 -> 3 | C15: =C14+1 -> 32 | E15: =VLOOKUP(C15,'Q1 Data'!$A$5:$B$68,2,0) -> 0.000521 | F15: =VLOOKUP(B15,'Q1 Data'!$E$5:$F$20,2,0) -> 0.05 | H15: =K14 -> 0.99900925 | I15: =H15*E15 -> 0.00052048382 | J15: =H15*F15 -> 0.049950462 | K15: =H15-I15-J15 -> 0.9485383 | M15: =$B$4 -> 50000 | N15: =SUM($M$13:M15) -> 150000 | O15: =VLOOKUP(B15,'Q1 Data'!$E$5:$G$20,3,0) -> 0.8 | P15: =N15*O15 -> 120000 | Q15: 0 | R15: =$B$8 -> 1000000 | T15: =T14*(1+$E$6) -> 1025 | V15: =$B$4*$E$8 -> 2500 | W15: =0.45*N15 -> 67500 | Y15: =M15*H15 -> 49950.462 | Z15: =-(S15+T15)*H15 -> -1023.9845 | AA15: =-(U15+V15)*H15 -> -2497.5231 | AB15: =-P15*J15 -> -5994.0555 | AC15: =-R15*I15 -> -520.48382 | AD15: =-Q15*K15 -> 0 | AE15: =SUM(Y15:AA15)*$H$4 -> 3017.8821 | AF15: =SUM(Y15:AE15) -> 42932.297 | AH15: =W15*K15 -> 64026.335 | AI15: =AH14*$H$4 -> 2922.102 | AJ15: =AH14-AH15 -> -19070.919 | AL15: =AF15+AI15+AJ15 -> 26783.48 | AM15: =1/(1+$H$5)^B15 -> 0.71178025
B16: =B15+1 -> 4 | C16: =C15+1 -> 33 | E16: =VLOOKUP(C16,'Q1 Data'!$A$5:$B$68,2,0) -> 0.000543 | F16: =VLOOKUP(B16,'Q1 Data'!$E$5:$F$20,2,0) -> 0.05 | H16: =K15 -> 0.9485383 | I16: =H16*E16 -> 0.0005150563 | J16: =H16*F16 -> 0.047426915 | K16: =H16-I16-J16 -> 0.90059633 | M16: =$B$4 -> 50000 | N16: =SUM($M$13:M16) -> 200000 | O16: =VLOOKUP(B16,'Q1 Data'!$E$5:$G$20,3,0) -> 0.85 | P16: =N16*O16 -> 170000 | Q16: 0 | R16: =$B$8 -> 1000000 | T16: =T15*(1+$E$6) -> 1050.625 | V16: =$B$4*$E$8 -> 2500 | W16: =0.45*N16 -> 90000 | Y16: =M16*H16 -> 47426.915 | Z16: =-(S16+T16)*H16 -> -996.55805 | AA16: =-(U16+V16)*H16 -> -2371.3457 | AB16: =-P16*J16 -> -8062.5755 | AC16: =-R16*I16 -> -515.0563 | AD16: =-Q16*K16 -> 0 | AE16: =SUM(Y16:AA16)*$H$4 -> 2863.8357 | AF16: =SUM(Y16:AE16) -> 38345.215 | AH16: =W16*K16 -> 81053.67 | AI16: =AH15*$H$4 -> 4161.7118 | AJ16: =AH15-AH16 -> -17027.334 | AL16: =AF16+AI16+AJ16 -> 25479.593 | AM16: =1/(1+$H$5)^B16 -> 0.63551808
B17: =B16+1 -> 5 | C17: =C16+1 -> 34 | E17: =VLOOKUP(C17,'Q1 Data'!$A$5:$B$68,2,0) -> 0.00057 | F17: =VLOOKUP(B17,'Q1 Data'!$E$5:$F$20,2,0) -> 0.05 | H17: =K16 -> 0.90059633 | I17: =H17*E17 -> 0.00051333991 | J17: =H17*F17 -> 0.045029816 | K17: =H17-I17-J17 -> 0.85505317 | M17: =$B$4 -> 50000 | N17: =SUM($M$13:M17) -> 250000 | O17: =VLOOKUP(B17,'Q1 Data'!$E$5:$G$20,3,0) -> 0.85 | P17: =N17*O17 -> 212500 | Q17: 0 | R17: =$B$8 -> 1000000 | T17: =T16*(1+$E$6) -> 1076.8906 | V17: =$B$4*$E$8 -> 2500 | W17: =0.45*N17 -> 112500 | Y17: =M17*H17 -> 45029.816 | Z17: =-(S17+T17)*H17 -> -969.84374 | AA17: =-(U17+V17)*H17 -> -2251.4908 | AB17: =-P17*J17 -> -9568.836 | AC17: =-R17*I17 -> -513.33991 | AD17: =-Q17*K17 -> 0 | AE17: =SUM(Y17:AA17)*$H$4 -> 2717.5513 | AF17: =SUM(Y17:AE17) -> 34443.857 | AH17: =W17*K17 -> 96193.482 | AI17: =AH16*$H$4 -> 5268.4885 | AJ17: =AH16-AH17 -> -15139.812 | AL17: =AF17+AI17+AJ17 -> 24572.533 | AM17: =1/(1+$H$5)^B17 -> 0.56742686
B18: =B17+1 -> 6 | C18: =C17+1 -> 35 | E18: =VLOOKUP(C18,'Q1 Data'!$A$5:$B$68,2,0) -> 0.000601 | F18: =VLOOKUP(B18,'Q1 Data'!$E$5:$F$20,2,0) -> 0.05 | H18: =K17 -> 0.85505317 | I18: =H18*E18 -> 0.00051388696 | J18: =H18*F18 -> 0.042752659 | K18: =H18-I18-J18 -> 0.81178663 | M18: =$B$4 -> 50000 | N18: =SUM($M$13:M18) -> 300000 | O18: =VLOOKUP(B18,'Q1 Data'!$E$5:$G$20,3,0) -> 0.9 | P18: =N18*O18 -> 270000 | Q18: 0 | R18: =$B$8 -> 1000000 | T18: =T17*(1+$E$6) -> 1103.8129 | V18: =$B$4*$E$8 -> 2500 | W18: =0.45*N18 -> 135000 | Y18: =M18*H18 -> 42752.659 | Z18: =-(S18+T18)*H18 -> -943.81871 | AA18: =-(U18+V18)*H18 -> -2137.6329 | AB18: =-P18*J18 -> -11543.218 | AC18: =-R18*I18 -> -513.88696 | AD18: =-Q18*K18 -> 0 | AE18: =SUM(Y18:AA18)*$H$4 -> 2578.6285 | AF18: =SUM(Y18:AE18) -> 30192.731 | AH18: =W18*K18 -> 109591.19 | AI18: =AH17*$H$4 -> 6252.5763 | AJ18: =AH17-AH18 -> -13397.713 | AL18: =AF18+AI18+AJ18 -> 23047.594 | AM18: =1/(1+$H$5)^B18 -> 0.50663112
B19: =B18+1 -> 7 | C19: =C18+1 -> 36 | E19: =VLOOKUP(C19,'Q1 Data'!$A$5:$B$68,2,0) -> 0.0006375 | F19: =VLOOKUP(B19,'Q1 Data'!$E$5:$F$20,2,0) -> 0.05 | H19: =K18 -> 0.81178663 | I19: =H19*E19 -> 0.00051751397 | J19: =H19*F19 -> 0.040589331 | K19: =H19-I19-J19 -> 0.77067978 | M19: =$B$4 -> 50000 | N19: =SUM($M$13:M19) -> 350000 | O19: =VLOOKUP(B19,'Q1 Data'!$E$5:$G$20,3,0) -> 0.9 | P19: =N19*O19 -> 315000 | Q19: 0 | R19: =$B$8 -> 1000000 | T19: =T18*(1+$E$6) -> 1131.4082 | V19: =$B$4*$E$8 -> 2500 | W19: =0.45*N19 -> 157500 | Y19: =M19*H19 -> 40589.331 | Z19: =-(S19+T19)*H19 -> -918.46206 | AA19: =-(U19+V19)*H19 -> -2029.4666 | AB19: =-P19*J19 -> -12785.639 | AC19: =-R19*I19 -> -517.51397 | AD19: =-Q19*K19 -> 0 | AE19: =SUM(Y19:AA19)*$H$4 -> 2446.6912 | AF19: =SUM(Y19:AE19) -> 26784.941 | AH19: =W19*K19 -> 121382.07 | AI19: =AH18*$H$4 -> 7123.4276 | AJ19: =AH18-AH19 -> -11790.871 | AL19: =AF19+AI19+AJ19 -> 22117.497 | AM19: =1/(1+$H$5)^B19 -> 0.45234922
B20: =B19+1 -> 8 | C20: =C19+1 -> 37 | E20: =VLOOKUP(C20,'Q1 Data'!$A$5:$B$68,2,0) -> 0.000679 | F20: =VLOOKUP(B20,'Q1 Data'!$E$5:$F$20,2,0) -> 0.05 | H20: =K19 -> 0.77067978 | I20: =H20*E20 -> 0.00052329157 | J20: =H20*F20 -> 0.038533989 | K20: =H20-I20-J20 -> 0.7316225 | M20: =$B$4 -> 50000 | N20: =SUM($M$13:M20) -> 400000 | O20: =VLOOKUP(B20,'Q1 Data'!$E$5:$G$20,3,0) -> 0.95 | P20: =N20*O20 -> 380000 | Q20: 0 | R20: =$B$8 -> 1000000 | T20: =T19*(1+$E$6) -> 1159.6934 | V20: =$B$4*$E$8 -> 2500 | W20: =0.45*N20 -> 180000 | Y20: =M20*H20 -> 38533.989 | Z20: =-(S20+T20)*H20 -> -893.75227 | AA20: =-(U20+V20)*H20 -> -1926.6995 | AB20: =-P20*J20 -> -14642.916 | AC20: =-R20*I20 -> -523.29157 | AD20: =-Q20*K20 -> 0 | AE20: =SUM(Y20:AA20)*$H$4 -> 2321.3799 | AF20: =SUM(Y20:AE20) -> 22868.71 | AH20: =W20*K20 -> 131692.05 | AI20: =AH19*$H$4 -> 7889.8343 | AJ20: =AH19-AH20 -> -10309.985 | AL20: =AF20+AI20+AJ20 -> 20448.56 | AM20: =1/(1+$H$5)^B20 -> 0.40388323
B21: =B20+1 -> 9 | C21: =C20+1 -> 38 | E21: =VLOOKUP(C21,'Q1 Data'!$A$5:$B$68,2,0) -> 0.0007265 | F21: =VLOOKUP(B21,'Q1 Data'!$E$5:$F$20,2,0) -> 0.05 | H21: =K20 -> 0.7316225 | I21: =H21*E21 -> 0.00053152375 | J21: =H21*F21 -> 0.036581125 | K21: =H21-I21-J21 -> 0.69450985 | M21: =$B$4 -> 50000 | N21: =SUM($M$13:M21) -> 450000 | O21: =VLOOKUP(B21,'Q1 Data'!$E$5:$G$20,3,0) -> 0.95 | P21: =N21*O21 -> 427500 | Q21: 0 | R21: =$B$8 -> 1000000 | T21: =T20*(1+$E$6) -> 1188.6858 | V21: =$B$4*$E$8 -> 2500 | W21: =0.45*N21 -> 202500 | Y21: =M21*H21 -> 36581.125 | Z21: =-(S21+T21)*H21 -> -869.66924 | AA21: =-(U21+V21)*H21 -> -1829.0563 | AB21: =-P21*J21 -> -15638.431 | AC21: =-R21*I21 -> -531.52375 | AD21: =-Q21*K21 -> 0 | AE21: =SUM(Y21:AA21)*$H$4 -> 2202.356 | AF21: =SUM(Y21:AE21) -> 19914.801 | AH21: =W21*K21 -> 140638.24 | AI21: =AH20*$H$4 -> 8559.9833 | AJ21: =AH20-AH21 -> -8946.1949 | AL21: =AF21+AI21+AJ21 -> 19528.589 | AM21: =1/(1+$H$5)^B21 -> 0.36061002
B22: =B21+1 -> 10 | C22: =C21+1 -> 39 | E22: =VLOOKUP(C22,'Q1 Data'!$A$5:$B$68,2,0) -> 0.00078 | F22: =VLOOKUP(B22,'Q1 Data'!$E$5:$F$20,2,0) -> 0.05 | H22: =K21 -> 0.69450985 | I22: =H22*E22 -> 0.00054171768 | J22: =H22*F22 -> 0.034725493 | K22: =H22-I22-J22 -> 0.65924264 | M22: =$B$4 -> 50000 | N22: =SUM($M$13:M22) -> 500000 | O22: =VLOOKUP(B22,'Q1 Data'!$E$5:$G$20,3,0) -> 1 | P22: =N22*O22 -> 500000 | Q22: 0 | R22: =$B$8 -> 1000000 | T22: =T21*(1+$E$6) -> 1218.4029 | V22: =$B$4*$E$8 -> 2500 | W22: =0.45*N22 -> 225000 | Y22: =M22*H22 -> 34725.493 | Z22: =-(S22+T22)*H22 -> -846.19282 | AA22: =-(U22+V22)*H22 -> -1736.2746 | AB22: =-P22*J22 -> -17362.746 | AC22: =-R22*I22 -> -541.71768 | AD22: =-Q22*K22 -> 0 | AE22: =SUM(Y22:AA22)*$H$4 -> 2089.2966 | AF22: =SUM(Y22:AE22) -> 16327.858 | AH22: =W22*K22 -> 148329.59 | AI22: =AH21*$H$4 -> 9141.4859 | AJ22: =AH21-AH22 -> -7691.3494 | AL22: =AF22+AI22+AJ22 -> 17777.994 | AM22: =1/(1+$H$5)^B22 -> 0.32197324
B23: =B22+1 -> 11 | C23: =C22+1 -> 40 | E23: =VLOOKUP(C23,'Q1 Data'!$A$5:$B$68,2,0) -> 0.00084 | F23: =VLOOKUP(B23,'Q1 Data'!$E$5:$F$20,2,0) -> 0.15 | H23: =K22 -> 0.65924264 | I23: =H23*E23 -> 0.00055376382 | J23: =H23*F23 -> 0.098886396 | K23: =H23-I23-J23 -> 0.55980248 | M23: =$B$4 -> 50000 | N23: =SUM($M$13:M23) -> 550000 | O23: =VLOOKUP(B23,'Q1 Data'!$E$5:$G$20,3,0) -> 1.1 | P23: =N23*O23 -> 605000 | Q23: 0 | R23: =$B$8 -> 1000000 | T23: =T22*(1+$E$6) -> 1248.863 | V23: =$B$4*$E$8 -> 2500 | W23: =0.45*N23 -> 247500 | Y23: =M23*H23 -> 32962.132 | Z23: =-(S23+T23)*H23 -> -823.30372 | AA23: =-(U23+V23)*H23 -> -1648.1066 | AB23: =-P23*J23 -> -59826.27 | AC23: =-R23*I23 -> -553.76382 | AD23: =-Q23*K23 -> 0 | AE23: =SUM(Y23:AA23)*$H$4 -> 1981.8969 | AF23: =SUM(Y23:AE23) -> -27907.415 | AH23: =W23*K23 -> 138551.11 | AI23: =AH22*$H$4 -> 9641.4236 | AJ23: =AH22-AH23 -> 9778.4802 | AL23: =AF23+AI23+AJ23 -> -8487.5111 | AM23: =1/(1+$H$5)^B23 -> 0.2874761
B24: =B23+1 -> 12 | C24: =C23+1 -> 41 | E24: =VLOOKUP(C24,'Q1 Data'!$A$5:$B$68,2,0) -> 0.0009075 | F24: =VLOOKUP(B24,'Q1 Data'!$E$5:$F$20,2,0) -> 0.15 | H24: =K23 -> 0.55980248 | I24: =H24*E24 -> 0.00050802075 | J24: =H24*F24 -> 0.083970372 | K24: =H24-I24-J24 -> 0.47532409 | M24: =$B$4 -> 50000 | N24: =SUM($M$13:M24) -> 600000 | O24: =VLOOKUP(B24,'Q1 Data'!$E$5:$G$20,3,0) -> 1.2 | P24: =N24*O24 -> 720000 | Q24: 0 | R24: =$B$8 -> 1000000 | T24: =T23*(1+$E$6) -> 1280.0845 | V24: =$B$4*$E$8 -> 2500 | W24: =0.45*N24 -> 270000 | Y24: =M24*H24 -> 27990.124 | Z24: =-(S24+T24)*H24 -> -716.5945 | AA24: =-(U24+V24)*H24 -> -1399.5062 | AB24: =-P24*J24 -> -60458.668 | AC24: =-R24*I24 -> -508.02075 | AD24: =-Q24*K24 -> 0 | AE24: =SUM(Y24:AA24)*$H$4 -> 1681.8115 | AF24: =SUM(Y24:AE24) -> -33410.854 | AH24: =W24*K24 -> 128337.5 | AI24: =AH23*$H$4 -> 9005.8224 | AJ24: =AH23-AH24 -> 10213.61 | AL24: =AF24+AI24+AJ24 -> -14191.421 | AM24: =1/(1+$H$5)^B24 -> 0.25667509
B25: =B24+1 -> 13 | C25: =C24+1 -> 42 | E25: =VLOOKUP(C25,'Q1 Data'!$A$5:$B$68,2,0) -> 0.0009845 | F25: =VLOOKUP(B25,'Q1 Data'!$E$5:$F$20,2,0) -> 0.15 | H25: =K24 -> 0.47532409 | I25: =H25*E25 -> 0.00046795656 | J25: =H25*F25 -> 0.071298613 | K25: =H25-I25-J25 -> 0.40355752 | M25: =$B$4 -> 50000 | N25: =SUM($M$13:M25) -> 650000 | O25: =VLOOKUP(B25,'Q1 Data'!$E$5:$G$20,3,0) -> 1.25 | P25: =N25*O25 -> 812500 | Q25: 0 | R25: =$B$8 -> 1000000 | T25: =T24*(1+$E$6) -> 1312.0867 | V25: =$B$4*$E$8 -> 2500 | W25: =0.45*N25 -> 292500 | Y25: =M25*H25 -> 23766.204 | Z25: =-(S25+T25)*H25 -> -623.66639 | AA25: =-(U25+V25)*H25 -> -1188.3102 | AB25: =-P25*J25 -> -57930.123 | AC25: =-R25*I25 -> -467.95656 | AD25: =-Q25*K25 -> 0 | AE25: =SUM(Y25:AA25)*$H$4 -> 1427.0248 | AF25: =SUM(Y25:AE25) -> -35016.827 | AH25: =W25*K25 -> 118040.57 | AI25: =AH24*$H$4 -> 8341.9378 | AJ25: =AH24-AH25 -> 10296.93 | AL25: =AF25+AI25+AJ25 -> -16377.96 | AM25: =1/(1+$H$5)^B25 -> 0.22917419
B26: =B25+1 -> 14 | C26: =C25+1 -> 43 | E26: =VLOOKUP(C26,'Q1 Data'!$A$5:$B$68,2,0) -> 0.001072 | F26: =VLOOKUP(B26,'Q1 Data'!$E$5:$F$20,2,0) -> 0.15 | H26: =K25 -> 0.40355752 | I26: =H26*E26 -> 0.00043261366 | J26: =H26*F26 -> 0.060533628 | K26: =H26-I26-J26 -> 0.34259128 | M26: =$B$4 -> 50000 | N26: =SUM($M$13:M26) -> 700000 | O26: =VLOOKUP(B26,'Q1 Data'!$E$5:$G$20,3,0) -> 1.3 | P26: =N26*O26 -> 910000 | Q26: 0 | R26: =$B$8 -> 1000000 | T26: =T25*(1+$E$6) -> 1344.8888 | V26: =$B$4*$E$8 -> 2500 | W26: =0.45*N26 -> 315000 | Y26: =M26*H26 -> 20177.876 | Z26: =-(S26+T26)*H26 -> -542.74 | AA26: =-(U26+V26)*H26 -> -1008.8938 | AB26: =-P26*J26 -> -55085.601 | AC26: =-R26*I26 -> -432.61366 | AD26: =-Q26*K26 -> 0 | AE26: =SUM(Y26:AA26)*$H$4 -> 1210.7057 | AF26: =SUM(Y26:AE26) -> -35681.267 | AH26: =W26*K26 -> 107916.25 | AI26: =AH25*$H$4 -> 7672.6373 | AJ26: =AH25-AH26 -> 10124.322 | AL26: =AF26+AI26+AJ26 -> -17884.308 | AM26: =1/(1+$H$5)^B26 -> 0.20461981
B27: =B26+1 -> 15 | C27: =C26+1 -> 44 | E27: =VLOOKUP(C27,'Q1 Data'!$A$5:$B$68,2,0) -> 0.0011725 | F27: =VLOOKUP(B27,'Q1 Data'!$E$5:$F$20,2,0) -> 0 | H27: =K26 -> 0.34259128 | I27: =H27*E27 -> 0.00040168827 | J27: =H27*F27 -> 0 | K27: =H27-I27-J27 -> 0.34218959 | M27: =$B$4 -> 50000 | N27: =SUM($M$13:M27) -> 750000 | O27: =VLOOKUP(B27,'Q1 Data'!$E$5:$G$20,3,0) -> 0 | P27: =N27*O27 -> 0 | Q27: =B7 -> 1000000 | R27: =$B$8 -> 1000000 | T27: =T26*(1+$E$6) -> 1378.511 | V27: =$B$4*$E$8 -> 2500 | W27: 0 | Y27: =M27*H27 -> 17129.564 | Z27: =-(S27+T27)*H27 -> -472.26586 | AA27: =-(U27+V27)*H27 -> -856.47819 | AB27: =-P27*J27 -> 0 | AC27: =-R27*I27 -> -401.68827 | AD27: =-Q27*K27 -> -342189.59 | AE27: =SUM(Y27:AA27)*$H$4 -> 1027.0533 | AF27: =SUM(Y27:AE27) -> -325763.4 | AH27: =W27*K27 -> 0 | AI27: =AH26*$H$4 -> 7014.5564 | AJ27: =AH26-AH27 -> 107916.25 | AL27: =AF27+AI27+AJ27 -> -210832.6 | AM27: =1/(1+$H$5)^B27 -> 0.18269626

Sheet Q1(ii)
J2: Valuation Assumption
A3: Policy Information | J3: Mortality | K3: 1.2
A4: Annual Premium | B4: 50000 | D4: Initial Expenses | E4: 5000 | G4: Interest rate | H4: ='Q1(i)'!H4*K4 -> 0.052 | J4: Interest Rate | K4: 0.8
A5: PT | B5: 15 | D5: Renewal Expenses | E5: =1000*K5 -> 1200 | G5: RDR | H5: 0.12 | J5: Renewal Expenses | K5: 1.2
A6: Age | B6: 30 | D6: Inflation | E6: 0.025
A7: MATURITY OUTGO | B7: =B4*20 -> 1000000 | D7: Int Commission | E7: 0.25
A8: Death benefit | B8: =B4*20 -> 1000000 | D8: Renewal Commission | E8: 0.05
H10: Decrement | M10: Per Policy Cashflow | X10: In force Cashflow
B11: Policy Year | C11: Age | E11: Qx | F11: Wx | H11: Probability In force at Start | I11: NO_DEATH | J11: NO_SURR | K11: Prob inf at END | M11: Premium | N11: Premium | O11: SURR_FACTOR | P11: SURENDER_OUTGO | Q11: MATURITY OUTGO | R11: DEATH_OTGO | S11: Initial Expenses | T11: Renewal Expenses | U11: Initial Commission | V11: renewal Commission | X11: CF Premium | Y11: CF_Expenses | Z11: CF_Commission | AA11: CF_SURR_OUTGO | AB11: CF_DEATH_OUTGO | AC11: CF_MATURITY_OUTGO | AD11: Int on Cashflow | AE11: Net Cashflow | AG11: Reserve at End | AH11: Resesrve Per Policy
B13: 1 | C13: =B6 -> 30 | E13: =VLOOKUP(C13,'Q1 Data'!$A$5:$B$68,2,0)*$K$3 -> 0.0005862 | F13: =VLOOKUP(B13,'Q1 Data'!$E$5:$F$20,2,0) -> 0 | H13: 1 | I13: =H13*E13 -> 0.0005862 | J13: =H13*F13 -> 0 | K13: =H13-I13-J13 -> 0.9994138 | M13: =$B$4 -> 50000 | N13: =M13 -> 50000 | O13: =VLOOKUP(B13,'Q1 Data'!$E$5:$G$20,3,0) -> 0 | P13: =N13*O13 -> 0 | Q13: 0 | R13: =$B$8 -> 1000000 | S13: =E4 -> 5000 | U13: =$B$4*E7 -> 12500 | X13: =M13*H13 -> 50000 | Y13: =-(S13+T13)*H13 -> -5000 | Z13: =-(U13+V13)*H13 -> -12500 | AA13: =-P13*J13 -> 0 | AB13: =-R13*I13 -> -586.2 | AC13: =-Q13*K13 -> 0 | AD13: =SUM(X13:Z13)*$H$4 -> 1690 | AE13: =SUM(X13:AD13) -> 33603.8 | AG13: =(AG14-AE14)/(1+$H$4) -> 11258.169 | AH13: =AG13/K13 -> 11264.772
B14: =B13+1 -> 2 | C14: =C13+1 -> 31 | E14: =VLOOKUP(C14,'Q1 Data'!$A$5:$B$68,2,0)*$K$3 -> 0.000603 | F14: =VLOOKUP(B14,'Q1 Data'!$E$5:$F$20,2,0) -> 0 | H14: =K13 -> 0.9994138 | I14: =H14*E14 -> 0.00060264652 | J14: =H14*F14 -> 0 | K14: =H14-I14-J14 -> 0.99881115 | M14: =$B$4 -> 50000 | N14: =SUM($M$13:M14) -> 100000 | O14: =VLOOKUP(B14,'Q1 Data'!$E$5:$G$20,3,0) -> 0 | P14: =N14*O14 -> 0 | Q14: 0 | R14: =$B$8 -> 1000000 | T14: =E5 -> 1200 | V14: =$B$4*$E$8 -> 2500 | X14: =M14*H14 -> 49970.69 | Y14: =-(S14+T14)*H14 -> -1199.2966 | Z14: =-(U14+V14)*H14 -> -2498.5345 | AA14: =-P14*J14 -> 0 | AB14: =-R14*I14 -> -602.64652 | AC14: =-Q14*K14 -> 0 | AD14: =SUM(X14:Z14)*$H$4 -> 2406.1887 | AE14: =SUM(X14:AD14) -> 48076.401 | AG14: =(AG15-AE15)/(1+$H$4) -> 59919.995 | AH14: =AG14/K14 -> 59991.315
B15: =B14+1 -> 3 | C15: =C14+1 -> 32 | E15: =VLOOKUP(C15,'Q1 Data'!$A$5:$B$68,2,0)*$K$3 -> 0.0006252 | F15: =VLOOKUP(B15,'Q1 Data'!$E$5:$F$20,2,0) -> 0.05 | H15: =K14 -> 0.99881115 | I15: =H15*E15 -> 0.00062445673 | J15: =H15*F15 -> 0.049940558 | K15: =H15-I15-J15 -> 0.94824614 | M15: =$B$4 -> 50000 | N15: =SUM($M$13:M15) -> 150000 | O15: =VLOOKUP(B15,'Q1 Data'!$E$5:$G$20,3,0) -> 0.8 | P15: =N15*O15 -> 120000 | Q15: 0 | R15: =$B$8 -> 1000000 | T15: =T14*(1+$E$6) -> 1230 | V15: =$B$4*$E$8 -> 2500 | X15: =M15*H15 -> 49940.558 | Y15: =-(S15+T15)*H15 -> -1228.5377 | Z15: =-(U15+V15)*H15 -> -2497.0279 | AA15: =-P15*J15 -> -5992.8669 | AB15: =-R15*I15 -> -624.45673 | AC15: =-Q15*K15 -> 0 | AD15: =SUM(X15:Z15)*$H$4 -> 2403.1796 | AE15: =SUM(X15:AD15) -> 42000.848 | AG15: =(AG16-AE16)/(1+$H$4) -> 105036.68 | AH15: =AG15/K15 -> 110769.43
B16: =B15+1 -> 4 | C16: =C15+1 -> 33 | E16: =VLOOKUP(C16,'Q1 Data'!$A$5:$B$68,2,0)*$K$3 -> 0.0006516 | F16: =VLOOKUP(B16,'Q1 Data'!$E$5:$F$20,2,0) -> 0.05 | H16: =K15 -> 0.94824614 | I16: =H16*E16 -> 0.00061787718 | J16: =H16*F16 -> 0.047412307 | K16: =H16-I16-J16 -> 0.90021595 | M16: =$B$4 -> 50000 | N16: =SUM($M$13:M16) -> 200000 | O16: =VLOOKUP(B16,'Q1 Data'!$E$5:$G$20,3,0) -> 0.85 | P16: =N16*O16 -> 170000 | Q16: 0 | R16: =$B$8 -> 1000000 | T16: =T15*(1+$E$6) -> 1260.75 | V16: =$B$4*$E$8 -> 2500 | X16: =M16*H16 -> 47412.307 | Y16: =-(S16+T16)*H16 -> -1195.5013 | Z16: =-(U16+V16)*H16 -> -2370.6153 | AA16: =-P16*J16 -> -8060.0922 | AB16: =-R16*I16 -> -617.87718 | AC16: =-Q16*K16 -> 0 | AD16: =SUM(X16:Z16)*$H$4 -> 2280.0019 | AE16: =SUM(X16:AD16) -> 37448.223 | AG16: =(AG17-AE17)/(1+$H$4) -> 147946.81 | AH16: =AG16/K16 -> 164345.91
B17: =B16+1 -> 5 | C17: =C16+1 -> 34 | E17: =VLOOKUP(C17,'Q1 Data'!$A$5:$B$68,2,0)*$K$3 -> 0.000684 | F17: =VLOOKUP(B17,'Q1 Data'!$E$5:$F$20,2,0) -> 0.05 | H17: =K16 -> 0.90021595 | I17: =H17*E17 -> 0.00061574771 | J17: =H17*F17 -> 0.045010798 | K17: =H17-I17-J17 -> 0.85458941 | M17: =$B$4 -> 50000 | N17: =SUM($M$13:M17) -> 250000 | O17: =VLOOKUP(B17,'Q1 Data'!$E$5:$G$20,3,0) -> 0.85 | P17: =N17*O17 -> 212500 | Q17: 0 | R17: =$B$8 -> 1000000 | T17: =T16*(1+$E$6) -> 1292.2687 | V17: =$B$4*$E$8 -> 2500 | X17: =M17*H17 -> 45010.798 | Y17: =-(S17+T17)*H17 -> -1163.3209 | Z17: =-(U17+V17)*H17 -> -2250.5399 | AA17: =-P17*J17 -> -9564.7945 | AB17: =-R17*I17 -> -615.74771 | AC17: =-Q17*K17 -> 0 | AD17: =SUM(X17:Z17)*$H$4 -> 2163.0407 | AE17: =SUM(X17:AD17) -> 33579.435 | AG17: =(AG18-AE18)/(1+$H$4) -> 189219.48 | AH17: =AG17/K17 -> 221415.67
B18: =B17+1 -> 6 | C18: =C17+1 -> 35 | E18: =VLOOKUP(C18,'Q1 Data'!$A$5:$B$68,2,0)*$K$3 -> 0.0007212 | F18: =VLOOKUP(B18,'Q1 Data'!$E$5:$F$20,2,0) -> 0.05 | H18: =K17 -> 0.85458941 | I18: =H18*E18 -> 0.00061632988 | J18: =H18*F18 -> 0.04272947 | K18: =H18-I18-J18 -> 0.81124361 | M18: =$B$4 -> 50000 | N18: =SUM($M$13:M18) -> 300000 | O18: =VLOOKUP(B18,'Q1 Data'!$E$5:$G$20,3,0) -> 0.9 | P18: =N18*O18 -> 270000 | Q18: 0 | R18: =$B$8 -> 1000000 | T18: =T17*(1+$E$6) -> 1324.5755 | V18: =$B$4*$E$8 -> 2500 | X18: =M18*H18 -> 42729.47 | Y18: =-(S18+T18)*H18 -> -1131.9682 | Z18: =-(U18+V18)*H18 -> -2136.4735 | AA18: =-P18*J18 -> -11536.957 | AB18: =-R18*I18 -> -616.32988 | AC18: =-Q18*K18 -> 0 | AD18: =SUM(X18:Z18)*$H$4 -> 2051.9735 | AE18: =SUM(X18:AD18) -> 29359.715 | AG18: =(AG19-AE19)/(1+$H$4) -> 228418.61 | AH18: =AG18/K18 -> 281565.99
B19: =B18+1 -> 7 | C19: =C18+1 -> 36 | E19: =VLOOKUP(C19,'Q1 Data'!$A$5:$B$68,2,0)*$K$3 -> 0.000765 | F19: =VLOOKUP(B19,'Q1 Data'!$E$5:$F$20,2,0) -> 0.05 | H19: =K18 -> 0.81124361 | I19: =H19*E19 -> 0.00062060136 | J19: =H19*F19 -> 0.04056218 | K19: =H19-I19-J19 -> 0.77006083 | M19: =$B$4 -> 50000 | N19: =SUM($M$13:M19) -> 350000 | O19: =VLOOKUP(B19,'Q1 Data'!$E$5:$G$20,3,0) -> 0.9 | P19: =N19*O19 -> 315000 | Q19: 0 | R19: =$B$8 -> 1000000 | T19: =T18*(1+$E$6) -> 1357.6899 | V19: =$B$4*$E$8 -> 2500 | X19: =M19*H19 -> 40562.18 | Y19: =-(S19+T19)*H19 -> -1101.4172 | Z19: =-(U19+V19)*H19 -> -2028.109 | AA19: =-P19*J19 -> -12777.087 | AB19: =-R19*I19 -> -620.60136 | AC19: =-Q19*K19 -> 0 | AD19: =SUM(X19:Z19)*$H$4 -> 1946.498 | AE19: =SUM(X19:AD19) -> 25981.464 | AG19: =(AG20-AE20)/(1+$H$4) -> 266277.84 | AH19: =AG19/K19 -> 345788.06
B20: =B19+1 -> 8 | C20: =C19+1 -> 37 | E20: =VLOOKUP(C20,'Q1 Data'!$A$5:$B$68,2,0)*$K$3 -> 0.0008148 | F20: =VLOOKUP(B20,'Q1 Data'!$E$5:$F$20,2,0) -> 0.05 | H20: =K19 -> 0.77006083 | I20: =H20*E20 -> 0.00062744556 | J20: =H20*F20 -> 0.038503041 | K20: =H20-I20-J20 -> 0.73093034 | M20: =$B$4 -> 50000 | N20: =SUM($M$13:M20) -> 400000 | O20: =VLOOKUP(B20,'Q1 Data'!$E$5:$G$20,3,0) -> 0.95 | P20: =N20*O20 -> 380000 | Q20: 0 | R20: =$B$8 -> 1000000 | T20: =T19*(1+$E$6) -> 1391.6321 | V20: =$B$4*$E$8 -> 2500 | X20: =M20*H20 -> 38503.041 | Y20: =-(S20+T20)*H20 -> -1071.6414 | Z20: =-(U20+V20)*H20 -> -1925.1521 | AA20: =-P20*J20 -> -14631.156 | AB20: =-R20*I20 -> -627.44556 | AC20: =-Q20*K20 -> 0 | AD20: =SUM(X20:Z20)*$H$4 -> 1846.3249 | AE20: =SUM(X20:AD20) -> 22093.972 | AG20: =(AG21-AE21)/(1+$H$4) -> 302218.26 | AH20: =AG20/K20 -> 413470.68
B21: =B20+1 -> 9 | C21: =C20+1 -> 38 | E21: =VLOOKUP(C21,'Q1 Data'!$A$5:$B$68,2,0)*$K$3 -> 0.0008718 | F21: =VLOOKUP(B21,'Q1 Data'!$E$5:$F$20,2,0) -> 0.05 | H21: =K20 -> 0.73093034 | I21: =H21*E21 -> 0.00063722507 | J21: =H21*F21 -> 0.036546517 | K21: =H21-I21-J21 -> 0.6937466 | M21: =$B$4 -> 50000 | N21: =SUM($M$13:M21) -> 450000 | O21: =VLOOKUP(B21,'Q1 Data'!$E$5:$G$20,3,0) -> 0.95 | P21: =N21*O21 -> 427500 | Q21: 0 | R21: =$B$8 -> 1000000 | T21: =T20*(1+$E$6) -> 1426.4229 | V21: =$B$4*$E$8 -> 2500 | X21: =M21*H21 -> 36546.517 | Y21: =-(S21+T21)*H21 -> -1042.6158 | Z21: =-(U21+V21)*H21 -> -1827.3259 | AA21: =-P21*J21 -> -15623.636 | AB21: =-R21*I21 -> -637.22507 | AC21: =-Q21*K21 -> 0 | AD21: =SUM(X21:Z21)*$H$4 -> 1751.1819 | AE21: =SUM(X21:AD21) -> 19166.896 | AG21: =(AG22-AE22)/(1+$H$4) -> 337100.51 | AH21: =AG21/K21 -> 485913.02
B22: =B21+1 -> 10 | C22: =C21+1 -> 39 | E22: =VLOOKUP(C22,'Q1 Data'!$A$5:$B$68,2,0)*$K$3 -> 0.000936 | F22: =VLOOKUP(B22,'Q1 Data'!$E$5:$F$20,2,0) -> 0.05 | H22: =K21 -> 0.6937466 | I22: =H22*E22 -> 0.00064934682 | J22: =H22*F22 -> 0.03468733 | K22: =H22-I22-J22 -> 0.65840992 | M22: =$B$4 -> 50000 | N22: =SUM($M$13:M22) -> 500000 | O22: =VLOOKUP(B22,'Q1 Data'!$E$5:$G$20,3,0) -> 1 | P22: =N22*O22 -> 500000 | Q22: 0 | R22: =$B$8 -> 1000000 | T22: =T21*(1+$E$6) -> 1462.0835 | V22: =$B$4*$E$8 -> 2500 | X22: =M22*H22 -> 34687.33 | Y22: =-(S22+T22)*H22 -> -1014.3154 | Z22: =-(U22+V22)*H22 -> -1734.3665 | AA22: =-P22*J22 -> -17343.665 | AB22: =-R22*I22 -> -649.34682 | AC22: =-Q22*K22 -> 0 | AD22: =SUM(X22:Z22)*$H$4 -> 1660.8097 | AE22: =SUM(X22:AD22) -> 15606.446 | AG22: =(AG23-AE23)/(1+$H$4) -> 370236.18 | AH22: =AG22/K22 -> 562318.65
B23: =B22+1 -> 11 | C23: =C22+1 -> 40 | E23: =VLOOKUP(C23,'Q1 Data'!$A$5:$B$68,2,0)*$K$3 -> 0.001008 | F23: =VLOOKUP(B23,'Q1 Data'!$E$5:$F$20,2,0) -> 0.15 | H23: =K22 -> 0.65840992 | I23: =H23*E23 -> 0.0006636772 | J23: =H23*F23 -> 0.098761488 | K23: =H23-I23-J23 -> 0.55898476 | M23: =$B$4 -> 50000 | N23: =SUM($M$13:M23) -> 550000 | O23: =VLOOKUP(B23,'Q1 Data'!$E$5:$G$20,3,0) -> 1.1 | P23: =N23*O23 -> 605000 | Q23: 0 | R23: =$B$8 -> 1000000 | T23: =T22*(1+$E$6) -> 1498.6356 | V23: =$B$4*$E$8 -> 2500 | X23: =M23*H23 -> 32920.496 | Y23: =-(S23+T23)*H23 -> -986.71652 | Z23: =-(U23+V23)*H23 -> -1646.0248 | AA23: =-P23*J23 -> -59750.7 | AB23: =-R23*I23 -> -663.6772 | AC23: =-Q23*K23 -> 0 | AD23: =SUM(X23:Z23)*$H$4 -> 1574.9632 | AE23: =SUM(X23:AD23) -> -28551.66 | AG23: =(AG24-AE24)/(1+$H$4) -> 360936.8 | AH23: =AG23/K23 -> 645700.62
B24: =B23+1 -> 12 | C24: =C23+1 -> 41 | E24: =VLOOKUP(C24,'Q1 Data'!$A$5:$B$68,2,0)*$K$3 -> 0.001089 | F24: =VLOOKUP(B24,'Q1 Data'!$E$5:$F$20,2,0) -> 0.15 | H24: =K23 -> 0.55898476 | I24: =H24*E24 -> 0.0006087344 | J24: =H24*F24 -> 0.083847713 | K24: =H24-I24-J24 -> 0.47452831 | M24: =$B$4 -> 50000 | N24: =SUM($M$13:M24) -> 600000 | O24: =VLOOKUP(B24,'Q1 Data'!$E$5:$G$20,3,0) -> 1.2 | P24: =N24*O24 -> 720000 | Q24: 0 | R24: =$B$8 -> 1000000 | T24: =T23*(1+$E$6) -> 1536.1015 | V24: =$B$4*$E$8 -> 2500 | X24: =M24*H24 -> 27949.238 | Y24: =-(S24+T24)*H24 -> -858.6573 | Z24: =-(U24+V24)*H24 -> -1397.4619 | AA24: =-P24*J24 -> -60370.354 | AB24: =-R24*I24 -> -608.7344 | AC24: =-Q24*K24 -> 0 | AD24: =SUM(X24:Z24)*$H$4 -> 1336.0422 | AE24: =SUM(X24:AD24) -> -33949.927 | AG24: =(AG25-AE25)/(1+$H$4) -> 345755.59 | AH24: =AG24/K24 -> 728630.06
B25: =B24+1 -> 13 | C25: =C24+1 -> 42 | E25: =VLOOKUP(C25,'Q1 Data'!$A$5:$B$68,2,0)*$K$3 -> 0.0011814 | F25: =VLOOKUP(B25,'Q1 Data'!$E$5:$F$20,2,0) -> 0.15 | H25: =K24 -> 0.47452831 | I25: =H25*E25 -> 0.00056060774 | J25: =H25*F25 -> 0.071179246 | K25: =H25-I25-J25 -> 0.40278845 | M25: =$B$4 -> 50000 | N25: =SUM($M$13:M25) -> 650000 | O25: =VLOOKUP(B25,'Q1 Data'!$E$5:$G$20,3,0) -> 1.25 | P25: =N25*O25 -> 812500 | Q25: 0 | R25: =$B$8 -> 1000000 | T25: =T24*(1+$E$6) -> 1574.504 | V25: =$B$4*$E$8 -> 2500 | X25: =M25*H25 -> 23726.415 | Y25: =-(S25+T25)*H25 -> -747.14671 | Z25: =-(U25+V25)*H25 -> -1186.3208 | AA25: =-P25*J25 -> -57833.138 | AB25: =-R25*I25 -> -560.60774 | AC25: =-Q25*K25 -> 0 | AD25: =SUM(X25:Z25)*$H$4 -> 1133.2333 | AE25: =SUM(X25:AD25) -> -35467.564 | AG25: =(AG26-AE26)/(1+$H$4) -> 328267.32 | AH25: =AG25/K25 -> 814986.9
B26: =B25+1 -> 14 | C26: =C25+1 -> 43 | E26: =VLOOKUP(C26,'Q1 Data'!$A$5:$B$68,2,0)*$K$3 -> 0.0012864 | F26: =VLOOKUP(B26,'Q1 Data'!$E$5:$F$20,2,0) -> 0.15 | H26: =K25 -> 0.40278845 | I26: =H26*E26 -> 0.00051814707 | J26: =H26*F26 -> 0.060418268 | K26: =H26-I26-J26 -> 0.34185204 | M26: =$B$4 -> 50000 | N26: =SUM($M$13:M26) -> 700000 | O26: =VLOOKUP(B26,'Q1 Data'!$E$5:$G$20,3,0) -> 1.3 | P26: =N26*O26 -> 910000 | Q26: 0 | R26: =$B$8 -> 1000000 | T26: =T25*(1+$E$6) -> 1613.8666 | V26: =$B$4*$E$8 -> 2500 | X26: =M26*H26 -> 20139.423 | Y26: =-(S26+T26)*H26 -> -650.04683 | Z26: =-(U26+V26)*H26 -> -1006.9711 | AA26: =-P26*J26 -> -54980.624 | AB26: =-R26*I26 -> -518.14707 | AC26: =-Q26*K26 -> 0 | AD26: =SUM(X26:Z26)*$H$4 -> 961.08505 | AE26: =SUM(X26:AD26) -> -36055.281 | AG26: =(AG27-AE27)/(1+$H$4) -> 309281.93 | AH26: =AG26/K26 -> 904724.56
B27: =B26+1 -> 15 | C27: =C26+1 -> 44 | E27: =VLOOKUP(C27,'Q1 Data'!$A$5:$B$68,2,0)*$K$3 -> 0.001407 | F27: =VLOOKUP(B27,'Q1 Data'!$E$5:$F$20,2,0) -> 0 | H27: =K26 -> 0.34185204 | I27: =H27*E27 -> 0.00048098582 | J27: =H27*F27 -> 0 | K27: =H27-I27-J27 -> 0.34137105 | M27: =$B$4 -> 50000 | N27: =SUM($M$13:M27) -> 750000 | O27: =VLOOKUP(B27,'Q1 Data'!$E$5:$G$20,3,0) -> 0 | P27: =N27*O27 -> 0 | Q27: =B7 -> 1000000 | R27: =$B$8 -> 1000000 | T27: =T26*(1+$E$6) -> 1654.2133 | V27: =$B$4*$E$8 -> 2500 | X27: =M27*H27 -> 17092.602 | Y27: =-(S27+T27)*H27 -> -565.49617 | Z27: =-(U27+V27)*H27 -> -854.6301 | AA27: =-P27*J27 -> 0 | AB27: =-R27*I27 -> -480.98582 | AC27: =-Q27*K27 -> -341371.05 | AD27: =SUM(X27:Z27)*$H$4 -> 814.96874 | AE27: =SUM(X27:AD27) -> -325364.59 | AG27: =AF27 -> 0 | AH27: =AG27/K27 -> 0

Sheet Q1(iii)
A3: Policy Information
A4: Annual Premium | B4: 50000 | D4: Initial Expenses | E4: 5000 | G4: Interest rate | H4: 0.065
A5: PT | B5: 15 | D5: Renewal Expenses | E5: 1000 | G5: RDR | H5: 0.12
A6: Age | B6: 30 | D6: Inflation | E6: 0.025
A7: MATURITY OUTGO | B7: =B4*20 -> 1000000 | D7: Int Commission | E7: 0.25
A8: Death benefit | B8: =B4*20 -> 1000000 | D8: Renewal Commission | E8: 0.05
H10: Decrement | M10: Per Policy Cashflow | Y10: In force Cashflow
B11: Policy Year | C11: Age | E11: Qx | F11: Wx | H11: Probability In force at Start | I11: NO_DEATH | J11: NO_SURR | K11: Prob inf at END | M11: Premium | N11: Premium | O11: SURR_FACTOR | P11: SURENDER_OUTGO | Q11: MATURITY OUTGO | R11: DEATH_OTGO | S11: Initial Expenses | T11: Renewal Expenses | U11: Initial Commission | V11: renewal Commission | W11: Reserve Per Policy | Y11: CF Premium | Z11: CF_Expenses | AA11: CF_Commission | AB11: CF_SURR_OUTGO | AC11: CF_DEATH_OUTGO | AD11: CF_MATURITY_OUTGO | AE11: Int on Cashflow | AF11: Net Cashflow | AH11: Reserve at End | AI11: Int on reserve | AJ11: Change in reserve | AL11: Profit | AM11: Discount factor | AP11: EPV of Profit | AQ11: =SUMPRODUCT(AL13:AL27,AM13:AM27) -> 39511.738
AH12: ='Q1(ii)'!AG12 -> 0 | AM12: 1 | AP12: EPV of Premium | AQ12: =SUMPRODUCT(Y13:Y27,AM12:AM26) -> 319255.47
B13: 1 | C13: =B6 -> 30 | E13: =VLOOKUP(C13,'Q1 Data'!$A$5:$B$68,2,0) -> 0.0004885 | F13: =VLOOKUP(B13,'Q1 Data'!$E$5:$F$20,2,0) -> 0 | H13: 1 | I13: =H13*E13 -> 0.0004885 | J13: =H13*F13 -> 0 | K13: =H13-I13-J13 -> 0.9995115 | M13: =$B$4 -> 50000 | N13: =M13 -> 50000 | O13: =VLOOKUP(B13,'Q1 Data'!$E$5:$G$20,3,0) -> 0 | P13: =N13*O13 -> 0 | Q13: 0 | R13: =$B$8 -> 1000000 | S13: =E4 -> 5000 | U13: =$B$4*E7 -> 12500 | W13: ='Q1(ii)'!AH13 -> 11264.772 | Y13: =M13*H13 -> 50000 | Z13: =-(S13+T13)*H13 -> -5000 | AA13: =-(U13+V13)*H13 -> -12500 | AB13: =-P13*J13 -> 0 | AC13: =-R13*I13 -> -488.5 | AD13: =-Q13*K13 -> 0 | AE13: =SUM(Y13:AA13)*$H$4 -> 2112.5 | AF13: =SUM(Y13:AE13) -> 34124 | AH13: =W13*K13 -> 11259.269 | AI13: =AH12*$H$4 -> 0 | AJ13: =AH12-AH13 -> -11259.269 | AL13: =AF13+AI13+AJ13 -> 22864.731 | AM13: =1/(1+$H$5)^B13 -> 0.89285714 | AP13: Profit Margin | AQ13: =AQ11/AQ12 -> 0.12376214
B14: =B13+1 -> 2 | C14: =C13+1 -> 31 | E14: =VLOOKUP(C14,'Q1 Data'!$A$5:$B$68,2,0) -> 0.0005025 | F14: =VLOOKUP(B14,'Q1 Data'!$E$5:$F$20,2,0) -> 0 | H14: =K13 -> 0.9995115 | I14: =H14*E14 -> 0.00050225453 | J14: =H14*F14 -> 0 | K14: =H14-I14-J14 -> 0.99900925 | M14: =$B$4 -> 50000 | N14: =SUM($M$13:M14) -> 100000 | O14: =VLOOKUP(B14,'Q1 Data'!$E$5:$G$20,3,0) -> 0 | P14: =N14*O14 -> 0 | Q14: 0 | R14: =$B$8 -> 1000000 | T14: =E5 -> 1000 | V14: =$B$4*$E$8 -> 2500 | W14: ='Q1(ii)'!AH14 -> 59991.315 | Y14: =M14*H14 -> 49975.575 | Z14: =-(S14+T14)*H14 -> -999.5115 | AA14: =-(U14+V14)*H14 -> -2498.7787 | AB14: =-P14*J14 -> 0 | AC14: =-R14*I14 -> -502.25453 | AD14: =-Q14*K14 -> 0 | AE14: =SUM(Y14:AA14)*$H$4 -> 3021.0235 | AF14: =SUM(Y14:AE14) -> 48996.054 | AH14: =W14*K14 -> 59931.879 | AI14: =AH13*$H$4 -> 731.85252 | AJ14: =AH13-AH14 -> -48672.609 | AL14: =AF14+AI14+AJ14 -> 1055.2971 | AM14: =1/(1+$H$5)^B14 -> 0.79719388
B15: =B14+1 -> 3 | C15: =C14+1 -> 32 | E15: =VLOOKUP(C15,'Q1 Data'!$A$5:$B$68,2,0) -> 0.000521 | F15: =VLOOKUP(B15,'Q1 Data'!$E$5:$F$20,2,0) -> 0.05 | H15: =K14 -> 0.99900925 | I15: =H15*E15 -> 0.00052048382 | J15: =H15*F15 -> 0.049950462 | K15: =H15-I15-J15 -> 0.9485383 | M15: =$B$4 -> 50000 | N15: =SUM($M$13:M15) -> 150000 | O15: =VLOOKUP(B15,'Q1 Data'!$E$5:$G$20,3,0) -> 0.8 | P15: =N15*O15 -> 120000 | Q15: 0 | R15: =$B$8 -> 1000000 | T15: =T14*(1+$E$6) -> 1025 | V15: =$B$4*$E$8 -> 2500 | W15: ='Q1(ii)'!AH15 -> 110769.43 | Y15: =M15*H15 -> 49950.462 | Z15: =-(S15+T15)*H15 -> -1023.9845 | AA15: =-(U15+V15)*H15 -> -2497.5231 | AB15: =-P15*J15 -> -5994.0555 | AC15: =-R15*I15 -> -520.48382 | AD15: =-Q15*K15 -> 0 | AE15: =SUM(Y15:AA15)*$H$4 -> 3017.8821 | AF15: =SUM(Y15:AE15) -> 42932.297 | AH15: =W15*K15 -> 105069.04 | AI15: =AH14*$H$4 -> 3895.5721 | AJ15: =AH14-AH15 -> -45137.166 | AL15: =AF15+AI15+AJ15 -> 1690.7032 | AM15: =1/(1+$H$5)^B15 -> 0.71178025
B16: =B15+1 -> 4 | C16: =C15+1 -> 33 | E16: =VLOOKUP(C16,'Q1 Data'!$A$5:$B$68,2,0) -> 0.000543 | F16: =VLOOKUP(B16,'Q1 Data'!$E$5:$F$20,2,0) -> 0.05 | H16: =K15 -> 0.9485383 | I16: =H16*E16 -> 0.0005150563 | J16: =H16*F16 -> 0.047426915 | K16: =H16-I16-J16 -> 0.90059633 | M16: =$B$4 -> 50000 | N16: =SUM($M$13:M16) -> 200000 | O16: =VLOOKUP(B16,'Q1 Data'!$E$5:$G$20,3,0) -> 0.85 | P16: =N16*O16 -> 170000 | Q16: 0 | R16: =$B$8 -> 1000000 | T16: =T15*(1+$E$6) -> 1050.625 | V16: =$B$4*$E$8 -> 2500 | W16: ='Q1(ii)'!AH16 -> 164345.91 | Y16: =M16*H16 -> 47426.915 | Z16: =-(S16+T16)*H16 -> -996.55805 | AA16: =-(U16+V16)*H16 -> -2371.3457 | AB16: =-P16*J16 -> -8062.5755 | AC16: =-R16*I16 -> -515.0563 | AD16: =-Q16*K16 -> 0 | AE16: =SUM(Y16:AA16)*$H$4 -> 2863.8357 | AF16: =SUM(Y16:AE16) -> 38345.215 | AH16: =W16*K16 -> 148009.33 | AI16: =AH15*$H$4 -> 6829.4879 | AJ16: =AH15-AH16 -> -42940.281 | AL16: =AF16+AI16+AJ16 -> 2234.4223 | AM16: =1/(1+$H$5)^B16 -> 0.63551808
B17: =B16+1 -> 5 | C17: =C16+1 -> 34 | E17: =VLOOKUP(C17,'Q1 Data'!$A$5:$B$68,2,0) -> 0.00057 | F17: =VLOOKUP(B17,'Q1 Data'!$E$5:$F$20,2,0) -> 0.05 | H17: =K16 -> 0.90059633 | I17: =H17*E17 -> 0.00051333991 | J17: =H17*F17 -> 0.045029816 | K17: =H17-I17-J17 -> 0.85505317 | M17: =$B$4 -> 50000 | N17: =SUM($M$13:M17) -> 250000 | O17: =VLOOKUP(B17,'Q1 Data'!$E$5:$G$20,3,0) -> 0.85 | P17: =N17*O17 -> 212500 | Q17: 0 | R17: =$B$8 -> 1000000 | T17: =T16*(1+$E$6) -> 1076.8906 | V17: =$B$4*$E$8 -> 2500 | W17: ='Q1(ii)'!AH17 -> 221415.67 | Y17: =M17*H17 -> 45029.816 | Z17: =-(S17+T17)*H17 -> -969.84374 | AA17: =-(U17+V17)*H17 -> -2251.4908 | AB17: =-P17*J17 -> -9568.836 | AC17: =-R17*I17 -> -513.33991 | AD17: =-Q17*K17 -> 0 | AE17: =SUM(Y17:AA17)*$H$4 -> 2717.5513 | AF17: =SUM(Y17:AE17) -> 34443.857 | AH17: =W17*K17 -> 189322.17 | AI17: =AH16*$H$4 -> 9620.6062 | AJ17: =AH16-AH17 -> -41312.841 | AL17: =AF17+AI17+AJ17 -> 2751.6223 | AM17: =1/(1+$H$5)^B17 -> 0.56742686
B18: =B17+1 -> 6 | C18: =C17+1 -> 35 | E18: =VLOOKUP(C18,'Q1 Data'!$A$5:$B$68,2,0) -> 0.000601 | F18: =VLOOKUP(B18,'Q1 Data'!$E$5:$F$20,2,0) -> 0.05 | H18: =K17 -> 0.85505317 | I18: =H18*E18 -> 0.00051388696 | J18: =H18*F18 -> 0.042752659 | K18: =H18-I18-J18 -> 0.81178663 | M18: =$B$4 -> 50000 | N18: =SUM($M$13:M18) -> 300000 | O18: =VLOOKUP(B18,'Q1 Data'!$E$5:$G$20,3,0) -> 0.9 | P18: =N18*O18 -> 270000 | Q18: 0 | R18: =$B$8 -> 1000000 | T18: =T17*(1+$E$6) -> 1103.8129 | V18: =$B$4*$E$8 -> 2500 | W18: ='Q1(ii)'!AH18 -> 281565.99 | Y18: =M18*H18 -> 42752.659 | Z18: =-(S18+T18)*H18 -> -943.81871 | AA18: =-(U18+V18)*H18 -> -2137.6329 | AB18: =-P18*J18 -> -11543.218 | AC18: =-R18*I18 -> -513.88696 | AD18: =-Q18*K18 -> 0 | AE18: =SUM(Y18:AA18)*$H$4 -> 2578.6285 | AF18: =SUM(Y18:AE18) -> 30192.731 | AH18: =W18*K18 -> 228571.51 | AI18: =AH17*$H$4 -> 12305.941 | AJ18: =AH17-AH18 -> -39249.339 | AL18: =AF18+AI18+AJ18 -> 3249.3321 | AM18: =1/(1+$H$5)^B18 -> 0.50663112
B19: =B18+1 -> 7 | C19: =C18+1 -> 36 | E19: =VLOOKUP(C19,'Q1 Data'!$A$5:$B$68,2,0) -> 0.0006375 | F19: =VLOOKUP(B19,'Q1 Data'!$E$5:$F$20,2,0) -> 0.05 | H19: =K18 -> 0.81178663 | I19: =H19*E19 -> 0.00051751397 | J19: =H19*F19 -> 0.040589331 | K19: =H19-I19-J19 -> 0.77067978 | M19: =$B$4 -> 50000 | N19: =SUM($M$13:M19) -> 350000 | O19: =VLOOKUP(B19,'Q1 Data'!$E$5:$G$20,3,0) -> 0.9 | P19: =N19*O19 -> 315000 | Q19: 0 | R19: =$B$8 -> 1000000 | T19: =T18*(1+$E$6) -> 1131.4082 | V19: =$B$4*$E$8 -> 2500 | W19: ='Q1(ii)'!AH19 -> 345788.06 | Y19: =M19*H19 -> 40589.331 | Z19: =-(S19+T19)*H19 -> -918.46206 | AA19: =-(U19+V19)*H19 -> -2029.4666 | AB19: =-P19*J19 -> -12785.639 | AC19: =-R19*I19 -> -517.51397 | AD19: =-Q19*K19 -> 0 | AE19: =SUM(Y19:AA19)*$H$4 -> 2446.6912 | AF19: =SUM(Y19:AE19) -> 26784.941 | AH19: =W19*K19 -> 266491.87 | AI19: =AH18*$H$4 -> 14857.148 | AJ19: =AH18-AH19 -> -37920.363 | AL19: =AF19+AI19+AJ19 -> 3721.725 | AM19: =1/(1+$H$5)^B19 -> 0.45234922
B20: =B19+1 -> 8 | C20: =C19+1 -> 37 | E20: =VLOOKUP(C20,'Q1 Data'!$A$5:$B$68,2,0) -> 0.000679 | F20: =VLOOKUP(B20,'Q1 Data'!$E$5:$F$20,2,0) -> 0.05 | H20: =K19 -> 0.77067978 | I20: =H20*E20 -> 0.00052329157 | J20: =H20*F20 -> 0.038533989 | K20: =H20-I20-J20 -> 0.7316225 | M20: =$B$4 -> 50000 | N20: =SUM($M$13:M20) -> 400000 | O20: =VLOOKUP(B20,'Q1 Data'!$E$5:$G$20,3,0) -> 0.95 | P20: =N20*O20 -> 380000 | Q20: 0 | R20: =$B$8 -> 1000000 | T20: =T19*(1+$E$6) -> 1159.6934 | V20: =$B$4*$E$8 -> 2500 | W20: ='Q1(ii)'!AH20 -> 413470.68 | Y20: =M20*H20 -> 38533.989 | Z20: =-(S20+T20)*H20 -> -893.75227 | AA20: =-(U20+V20)*H20 -> -1926.6995 | AB20: =-P20*J20 -> -14642.916 | AC20: =-R20*I20 -> -523.29157 | AD20: =-Q20*K20 -> 0 | AE20: =SUM(Y20:AA20)*$H$4 -> 2321.3799 | AF20: =SUM(Y20:AE20) -> 22868.71 | AH20: =W20*K20 -> 302504.45 | AI20: =AH19*$H$4 -> 17321.972 | AJ20: =AH19-AH20 -> -36012.58 | AL20: =AF20+AI20+AJ20 -> 4178.1009 | AM20: =1/(1+$H$5)^B20 -> 0.40388323
B21: =B20+1 -> 9 | C21: =C20+1 -> 38 | E21: =VLOOKUP(C21,'Q1 Data'!$A$5:$B$68,2,0) -> 0.0007265 | F21: =VLOOKUP(B21,'Q1 Data'!$E$5:$F$20,2,0) -> 0.05 | H21: =K20 -> 0.7316225 | I21: =H21*E21 -> 0.00053152375 | J21: =H21*F21 -> 0.036581125 | K21: =H21-I21-J21 -> 0.69450985 | M21: =$B$4 -> 50000 | N21: =SUM($M$13:M21) -> 450000 | O21: =VLOOKUP(B21,'Q1 Data'!$E$5:$G$20,3,0) -> 0.95 | P21: =N21*O21 -> 427500 | Q21: 0 | R21: =$B$8 -> 1000000 | T21: =T20*(1+$E$6) -> 1188.6858 | V21: =$B$4*$E$8 -> 2500 | W21: ='Q1(ii)'!AH21 -> 485913.02 | Y21: =M21*H21 -> 36581.125 | Z21: =-(S21+T21)*H21 -> -869.66924 | AA21: =-(U21+V21)*H21 -> -1829.0563 | AB21: =-P21*J21 -> -15638.431 | AC21: =-R21*I21 -> -531.52375 | AD21: =-Q21*K21 -> 0 | AE21: =SUM(Y21:AA21)*$H$4 -> 2202.356 | AF21: =SUM(Y21:AE21) -> 19914.801 | AH21: =W21*K21 -> 337471.38 | AI21: =AH20*$H$4 -> 19662.789 | AJ21: =AH20-AH21 -> -34966.933 | AL21: =AF21+AI21+AJ21 -> 4610.6573 | AM21: =1/(1+$H$5)^B21 -> 0.36061002
B22: =B21+1 -> 10 | C22: =C21+1 -> 39 | E22: =VLOOKUP(C22,'Q1 Data'!$A$5:$B$68,2,0) -> 0.00078 | F22: =VLOOKUP(B22,'Q1 Data'!$E$5:$F$20,2,0) -> 0.05 | H22: =K21 -> 0.69450985 | I22: =H22*E22 -> 0.00054171768 | J22: =H22*F22 -> 0.034725493 | K22: =H22-I22-J22 -> 0.65924264 | M22: =$B$4 -> 50000 | N22: =SUM($M$13:M22) -> 500000 | O22: =VLOOKUP(B22,'Q1 Data'!$E$5:$G$20,3,0) -> 1 | P22: =N22*O22 -> 500000 | Q22: 0 | R22: =$B$8 -> 1000000 | T22: =T21*(1+$E$6) -> 1218.4029 | V22: =$B$4*$E$8 -> 2500 | W22: ='Q1(ii)'!AH22 -> 562318.65 | Y22: =M22*H22 -> 34725.493 | Z22: =-(S22+T22)*H22 -> -846.19282 | AA22: =-(U22+V22)*H22 -> -1736.2746 | AB22: =-P22*J22 -> -17362.746 | AC22: =-R22*I22 -> -541.71768 | AD22: =-Q22*K22 -> 0 | AE22: =SUM(Y22:AA22)*$H$4 -> 2089.2966 | AF22: =SUM(Y22:AE22) -> 16327.858 | AH22: =W22*K22 -> 370704.43 | AI22: =AH21*$H$4 -> 21935.64 | AJ22: =AH21-AH22 -> -33233.051 | AL22: =AF22+AI22+AJ22 -> 5030.4462 | AM22: =1/(1+$H$5)^B22 -> 0.32197324
B23: =B22+1 -> 11 | C23: =C22+1 -> 40 | E23: =VLOOKUP(C23,'Q1 Data'!$A$5:$B$68,2,0) -> 0.00084 | F23: =VLOOKUP(B23,'Q1 Data'!$E$5:$F$20,2,0) -> 0.15 | H23: =K22 -> 0.65924264 | I23: =H23*E23 -> 0.00055376382 | J23: =H23*F23 -> 0.098886396 | K23: =H23-I23-J23 -> 0.55980248 | M23: =$B$4 -> 50000 | N23: =SUM($M$13:M23) -> 550000 | O23: =VLOOKUP(B23,'Q1 Data'!$E$5:$G$20,3,0) -> 1.1 | P23: =N23*O23 -> 605000 | Q23: 0 | R23: =$B$8 -> 1000000 | T23: =T22*(1+$E$6) -> 1248.863 | V23: =$B$4*$E$8 -> 2500 | W23: ='Q1(ii)'!AH23 -> 645700.62 | Y23: =M23*H23 -> 32962.132 | Z23: =-(S23+T23)*H23 -> -823.30372 | AA23: =-(U23+V23)*H23 -> -1648.1066 | AB23: =-P23*J23 -> -59826.27 | AC23: =-R23*I23 -> -553.76382 | AD23: =-Q23*K23 -> 0 | AE23: =SUM(Y23:AA23)*$H$4 -> 1981.8969 | AF23: =SUM(Y23:AE23) -> -27907.415 | AH23: =W23*K23 -> 361464.81 | AI23: =AH22*$H$4 -> 24095.788 | AJ23: =AH22-AH23 -> 9239.6264 | AL23: =AF23+AI23+AJ23 -> 5427.9998 | AM23: =1/(1+$H$5)^B23 -> 0.2874761
B24: =B23+1 -> 12 | C24: =C23+1 -> 41 | E24: =VLOOKUP(C24,'Q1 Data'!$A$5:$B$68,2,0) -> 0.0009075 | F24: =VLOOKUP(B24,'Q1 Data'!$E$5:$F$20,2,0) -> 0.15 | H24: =K23 -> 0.55980248 | I24: =H24*E24 -> 0.00050802075 | J24: =H24*F24 -> 0.083970372 | K24: =H24-I24-J24 -> 0.47532409 | M24: =$B$4 -> 50000 | N24: =SUM($M$13:M24) -> 600000 | O24: =VLOOKUP(B24,'Q1 Data'!$E$5:$G$20,3,0) -> 1.2 | P24: =N24*O24 -> 720000 | Q24: 0 | R24: =$B$8 -> 1000000 | T24: =T23*(1+$E$6) -> 1280.0845 | V24: =$B$4*$E$8 -> 2500 | W24: ='Q1(ii)'!AH24 -> 728630.06 | Y24: =M24*H24 -> 27990.124 | Z24: =-(S24+T24)*H24 -> -716.5945 | AA24: =-(U24+V24)*H24 -> -1399.5062 | AB24: =-P24*J24 -> -60458.668 | AC24: =-R24*I24 -> -508.02075 | AD24: =-Q24*K24 -> 0 | AE24: =SUM(Y24:AA24)*$H$4 -> 1681.8115 | AF24: =SUM(Y24:AE24) -> -33410.854 | AH24: =W24*K24 -> 346335.42 | AI24: =AH23*$H$4 -> 23495.213 | AJ24: =AH23-AH24 -> 15129.39 | AL24: =AF24+AI24+AJ24 -> 5213.7486 | AM24: =1/(1+$H$5)^B24 -> 0.25667509
B25: =B24+1 -> 13 | C25: =C24+1 -> 42 | E25: =VLOOKUP(C25,'Q1 Data'!$A$5:$B$68,2,0) -> 0.0009845 | F25: =VLOOKUP(B25,'Q1 Data'!$E$5:$F$20,2,0) -> 0.15 | H25: =K24 -> 0.47532409 | I25: =H25*E25 -> 0.00046795656 | J25: =H25*F25 -> 0.071298613 | K25: =H25-I25-J25 -> 0.40355752 | M25: =$B$4 -> 50000 | N25: =SUM($M$13:M25) -> 650000 | O25: =VLOOKUP(B25,'Q1 Data'!$E$5:$G$20,3,0) -> 1.25 | P25: =N25*O25 -> 812500 | Q25: 0 | R25: =$B$8 -> 1000000 | T25: =T24*(1+$E$6) -> 1312.0867 | V25: =$B$4*$E$8 -> 2500 | W25: ='Q1(ii)'!AH25 -> 814986.9 | Y25: =M25*H25 -> 23766.204 | Z25: =-(S25+T25)*H25 -> -623.66639 | AA25: =-(U25+V25)*H25 -> -1188.3102 | AB25: =-P25*J25 -> -57930.123 | AC25: =-R25*I25 -> -467.95656 | AD25: =-Q25*K25 -> 0 | AE25: =SUM(Y25:AA25)*$H$4 -> 1427.0248 | AF25: =SUM(Y25:AE25) -> -35016.827 | AH25: =W25*K25 -> 328894.09 | AI25: =AH24*$H$4 -> 22511.802 | AJ25: =AH24-AH25 -> 17441.325 | AL25: =AF25+AI25+AJ25 -> 4936.3004 | AM25: =1/(1+$H$5)^B25 -> 0.22917419
B26: =B25+1 -> 14 | C26: =C25+1 -> 43 | E26: =VLOOKUP(C26,'Q1 Data'!$A$5:$B$68,2,0) -> 0.001072 | F26: =VLOOKUP(B26,'Q1 Data'!$E$5:$F$20,2,0) -> 0.15 | H26: =K25 -> 0.40355752 | I26: =H26*E26 -> 0.00043261366 | J26: =H26*F26 -> 0.060533628 | K26: =H26-I26-J26 -> 0.34259128 | M26: =$B$4 -> 50000 | N26: =SUM($M$13:M26) -> 700000 | O26: =VLOOKUP(B26,'Q1 Data'!$E$5:$G$20,3,0) -> 1.3 | P26: =N26*O26 -> 910000 | Q26: 0 | R26: =$B$8 -> 1000000 | T26: =T25*(1+$E$6) -> 1344.8888 | V26: =$B$4*$E$8 -> 2500 | W26: ='Q1(ii)'!AH26 -> 904724.56 | Y26: =M26*H26 -> 20177.876 | Z26: =-(S26+T26)*H26 -> -542.74 | AA26: =-(U26+V26)*H26 -> -1008.8938 | AB26: =-P26*J26 -> -55085.601 | AC26: =-R26*I26 -> -432.61366 | AD26: =-Q26*K26 -> 0 | AE26: =SUM(Y26:AA26)*$H$4 -> 1210.7057 | AF26: =SUM(Y26:AE26) -> -35681.267 | AH26: =W26*K26 -> 309950.74 | AI26: =AH25*$H$4 -> 21378.116 | AJ26: =AH25-AH26 -> 18943.351 | AL26: =AF26+AI26+AJ26 -> 4640.2003 | AM26: =1/(1+$H$5)^B26 -> 0.20461981
B27: =B26+1 -> 15 | C27: =C26+1 -> 44 | E27: =VLOOKUP(C27,'Q1 Data'!$A$5:$B$68,2,0) -> 0.0011725 | F27: =VLOOKUP(B27,'Q1 Data'!$E$5:$F$20,2,0) -> 0 | H27: =K26 -> 0.34259128 | I27: =H27*E27 -> 0.00040168827 | J27: =H27*F27 -> 0 | K27: =H27-I27-J27 -> 0.34218959 | M27: =$B$4 -> 50000 | N27: =SUM($M$13:M27) -> 750000 | O27: =VLOOKUP(B27,'Q1 Data'!$E$5:$G$20,3,0) -> 0 | P27: =N27*O27 -> 0 | Q27: =B7 -> 1000000 | R27: =$B$8 -> 1000000 | T27: =T26*(1+$E$6) -> 1378.511 | V27: =$B$4*$E$8 -> 2500 | W27: ='Q1(ii)'!AH27 -> 0 | Y27: =M27*H27 -> 17129.564 | Z27: =-(S27+T27)*H27 -> -472.26586 | AA27: =-(U27+V27)*H27 -> -856.47819 | AB27: =-P27*J27 -> 0 | AC27: =-R27*I27 -> -401.68827 | AD27: =-Q27*K27 -> -342189.59 | AE27: =SUM(Y27:AA27)*$H$4 -> 1027.0533 | AF27: =SUM(Y27:AE27) -> -325763.4 | AH27: =W27*K27 -> 0 | AI27: =AH26*$H$4 -> 20146.798 | AJ27: =AH26-AH27 -> 309950.74 | AL27: =AF27+AI27+AJ27 -> 4334.135 | AM27: =1/(1+$H$5)^B27 -> 0.18269626

Sheet Q1(iv)
B2: Policyholder IRR
B5: Year | C5: Cashflow | E5: IRR | F5: =IRR(C7:C22) -> 0.035173643
B7: 0 | C7: =-'Q1(i)'!$B$4 -> -50000
B8: =B7+1 -> 1 | C8: =-'Q1(i)'!$B$4 -> -50000
B9: =B8+1 -> 2 | C9: =-'Q1(i)'!$B$4 -> -50000
B10: =B9+1 -> 3 | C10: =-'Q1(i)'!$B$4 -> -50000
B11: =B10+1 -> 4 | C11: =-'Q1(i)'!$B$4 -> -50000
B12: =B11+1 -> 5 | C12: =-'Q1(i)'!$B$4 -> -50000
B13: =B12+1 -> 6 | C13: =-'Q1(i)'!$B$4 -> -50000
B14: =B13+1 -> 7 | C14: =-'Q1(i)'!$B$4 -> -50000
B15: =B14+1 -> 8 | C15: =-'Q1(i)'!$B$4 -> -50000
B16: =B15+1 -> 9 | C16: =-'Q1(i)'!$B$4 -> -50000
B17: =B16+1 -> 10 | C17: =-'Q1(i)'!$B$4 -> -50000
B18: =B17+1 -> 11 | C18: =-'Q1(i)'!$B$4 -> -50000
B19: =B18+1 -> 12 | C19: =-'Q1(i)'!$B$4 -> -50000
... B21: =B20+1 -> 14 | C21: =-'Q1(i)'!$B$4 -> -50000
B22: =B21+1 -> 15 | C22: ='Q1(i)'!$B$7 -> 1000000

Sheet Q1(v)
F1: Interest Rate | G1: 0.06 | K1: EPV
F2: Annuity Amount | G2: 50000 | K2: Joint Life | L2: =N19 -> 355913.82
F3: Male Age | G3: 60 | K3: Last survivor | L3: =Q19 -> 367858.39
A4: Copied the lx from data input sheet | F4: Female Age | G4: 57
L7: Joint-life temporary annuity | P7: Last-survivor temporary annuity
A8: lx values | F8: Year | G8: Annuity | H8: Male Age | I8: Female Age | J8: Prb of Male being alive | K8: prb of female being alive | L8: Prb of both survival | M8: D.f | N8: EPV of Annuity | P8: prb of atleast one survives | Q8: EPV of Annuity
A9: Current age | B9: Male | C9: Female | F9: 1 | G9: =$G$2 -> 50000 | H9: =$G$3+1 -> 61 | I9: =$G$4+1 -> 58 | J9: =B21/$B$20 -> 0.99754899 | K9: =C18/$C$17 -> 0.998625 | L9: =J9*K9 -> 0.99617737 | M9: =1/(1+$G$1)^F9 -> 0.94339623 | N9: =G9*L9*M9 -> 46989.499 | P9: =J9+K9-L9 -> 0.99999663 | Q9: =G9*M9*P9 -> 47169.652
A10: 50 | B10: 9941.9225 | C10: 9952.6969 | F10: =F9+1 -> 2 | G10: =$G$2 -> 50000 | H10: =H9+1 -> 62 | I10: =I9+1 -> 59 | J10: =B22/$B$20 -> 0.99460124 | K10: =C19/$C$17 -> 0.99705217 | L10: =J10*K10 -> 0.99166932 | M10: =1/(1+$G$1)^F10 -> 0.88999644 | N10: =G10*L10*M10 -> 44129.108 | P10: =J10+K10-L10 -> 0.99998409 | Q10: =G10*M10*P10 -> 44499.114
A11: 51 | B11: 9936.5041 | C11: 9947.4518 | F11: =F10+1 -> 3 | G11: =$G$2 -> 50000 | H11: =H10+1 -> 63 | I11: =I10+1 -> 60 | J11: =B23/$B$20 -> 0.9910704 | K11: =C20/$C$17 -> 0.99525647 | L11: =J11*K11 -> 0.98636923 | M11: =1/(1+$G$1)^F11 -> 0.83961928 | N11: =G11*L11*M11 -> 41408.731 | P11: =J11+K11-L11 -> 0.99995764 | Q11: =G11*M11*P11 -> 41979.186
A12: 52 | B12: 9930.2441 | C12: 9941.4535 | F12: =F11+1 -> 4 | G12: =$G$2 -> 50000 | H12: =H11+1 -> 64 | I12: =I11+1 -> 61 | J12: =B24/$B$20 -> 0.98685736 | K12: =C21/$C$17 -> 0.99320824 | L12: =J12*K12 -> 0.98015486 | M12: =1/(1+$G$1)^F12 -> 0.79209366 | N12: =G12*L12*M12 -> 38818.723 | P12: =J12+K12-L12 -> 0.99991074 | Q12: =G12*M12*P12 -> 39601.148
A13: 53 | B13: 9922.995 | C13: 9934.574 | F13: =F12+1 -> 5 | G13: =$G$2 -> 50000 | H13: =H12+1 -> 65 | I13: =I12+1 -> 62 | J13: =B25/$B$20 -> 0.98185101 | K13: =C22/$C$17 -> 0.99078381 | L13: =J13*K13 -> 0.97280208 | M13: =1/(1+$G$1)^F13 -> 0.74725817 | N13: =G13*L13*M13 -> 36346.715 | P13: =J13+K13-L13 -> 0.99983274 | Q13: =G13*M13*P13 -> 37356.659
A14: 54 | B14: 9914.5803 | C14: 9926.676 | F14: =F13+1 -> 6 | G14: =$G$2 -> 50000 | H14: =H13+1 -> 66 | I14: =I13+1 -> 63 | J14: =B26/$B$20 -> 0.97592853 | K14: =C23/$C$17 -> 0.9879254 | L14: =J14*K14 -> 0.96414459 | M14: =1/(1+$G$1)^F14 -> 0.70496054 | N14: =G14*L14*M14 -> 33984.195 | P14: =J14+K14-L14 -> 0.99970935 | Q14: =G14*M14*P14 -> 35237.782
A15: 55 | B15: 9904.8046 | C15: 9917.6229 | F15: =F14+1 -> 7 | G15: =$G$2 -> 50000 | H15: =H14+1 -> 67 | I15: =I14+1 -> 64 | J15: =B27/$B$20 -> 0.96895356 | K15: =C24/$C$17 -> 0.98456547 | L15: =J15*K15 -> 0.95399822 | M15: =1/(1+$G$1)^F15 -> 0.66505711 | N15: =G15*L15*M15 -> 31723.165 | P15: =J15+K15-L15 -> 0.99952081 | Q15: =G15*M15*P15 -> 33236.921
A16: 56 | B16: 9893.4339 | C16: 9907.2491 | F16: =F15+1 -> 8 | G16: =$G$2 -> 50000 | H16: =H15+1 -> 68 | I16: =I15+1 -> 65 | J16: =B28/$B$20 -> 0.96077659 | K16: =C25/$C$17 -> 0.98063114 | L16: =J16*K16 -> 0.94216744 | M16: =1/(1+$G$1)^F16 -> 0.62741237 | N16: =G16*L16*M16 -> 29556.376 | P16: =J16+K16-L16 -> 0.99924029 | Q16: =G16*M16*P16 -> 31346.786
A17: 57 | B17: 9880.1964 | C17: 9895.3703 | F17: =F16+1 -> 9 | G17: =$G$2 -> 50000 | H17: =H16+1 -> 69 | I17: =I16+1 -> 66 | J17: =B29/$B$20 -> 0.95123601 | K17: =C26/$C$17 -> 0.97604082 | L17: =J17*K17 -> 0.92844517 | M17: =1/(1+$G$1)^F17 -> 0.59189846 | N17: =G17*L17*M17 -> 27477.263 | P17: =J17+K17-L17 -> 0.99883165 | Q17: =G17*M17*P17 -> 29560.346
A18: 58 | B18: 9864.8031 | C18: 9881.7642 | F18: =F17+1 -> 10 | G18: =$G$2 -> 50000 | H18: =H17+1 -> 70 | I18: =I17+1 -> 67 | J18: =B30/$B$20 -> 0.94015983 | K18: =C27/$C$17 -> 0.9707048 | L18: =J18*K18 -> 0.91261765 | M18: =1/(1+$G$1)^F18 -> 0.55839478 | N18: =G18*L18*M18 -> 25480.047 | P18: =J18+K18-L18 -> 0.99824697 | Q18: =G18*M18*P18 -> 27870.795
A19: 59 | B19: 9846.9083 | C19: 9866.2004 | M19: Total | N19: =SUM(N9:N18) -> 355913.82 | P19: Total | Q19: =SUM(Q9:Q18) -> 367858.39
A20: 60 | B20: 9826.1314 | C20: 9848.4313
A21: 61 | B21: 9802.0475 | C21: 9828.1633
A22: 62 | B22: 9773.0825 | C22: 9804.1727
A23: 63 | B23: 9738.388 | C23: 9775.8877
A24: 64 | B24: 9696.9901 | C24: 9742.6399
A25: 65 | B25: 9647.797 | C25: 9703.7083
A26: 66 | B26: 9589.602 | C26: 9658.2853
A27: 67 | B27: 9521.065 | C27: 9605.4834
A28: 68 | B28: 9440.717 | C28: 9544.3253
A29: 69 | B29: 9346.97 | C29: 9473.745
A30: 70 | B30: 9238.134 | C30: 9392.6213
A31: 71 | B31: 9112.449 | C31: 9299.7471
... A80: 120 | B80: 0.0039 | C80: 0.1122

Sheet Q2(i)
B2: Interest rate | C2: 0.1
B3: Monthly Int rate | C3: =(1+C2)^(1/12)-1 -> 0.0079741404
B4: EMI | C4: 73201.449 | D4: Goal Seek
B7: Loan Outstanding at the end of 2 year
B8: Time | C8: Loan Disburshal | D8: Interest | E8: Total Outstanding
B9: 0 | C9: =5000000/4 -> 1250000 | D9: =C9*(1+$C$2)^(2-B9)-C9 -> 262500 | E9: =C9+D9 -> 1512500
B10: 0.5 | C10: =5000000/4 -> 1250000 | D10: =C10*(1+$C$2)^(2-B10)-C10 -> 192112.17 | E10: =C10+D10 -> 1442112.2
B11: 1 | C11: =5000000/4 -> 1250000 | D11: =C11*(1+$C$2)^(2-B11)-C11 -> 125000 | E11: =C11+D11 -> 1375000
B12: 1.5 | C12: =5000000/4 -> 1250000 | D12: =C12*(1+$C$2)^(2-B12)-C12 -> 61011.06 | E12: =C12+D12 -> 1311011.1
B13: Total Outstanding at the end of year 2 | E13: =SUM(E9:E12) -> 5640623.2
B16: Month | C16: Loan Outstanding at start | D16: Interest | E16: Payment | F16: Loan Outstanding at the end
B17: 25 | C17: =E13 -> 5640623.2 | D17: =C17*$C$3 -> 44979.122 | E17: =$C$4 -> 73201.449 | F17: =C17+D17-E17 -> 5612400.9
B18: =B17+1 -> 26 | C18: =F17 -> 5612400.9 | D18: =C18*$C$3 -> 44754.073 | E18: =$C$4 -> 73201.449 | F18: =C18+D18-E18 -> 5583953.5
B19: =B18+1 -> 27 | C19: =F18 -> 5583953.5 | D19: =C19*$C$3 -> 44527.23 | E19: =$C$4 -> 73201.449 | F19: =C19+D19-E19 -> 5555279.3
B20: =B19+1 -> 28 | C20: =F19 -> 5555279.3 | D20: =C20*$C$3 -> 44298.577 | E20: =$C$4 -> 73201.449 | F20: =C20+D20-E20 -> 5526376.4
B21: =B20+1 -> 29 | C21: =F20 -> 5526376.4 | D21: =C21*$C$3 -> 44068.102 | E21: =$C$4 -> 73201.449 | F21: =C21+D21-E21 -> 5497243.1
B22: =B21+1 -> 30 | C22: =F21 -> 5497243.1 | D22: =C22*$C$3 -> 43835.788 | E22: =$C$4 -> 73201.449 | F22: =C22+D22-E22 -> 5467877.4
B23: =B22+1 -> 31 | C23: =F22 -> 5467877.4 | D23: =C23*$C$3 -> 43601.622 | E23: =$C$4 -> 73201.449 | F23: =C23+D23-E23 -> 5438277.6
B24: =B23+1 -> 32 | C24: =F23 -> 5438277.6 | D24: =C24*$C$3 -> 43365.589 | E24: =$C$4 -> 73201.449 | F24: =C24+D24-E24 -> 5408441.7
B25: =B24+1 -> 33 | C25: =F24 -> 5408441.7 | D25: =C25*$C$3 -> 43127.674 | E25: =$C$4 -> 73201.449 | F25: =C25+D25-E25 -> 5378368
B26: =B25+1 -> 34 | C26: =F25 -> 5378368 | D26: =C26*$C$3 -> 42887.861 | E26: =$C$4 -> 73201.449 | F26: =C26+D26-E26 -> 5348054.4
B27: =B26+1 -> 35 | C27: =F26 -> 5348054.4 | D27: =C27*$C$3 -> 42646.137 | E27: =$C$4 -> 73201.449 | F27: =C27+D27-E27 -> 5317499.1
B28: =B27+1 -> 36 | C28: =F27 -> 5317499.1 | D28: =C28*$C$3 -> 42402.484 | E28: =$C$4 -> 73201.449 | F28: =C28+D28-E28 -> 5286700.1
B29: =B28+1 -> 37 | C29: =F28 -> 5286700.1 | D29: =C29*$C$3 -> 42156.889 | E29: =$C$4 -> 73201.449 | F29: =C29+D29-E29 -> 5255655.5
... B136: =B135+1 -> 144 | C136: =F135 -> 72622.348 | D136: =C136*$C$3 -> 579.1008 | E136: =$C$4 -> 73201.449 | F136: =C136+D136-E136 -> 3.1360833e-07

Sheet Q2(ii)
B2: Interest rate | C2: 0.1
B3: Monthly Int rate | C3: =(1+C2)^(1/12)-1 -> 0.0079741404
B4: EMI | C4: 159887.72 | D4: Goal Seek
B6: Loan Outstanding at the end of 5 Year | E6: ='Q2(i)'!F76 -> 3479887.1
B9: Month | C9: Loan Outstanding at start | D9: Interest | E9: Payment | F9: Loan Outstanding at the end
B10: 85 | C10: =E6 -> 3479887.1 | D10: =C10*$C$3 -> 27749.109 | E10: =$C$4 -> 159887.72 | F10: =C10+D10-E10 -> 3347748.5
B11: =B10+1 -> 86 | C11: =F10 -> 3347748.5 | D11: =C11*$C$3 -> 26695.417 | E11: =$C$4 -> 159887.72 | F11: =C11+D11-E11 -> 3214556.2
B12: =B11+1 -> 87 | C12: =F11 -> 3214556.2 | D12: =C12*$C$3 -> 25633.323 | E12: =$C$4 -> 159887.72 | F12: =C12+D12-E12 -> 3080301.8
B13: =B12+1 -> 88 | C13: =F12 -> 3080301.8 | D13: =C13*$C$3 -> 24562.759 | E13: =$C$4 -> 159887.72 | F13: =C13+D13-E13 -> 2944976.8
B14: =B13+1 -> 89 | C14: =F13 -> 2944976.8 | D14: =C14*$C$3 -> 23483.659 | E14: =$C$4 -> 159887.72 | F14: =C14+D14-E14 -> 2808572.8
B15: =B14+1 -> 90 | C15: =F14 -> 2808572.8 | D15: =C15*$C$3 -> 22395.954 | E15: =$C$4 -> 159887.72 | F15: =C15+D15-E15 -> 2671081
B16: =B15+1 -> 91 | C16: =F15 -> 2671081 | D16: =C16*$C$3 -> 21299.575 | E16: =$C$4 -> 159887.72 | F16: =C16+D16-E16 -> 2532492.9
B17: =B16+1 -> 92 | C17: =F16 -> 2532492.9 | D17: =C17*$C$3 -> 20194.454 | E17: =$C$4 -> 159887.72 | F17: =C17+D17-E17 -> 2392799.6
B18: =B17+1 -> 93 | C18: =F17 -> 2392799.6 | D18: =C18*$C$3 -> 19080.52 | E18: =$C$4 -> 159887.72 | F18: =C18+D18-E18 -> 2251992.4
B19: =B18+1 -> 94 | C19: =F18 -> 2251992.4 | D19: =C19*$C$3 -> 17957.704 | E19: =$C$4 -> 159887.72 | F19: =C19+D19-E19 -> 2110062.4
B20: =B19+1 -> 95 | C20: =F19 -> 2110062.4 | D20: =C20*$C$3 -> 16825.934 | E20: =$C$4 -> 159887.72 | F20: =C20+D20-E20 -> 1967000.6
B21: =B20+1 -> 96 | C21: =F20 -> 1967000.6 | D21: =C21*$C$3 -> 15685.139 | E21: =$C$4 -> 159887.72 | F21: =C21+D21-E21 -> 1822798
B22: =B21+1 -> 97 | C22: =F21 -> 1822798 | D22: =C22*$C$3 -> 14535.247 | E22: =$C$4 -> 159887.72 | F22: =C22+D22-E22 -> 1677445.5
... B33: =B32+1 -> 108 | C33: =F32 -> 158622.84 | D33: =C33*$C$3 -> 1264.8808 | E33: =$C$4 -> 159887.72 | F33: =C33+D33-E33 -> 9.2259143e-09

Sheet Q2(iii)
B3: Effective Annual Interest rate | F3: 0.065 | I3: Purchase value | M3: 89299.823 | N3: Goal Seek
B4: Effective Quarterly interest rate | F4: =(1+F3)^(1/4)-1 -> 0.015868285 | I4: Redemption at Par | M4: =F5 -> 100000
B5: face Value | F5: 100000 | I5: capital gain at maturity | M5: =M4-M3 -> 10700.177
B6: Coupon rate annual | F6: 0.06 | I6: Tax on capital gain | M6: 0.2
B7: Quarterly coupon rate | F7: =F6/4 -> 0.015 | I7: capital Gain Tax | M7: =M5*M6 -> 2140.0354
B8: Income tax on Coupon | F8: 0.3
H10: NPV | I10: =SUM(I12:I32) -> 0 | J10: Goal seek the purchase price so the NPV should be zero.
A11: Year | B11: Quarter | C11: Coupon rate | D11: tax on Coupon | E11: Redemption value | F11: capital Gain tax | G11: Purchase Price of Bond | H11: Net Cashflow | I11: PV
A12: 0 | B12: 0 | G12: =-M3 -> -89299.823 | H12: =SUM(C12:G12) -> -89299.823 | I12: =H12/(1+$F$4)^B12 -> -89299.823
A13: =INT((B13-1)/4)+1 -> 1 | B13: 1 | C13: =$F$5*$F$7 -> 1500 | D13: =-C13*$F$8 -> -450 | H13: =SUM(C13:F13) -> 1050 | I13: =H13/(1+$F$4)^B13 -> 1033.5986
A14: =INT((B14-1)/4)+1 -> 1 | B14: =B13+1 -> 2 | C14: =$F$5*$F$7 -> 1500 | D14: =-C14*$F$8 -> -450 | H14: =SUM(C14:F14) -> 1050 | I14: =H14/(1+$F$4)^B14 -> 1017.4533
A15: =INT((B15-1)/4)+1 -> 1 | B15: =B14+1 -> 3 | C15: =$F$5*$F$7 -> 1500 | D15: =-C15*$F$8 -> -450 | H15: =SUM(C15:F15) -> 1050 | I15: =H15/(1+$F$4)^B15 -> 1001.5603
A16: =INT((B16-1)/4)+1 -> 1 | B16: =B15+1 -> 4 | C16: =$F$5*$F$7 -> 1500 | D16: =-C16*$F$8 -> -450 | H16: =SUM(C16:F16) -> 1050 | I16: =H16/(1+$F$4)^B16 -> 985.91549
