Workbook

Sheet Q.1.Input
G2: Pricing Assumptions
B3: Mortality Rate
G4: Mortality % | H4: 0.5
B5: Age | C5: qx | G5: Fixed Renewal expenses | H5: 1000
B6: 18 | C6: 0.000659 | G6: Expense Inflation | H6: 0.05
B7: 19 | C7: 0.0006942
B8: 20 | C8: 0.0007224 | G8: Interest Rate | H8: 0.07
B9: 21 | C9: 0.0007444 | G9: Risk discount rate | H9: 0.13
B10: 22 | C10: 0.0007612
B11: 23 | C11: 0.0007736
B12: 24 | C12: 0.000783
B13: 25 | C13: 0.000791
B14: 26 | C14: 0.0007988
B15: 27 | C15: 0.000808
B16: 28 | C16: 0.00082
B17: 29 | C17: 0.0008356
B18: 30 | C18: 0.0008556
B19: 31 | C19: 0.000881
B20: 32 | C20: 0.000913
B21: 33 | C21: 0.0009524
... B47: 59 | C47: 0.008897

Sheet Q.1.i
A1: Loan interest rate | B1: 0.07
A2: Loan term | B2: 20
C4: Year | D4: Loan o/s at the start | E4: Total instalment | F4: Interest repayment | G4: Capital repayment | H4: Loan o/s at the end
C5: 1 | D5: =10000000 -> 10000000 | E5: =-PMT($B$1,$B$2,$D$5) -> 943929.26 | F5: =D5*$B$1 -> 700000 | G5: =E5-F5 -> 243929.26 | H5: =D5-G5 -> 9756070.7
C6: =C5+1 -> 2 | D6: =H5 -> 9756070.7 | E6: =-PMT($B$1,$B$2,$D$5) -> 943929.26 | F6: =D6*$B$1 -> 682924.95 | G6: =E6-F6 -> 261004.31 | H6: =D6-G6 -> 9495066.4
C7: =C6+1 -> 3 | D7: =H6 -> 9495066.4 | E7: =-PMT($B$1,$B$2,$D$5) -> 943929.26 | F7: =D7*$B$1 -> 664654.65 | G7: =E7-F7 -> 279274.61 | H7: =D7-G7 -> 9215791.8
C8: =C7+1 -> 4 | D8: =H7 -> 9215791.8 | E8: =-PMT($B$1,$B$2,$D$5) -> 943929.26 | F8: =D8*$B$1 -> 645105.43 | G8: =E8-F8 -> 298823.83 | H8: =D8-G8 -> 8916968
C9: =C8+1 -> 5 | D9: =H8 -> 8916968 | E9: =-PMT($B$1,$B$2,$D$5) -> 943929.26 | F9: =D9*$B$1 -> 624187.76 | G9: =E9-F9 -> 319741.5 | H9: =D9-G9 -> 8597226.5
C10: =C9+1 -> 6 | D10: =H9 -> 8597226.5 | E10: =-PMT($B$1,$B$2,$D$5) -> 943929.26 | F10: =D10*$B$1 -> 601805.86 | G10: =E10-F10 -> 342123.4 | H10: =D10-G10 -> 8255103.1
C11: =C10+1 -> 7 | D11: =H10 -> 8255103.1 | E11: =-PMT($B$1,$B$2,$D$5) -> 943929.26 | F11: =D11*$B$1 -> 577857.22 | G11: =E11-F11 -> 366072.04 | H11: =D11-G11 -> 7889031.1
C12: =C11+1 -> 8 | D12: =H11 -> 7889031.1 | E12: =-PMT($B$1,$B$2,$D$5) -> 943929.26 | F12: =D12*$B$1 -> 552232.17 | G12: =E12-F12 -> 391697.08 | H12: =D12-G12 -> 7497334
C13: =C12+1 -> 9 | D13: =H12 -> 7497334 | E13: =-PMT($B$1,$B$2,$D$5) -> 943929.26 | F13: =D13*$B$1 -> 524813.38 | G13: =E13-F13 -> 419115.88 | H13: =D13-G13 -> 7078218.1
C14: =C13+1 -> 10 | D14: =H13 -> 7078218.1 | E14: =-PMT($B$1,$B$2,$D$5) -> 943929.26 | F14: =D14*$B$1 -> 495475.27 | G14: =E14-F14 -> 448453.99 | H14: =D14-G14 -> 6629764.1
C15: =C14+1 -> 11 | D15: =H14 -> 6629764.1 | E15: =-PMT($B$1,$B$2,$D$5) -> 943929.26 | F15: =D15*$B$1 -> 464083.49 | G15: =E15-F15 -> 479845.77 | H15: =D15-G15 -> 6149918.3
C16: =C15+1 -> 12 | D16: =H15 -> 6149918.3 | E16: =-PMT($B$1,$B$2,$D$5) -> 943929.26 | F16: =D16*$B$1 -> 430494.28 | G16: =E16-F16 -> 513434.97 | H16: =D16-G16 -> 5636483.4
C17: =C16+1 -> 13 | D17: =H16 -> 5636483.4 | E17: =-PMT($B$1,$B$2,$D$5) -> 943929.26 | F17: =D17*$B$1 -> 394553.84 | G17: =E17-F17 -> 549375.42 | H17: =D17-G17 -> 5087107.9
... C24: =C23+1 -> 20 | D24: =H23 -> 882176.88 | E24: =-PMT($B$1,$B$2,$D$5) -> 943929.26 | F24: =D24*$B$1 -> 61752.381 | G24: =E24-F24 -> 882176.88 | H24: =D24-G24 -> 0

Sheet Q.1.ii
J3: Amounts | O3: Cashflows
B4: Policy Year | C4: Age | E4: Individual probability of death | F4: No. of lives at start | G4: No. of deaths | H4: No. of lives at end | J4: Premium | K4: Inflation factor | L4: Renewal expenses | M4: Death Benefit | O4: Premium | P4: Renewal expenses | Q4: Interest on CF | R4: Death Outgo | S4: Net cashlow | T4: PV of cashflows | U4: PV of premium | W4: PV of Profit | X4: =SUM(T5:T24) -> 3848.0669
B5: 1 | C5: 35 | E5: =VLOOKUP(C5,'Q.1.Input'!$B$5:$C$47,2,FALSE)*'Q.1.Input'!$H$4 -> 0.000528 | F5: 1 | G5: =F5*E5 -> 0.000528 | H5: =F5-G5 -> 0.999472 | J5: 7500 | K5: 1 | L5: ='Q.1.Input'!$H$5*K5 -> 1000 | M5: ='Q.1.i'!H5 -> 9756070.7 | O5: =J5*F5 -> 7500 | P5: =L5*$F5 -> 1000 | Q5: =(O5-P5)*'Q.1.Input'!$H$8 -> 455 | R5: =M5*G5 -> 5151.2054 | S5: =SUM(O5,Q5)-SUM(P5:P5,R5) -> 1803.7946 | T5: =S5*(1+'Q.1.Input'!$H$9)^(-B5) -> 1596.2784 | U5: =O5*(1+'Q.1.Input'!$H$9)^-(B5-1) -> 7500 | W5: PV of premium | X5: =SUM(U5:U24) -> 59255.359
B6: =B5+1 -> 2 | C6: =C5+1 -> 36 | E6: =VLOOKUP(C6,'Q.1.Input'!$B$5:$C$47,2,FALSE)*'Q.1.Input'!$H$4 -> 0.0005609 | F6: =H5 -> 0.999472 | G6: =F6*E6 -> 0.00056060384 | H6: =F6-G6 -> 0.9989114 | J6: 7500 | K6: =K5*(1+'Q.1.Input'!$H$6) -> 1.05 | L6: ='Q.1.Input'!$H$5*K6 -> 1050 | M6: ='Q.1.i'!H6 -> 9495066.4 | O6: =J6*F6 -> 7496.04 | P6: =L6*$F6 -> 1049.4456 | Q6: =(O6-P6)*'Q.1.Input'!$H$8 -> 451.26161 | R6: =M6*G6 -> 5322.9708 | S6: =SUM(O6,Q6)-SUM(P6:P6,R6) -> 1574.8853 | T6: =S6*(1+'Q.1.Input'!$H$9)^(-B6) -> 1233.3662 | U6: =O6*(1+'Q.1.Input'!$H$9)^-(B6-1) -> 6633.6637 | W6: Profit Margin | X6: =X4/X5 -> 0.064940403
B7: =B6+1 -> 3 | C7: =C6+1 -> 37 | E7: =VLOOKUP(C7,'Q.1.Input'!$B$5:$C$47,2,FALSE)*'Q.1.Input'!$H$4 -> 0.0005991 | F7: =H6 -> 0.9989114 | G7: =F7*E7 -> 0.00059844782 | H7: =F7-G7 -> 0.99831295 | J7: 7500 | K7: =K6*(1+'Q.1.Input'!$H$6) -> 1.1025 | L7: ='Q.1.Input'!$H$5*K7 -> 1102.5 | M7: ='Q.1.i'!H7 -> 9215791.8 | O7: =J7*F7 -> 7491.8355 | P7: =L7*$F7 -> 1101.2998 | Q7: =(O7-P7)*'Q.1.Input'!$H$8 -> 447.3375 | R7: =M7*G7 -> 5515.1705 | S7: =SUM(O7,Q7)-SUM(P7:P7,R7) -> 1322.7026 | T7: =S7*(1+'Q.1.Input'!$H$9)^(-B7) -> 916.69928 | U7: =O7*(1+'Q.1.Input'!$H$9)^-(B7-1) -> 5867.2061
B8: =B7+1 -> 4 | C8: =C7+1 -> 38 | E8: =VLOOKUP(C8,'Q.1.Input'!$B$5:$C$47,2,FALSE)*'Q.1.Input'!$H$4 -> 0.0006432 | F8: =H7 -> 0.99831295 | G8: =F8*E8 -> 0.00064211489 | H8: =F8-G8 -> 0.99767083 | J8: 7500 | K8: =K7*(1+'Q.1.Input'!$H$6) -> 1.157625 | L8: ='Q.1.Input'!$H$5*K8 -> 1157.625 | M8: ='Q.1.i'!H8 -> 8916968 | O8: =J8*F8 -> 7487.3471 | P8: =L8*$F8 -> 1155.672 | Q8: =(O8-P8)*'Q.1.Input'!$H$8 -> 443.21726 | R8: =M8*G8 -> 5725.7179 | S8: =SUM(O8,Q8)-SUM(P8:P8,R8) -> 1049.1744 | T8: =S8*(1+'Q.1.Input'!$H$9)^(-B8) -> 643.47833 | U8: =O8*(1+'Q.1.Input'!$H$9)^-(B8-1) -> 5189.1071
B9: =B8+1 -> 5 | C9: =C8+1 -> 39 | E9: =VLOOKUP(C9,'Q.1.Input'!$B$5:$C$47,2,FALSE)*'Q.1.Input'!$H$4 -> 0.0006939 | F9: =H8 -> 0.99767083 | G9: =F9*E9 -> 0.00069228379 | H9: =F9-G9 -> 0.99697855 | J9: 7500 | K9: =K8*(1+'Q.1.Input'!$H$6) -> 1.2155063 | L9: ='Q.1.Input'!$H$5*K9 -> 1215.5063 | M9: ='Q.1.i'!H9 -> 8597226.5 | O9: =J9*F9 -> 7482.5313 | P9: =L9*$F9 -> 1212.6751 | Q9: =(O9-P9)*'Q.1.Input'!$H$8 -> 438.88993 | R9: =M9*G9 -> 5951.7206 | S9: =SUM(O9,Q9)-SUM(P9:P9,R9) -> 757.02549 | T9: =S9*(1+'Q.1.Input'!$H$9)^(-B9) -> 410.8831 | U9: =O9*(1+'Q.1.Input'!$H$9)^-(B9-1) -> 4589.1765
B10: =B9+1 -> 6 | C10: =C9+1 -> 40 | E10: =VLOOKUP(C10,'Q.1.Input'!$B$5:$C$47,2,FALSE)*'Q.1.Input'!$H$4 -> 0.0007523 | F10: =H9 -> 0.99697855 | G10: =F10*E10 -> 0.00075002696 | H10: =F10-G10 -> 0.99622852 | J10: 7500 | K10: =K9*(1+'Q.1.Input'!$H$6) -> 1.2762816 | L10: ='Q.1.Input'!$H$5*K10 -> 1276.2816 | M10: ='Q.1.i'!H10 -> 8255103.1 | O10: =J10*F10 -> 7477.3391 | P10: =L10*$F10 -> 1272.4253 | Q10: =(O10-P10)*'Q.1.Input'!$H$8 -> 434.34396 | R10: =M10*G10 -> 6191.5499 | S10: =SUM(O10,Q10)-SUM(P10:P10,R10) -> 447.70784 | T10: =S10*(1+'Q.1.Input'!$H$9)^(-B10) -> 215.04237 | U10: =O10*(1+'Q.1.Input'!$H$9)^-(B10-1) -> 4058.4001
B11: =B10+1 -> 7 | C11: =C10+1 -> 41 | E11: =VLOOKUP(C11,'Q.1.Input'!$B$5:$C$47,2,FALSE)*'Q.1.Input'!$H$4 -> 0.0008198 | F11: =H10 -> 0.99622852 | G11: =F11*E11 -> 0.00081670814 | H11: =F11-G11 -> 0.99541181 | J11: 7500 | K11: =K10*(1+'Q.1.Input'!$H$6) -> 1.3400956 | L11: ='Q.1.Input'!$H$5*K11 -> 1340.0956 | M11: ='Q.1.i'!H11 -> 7889031.1 | O11: =J11*F11 -> 7471.7139 | P11: =L11*$F11 -> 1335.0415 | Q11: =(O11-P11)*'Q.1.Input'!$H$8 -> 429.56707 | R11: =M11*G11 -> 6443.0359 | S11: =SUM(O11,Q11)-SUM(P11:P11,R11) -> 123.20358 | T11: =S11*(1+'Q.1.Input'!$H$9)^(-B11) -> 52.368994 | U11: =O11*(1+'Q.1.Input'!$H$9)^-(B11-1) -> 3588.8026
B12: =B11+1 -> 8 | C12: =C11+1 -> 42 | E12: =VLOOKUP(C12,'Q.1.Input'!$B$5:$C$47,2,FALSE)*'Q.1.Input'!$H$4 -> 0.0008979 | F12: =H11 -> 0.99541181 | G12: =F12*E12 -> 0.00089378027 | H12: =F12-G12 -> 0.99451803 | J12: 7500 | K12: =K11*(1+'Q.1.Input'!$H$6) -> 1.4071004 | L12: ='Q.1.Input'!$H$5*K12 -> 1407.1004 | M12: ='Q.1.i'!H12 -> 7497334 | O12: =J12*F12 -> 7465.5886 | P12: =L12*$F12 -> 1400.6444 | Q12: =(O12-P12)*'Q.1.Input'!$H$8 -> 424.5461 | R12: =M12*G12 -> 6700.9692 | S12: =SUM(O12,Q12)-SUM(P12:P12,R12) -> -211.47885 | T12: =S12*(1+'Q.1.Input'!$H$9)^(-B12) -> -79.549857 | U12: =O12*(1+'Q.1.Input'!$H$9)^-(B12-1) -> 3173.3279
B13: =B12+1 -> 9 | C13: =C12+1 -> 43 | E13: =VLOOKUP(C13,'Q.1.Input'!$B$5:$C$47,2,FALSE)*'Q.1.Input'!$H$4 -> 0.0009884 | F13: =H12 -> 0.99451803 | G13: =F13*E13 -> 0.00098298163 | H13: =F13-G13 -> 0.99353505 | J13: 7500 | K13: =K12*(1+'Q.1.Input'!$H$6) -> 1.4774554 | L13: ='Q.1.Input'!$H$5*K13 -> 1477.4554 | M13: ='Q.1.i'!H13 -> 7078218.1 | O13: =J13*F13 -> 7458.8853 | P13: =L13*$F13 -> 1469.3561 | Q13: =(O13-P13)*'Q.1.Input'!$H$8 -> 419.26704 | R13: =M13*G13 -> 6957.7583 | S13: =SUM(O13,Q13)-SUM(P13:P13,R13) -> -548.96211 | T13: =S13*(1+'Q.1.Input'!$H$9)^(-B13) -> -182.74116 | U13: =O13*(1+'Q.1.Input'!$H$9)^-(B13-1) -> 2805.7332
B14: =B13+1 -> 10 | C14: =C13+1 -> 44 | E14: =VLOOKUP(C14,'Q.1.Input'!$B$5:$C$47,2,FALSE)*'Q.1.Input'!$H$4 -> 0.0010932 | F14: =H13 -> 0.99353505 | G14: =F14*E14 -> 0.0010861325 | H14: =F14-G14 -> 0.99244892 | J14: 7500 | K14: =K13*(1+'Q.1.Input'!$H$6) -> 1.5513282 | L14: ='Q.1.Input'!$H$5*K14 -> 1551.3282 | M14: ='Q.1.i'!H14 -> 6629764.1 | O14: =J14*F14 -> 7451.5129 | P14: =L14*$F14 -> 1541.299 | Q14: =(O14-P14)*'Q.1.Input'!$H$8 -> 413.71498 | R14: =M14*G14 -> 7200.8024 | S14: =SUM(O14,Q14)-SUM(P14:P14,R14) -> -876.87349 | T14: =S14*(1+'Q.1.Input'!$H$9)^(-B14) -> -258.31671 | U14: =O14*(1+'Q.1.Input'!$H$9)^-(B14-1) -> 2480.4956
B15: =B14+1 -> 11 | C15: =C14+1 -> 45 | E15: =VLOOKUP(C15,'Q.1.Input'!$B$5:$C$47,2,FALSE)*'Q.1.Input'!$H$4 -> 0.0012141 | F15: =H14 -> 0.99244892 | G15: =F15*E15 -> 0.0012049322 | H15: =F15-G15 -> 0.99124399 | J15: 7500 | K15: =K14*(1+'Q.1.Input'!$H$6) -> 1.6288946 | L15: ='Q.1.Input'!$H$5*K15 -> 1628.8946 | M15: ='Q.1.i'!H15 -> 6149918.3 | O15: =J15*F15 -> 7443.3669 | P15: =L15*$F15 -> 1616.5947 | Q15: =(O15-P15)*'Q.1.Input'!$H$8 -> 407.87405 | R15: =M15*G15 -> 7410.2348 | S15: =SUM(O15,Q15)-SUM(P15:P15,R15) -> -1175.5886 | T15: =S15*(1+'Q.1.Input'!$H$9)^(-B15) -> -306.47319 | U15: =O15*(1+'Q.1.Input'!$H$9)^-(B15-1) -> 2192.7292
B16: =B15+1 -> 12 | C16: =C15+1 -> 46 | E16: =VLOOKUP(C16,'Q.1.Input'!$B$5:$C$47,2,FALSE)*'Q.1.Input'!$H$4 -> 0.0013527 | F16: =H15 -> 0.99124399 | G16: =F16*E16 -> 0.0013408557 | H16: =F16-G16 -> 0.98990313 | J16: 7500 | K16: =K15*(1+'Q.1.Input'!$H$6) -> 1.7103394 | L16: ='Q.1.Input'!$H$5*K16 -> 1710.3394 | M16: ='Q.1.i'!H16 -> 5636483.4 | O16: =J16*F16 -> 7434.3299 | P16: =L16*$F16 -> 1695.3636 | Q16: =(O16-P16)*'Q.1.Input'!$H$8 -> 401.72764 | R16: =M16*G16 -> 7557.7111 | S16: =SUM(O16,Q16)-SUM(P16:P16,R16) -> -1417.0171 | T16: =S16*(1+'Q.1.Input'!$H$9)^(-B16) -> -326.9142 | U16: =O16*(1+'Q.1.Input'!$H$9)^-(B16-1) -> 1938.1124
B17: =B16+1 -> 13 | C17: =C16+1 -> 47 | E17: =VLOOKUP(C17,'Q.1.Input'!$B$5:$C$47,2,FALSE)*'Q.1.Input'!$H$4 -> 0.0015098 | F17: =H16 -> 0.98990313 | G17: =F17*E17 -> 0.0014945557 | H17: =F17-G17 -> 0.98840858 | J17: 7500 | K17: =K16*(1+'Q.1.Input'!$H$6) -> 1.7958563 | L17: ='Q.1.Input'!$H$5*K17 -> 1795.8563 | M17: ='Q.1.i'!H17 -> 5087107.9 | O17: =J17*F17 -> 7424.2735 | P17: =L17*$F17 -> 1777.7238 | Q17: =(O17-P17)*'Q.1.Input'!$H$8 -> 395.25848 | R17: =M17*G17 -> 7602.9664 | S17: =SUM(O17,Q17)-SUM(P17:P17,R17) -> -1561.1583 | T17: =S17*(1+'Q.1.Input'!$H$9)^(-B17) -> -318.7331 | U17: =O17*(1+'Q.1.Input'!$H$9)^-(B17-1) -> 1712.8236
B18: =B17+1 -> 14 | C18: =C17+1 -> 48 | E18: =VLOOKUP(C18,'Q.1.Input'!$B$5:$C$47,2,FALSE)*'Q.1.Input'!$H$4 -> 0.0016852 | F18: =H17 -> 0.98840858 | G18: =F18*E18 -> 0.0016656661 | H18: =F18-G18 -> 0.98674291 | J18: 7500 | K18: =K17*(1+'Q.1.Input'!$H$6) -> 1.8856491 | L18: ='Q.1.Input'!$H$5*K18 -> 1885.6491 | M18: ='Q.1.i'!H18 -> 4499276.2 | O18: =J18*F18 -> 7413.0643 | P18: =L18*$F18 -> 1863.7918 | Q18: =(O18-P18)*'Q.1.Input'!$H$8 -> 388.44908 | R18: =M18*G18 -> 7494.2921 | S18: =SUM(O18,Q18)-SUM(P18:P18,R18) -> -1556.5704 | T18: =S18*(1+'Q.1.Input'!$H$9)^(-B18) -> -281.23578 | U18: =O18*(1+'Q.1.Input'!$H$9)^-(B18-1) -> 1513.4846
... B24: =B23+1 -> 20 | C24: =C23+1 -> 54 | E24: =VLOOKUP(C24,'Q.1.Input'!$B$5:$C$47,2,FALSE)*'Q.1.Input'!$H$4 -> 0.0030287 | F24: =H23 -> 0.97536077 | G24: =F24*E24 -> 0.0029540752 | H24: =F24-G24 -> 0.9724067 | J24: 7500 | K24: =K23*(1+'Q.1.Input'!$H$6) -> 2.5269502 | L24: ='Q.1.Input'!$H$5*K24 -> 2526.9502 | M24: ='Q.1.i'!H24 -> 0 | O24: =J24*F24 -> 7315.2058 | P24: =L24*$F24 -> 2464.6881 | Q24: =(O24-P24)*'Q.1.Input'!$H$8 -> 339.53624 | R24: =M24*G24 -> 0 | S24: =SUM(O24,Q24)-SUM(P24:P24,R24) -> 5190.0539 | T24: =S24*(1+'Q.1.Input'!$H$9)^(-B24) -> 450.40479 | U24: =O24*(1+'Q.1.Input'!$H$9)^-(B24-1) -> 717.35829

Sheet Q.1.iii
J3: Amounts | O3: Cashflows
B4: Policy Year | C4: Age | E4: Individual probability of death | F4: No. of lives at start | G4: No. of deaths | H4: No. of lives at end | J4: Premium | K4: Inflation factor | L4: Renewal expenses | M4: Death Benefit | O4: Premium | P4: Renewal expenses | Q4: Interest on CF | R4: Death Outgo | S4: Total Inflow | T4: Total Outflow | U4: EPV of Inflow at the end of the year | V4: EPV of Outflow at the end of the year | W4: Reserves at the end of the year
B5: 1 | C5: 35 | E5: =VLOOKUP(C5,'Q.1.Input'!$B$5:$C$47,2,FALSE)*'Q.1.Input'!$H$4 -> 0.000528 | F5: 1 | G5: =F5*E5 -> 0.000528 | H5: =F5-G5 -> 0.999472 | J5: ='Q.1.ii'!J5 -> 7500 | K5: 1 | L5: ='Q.1.Input'!$H$5*K5*1.1 -> 1100 | M5: ='Q.1.ii'!M5 -> 9756070.7 | O5: =J5*F5 -> 7500 | P5: =L5*$F5 -> 1100 | Q5: =(O5-P5)*6% -> 384 | R5: =M5*G5 -> 5151.2054 | S5: =O5+Q5 -> 7884 | T5: =SUM(R5,P5:P5) -> 6251.2054 | U5: =(S6+U6)/(1+6%) -> 86929.603 | V5: =(T6+V6)/(1+6%) -> 86520.572 | W5: =V5-U5 -> -409.03128
B6: =B5+1 -> 2 | C6: =C5+1 -> 36 | E6: =VLOOKUP(C6,'Q.1.Input'!$B$5:$C$47,2,FALSE)*'Q.1.Input'!$H$4 -> 0.0005609 | F6: =H5 -> 0.999472 | G6: =F6*E6 -> 0.00056060384 | H6: =F6-G6 -> 0.9989114 | J6: ='Q.1.ii'!J6 -> 7500 | K6: =K5*(1+'Q.1.Input'!$H$6) -> 1.05 | L6: ='Q.1.Input'!$H$5*K6*1.1 -> 1155 | M6: ='Q.1.ii'!M6 -> 9495066.4 | O6: =J6*F6 -> 7496.04 | P6: =L6*$F6 -> 1154.3902 | Q6: =(O6-P6)*6% -> 380.49899 | R6: =M6*G6 -> 5322.9708 | S6: =O6+Q6 -> 7876.539 | T6: =SUM(R6,P6:P6) -> 6477.3609 | U6: =(S7+U7)/(1+6%) -> 84268.84 | V6: =(T7+V7)/(1+6%) -> 85234.445 | W6: =V6-U6 -> 965.60493
B7: =B6+1 -> 3 | C7: =C6+1 -> 37 | E7: =VLOOKUP(C7,'Q.1.Input'!$B$5:$C$47,2,FALSE)*'Q.1.Input'!$H$4 -> 0.0005991 | F7: =H6 -> 0.9989114 | G7: =F7*E7 -> 0.00059844782 | H7: =F7-G7 -> 0.99831295 | J7: ='Q.1.ii'!J7 -> 7500 | K7: =K6*(1+'Q.1.Input'!$H$6) -> 1.1025 | L7: ='Q.1.Input'!$H$5*K7*1.1 -> 1212.75 | M7: ='Q.1.ii'!M7 -> 9215791.8 | O7: =J7*F7 -> 7491.8355 | P7: =L7*$F7 -> 1211.4298 | Q7: =(O7-P7)*6% -> 376.82434 | R7: =M7*G7 -> 5515.1705 | S7: =O7+Q7 -> 7868.6598 | T7: =SUM(R7,P7:P7) -> 6726.6003 | U7: =(S8+U8)/(1+6%) -> 81456.311 | V7: =(T8+V8)/(1+6%) -> 83621.912 | W7: =V7-U7 -> 2165.6007
B8: =B7+1 -> 4 | C8: =C7+1 -> 38 | E8: =VLOOKUP(C8,'Q.1.Input'!$B$5:$C$47,2,FALSE)*'Q.1.Input'!$H$4 -> 0.0006432 | F8: =H7 -> 0.99831295 | G8: =F8*E8 -> 0.00064211489 | H8: =F8-G8 -> 0.99767083 | J8: ='Q.1.ii'!J8 -> 7500 | K8: =K7*(1+'Q.1.Input'!$H$6) -> 1.157625 | L8: ='Q.1.Input'!$H$5*K8*1.1 -> 1273.3875 | M8: ='Q.1.ii'!M8 -> 8916968 | O8: =J8*F8 -> 7487.3471 | P8: =L8*$F8 -> 1271.2392 | Q8: =(O8-P8)*6% -> 372.96647 | R8: =M8*G8 -> 5725.7179 | S8: =O8+Q8 -> 7860.3136 | T8: =SUM(R8,P8:P8) -> 6996.9571 | U8: =(S9+U9)/(1+6%) -> 78483.376 | V8: =(T9+V9)/(1+6%) -> 81642.269 | W8: =V8-U8 -> 3158.8932
B9: =B8+1 -> 5 | C9: =C8+1 -> 39 | E9: =VLOOKUP(C9,'Q.1.Input'!$B$5:$C$47,2,FALSE)*'Q.1.Input'!$H$4 -> 0.0006939 | F9: =H8 -> 0.99767083 | G9: =F9*E9 -> 0.00069228379 | H9: =F9-G9 -> 0.99697855 | J9: ='Q.1.ii'!J9 -> 7500 | K9: =K8*(1+'Q.1.Input'!$H$6) -> 1.2155063 | L9: ='Q.1.Input'!$H$5*K9*1.1 -> 1337.0569 | M9: ='Q.1.ii'!M9 -> 8597226.5 | O9: =J9*F9 -> 7482.5313 | P9: =L9*$F9 -> 1333.9426 | Q9: =(O9-P9)*6% -> 368.91532 | R9: =M9*G9 -> 5951.7206 | S9: =O9+Q9 -> 7851.4466 | T9: =SUM(R9,P9:P9) -> 7285.6632 | U9: =(S10+U10)/(1+6%) -> 75340.932 | V9: =(T10+V10)/(1+6%) -> 79255.142 | W9: =V9-U9 -> 3914.2102
B10: =B9+1 -> 6 | C10: =C9+1 -> 40 | E10: =VLOOKUP(C10,'Q.1.Input'!$B$5:$C$47,2,FALSE)*'Q.1.Input'!$H$4 -> 0.0007523 | F10: =H9 -> 0.99697855 | G10: =F10*E10 -> 0.00075002696 | H10: =F10-G10 -> 0.99622852 | J10: ='Q.1.ii'!J10 -> 7500 | K10: =K9*(1+'Q.1.Input'!$H$6) -> 1.2762816 | L10: ='Q.1.Input'!$H$5*K10*1.1 -> 1403.9097 | M10: ='Q.1.ii'!M10 -> 8255103.1 | O10: =J10*F10 -> 7477.3391 | P10: =L10*$F10 -> 1399.6679 | Q10: =(O10-P10)*6% -> 364.66027 | R10: =M10*G10 -> 6191.5499 | S10: =O10+Q10 -> 7841.9994 | T10: =SUM(R10,P10:P10) -> 7591.2178 | U10: =(S11+U11)/(1+6%) -> 72019.388 | V10: =(T11+V11)/(1+6%) -> 76419.233 | W10: =V10-U10 -> 4399.8444
B11: =B10+1 -> 7 | C11: =C10+1 -> 41 | E11: =VLOOKUP(C11,'Q.1.Input'!$B$5:$C$47,2,FALSE)*'Q.1.Input'!$H$4 -> 0.0008198 | F11: =H10 -> 0.99622852 | G11: =F11*E11 -> 0.00081670814 | H11: =F11-G11 -> 0.99541181 | J11: ='Q.1.ii'!J11 -> 7500 | K11: =K10*(1+'Q.1.Input'!$H$6) -> 1.3400956 | L11: ='Q.1.Input'!$H$5*K11*1.1 -> 1474.1052 | M11: ='Q.1.ii'!M11 -> 7889031.1 | O11: =J11*F11 -> 7471.7139 | P11: =L11*$F11 -> 1468.5457 | Q11: =(O11-P11)*6% -> 360.1901 | R11: =M11*G11 -> 6443.0359 | S11: =O11+Q11 -> 7831.904 | T11: =SUM(R11,P11:P11) -> 7911.5816 | U11: =(S12+U12)/(1+6%) -> 68508.648 | V11: =(T12+V12)/(1+6%) -> 73092.805 | W11: =V11-U11 -> 4584.1575
B12: =B11+1 -> 8 | C12: =C11+1 -> 42 | E12: =VLOOKUP(C12,'Q.1.Input'!$B$5:$C$47,2,FALSE)*'Q.1.Input'!$H$4 -> 0.0008979 | F12: =H11 -> 0.99541181 | G12: =F12*E12 -> 0.00089378027 | H12: =F12-G12 -> 0.99451803 | J12: ='Q.1.ii'!J12 -> 7500 | K12: =K11*(1+'Q.1.Input'!$H$6) -> 1.4071004 | L12: ='Q.1.Input'!$H$5*K12*1.1 -> 1547.8105 | M12: ='Q.1.ii'!M12 -> 7497334 | O12: =J12*F12 -> 7465.5886 | P12: =L12*$F12 -> 1540.7088 | Q12: =(O12-P12)*6% -> 355.49279 | R12: =M12*G12 -> 6700.9692 | S12: =O12+Q12 -> 7821.0814 | T12: =SUM(R12,P12:P12) -> 8241.678 | U12: =(S13+U13)/(1+6%) -> 64798.085 | V12: =(T13+V13)/(1+6%) -> 69236.696 | W12: =V12-U12 -> 4438.6104
B13: =B12+1 -> 9 | C13: =C12+1 -> 43 | E13: =VLOOKUP(C13,'Q.1.Input'!$B$5:$C$47,2,FALSE)*'Q.1.Input'!$H$4 -> 0.0009884 | F13: =H12 -> 0.99451803 | G13: =F13*E13 -> 0.00098298163 | H13: =F13-G13 -> 0.99353505 | J13: ='Q.1.ii'!J13 -> 7500 | K13: =K12*(1+'Q.1.Input'!$H$6) -> 1.4774554 | L13: ='Q.1.Input'!$H$5*K13*1.1 -> 1625.201 | M13: ='Q.1.ii'!M13 -> 7078218.1 | O13: =J13*F13 -> 7458.8853 | P13: =L13*$F13 -> 1616.2917 | Q13: =(O13-P13)*6% -> 350.55561 | R13: =M13*G13 -> 6957.7583 | S13: =O13+Q13 -> 7809.4409 | T13: =SUM(R13,P13:P13) -> 8574.05 | U13: =(S14+U14)/(1+6%) -> 60876.529 | V13: =(T14+V14)/(1+6%) -> 64816.847 | W13: =V13-U13 -> 3940.3178
B14: =B13+1 -> 10 | C14: =C13+1 -> 44 | E14: =VLOOKUP(C14,'Q.1.Input'!$B$5:$C$47,2,FALSE)*'Q.1.Input'!$H$4 -> 0.0010932 | F14: =H13 -> 0.99353505 | G14: =F14*E14 -> 0.0010861325 | H14: =F14-G14 -> 0.99244892 | J14: ='Q.1.ii'!J14 -> 7500 | K14: =K13*(1+'Q.1.Input'!$H$6) -> 1.5513282 | L14: ='Q.1.Input'!$H$5*K14*1.1 -> 1706.461 | M14: ='Q.1.ii'!M14 -> 6629764.1 | O14: =J14*F14 -> 7451.5129 | P14: =L14*$F14 -> 1695.4289 | Q14: =(O14-P14)*6% -> 345.36504 | R14: =M14*G14 -> 7200.8024 | S14: =O14+Q14 -> 7796.8779 | T14: =SUM(R14,P14:P14) -> 8896.2313 | U14: =(S15+U15)/(1+6%) -> 56732.243 | V14: =(T15+V15)/(1+6%) -> 59809.627 | W14: =V14-U14 -> 3077.3836
B15: =B14+1 -> 11 | C15: =C14+1 -> 45 | E15: =VLOOKUP(C15,'Q.1.Input'!$B$5:$C$47,2,FALSE)*'Q.1.Input'!$H$4 -> 0.0012141 | F15: =H14 -> 0.99244892 | G15: =F15*E15 -> 0.0012049322 | H15: =F15-G15 -> 0.99124399 | J15: ='Q.1.ii'!J15 -> 7500 | K15: =K14*(1+'Q.1.Input'!$H$6) -> 1.6288946 | L15: ='Q.1.Input'!$H$5*K15*1.1 -> 1791.7841 | M15: ='Q.1.ii'!M15 -> 6149918.3 | O15: =J15*F15 -> 7443.3669 | P15: =L15*$F15 -> 1778.2542 | Q15: =(O15-P15)*6% -> 339.90676 | R15: =M15*G15 -> 7410.2348 | S15: =O15+Q15 -> 7783.2737 | T15: =SUM(R15,P15:P15) -> 9188.489 | U15: =(S16+U16)/(1+6%) -> 52352.904 | V15: =(T16+V16)/(1+6%) -> 54209.715 | W15: =V15-U15 -> 1856.8113
B16: =B15+1 -> 12 | C16: =C15+1 -> 46 | E16: =VLOOKUP(C16,'Q.1.Input'!$B$5:$C$47,2,FALSE)*'Q.1.Input'!$H$4 -> 0.0013527 | F16: =H15 -> 0.99124399 | G16: =F16*E16 -> 0.0013408557 | H16: =F16-G16 -> 0.98990313 | J16: ='Q.1.ii'!J16 -> 7500 | K16: =K15*(1+'Q.1.Input'!$H$6) -> 1.7103394 | L16: ='Q.1.Input'!$H$5*K16*1.1 -> 1881.3733 | M16: ='Q.1.ii'!M16 -> 5636483.4 | O16: =J16*F16 -> 7434.3299 | P16: =L16*$F16 -> 1864.9 | Q16: =(O16-P16)*6% -> 334.1658 | R16: =M16*G16 -> 7557.7111 | S16: =O16+Q16 -> 7768.4957 | T16: =SUM(R16,P16:P16) -> 9422.6111 | U16: =(S17+U17)/(1+6%) -> 47725.583 | V16: =(T17+V17)/(1+6%) -> 48039.687 | W16: =V16-U16 -> 314.10458
B17: =B16+1 -> 13 | C17: =C16+1 -> 47 | E17: =VLOOKUP(C17,'Q.1.Input'!$B$5:$C$47,2,FALSE)*'Q.1.Input'!$H$4 -> 0.0015098 | F17: =H16 -> 0.98990313 | G17: =F17*E17 -> 0.0014945557 | H17: =F17-G17 -> 0.98840858 | J17: ='Q.1.ii'!J17 -> 7500 | K17: =K16*(1+'Q.1.Input'!$H$6) -> 1.7958563 | L17: ='Q.1.Input'!$H$5*K17*1.1 -> 1975.442 | M17: ='Q.1.ii'!M17 -> 5087107.9 | O17: =J17*F17 -> 7424.2735 | P17: =L17*$F17 -> 1955.4962 | Q17: =(O17-P17)*6% -> 328.12664 | R17: =M17*G17 -> 7602.9664 | S17: =O17+Q17 -> 7752.4001 | T17: =SUM(R17,P17:P17) -> 9558.4626 | U17: =(S18+U18)/(1+6%) -> 42836.718 | V17: =(T18+V18)/(1+6%) -> 41363.606 | W17: =V17-U17 -> -1473.1116
... B23: =B22+1 -> 19 | C23: =C22+1 -> 53 | E23: =VLOOKUP(C23,'Q.1.Input'!$B$5:$C$47,2,FALSE)*'Q.1.Input'!$H$4 -> 0.0027796 | F23: =H22 -> 0.97807944 | G23: =F23*E23 -> 0.0027186696 | H23: =F23-G23 -> 0.97536077 | J23: ='Q.1.ii'!J23 -> 7500 | K23: =K22*(1+'Q.1.Input'!$H$6) -> 2.4066192 | L23: ='Q.1.Input'!$H$5*K23*1.1 -> 2647.2812 | M23: ='Q.1.ii'!M23 -> 882176.88 | O23: =J23*F23 -> 7335.5958 | P23: =L23*$F23 -> 2589.2513 | Q23: =(O23-P23)*6% -> 284.78067 | R23: =M23*G23 -> 2398.3475 | S23: =O23+Q23 -> 7620.3765 | T23: =SUM(R23,P23:P23) -> 4987.5987 | U23: =(S24+U24)/(1+6%) -> 7161.7441 | V23: =(T24+V24)/(1+6%) -> 2557.6952 | W23: =V23-U23 -> -4604.0489
B24: =B23+1 -> 20 | C24: =C23+1 -> 54 | E24: =VLOOKUP(C24,'Q.1.Input'!$B$5:$C$47,2,FALSE)*'Q.1.Input'!$H$4 -> 0.0030287 | F24: =H23 -> 0.97536077 | G24: =F24*E24 -> 0.0029540752 | H24: =F24-G24 -> 0.9724067 | J24: ='Q.1.ii'!J24 -> 7500 | K24: =K23*(1+'Q.1.Input'!$H$6) -> 2.5269502 | L24: ='Q.1.Input'!$H$5*K24*1.1 -> 2779.6452 | M24: ='Q.1.ii'!M24 -> 0 | O24: =J24*F24 -> 7315.2058 | P24: =L24*$F24 -> 2711.1569 | Q24: =(O24-P24)*6% -> 276.24293 | R24: =M24*G24 -> 0 | S24: =O24+Q24 -> 7591.4487 | T24: =SUM(R24,P24:P24) -> 2711.1569 | U24: =(S25+V25)/(1+6%) -> 0 | V24: =(T25+W25)/(1+6%) -> 0 | W24: =V24-U24 -> 0

Sheet Q.1.iv
B4: Policy Year | C4: Age | E4: Net cashlow before reserve | F4: Reserve | G4: Increase in Reserve | H4: Interest on reserves | I4: Net cashlow after reserve | J4: PV of net cashflows | L4: PV of Profit | M4: =SUM(J5:J24) -> 2780.2249
B5: 1 | C5: 35 | E5: ='Q.1.ii'!S5 -> 1803.7946 | F5: ='Q.1.iii'!W5 -> -409.03128 | G5: =F5 -> -409.03128 | H5: 0 | I5: =E5-G5+H5 -> 2212.8259 | J5: =I5*(1+'Q.1.Input'!$H$9)^(-B5) -> 1958.253 | L5: PV of premium | M5: ='Q.1.ii'!X5 -> 59255.359
B6: =B5+1 -> 2 | C6: =C5+1 -> 36 | E6: ='Q.1.ii'!S6 -> 1574.8853 | F6: ='Q.1.iii'!W6 -> 965.60493 | G6: =F6-F5 -> 1374.6362 | H6: =G5*'Q.1.Input'!$H$8 -> -28.632189 | I6: =E6-G6+H6 -> 171.61686 | J6: =I6*(1+'Q.1.Input'!$H$9)^(-B6) -> 134.40118 | L6: Profit Margin | M6: =M4/M5 -> 0.046919383
B7: =B6+1 -> 3 | C7: =C6+1 -> 37 | E7: ='Q.1.ii'!S7 -> 1322.7026 | F7: ='Q.1.iii'!W7 -> 2165.6007 | G7: =F7-F6 -> 1199.9958 | H7: =G6*'Q.1.Input'!$H$8 -> 96.224534 | I7: =E7-G7+H7 -> 218.93138 | J7: =I7*(1+'Q.1.Input'!$H$9)^(-B7) -> 151.73043
B8: =B7+1 -> 4 | C8: =C7+1 -> 38 | E8: ='Q.1.ii'!S8 -> 1049.1744 | F8: ='Q.1.iii'!W8 -> 3158.8932 | G8: =F8-F7 -> 993.29249 | H8: =G7*'Q.1.Input'!$H$8 -> 83.999706 | I8: =E8-G8+H8 -> 139.88165 | J8: =I8*(1+'Q.1.Input'!$H$9)^(-B8) -> 85.792034
B9: =B8+1 -> 5 | C9: =C8+1 -> 39 | E9: ='Q.1.ii'!S9 -> 757.02549 | F9: ='Q.1.iii'!W9 -> 3914.2102 | G9: =F9-F8 -> 755.31695 | H9: =G8*'Q.1.Input'!$H$8 -> 69.530474 | I9: =E9-G9+H9 -> 71.239006 | J9: =I9*(1+'Q.1.Input'!$H$9)^(-B9) -> 38.665678
B10: =B9+1 -> 6 | C10: =C9+1 -> 40 | E10: ='Q.1.ii'!S10 -> 447.70784 | F10: ='Q.1.iii'!W10 -> 4399.8444 | G10: =F10-F9 -> 485.63422 | H10: =G9*'Q.1.Input'!$H$8 -> 52.872187 | I10: =E10-G10+H10 -> 14.9458 | J10: =I10*(1+'Q.1.Input'!$H$9)^(-B10) -> 7.1787448
B11: =B10+1 -> 7 | C11: =C10+1 -> 41 | E11: ='Q.1.ii'!S11 -> 123.20358 | F11: ='Q.1.iii'!W11 -> 4584.1575 | G11: =F11-F10 -> 184.31312 | H11: =G10*'Q.1.Input'!$H$8 -> 33.994396 | I11: =E11-G11+H11 -> -27.115145 | J11: =I11*(1+'Q.1.Input'!$H$9)^(-B11) -> -11.525581
B12: =B11+1 -> 8 | C12: =C11+1 -> 42 | E12: ='Q.1.ii'!S12 -> -211.47885 | F12: ='Q.1.iii'!W12 -> 4438.6104 | G12: =F12-F11 -> -145.54715 | H12: =G11*'Q.1.Input'!$H$8 -> 12.901919 | I12: =E12-G12+H12 -> -53.029786 | J12: =I12*(1+'Q.1.Input'!$H$9)^(-B12) -> -19.947677
B13: =B12+1 -> 9 | C13: =C12+1 -> 43 | E13: ='Q.1.ii'!S13 -> -548.96211 | F13: ='Q.1.iii'!W13 -> 3940.3178 | G13: =F13-F12 -> -498.29253 | H13: =G12*'Q.1.Input'!$H$8 -> -10.188301 | I13: =E13-G13+H13 -> -60.857886 | J13: =I13*(1+'Q.1.Input'!$H$9)^(-B13) -> -20.258667
B14: =B13+1 -> 10 | C14: =C13+1 -> 44 | E14: ='Q.1.ii'!S14 -> -876.87349 | F14: ='Q.1.iii'!W14 -> 3077.3836 | G14: =F14-F13 -> -862.93424 | H14: =G13*'Q.1.Input'!$H$8 -> -34.880477 | I14: =E14-G14+H14 -> -48.819718 | J14: =I14*(1+'Q.1.Input'!$H$9)^(-B14) -> -14.38172
B15: =B14+1 -> 11 | C15: =C14+1 -> 45 | E15: ='Q.1.ii'!S15 -> -1175.5886 | F15: ='Q.1.iii'!W15 -> 1856.8113 | G15: =F15-F14 -> -1220.5723 | H15: =G14*'Q.1.Input'!$H$8 -> -60.405397 | I15: =E15-G15+H15 -> -15.421652 | J15: =I15*(1+'Q.1.Input'!$H$9)^(-B15) -> -4.0203884
B16: =B15+1 -> 12 | C16: =C15+1 -> 46 | E16: ='Q.1.ii'!S16 -> -1417.0171 | F16: ='Q.1.iii'!W16 -> 314.10458 | G16: =F16-F15 -> -1542.7067 | H16: =G15*'Q.1.Input'!$H$8 -> -85.440064 | I16: =E16-G16+H16 -> 40.249466 | J16: =I16*(1+'Q.1.Input'!$H$9)^(-B16) -> 9.2857888
B17: =B16+1 -> 13 | C17: =C16+1 -> 47 | E17: ='Q.1.ii'!S17 -> -1561.1583 | F17: ='Q.1.iii'!W17 -> -1473.1116 | G17: =F17-F16 -> -1787.2162 | H17: =G16*'Q.1.Input'!$H$8 -> -107.98947 | I17: =E17-G17+H17 -> 118.06848 | J17: =I17*(1+'Q.1.Input'!$H$9)^(-B17) -> 24.105392
B18: =B17+1 -> 14 | C18: =C17+1 -> 48 | E18: ='Q.1.ii'!S18 -> -1556.5704 | F18: ='Q.1.iii'!W18 -> -3371.1234 | G18: =F18-F17 -> -1898.0118 | H18: =G17*'Q.1.Input'!$H$8 -> -125.10513 | I18: =E18-G18+H18 -> 216.33622 | J18: =I18*(1+'Q.1.Input'!$H$9)^(-B18) -> 39.086882
... B24: =B23+1 -> 20 | C24: =C23+1 -> 54 | E24: ='Q.1.ii'!S24 -> 5190.0539 | F24: ='Q.1.iii'!W24 -> 0 | G24: =F24-F23 -> 4604.0489 | H24: =G23*'Q.1.Input'!$H$8 -> 155.62022 | I24: =E24-G24+H24 -> 741.62527 | J24: =I24*(1+'Q.1.Input'!$H$9)^(-B24) -> 64.359943

Sheet Q.1.v
B3: Due to allowing for reserves, the profit margin of the policy reduces.
B4: Due to holding reserves, the emergence of profit is delayed
B5: This leads to a lower present value of profits while the present value of premiums remains unchanged.

Sheet Q.2.Input
B2: Inflation Index | H2: Year | I2: Projected Earnings | J2: Equity index
B3: Date | C3: Index value | H3: 1 | I3: 30 | J3: 100
B4: 44197 | C4: 100 | H4: =H3+1 -> 2 | I4: 30.471774 | J4: 104.71774
B5: 44287 | C5: 100.78629 | H5: =H4+1 -> 3 | I5: 30.944769 | J5: 109.59415
B6: 44378 | C6: 101.56851 | H6: =H5+1 -> 4 | I6: 31.418972 | J6: 114.63247
B7: 44470 | C7: 102.34674 | H7: =H6+1 -> 5 | I7: 31.89437 | J7: 119.83596
B8: 44562 | C8: 103.12104 | H8: =H7+1 -> 6 | I8: 32.138928 | J8: 122.59257
B9: 44652 | C9: 103.51639 | H9: =H8+1 -> 7 | I9: 32.383796 | J9: 125.39468
B10: 44743 | C10: 103.91074 | H10: =H9+1 -> 8 | I10: 32.628973 | J10: 128.24276
B11: 44835 | C11: 104.30409 | H11: =H10+1 -> 9 | I11: 32.874457 | J11: 131.13727
B12: 44927 | C12: 104.69646 | H12: =H11+1 -> 10 | I12: 33.060809 | J12: 133.36737
B13: 45017 | C13: 104.9932 | H13: =H12+1 -> 11 | I13: 33.247337 | J13: 135.62473
B14: 45108 | C14: 105.28938 | H14: =H13+1 -> 12 | I14: 33.434039 | J14: 137.90955
B15: 45200 | C15: 105.58501 | H15: =H14+1 -> 13 | I15: 33.620915 | J15: 140.22204
... B32: 46753 | C32: 110.71854 | H32: =H31+1 -> 30 | I32: 36.989798 | J32: 186.43029
B33: 46844 | C33: 111.06589
B34: 46935 | C34: 111.41252
B35: 47027 | C35: 111.75843
B36: 47119 | C36: 112.10363
B37: 47209 | C37: 112.45533
B38: 47300 | C38: 112.8063
B39: 47392 | C39: 113.15653
B40: 47484 | C40: 113.50605
B41: 47574 | C41: 113.86215
B42: 47665 | C42: 114.21751
B43: 47757 | C43: 114.57213
B44: 47849 | C44: 114.92602

Sheet Q.2.i
B2: Bond A coupon rate | C2: 0.06
B3: Bond A face value | C3: 100
B4: Bond A redemption price | C4: 100
B6: Date | C6: Month | D6: Coupons | E6: Redemption | F6: Total Cashflows | G6: PV of cashflow | I6: Total PV | J6: =SUM(G7:G47) -> 95.000001 | K6: << goal seeked to be 95
B7: 44197 | C7: 0 | D7: 0 | E7: 0 | F7: =D7+E7 -> 0 | G7: =F7*(1+$J$8)^(-C7/12) -> 0 | I7: Bond A price | J7: 95
B8: =EDATE(B7,3) -> 44287 | C8: =C7+3 -> 3 | D8: 0 | E8: 0 | F8: =D8+E8 -> 0 | G8: =F8*(1+$J$8)^(-C8/12) -> 0 | I8: Bond A yield | J8: 0.068059229
B9: =EDATE(B8,3) -> 44378 | C9: =C8+3 -> 6 | D9: =$C$2/2*$C$3 -> 3 | E9: 0 | F9: =D9+E9 -> 3 | G9: =F9*(1+$J$8)^(-C9/12) -> 2.9028433
B10: =EDATE(B9,3) -> 44470 | C10: =C9+3 -> 9 | D10: 0 | E10: 0 | F10: =D10+E10 -> 0 | G10: =F10*(1+$J$8)^(-C10/12) -> 0
B11: =EDATE(B10,3) -> 44562 | C11: =C10+3 -> 12 | D11: =D9 -> 3 | E11: 0 | F11: =D11+E11 -> 3 | G11: =F11*(1+$J$8)^(-C11/12) -> 2.808833
B12: =EDATE(B11,3) -> 44652 | C12: =C11+3 -> 15 | D12: =D10 -> 0 | E12: 0 | F12: =D12+E12 -> 0 | G12: =F12*(1+$J$8)^(-C12/12) -> 0
B13: =EDATE(B12,3) -> 44743 | C13: =C12+3 -> 18 | D13: =D11 -> 3 | E13: 0 | F13: =D13+E13 -> 3 | G13: =F13*(1+$J$8)^(-C13/12) -> 2.7178673
B14: =EDATE(B13,3) -> 44835 | C14: =C13+3 -> 21 | D14: =D12 -> 0 | E14: 0 | F14: =D14+E14 -> 0 | G14: =F14*(1+$J$8)^(-C14/12) -> 0
B15: =EDATE(B14,3) -> 44927 | C15: =C14+3 -> 24 | D15: =D13 -> 3 | E15: 0 | F15: =D15+E15 -> 3 | G15: =F15*(1+$J$8)^(-C15/12) -> 2.6298476
B16: =EDATE(B15,3) -> 45017 | C16: =C15+3 -> 27 | D16: =D14 -> 0 | E16: 0 | F16: =D16+E16 -> 0 | G16: =F16*(1+$J$8)^(-C16/12) -> 0
B17: =EDATE(B16,3) -> 45108 | C17: =C16+3 -> 30 | D17: =D15 -> 3 | E17: 0 | F17: =D17+E17 -> 3 | G17: =F17*(1+$J$8)^(-C17/12) -> 2.5446785
B18: =EDATE(B17,3) -> 45200 | C18: =C17+3 -> 33 | D18: =D16 -> 0 | E18: 0 | F18: =D18+E18 -> 0 | G18: =F18*(1+$J$8)^(-C18/12) -> 0
B19: =EDATE(B18,3) -> 45292 | C19: =C18+3 -> 36 | D19: =D17 -> 3 | E19: 0 | F19: =D19+E19 -> 3 | G19: =F19*(1+$J$8)^(-C19/12) -> 2.4622676
B20: =EDATE(B19,3) -> 45383 | C20: =C19+3 -> 39 | D20: =D18 -> 0 | E20: 0 | F20: =D20+E20 -> 0 | G20: =F20*(1+$J$8)^(-C20/12) -> 0
B21: =EDATE(B20,3) -> 45474 | C21: =C20+3 -> 42 | D21: =D19 -> 3 | E21: 0 | F21: =D21+E21 -> 3 | G21: =F21*(1+$J$8)^(-C21/12) -> 2.3825256
B22: =EDATE(B21,3) -> 45566 | C22: =C21+3 -> 45 | D22: =D20 -> 0 | E22: 0 | F22: =D22+E22 -> 0 | G22: =F22*(1+$J$8)^(-C22/12) -> 0
... B46: =EDATE(B45,3) -> 47757 | C46: =C45+3 -> 117 | D46: =D44 -> 0 | E46: 0 | F46: =D46+E46 -> 0 | G46: =F46*(1+$J$8)^(-C46/12) -> 0
B47: =EDATE(B46,3) -> 47849 | C47: =C46+3 -> 120 | D47: =D45 -> 3 | E47: =$C$4 -> 100 | F47: =D47+E47 -> 103 | G47: =F47*(1+$J$8)^(-C47/12) -> 53.319228

Sheet Q.2.ii
B2: Bond B coupon rate | C2: 0.07
B3: Bond B face value | C3: 100
B4: Bond B redemption price | C4: 100
B6: Date | C6: Month | D6: Coupons | E6: Redemption | F6: Total Cashflows | G6: PV of cashflow | I6: Total PV | J6: =SUM(G7:G47) -> 85.000035 | K6: << goal seeked to be 85
B7: 44197 | C7: 0 | D7: 0 | E7: 0 | F7: =D7+E7 -> 0 | G7: =F7*(1+$J$8)^(-C7/12) -> 0 | I7: Bond B price | J7: 85
B8: =EDATE(B7,3) -> 44287 | C8: =C7+3 -> 3 | D8: =$C$2/4*$C$3 -> 1.75 | E8: 0 | F8: =D8+E8 -> 1.75 | G8: =F8*(1+$J$8)^(-C8/12) -> 1.710143 | I8: Bond B yield | J8: 0.096534954
B9: =EDATE(B8,3) -> 44378 | C9: =C8+3 -> 6 | D9: =$C$2/4*$C$3 -> 1.75 | E9: 0 | F9: =D9+E9 -> 1.75 | G9: =F9*(1+$J$8)^(-C9/12) -> 1.6711938
B10: =EDATE(B9,3) -> 44470 | C10: =C9+3 -> 9 | D10: =$C$2/4*$C$3 -> 1.75 | E10: 0 | F10: =D10+E10 -> 1.75 | G10: =F10*(1+$J$8)^(-C10/12) -> 1.6331316
B11: =EDATE(B10,3) -> 44562 | C11: =C10+3 -> 12 | D11: =$C$2/4*$C$3 -> 1.75 | E11: 0 | F11: =D11+E11 -> 1.75 | G11: =F11*(1+$J$8)^(-C11/12) -> 1.5959364
B12: =EDATE(B11,3) -> 44652 | C12: =C11+3 -> 15 | D12: =$C$2/4*$C$3 -> 1.75 | E12: 0 | F12: =D12+E12 -> 1.75 | G12: =F12*(1+$J$8)^(-C12/12) -> 1.5595882
B13: =EDATE(B12,3) -> 44743 | C13: =C12+3 -> 18 | D13: =$C$2/4*$C$3 -> 1.75 | E13: 0 | F13: =D13+E13 -> 1.75 | G13: =F13*(1+$J$8)^(-C13/12) -> 1.5240679
B14: =EDATE(B13,3) -> 44835 | C14: =C13+3 -> 21 | D14: =$C$2/4*$C$3 -> 1.75 | E14: 0 | F14: =D14+E14 -> 1.75 | G14: =F14*(1+$J$8)^(-C14/12) -> 1.4893566
B15: =EDATE(B14,3) -> 44927 | C15: =C14+3 -> 24 | D15: =$C$2/4*$C$3 -> 1.75 | E15: 0 | F15: =D15+E15 -> 1.75 | G15: =F15*(1+$J$8)^(-C15/12) -> 1.4554359
B16: =EDATE(B15,3) -> 45017 | C16: =C15+3 -> 27 | D16: =$C$2/4*$C$3 -> 1.75 | E16: 0 | F16: =D16+E16 -> 1.75 | G16: =F16*(1+$J$8)^(-C16/12) -> 1.4222877
B17: =EDATE(B16,3) -> 45108 | C17: =C16+3 -> 30 | D17: =$C$2/4*$C$3 -> 1.75 | E17: 0 | F17: =D17+E17 -> 1.75 | G17: =F17*(1+$J$8)^(-C17/12) -> 1.3898945
B18: =EDATE(B17,3) -> 45200 | C18: =C17+3 -> 33 | D18: =$C$2/4*$C$3 -> 1.75 | E18: 0 | F18: =D18+E18 -> 1.75 | G18: =F18*(1+$J$8)^(-C18/12) -> 1.3582391
B19: =EDATE(B18,3) -> 45292 | C19: =C18+3 -> 36 | D19: =$C$2/4*$C$3 -> 1.75 | E19: 0 | F19: =D19+E19 -> 1.75 | G19: =F19*(1+$J$8)^(-C19/12) -> 1.3273046
B20: =EDATE(B19,3) -> 45383 | C20: =C19+3 -> 39 | D20: =$C$2/4*$C$3 -> 1.75 | E20: 0 | F20: =D20+E20 -> 1.75 | G20: =F20*(1+$J$8)^(-C20/12) -> 1.2970747
... B46: =EDATE(B45,3) -> 47757 | C46: =C45+3 -> 117 | D46: =$C$2/4*$C$3 -> 1.75 | E46: 0 | F46: =D46+E46 -> 1.75 | G46: =F46*(1+$J$8)^(-C46/12) -> 0.71255578
B47: =EDATE(B46,3) -> 47849 | C47: =C46+3 -> 120 | D47: =$C$2/4*$C$3 -> 1.75 | E47: =$C$4 -> 100 | F47: =D47+E47 -> 101.75 | G47: =F47*(1+$J$8)^(-C47/12) -> 40.486442

Sheet Q.2.iii
B3: Date | C3: Month | D3: Total Cashflows | E3: Inflation Adjustment | F3: Total Cashflows after inflation adjustment | G3: PV of cashflows | I3: Total PV | J3: =SUM(G4:G44) -> 85.000029 | K3: << goal seeked to be 85
B4: 44197 | C4: 0 | D4: ='Q.2.ii'!F7 -> 0 | E4: ='Q.2.Input'!$C$4/'Q.2.Input'!C4 -> 1 | F4: =E4*D4 -> 0 | G4: =F4*(1+$J$5)^-(C4/12) -> 0 | I4: Bond B price | J4: 85
B5: =EDATE(B4,3) -> 44287 | C5: =C4+3 -> 3 | D5: ='Q.2.ii'!F8 -> 1.75 | E5: ='Q.2.Input'!$C$4/'Q.2.Input'!C5 -> 0.99219844 | F5: =E5*D5 -> 1.7363473 | G5: =F5*(1+$J$5)^-(C5/12) -> 1.7030155 | I5: Bond B real yield | J5: 0.080617291
B6: =EDATE(B5,3) -> 44378 | C6: =C5+3 -> 6 | D6: ='Q.2.ii'!F9 -> 1.75 | E6: ='Q.2.Input'!$C$4/'Q.2.Input'!C6 -> 0.9845571 | F6: =E6*D6 -> 1.7229749 | G6: =F6*(1+$J$5)^-(C6/12) -> 1.6574598
B7: =EDATE(B6,3) -> 44470 | C7: =C6+3 -> 9 | D7: ='Q.2.ii'!F10 -> 1.75 | E7: ='Q.2.Input'!$C$4/'Q.2.Input'!C7 -> 0.9770707 | F7: =E7*D7 -> 1.7098737 | G7: =F7*(1+$J$5)^-(C7/12) -> 1.6132813
B8: =EDATE(B7,3) -> 44562 | C8: =C7+3 -> 12 | D8: ='Q.2.ii'!F11 -> 1.75 | E8: ='Q.2.Input'!$C$4/'Q.2.Input'!C8 -> 0.96973421 | F8: =E8*D8 -> 1.6970349 | G8: =F8*(1+$J$5)^-(C8/12) -> 1.570431
B9: =EDATE(B8,3) -> 44652 | C9: =C8+3 -> 15 | D9: ='Q.2.ii'!F12 -> 1.75 | E9: ='Q.2.Input'!$C$4/'Q.2.Input'!C9 -> 0.96603058 | F9: =E9*D9 -> 1.6905535 | G9: =F9*(1+$J$5)^-(C9/12) -> 1.5344016
B10: =EDATE(B9,3) -> 44743 | C10: =C9+3 -> 18 | D10: ='Q.2.ii'!F13 -> 1.75 | E10: ='Q.2.Input'!$C$4/'Q.2.Input'!C10 -> 0.96236443 | F10: =E10*D10 -> 1.6841377 | G10: =F10*(1+$J$5)^-(C10/12) -> 1.4992351
B11: =EDATE(B10,3) -> 44835 | C11: =C10+3 -> 21 | D11: ='Q.2.ii'!F14 -> 1.75 | E11: ='Q.2.Input'!$C$4/'Q.2.Input'!C11 -> 0.95873515 | F11: =E11*D11 -> 1.6777865 | G11: =F11*(1+$J$5)^-(C11/12) -> 1.4649097
B12: =EDATE(B11,3) -> 44927 | C12: =C11+3 -> 24 | D12: ='Q.2.ii'!F15 -> 1.75 | E12: ='Q.2.Input'!$C$4/'Q.2.Input'!C12 -> 0.95514213 | F12: =E12*D12 -> 1.6714987 | G12: =F12*(1+$J$5)^-(C12/12) -> 1.431404
B13: =EDATE(B12,3) -> 45017 | C13: =C12+3 -> 27 | D13: ='Q.2.ii'!F16 -> 1.75 | E13: ='Q.2.Input'!$C$4/'Q.2.Input'!C13 -> 0.95244262 | F13: =E13*D13 -> 1.6667746 | G13: =F13*(1+$J$5)^-(C13/12) -> 1.3999582
B14: =EDATE(B13,3) -> 45108 | C14: =C13+3 -> 30 | D14: ='Q.2.ii'!F17 -> 1.75 | E14: ='Q.2.Input'!$C$4/'Q.2.Input'!C14 -> 0.94976336 | F14: =E14*D14 -> 1.6620859 | G14: =F14*(1+$J$5)^-(C14/12) -> 1.3692214
B15: =EDATE(B14,3) -> 45200 | C15: =C14+3 -> 33 | D15: ='Q.2.ii'!F18 -> 1.75 | E15: ='Q.2.Input'!$C$4/'Q.2.Input'!C15 -> 0.94710411 | F15: =E15*D15 -> 1.6574322 | G15: =F15*(1+$J$5)^-(C15/12) -> 1.3391771
B16: =EDATE(B15,3) -> 45292 | C16: =C15+3 -> 36 | D16: ='Q.2.ii'!F19 -> 1.75 | E16: ='Q.2.Input'!$C$4/'Q.2.Input'!C16 -> 0.94446462 | F16: =E16*D16 -> 1.6528131 | G16: =F16*(1+$J$5)^-(C16/12) -> 1.3098091
B17: =EDATE(B16,3) -> 45383 | C17: =C16+3 -> 39 | D17: ='Q.2.ii'!F20 -> 1.75 | E17: ='Q.2.Input'!$C$4/'Q.2.Input'!C17 -> 0.94271405 | F17: =E17*D17 -> 1.6497496 | G17: =F17*(1+$J$5)^-(C17/12) -> 1.2822843
... B44: =EDATE(B43,3) -> 47849 | C44: =C43+3 -> 120 | D44: ='Q.2.ii'!F47 -> 101.75 | E44: ='Q.2.Input'!$C$4/'Q.2.Input'!C44 -> 0.87012498 | F44: =E44*D44 -> 88.535217 | G44: =F44*(1+$J$5)^-(C44/12) -> 40.775278

Sheet Q.2.iv
B2: Bond C price | C2: 60
B3: Bond C redemption value | C3: 100
B4: Time in years | C4: 10
B5: Bond C yield | C5: =(C3/C2)^(1/C4)-1 -> 0.052409779
B7: Bond A nominal yield | C7: ='Q.2.i'!J8 -> 0.068059229
B8: Bond B real yield | C8: ='Q.2.iii'!J5 -> 0.080617291
B9: Risk discount rate | C9: =ROUND(C8-C7+C5,4) -> 0.065

Sheet Q.2.v
B1: Risk discount rate | C1: ='Q.2.iv'!C9 -> 0.065
B4: Year | C4: Dividends | D4: Terminal value factor | E4: Terinal value | F4: Total cashflow | G4: Discount factor | H4: PV of cashflow | K4: Share price | L4: =SUM(H5:H34) -> 109.24782
B5: 1 | C5: ='Q.2.Input'!I3*10%+3 -> 6 | D5: ='Q.2.Input'!J3/'Q.2.Input'!$J$3 -> 1 | E5: 0 | F5: =C5+E5 -> 6 | G5: =(1+$C$1)^-B5 -> 0.93896714 | H5: =F5*G5 -> 5.6338028
B6: =B5+1 -> 2 | C6: ='Q.2.Input'!I4*10%+3 -> 6.0471774 | D6: ='Q.2.Input'!J4/'Q.2.Input'!$J$3 -> 1.0471774 | E6: 0 | F6: =C6+E6 -> 6.0471774 | G6: =(1+$C$1)^-B6 -> 0.88165928 | H6: =F6*G6 -> 5.3315501
B7: =B6+1 -> 3 | C7: ='Q.2.Input'!I5*10%+3 -> 6.0944769 | D7: ='Q.2.Input'!J5/'Q.2.Input'!$J$3 -> 1.0959415 | E7: 0 | F7: =C7+E7 -> 6.0944769 | G7: =(1+$C$1)^-B7 -> 0.82784909 | H7: =F7*G7 -> 5.0453072
B8: =B7+1 -> 4 | C8: ='Q.2.Input'!I6*10%+3 -> 6.1418972 | D8: ='Q.2.Input'!J6/'Q.2.Input'!$J$3 -> 1.1463247 | E8: 0 | F8: =C8+E8 -> 6.1418972 | G8: =(1+$C$1)^-B8 -> 0.77732309 | H8: =F8*G8 -> 4.7742385
B9: =B8+1 -> 5 | C9: ='Q.2.Input'!I7*10%+3 -> 6.189437 | D9: ='Q.2.Input'!J7/'Q.2.Input'!$J$3 -> 1.1983596 | E9: 0 | F9: =C9+E9 -> 6.189437 | G9: =(1+$C$1)^-B9 -> 0.72988084 | H9: =F9*G9 -> 4.5175515
B10: =B9+1 -> 6 | C10: ='Q.2.Input'!I8*10%+3 -> 6.2138928 | D10: ='Q.2.Input'!J8/'Q.2.Input'!$J$3 -> 1.2259257 | E10: 0 | F10: =C10+E10 -> 6.2138928 | G10: =(1+$C$1)^-B10 -> 0.68533412 | H10: =F10*G10 -> 4.2585927
B11: =B10+1 -> 7 | C11: ='Q.2.Input'!I9*10%+3 -> 6.2383796 | D11: ='Q.2.Input'!J9/'Q.2.Input'!$J$3 -> 1.2539468 | E11: 0 | F11: =C11+E11 -> 6.2383796 | G11: =(1+$C$1)^-B11 -> 0.64350621 | H11: =F11*G11 -> 4.014436
B12: =B11+1 -> 8 | C12: ='Q.2.Input'!I10*10%+3 -> 6.2628973 | D12: ='Q.2.Input'!J10/'Q.2.Input'!$J$3 -> 1.2824276 | E12: 0 | F12: =C12+E12 -> 6.2628973 | G12: =(1+$C$1)^-B12 -> 0.60423119 | H12: =F12*G12 -> 3.7842379
B13: =B12+1 -> 9 | C13: ='Q.2.Input'!I11*10%+3 -> 6.2874457 | D13: ='Q.2.Input'!J11/'Q.2.Input'!$J$3 -> 1.3113727 | E13: 0 | F13: =C13+E13 -> 6.2874457 | G13: =(1+$C$1)^-B13 -> 0.56735323 | H13: =F13*G13 -> 3.5672026
B14: =B13+1 -> 10 | C14: ='Q.2.Input'!I12*10%+3 -> 6.3060809 | D14: ='Q.2.Input'!J12/'Q.2.Input'!$J$3 -> 1.3336737 | E14: 0 | F14: =C14+E14 -> 6.3060809 | G14: =(1+$C$1)^-B14 -> 0.53272604 | H14: =F14*G14 -> 3.3594135
B15: =B14+1 -> 11 | C15: ='Q.2.Input'!I13*10%+3 -> 6.3247337 | D15: ='Q.2.Input'!J13/'Q.2.Input'!$J$3 -> 1.3562473 | E15: 0 | F15: =C15+E15 -> 6.3247337 | G15: =(1+$C$1)^-B15 -> 0.50021224 | H15: =F15*G15 -> 3.1637092
B16: =B15+1 -> 12 | C16: ='Q.2.Input'!I14*10%+3 -> 6.3434039 | D16: ='Q.2.Input'!J14/'Q.2.Input'!$J$3 -> 1.3790955 | E16: 0 | F16: =C16+E16 -> 6.3434039 | G16: =(1+$C$1)^-B16 -> 0.46968285 | H16: =F16*G16 -> 2.9793881
B17: =B16+1 -> 13 | C17: ='Q.2.Input'!I15*10%+3 -> 6.3620915 | D17: ='Q.2.Input'!J15/'Q.2.Input'!$J$3 -> 1.4022204 | E17: 0 | F17: =C17+E17 -> 6.3620915 | G17: =(1+$C$1)^-B17 -> 0.44101676 | H17: =F17*G17 -> 2.805789
... B33: =B32+1 -> 29 | C33: ='Q.2.Input'!I31*10%+3 -> 6.6759153 | D33: ='Q.2.Input'!J31/'Q.2.Input'!$J$3 -> 1.8298585 | E33: 0 | F33: =C33+E33 -> 6.6759153 | G33: =(1+$C$1)^-B33 -> 0.16101316 | H33: =F33*G33 -> 1.0749102
B34: =B33+1 -> 30 | C34: ='Q.2.Input'!I32*10%+3 -> 6.6989798 | D34: ='Q.2.Input'!J32/'Q.2.Input'!$J$3 -> 1.8643029 | E34: =96*D34 -> 178.97308 | F34: =C34+E34 -> 185.67206 | G34: =(1+$C$1)^-B34 -> 0.15118607 | H34: =F34*G34 -> 28.071028

Sheet Q.2.vi
B2: a | C2: Increase in the projected earnings will lead to increase in the future dividends of the company
C3: This will lead to a higher share price as per the model
B5: b | C5: The nominal yield of Bond B is higher than the real yield
C6: If nominal yield is used, the risk discount rate used for calculations will increase
C7: A higher discount rate will lead to a lower present value
C8: Hence, the calculated share price will reduce
B10: c | C10: The dividends will be brought forward in time. This will increase the present value of the dividends
C11: This will increase the calculated share price

Sheet Q.2.vii
C1: Income | D1: 500000
C2: Extra profits | D2: =D1*3 -> 1500000 | I2: Loan amount at start | J2: =10000000 -> 10000000
I3: Loan interest rate | J3: 0.06
I4: Loan period | J4: 20
B5: Time | C5: Income | D5: Extra Profits | E5: Total cashflow | F5: Accumulated value at the end | I5: Loan amount at end | J5: =J2*(1+$J$3)^J4 -> 32071355
B6: 1 | C6: =$D$1 -> 500000 | D6: 0 | E6: =SUM(C6:D6) -> 500000 | F6: =E6 -> 500000
B7: =B6+1 -> 2 | C7: =$D$1 -> 500000 | D7: 0 | E7: =SUM(C7:D7) -> 500000 | F7: =F6*(1+$J$7)+E7 -> 1038571.7 | I7: Minimum yield | J7: 0.077143384
B8: =B7+1 -> 3 | C8: =$D$1 -> 500000 | D8: 0 | E8: =SUM(C8:D8) -> 500000 | F8: =F7*(1+$J$7)+E8 -> 1618690.6 | I8: Accumulated value of proceeds | J8: =F25 -> 32071355
B9: =B8+1 -> 4 | C9: =$D$1 -> 500000 | D9: 0 | E9: =SUM(C9:D9) -> 500000 | F9: =F8*(1+$J$7)+E9 -> 2243561.9 | J9: =J8-J5 -> 6.005168e-06 | K9: <<goal seeked to be 0
B10: =B9+1 -> 5 | C10: =$D$1 -> 500000 | D10: =$D$2 -> 1500000 | E10: =SUM(C10:D10) -> 2000000 | F10: =F9*(1+$J$7)+E10 -> 4416637.9
B11: =B10+1 -> 6 | C11: =$D$1 -> 500000 | D11: =D6 -> 0 | E11: =SUM(C11:D11) -> 500000 | F11: =F10*(1+$J$7)+E11 -> 5257352.3
B12: =B11+1 -> 7 | C12: =$D$1 -> 500000 | D12: =D7 -> 0 | E12: =SUM(C12:D12) -> 500000 | F12: =F11*(1+$J$7)+E12 -> 6162922.2
B13: =B12+1 -> 8 | C13: =$D$1 -> 500000 | D13: =D8 -> 0 | E13: =SUM(C13:D13) -> 500000 | F13: =F12*(1+$J$7)+E13 -> 7138350.9
B14: =B13+1 -> 9 | C14: =$D$1 -> 500000 | D14: =D9 -> 0 | E14: =SUM(C14:D14) -> 500000 | F14: =F13*(1+$J$7)+E14 -> 8189027.4
B15: =B14+1 -> 10 | C15: =$D$1 -> 500000 | D15: =D10 -> 1500000 | E15: =SUM(C15:D15) -> 2000000 | F15: =F14*(1+$J$7)+E15 -> 10820757
B16: =B15+1 -> 11 | C16: =$D$1 -> 500000 | D16: =D11 -> 0 | E16: =SUM(C16:D16) -> 500000 | F16: =F15*(1+$J$7)+E16 -> 12155507
B17: =B16+1 -> 12 | C17: =$D$1 -> 500000 | D17: =D12 -> 0 | E17: =SUM(C17:D17) -> 500000 | F17: =F16*(1+$J$7)+E17 -> 13593223
B18: =B17+1 -> 13 | C18: =$D$1 -> 500000 | D18: =D13 -> 0 | E18: =SUM(C18:D18) -> 500000 | F18: =F17*(1+$J$7)+E18 -> 15141851
B19: =B18+1 -> 14 | C19: =$D$1 -> 500000 | D19: =D14 -> 0 | E19: =SUM(C19:D19) -> 500000 | F19: =F18*(1+$J$7)+E19 -> 16809944
B20: =B19+1 -> 15 | C20: =$D$1 -> 500000 | D20: =D15 -> 1500000 | E20: =SUM(C20:D20) -> 2000000 | F20: =F19*(1+$J$7)+E20 -> 20106720
B21: =B20+1 -> 16 | C21: =$D$1 -> 500000 | D21: =D16 -> 0 | E21: =SUM(C21:D21) -> 500000 | F21: =F20*(1+$J$7)+E21 -> 22157821
B22: =B21+1 -> 17 | C22: =$D$1 -> 500000 | D22: =D17 -> 0 | E22: =SUM(C22:D22) -> 500000 | F22: =F21*(1+$J$7)+E22 -> 24367150
... B24: =B23+1 -> 19 | C24: =$D$1 -> 500000 | D24: =D19 -> 0 | E24: =SUM(C24:D24) -> 500000 | F24: =F23*(1+$J$7)+E24 -> 29310262
B25: =B24+1 -> 20 | C25: =$D$1 -> 500000 | D25: 0 | E25: =SUM(C25:D25) -> 500000 | F25: =F24*(1+$J$7)+E25 -> 32071355

Sheet Q.3.Input
B1: Mortaity rate | E1: Surrender Rate
B3: Age | C3: qx | E3: Year | F3: Surrender | I3: Reserving assumptions
B4: 18 | C4: 0.000659 | E4: 1 | F4: 0.1
B5: 19 | C5: 0.0006942 | E5: 2 | F5: 0.05 | I5: Mortality rate | J5: 1.1
B6: 20 | C6: 0.0007224 | E6: 3 | F6: 0.02 | I6: Interest | J6: 0.05
B7: 21 | C7: 0.0007444
B8: 22 | C8: 0.0007612 | I8: Sum Assured | J8: =1000000 -> 1000000
B9: 23 | C9: 0.0007736 | I9: No. of policies | J9: =100000 -> 100000
B10: 24 | C10: 0.000783
B11: 25 | C11: 0.000791 | I11: Year | J11: Actual deaths
B12: 26 | C12: 0.0007988 | I12: 1 | J12: 180
B13: 27 | C13: 0.000808 | I13: =I12+1 -> 2 | J13: 200
B14: 28 | C14: 0.00082 | I14: =I13+1 -> 3 | J14: 186
B15: 29 | C15: 0.0008356 | I15: =I14+1 -> 4 | J15: 254
B16: 30 | C16: 0.0008556 | I16: =I15+1 -> 5 | J16: 100
B17: 31 | C17: 0.000881 | I17: =I16+1 -> 6 | J17: 190
B18: 32 | C18: 0.000913 | I18: =I17+1 -> 7 | J18: 276
B19: 33 | C19: 0.0009524 | I19: =I18+1 -> 8 | J19: 376
B20: 34 | C20: 0.0009998 | I20: =I19+1 -> 9 | J20: 398
B21: 35 | C21: 0.001056 | I21: =I20+1 -> 10 | J21: 356
B22: 36 | C22: 0.0011218
B23: 37 | C23: 0.0011982
B24: 38 | C24: 0.0012864
B25: 39 | C25: 0.0013878
B26: 40 | C26: 0.0015046
B27: 41 | C27: 0.0016396
B28: 42 | C28: 0.0017958
B29: 43 | C29: 0.0019768
B30: 44 | C30: 0.0021864
B31: 45 | C31: 0.0024282
B32: 46 | C32: 0.0027054
B33: 47 | C33: 0.0030196
... B45: 59 | C45: 0.008897

Sheet Q.3.i
B3: Year | C3: Month | D3: Age | E3: Annual mortality rate | F3: Monthly mortality rate | G3: No. of lives at start | H3: No. of deaths | I3: Annual surrender rate | J3: Montly surrender rate | K3: No. of surrenders | L3: No. of lives at the end
B4: 1 | C4: 1 | D4: 35 | E4: =VLOOKUP(D4,'Q.3.Input'!$B$4:$C$45,2,FALSE) -> 0.001056 | F4: =1-(1-E4)^(1/12) -> 8.8042621e-05 | G4: 1 | H4: =G4*F4 -> 8.8042621e-05 | I4: =VLOOKUP(B4,'Q.3.Input'!$E$3:$F$6,2,FALSE) -> 0.1 | J4: 0 | K4: =(1-H4)*J4 -> 0 | L4: =G4-H4-K4 -> 0.99991196
B5: 1 | C5: =C4+1 -> 2 | D5: 35 | E5: =VLOOKUP(D5,'Q.3.Input'!$B$4:$C$45,2,FALSE) -> 0.001056 | F5: =1-(1-E5)^(1/12) -> 8.8042621e-05 | G5: =L4 -> 0.99991196 | H5: =G5*F5 -> 8.8034869e-05 | I5: =VLOOKUP(B5,'Q.3.Input'!$E$3:$F$6,2,FALSE) -> 0.1 | J5: 0 | K5: =(1-H5)*J5 -> 0 | L5: =G5-H5-K5 -> 0.99982392
B6: 1 | C6: =C5+1 -> 3 | D6: 35 | E6: =VLOOKUP(D6,'Q.3.Input'!$B$4:$C$45,2,FALSE) -> 0.001056 | F6: =1-(1-E6)^(1/12) -> 8.8042621e-05 | G6: =L5 -> 0.99982392 | H6: =G6*F6 -> 8.8027118e-05 | I6: =VLOOKUP(B6,'Q.3.Input'!$E$3:$F$6,2,FALSE) -> 0.1 | J6: 0 | K6: =(1-H6)*J6 -> 0 | L6: =G6-H6-K6 -> 0.9997359
B7: 1 | C7: =C6+1 -> 4 | D7: 35 | E7: =VLOOKUP(D7,'Q.3.Input'!$B$4:$C$45,2,FALSE) -> 0.001056 | F7: =1-(1-E7)^(1/12) -> 8.8042621e-05 | G7: =L6 -> 0.9997359 | H7: =G7*F7 -> 8.8019368e-05 | I7: =VLOOKUP(B7,'Q.3.Input'!$E$3:$F$6,2,FALSE) -> 0.1 | J7: 0 | K7: =(1-H7)*J7 -> 0 | L7: =G7-H7-K7 -> 0.99964788
B8: 1 | C8: =C7+1 -> 5 | D8: 35 | E8: =VLOOKUP(D8,'Q.3.Input'!$B$4:$C$45,2,FALSE) -> 0.001056 | F8: =1-(1-E8)^(1/12) -> 8.8042621e-05 | G8: =L7 -> 0.99964788 | H8: =G8*F8 -> 8.8011619e-05 | I8: =VLOOKUP(B8,'Q.3.Input'!$E$3:$F$6,2,FALSE) -> 0.1 | J8: 0 | K8: =(1-H8)*J8 -> 0 | L8: =G8-H8-K8 -> 0.99955986
B9: 1 | C9: =C8+1 -> 6 | D9: 35 | E9: =VLOOKUP(D9,'Q.3.Input'!$B$4:$C$45,2,FALSE) -> 0.001056 | F9: =1-(1-E9)^(1/12) -> 8.8042621e-05 | G9: =L8 -> 0.99955986 | H9: =G9*F9 -> 8.800387e-05 | I9: =VLOOKUP(B9,'Q.3.Input'!$E$3:$F$6,2,FALSE) -> 0.1 | J9: 0 | K9: =(1-H9)*J9 -> 0 | L9: =G9-H9-K9 -> 0.99947186
B10: 1 | C10: =C9+1 -> 7 | D10: 35 | E10: =VLOOKUP(D10,'Q.3.Input'!$B$4:$C$45,2,FALSE) -> 0.001056 | F10: =1-(1-E10)^(1/12) -> 8.8042621e-05 | G10: =L9 -> 0.99947186 | H10: =G10*F10 -> 8.7996122e-05 | I10: =VLOOKUP(B10,'Q.3.Input'!$E$3:$F$6,2,FALSE) -> 0.1 | J10: 0 | K10: =(1-H10)*J10 -> 0 | L10: =G10-H10-K10 -> 0.99938386
B11: 1 | C11: =C10+1 -> 8 | D11: 35 | E11: =VLOOKUP(D11,'Q.3.Input'!$B$4:$C$45,2,FALSE) -> 0.001056 | F11: =1-(1-E11)^(1/12) -> 8.8042621e-05 | G11: =L10 -> 0.99938386 | H11: =G11*F11 -> 8.7988375e-05 | I11: =VLOOKUP(B11,'Q.3.Input'!$E$3:$F$6,2,FALSE) -> 0.1 | J11: 0 | K11: =(1-H11)*J11 -> 0 | L11: =G11-H11-K11 -> 0.99929588
B12: 1 | C12: =C11+1 -> 9 | D12: 35 | E12: =VLOOKUP(D12,'Q.3.Input'!$B$4:$C$45,2,FALSE) -> 0.001056 | F12: =1-(1-E12)^(1/12) -> 8.8042621e-05 | G12: =L11 -> 0.99929588 | H12: =G12*F12 -> 8.7980628e-05 | I12: =VLOOKUP(B12,'Q.3.Input'!$E$3:$F$6,2,FALSE) -> 0.1 | J12: 0 | K12: =(1-H12)*J12 -> 0 | L12: =G12-H12-K12 -> 0.9992079
B13: 1 | C13: =C12+1 -> 10 | D13: 35 | E13: =VLOOKUP(D13,'Q.3.Input'!$B$4:$C$45,2,FALSE) -> 0.001056 | F13: =1-(1-E13)^(1/12) -> 8.8042621e-05 | G13: =L12 -> 0.9992079 | H13: =G13*F13 -> 8.7972882e-05 | I13: =VLOOKUP(B13,'Q.3.Input'!$E$3:$F$6,2,FALSE) -> 0.1 | J13: 0 | K13: =(1-H13)*J13 -> 0 | L13: =G13-H13-K13 -> 0.99911992
B14: 1 | C14: =C13+1 -> 11 | D14: 35 | E14: =VLOOKUP(D14,'Q.3.Input'!$B$4:$C$45,2,FALSE) -> 0.001056 | F14: =1-(1-E14)^(1/12) -> 8.8042621e-05 | G14: =L13 -> 0.99911992 | H14: =G14*F14 -> 8.7965136e-05 | I14: =VLOOKUP(B14,'Q.3.Input'!$E$3:$F$6,2,FALSE) -> 0.1 | J14: 0 | K14: =(1-H14)*J14 -> 0 | L14: =G14-H14-K14 -> 0.99903196
B15: 1 | C15: =C14+1 -> 12 | D15: 35 | E15: =VLOOKUP(D15,'Q.3.Input'!$B$4:$C$45,2,FALSE) -> 0.001056 | F15: =1-(1-E15)^(1/12) -> 8.8042621e-05 | G15: =L14 -> 0.99903196 | H15: =G15*F15 -> 8.7957392e-05 | I15: =VLOOKUP(B15,'Q.3.Input'!$E$3:$F$6,2,FALSE) -> 0.1 | J15: =I15 -> 0.1 | K15: =(1-H15)*J15 -> 0.099991204 | L15: =G15-H15-K15 -> 0.8989528
B16: =B4+1 -> 2 | C16: =C15+1 -> 13 | D16: =D4+1 -> 36 | E16: =VLOOKUP(D16,'Q.3.Input'!$B$4:$C$45,2,FALSE) -> 0.0011218 | F16: =1-(1-E16)^(1/12) -> 9.3531433e-05 | G16: =L15 -> 0.8989528 | H16: =G16*F16 -> 8.4080343e-05 | I16: =VLOOKUP(B16,'Q.3.Input'!$E$3:$F$6,2,FALSE) -> 0.05 | J16: =1-(1-I16)^(1/12) -> 0.0042653188 | K16: =(1-H16)*J16 -> 0.0042649601 | L16: =G16-H16-K16 -> 0.89460376
B17: =B5+1 -> 2 | C17: =C16+1 -> 14 | D17: =D5+1 -> 36 | E17: =VLOOKUP(D17,'Q.3.Input'!$B$4:$C$45,2,FALSE) -> 0.0011218 | F17: =1-(1-E17)^(1/12) -> 9.3531433e-05 | G17: =L16 -> 0.89460376 | H17: =G17*F17 -> 8.3673571e-05 | I17: =VLOOKUP(B17,'Q.3.Input'!$E$3:$F$6,2,FALSE) -> 0.05 | J17: =1-(1-I17)^(1/12) -> 0.0042653188 | K17: =(1-H17)*J17 -> 0.0042649619 | L17: =G17-H17-K17 -> 0.89025512
B18: =B6+1 -> 2 | C18: =C17+1 -> 15 | D18: =D6+1 -> 36 | E18: =VLOOKUP(D18,'Q.3.Input'!$B$4:$C$45,2,FALSE) -> 0.0011218 | F18: =1-(1-E18)^(1/12) -> 9.3531433e-05 | G18: =L17 -> 0.89025512 | H18: =G18*F18 -> 8.3266837e-05 | I18: =VLOOKUP(B18,'Q.3.Input'!$E$3:$F$6,2,FALSE) -> 0.05 | J18: =1-(1-I18)^(1/12) -> 0.0042653188 | K18: =(1-H18)*J18 -> 0.0042649636 | L18: =G18-H18-K18 -> 0.88590689
B19: =B7+1 -> 2 | C19: =C18+1 -> 16 | D19: =D7+1 -> 36 | E19: =VLOOKUP(D19,'Q.3.Input'!$B$4:$C$45,2,FALSE) -> 0.0011218 | F19: =1-(1-E19)^(1/12) -> 9.3531433e-05 | G19: =L18 -> 0.88590689 | H19: =G19*F19 -> 8.2860141e-05 | I19: =VLOOKUP(B19,'Q.3.Input'!$E$3:$F$6,2,FALSE) -> 0.05 | J19: =1-(1-I19)^(1/12) -> 0.0042653188 | K19: =(1-H19)*J19 -> 0.0042649654 | L19: =G19-H19-K19 -> 0.88155906
B20: =B8+1 -> 2 | C20: =C19+1 -> 17 | D20: =D8+1 -> 36 | E20: =VLOOKUP(D20,'Q.3.Input'!$B$4:$C$45,2,FALSE) -> 0.0011218 | F20: =1-(1-E20)^(1/12) -> 9.3531433e-05 | G20: =L19 -> 0.88155906 | H20: =G20*F20 -> 8.2453483e-05 | I20: =VLOOKUP(B20,'Q.3.Input'!$E$3:$F$6,2,FALSE) -> 0.05 | J20: =1-(1-I20)^(1/12) -> 0.0042653188 | K20: =(1-H20)*J20 -> 0.0042649671 | L20: =G20-H20-K20 -> 0.87721164
B21: =B9+1 -> 2 | C21: =C20+1 -> 18 | D21: =D9+1 -> 36 | E21: =VLOOKUP(D21,'Q.3.Input'!$B$4:$C$45,2,FALSE) -> 0.0011218 | F21: =1-(1-E21)^(1/12) -> 9.3531433e-05 | G21: =L20 -> 0.87721164 | H21: =G21*F21 -> 8.2046862e-05 | I21: =VLOOKUP(B21,'Q.3.Input'!$E$3:$F$6,2,FALSE) -> 0.05 | J21: =1-(1-I21)^(1/12) -> 0.0042653188 | K21: =(1-H21)*J21 -> 0.0042649688 | L21: =G21-H21-K21 -> 0.87286463
B22: =B10+1 -> 2 | C22: =C21+1 -> 19 | D22: =D10+1 -> 36 | E22: =VLOOKUP(D22,'Q.3.Input'!$B$4:$C$45,2,FALSE) -> 0.0011218 | F22: =1-(1-E22)^(1/12) -> 9.3531433e-05 | G22: =L21 -> 0.87286463 | H22: =G22*F22 -> 8.1640279e-05 | I22: =VLOOKUP(B22,'Q.3.Input'!$E$3:$F$6,2,FALSE) -> 0.05 | J22: =1-(1-I22)^(1/12) -> 0.0042653188 | K22: =(1-H22)*J22 -> 0.0042649706 | L22: =G22-H22-K22 -> 0.86851802
B23: =B11+1 -> 2 | C23: =C22+1 -> 20 | D23: =D11+1 -> 36 | E23: =VLOOKUP(D23,'Q.3.Input'!$B$4:$C$45,2,FALSE) -> 0.0011218 | F23: =1-(1-E23)^(1/12) -> 9.3531433e-05 | G23: =L22 -> 0.86851802 | H23: =G23*F23 -> 8.1233735e-05 | I23: =VLOOKUP(B23,'Q.3.Input'!$E$3:$F$6,2,FALSE) -> 0.05 | J23: =1-(1-I23)^(1/12) -> 0.0042653188 | K23: =(1-H23)*J23 -> 0.0042649723 | L23: =G23-H23-K23 -> 0.86417181
B24: =B12+1 -> 2 | C24: =C23+1 -> 21 | D24: =D12+1 -> 36 | E24: =VLOOKUP(D24,'Q.3.Input'!$B$4:$C$45,2,FALSE) -> 0.0011218 | F24: =1-(1-E24)^(1/12) -> 9.3531433e-05 | G24: =L23 -> 0.86417181 | H24: =G24*F24 -> 8.0827228e-05 | I24: =VLOOKUP(B24,'Q.3.Input'!$E$3:$F$6,2,FALSE) -> 0.05 | J24: =1-(1-I24)^(1/12) -> 0.0042653188 | K24: =(1-H24)*J24 -> 0.004264974 | L24: =G24-H24-K24 -> 0.85982601
B25: =B13+1 -> 2 | C25: =C24+1 -> 22 | D25: =D13+1 -> 36 | E25: =VLOOKUP(D25,'Q.3.Input'!$B$4:$C$45,2,FALSE) -> 0.0011218 | F25: =1-(1-E25)^(1/12) -> 9.3531433e-05 | G25: =L24 -> 0.85982601 | H25: =G25*F25 -> 8.0420759e-05 | I25: =VLOOKUP(B25,'Q.3.Input'!$E$3:$F$6,2,FALSE) -> 0.05 | J25: =1-(1-I25)^(1/12) -> 0.0042653188 | K25: =(1-H25)*J25 -> 0.0042649758 | L25: =G25-H25-K25 -> 0.85548061
B26: =B14+1 -> 2 | C26: =C25+1 -> 23 | D26: =D14+1 -> 36 | E26: =VLOOKUP(D26,'Q.3.Input'!$B$4:$C$45,2,FALSE) -> 0.0011218 | F26: =1-(1-E26)^(1/12) -> 9.3531433e-05 | G26: =L25 -> 0.85548061 | H26: =G26*F26 -> 8.0014328e-05 | I26: =VLOOKUP(B26,'Q.3.Input'!$E$3:$F$6,2,FALSE) -> 0.05 | J26: =1-(1-I26)^(1/12) -> 0.0042653188 | K26: =(1-H26)*J26 -> 0.0042649775 | L26: =G26-H26-K26 -> 0.85113562
B27: =B15+1 -> 2 | C27: =C26+1 -> 24 | D27: =D15+1 -> 36 | E27: =VLOOKUP(D27,'Q.3.Input'!$B$4:$C$45,2,FALSE) -> 0.0011218 | F27: =1-(1-E27)^(1/12) -> 9.3531433e-05 | G27: =L26 -> 0.85113562 | H27: =G27*F27 -> 7.9607934e-05 | I27: =VLOOKUP(B27,'Q.3.Input'!$E$3:$F$6,2,FALSE) -> 0.05 | J27: =1-(1-I27)^(1/12) -> 0.0042653188 | K27: =(1-H27)*J27 -> 0.0042649792 | L27: =G27-H27-K27 -> 0.84679103
... B39: =B27+1 -> 3 | C39: =C38+1 -> 36 | D39: =D27+1 -> 37 | E39: =VLOOKUP(D39,'Q.3.Input'!$B$4:$C$45,2,FALSE) -> 0.0011982 | F39: =1-(1-E39)^(1/12) -> 9.9904877e-05 | G39: =L38 -> 0.82736814 | H39: =G39*F39 -> 8.2658112e-05 | I39: =VLOOKUP(B39,'Q.3.Input'!$E$3:$F$6,2,FALSE) -> 0.02 | J39: =1-(1-I39)^(1/12) -> 0.0016821426 | K39: =(1-H39)*J39 -> 0.0016820035 | L39: =G39-H39-K39 -> 0.82560347

Sheet Q.3.ii
B4: Year | C4: Age | D4: Mortality rate | E4: No. of lives at start | F4: No. of deaths | G4: No. of lives at end | H4: Sum Assured | I4: Total Expected death outgo | J4: Reserves at the end of the year | K4: Reserves at the end of the year per policy | L4: Expected Death Strain
B5: 1 | C5: 40 | D5: =VLOOKUP(C5,'Q.3.Input'!B:C,2,FALSE)*'Q.3.Input'!$J$5 -> 0.00165506 | E5: ='Q.3.Input'!J9 -> 100000 | F5: =E5*D5 -> 165.506 | G5: =E5-F5 -> 99834.494 | H5: ='Q.3.Input'!$J$8 -> 1000000 | I5: =H5*F5 -> 165506000 | J5: =(J6+I6)/(1+'Q.3.Input'!$J$6) -> 1.8985921e+09 | K5: =J5/G5 -> 19017.396 | L5: =(H5-K5)*F5 -> 1.6235851e+08
B6: =B5+1 -> 2 | C6: =C5+1 -> 41 | D6: =VLOOKUP(C6,'Q.3.Input'!B:C,2,FALSE)*'Q.3.Input'!$J$5 -> 0.00180356 | E6: =G5 -> 99834.494 | F6: =E6*D6 -> 180.0575 | G6: =E6-F6 -> 99654.437 | H6: ='Q.3.Input'!$J$8 -> 1000000 | I6: =H6*F6 -> 1.800575e+08 | J6: =(J7+I7)/(1+'Q.3.Input'!$J$6) -> 1.8134642e+09 | K6: =J6/G6 -> 18197.526 | L6: =(H6-K6)*F6 -> 1.767809e+08
B7: =B6+1 -> 3 | C7: =C6+1 -> 42 | D7: =VLOOKUP(C7,'Q.3.Input'!B:C,2,FALSE)*'Q.3.Input'!$J$5 -> 0.00197538 | E7: =G6 -> 99654.437 | F7: =E7*D7 -> 196.85538 | G7: =E7-F7 -> 99457.581 | H7: ='Q.3.Input'!$J$8 -> 1000000 | I7: =H7*F7 -> 1.9685538e+08 | J7: =(J8+I8)/(1+'Q.3.Input'!$J$6) -> 1.7072821e+09 | K7: =J7/G7 -> 17165.932 | L7: =(H7-K7)*F7 -> 1.9347617e+08
B8: =B7+1 -> 4 | C8: =C7+1 -> 43 | D8: =VLOOKUP(C8,'Q.3.Input'!B:C,2,FALSE)*'Q.3.Input'!$J$5 -> 0.00217448 | E8: =G7 -> 99457.581 | F8: =E8*D8 -> 216.26852 | G8: =E8-F8 -> 99241.313 | H8: ='Q.3.Input'!$J$8 -> 1000000 | I8: =H8*F8 -> 2.1626852e+08 | J8: =(J9+I9)/(1+'Q.3.Input'!$J$6) -> 1.5763777e+09 | K8: =J8/G8 -> 15884.289 | L8: =(H8-K8)*F8 -> 2.1283325e+08
B9: =B8+1 -> 5 | C9: =C8+1 -> 44 | D9: =VLOOKUP(C9,'Q.3.Input'!B:C,2,FALSE)*'Q.3.Input'!$J$5 -> 0.00240504 | E9: =G8 -> 99241.313 | F9: =E9*D9 -> 238.67933 | G9: =E9-F9 -> 99002.633 | H9: ='Q.3.Input'!$J$8 -> 1000000 | I9: =H9*F9 -> 2.3867933e+08 | J9: =(J10+I10)/(1+'Q.3.Input'!$J$6) -> 1.4165172e+09 | K9: =J9/G9 -> 14307.874 | L9: =(H9-K9)*F9 -> 2.3526433e+08
B10: =B9+1 -> 6 | C10: =C9+1 -> 45 | D10: =VLOOKUP(C10,'Q.3.Input'!B:C,2,FALSE)*'Q.3.Input'!$J$5 -> 0.00267102 | E10: =G9 -> 99002.633 | F10: =E10*D10 -> 264.43801 | G10: =E10-F10 -> 98738.195 | H10: ='Q.3.Input'!$J$8 -> 1000000 | I10: =H10*F10 -> 2.6443801e+08 | J10: =(J11+I11)/(1+'Q.3.Input'!$J$6) -> 1.2229051e+09 | K10: =J10/G10 -> 12385.329 | L10: =(H10-K10)*F10 -> 2.6116286e+08
B11: =B10+1 -> 7 | C11: =C10+1 -> 46 | D11: =VLOOKUP(C11,'Q.3.Input'!B:C,2,FALSE)*'Q.3.Input'!$J$5 -> 0.00297594 | E11: =G10 -> 98738.195 | F11: =E11*D11 -> 293.83894 | G11: =E11-F11 -> 98444.356 | H11: ='Q.3.Input'!$J$8 -> 1000000 | I11: =H11*F11 -> 2.9383894e+08 | J11: =(J12+I12)/(1+'Q.3.Input'!$J$6) -> 9.9021137e+08 | K11: =J11/G11 -> 10058.589 | L11: =(H11-K11)*F11 -> 2.9088334e+08
B12: =B11+1 -> 8 | C12: =C11+1 -> 47 | D12: =VLOOKUP(C12,'Q.3.Input'!B:C,2,FALSE)*'Q.3.Input'!$J$5 -> 0.00332156 | E12: =G11 -> 98444.356 | F12: =E12*D12 -> 326.98884 | G12: =E12-F12 -> 98117.367 | H12: ='Q.3.Input'!$J$8 -> 1000000 | I12: =H12*F12 -> 3.2698884e+08 | J12: =(J13+I13)/(1+'Q.3.Input'!$J$6) -> 7.127331e+08 | K12: =J12/G12 -> 7264.087 | L12: =(H12-K12)*F12 -> 3.2461356e+08
B13: =B12+1 -> 9 | C13: =C12+1 -> 48 | D13: =VLOOKUP(C13,'Q.3.Input'!B:C,2,FALSE)*'Q.3.Input'!$J$5 -> 0.00370744 | E13: =G12 -> 98117.367 | F13: =E13*D13 -> 363.76425 | G13: =E13-F13 -> 97753.603 | H13: ='Q.3.Input'!$J$8 -> 1000000 | I13: =H13*F13 -> 3.6376425e+08 | J13: =(J14+I14)/(1+'Q.3.Input'!$J$6) -> 3.846055e+08 | K13: =J13/G13 -> 3934.4381 | L13: =(H13-K13)*F13 -> 3.6233304e+08
B14: =B13+1 -> 10 | C14: =C13+1 -> 49 | D14: =VLOOKUP(C14,'Q.3.Input'!B:C,2,FALSE)*'Q.3.Input'!$J$5 -> 0.00413116 | E14: =G13 -> 97753.603 | F14: =E14*D14 -> 403.83578 | G14: =E14-F14 -> 97349.767 | H14: ='Q.3.Input'!$J$8 -> 1000000 | I14: =H14*F14 -> 4.0383578e+08 | J14: =(J15+I15)/(1+'Q.3.Input'!$J$6) -> 0 | K14: =J14/G14 -> 0 | L14: =(H14-K14)*F14 -> 4.0383578e+08

Sheet Q.3.iii
B4: Year | C4: Age | D4: Actual deaths | E4: Sum assured | F4: Reserves | G4: Actual Death Strain | H4: Expected Death strain | I4: Mortality Profit
B5: 1 | C5: 40 | D5: ='Q.3.Input'!J12 -> 180 | E5: ='Q.3.ii'!H5 -> 1000000 | F5: ='Q.3.ii'!K5 -> 19017.396 | G5: =(E5-F5)*D5 -> 1.7657687e+08 | H5: ='Q.3.ii'!L5 -> 1.6235851e+08 | I5: =H5-G5 -> -14218362
B6: =B5+1 -> 2 | C6: =C5+1 -> 41 | D6: ='Q.3.Input'!J13 -> 200 | E6: ='Q.3.ii'!H6 -> 1000000 | F6: ='Q.3.ii'!K6 -> 18197.526 | G6: =(E6-F6)*D6 -> 1.9636049e+08 | H6: ='Q.3.ii'!L6 -> 1.767809e+08 | I6: =H6-G6 -> -19579596
B7: =B6+1 -> 3 | C7: =C6+1 -> 42 | D7: ='Q.3.Input'!J14 -> 186 | E7: ='Q.3.ii'!H7 -> 1000000 | F7: ='Q.3.ii'!K7 -> 17165.932 | G7: =(E7-F7)*D7 -> 1.8280714e+08 | H7: ='Q.3.ii'!L7 -> 1.9347617e+08 | I7: =H7-G7 -> 10669038
