Workbook

Sheet Data
C2: Experienced %Change in Valuation each Quarter (Q)
A3: Investment in INR | B3: Business S.No. | C3: Q1 | D3: Q2 | E3: Q3 | F3: Q4 | G3: Q5 | H3: Q6 | I3: Q7 | J3: Q8 | K3: Q9 | L3: Q10 | M3: Q11 | N3: Q12 | O3: Q13 | P3: Q14 | Q3: Q15 | R3: Q16 | S3: Q17 | T3: Q18 | U3: Q19 | V3: Q20
A4: 2700000 | B4: 1 | C4: -26.4 | D4: -21.8 | E4: 15 | F4: 51.7 | G4: 48.7 | H4: 60.6 | I4: -30.1 | J4: -19.8 | K4: 19.7 | L4: 71.4 | M4: 37.4 | N4: -16.2 | O4: 20.4 | P4: -45.2 | Q4: 72.2 | R4: 33.9 | S4: 42.3 | T4: 22.3 | U4: -48.1 | V4: 0.8
A5: 9200000 | B5: =+B4+1 -> 2 | C5: 58.1 | D5: 47.4 | E5: 33 | F5: -13.1 | G5: -34.5 | H5: 38.4 | I5: 70.9 | J5: -8.1 | K5: 51.1 | L5: 27.2 | M5: 40.7 | N5: 7.1 | O5: 58.8 | P5: -6.4 | Q5: 35.9 | R5: -0.7 | S5: 12 | T5: -13.1 | U5: -43.1 | V5: 52
A6: 2700000 | B6: =+B5+1 -> 3 | C6: -33.3 | D6: -31.7 | E6: -42.9 | F6: -49.8 | G6: -48 | H6: -20.2 | I6: -31.4 | J6: 66.6 | K6: -43.2 | L6: 36.7 | M6: -26.6 | N6: 71.5 | O6: 20.2 | P6: -13.6 | Q6: -8 | R6: 68.8 | S6: 37.6 | T6: 13.8 | U6: 3.1 | V6: -39.3
A7: 5600000 | B7: =+B6+1 -> 4 | C7: 12.8 | D7: 9.9 | E7: 24.8 | F7: 53.6 | G7: 40.5 | H7: -16.6 | I7: -20.2 | J7: 46.9 | K7: 38.1 | L7: -24.2 | M7: 40.5 | N7: 8.3 | O7: 12.9 | P7: 20.1 | Q7: -18.9 | R7: -21.7 | S7: -2.5 | T7: -46 | U7: -16.7 | V7: -40.8
A8: 6900000 | B8: =+B7+1 -> 5 | C8: 61.6 | D8: -27.1 | E8: 19.7 | F8: -43.3 | G8: -30.7 | H8: -35.2 | I8: -12.3 | J8: 72.1 | K8: -28.6 | L8: -38.7 | M8: 53.4 | N8: 52.6 | O8: 29.9 | P8: 16.7 | Q8: 3.4 | R8: -3.9 | S8: -38.9 | T8: 17.1 | U8: 36.8 | V8: 55.6
A9: 1600000 | B9: =+B8+1 -> 6 | C9: 12.6 | D9: -12.3 | E9: 3.7 | F9: 18.6 | G9: -33.2 | H9: 70.5 | I9: -24.3 | J9: -18.2 | K9: 52.1 | L9: -24.9 | M9: 27.7 | N9: 3.5 | O9: -24.6 | P9: -40.7 | Q9: -21.2 | R9: -46.3 | S9: 21.8 | T9: 46.6 | U9: -49.5 | V9: 49
A10: 9700000 | B10: =+B9+1 -> 7 | C10: -15.9 | D10: -17.4 | E10: 3.8 | F10: 6.9 | G10: -0.6 | H10: 71.8 | I10: 20.8 | J10: -13.4 | K10: 43.4 | L10: 21.4 | M10: 45.6 | N10: 56.7 | O10: 8.8 | P10: -35.1 | Q10: 54.2 | R10: 49.6 | S10: -28.2 | T10: -47.2 | U10: -21.1 | V10: 24.3
A11: 3600000 | B11: =+B10+1 -> 8 | C11: 65.4 | D11: 31.7 | E11: 28.5 | F11: -36.2 | G11: 19.7 | H11: 60.6 | I11: 0.8 | J11: -28.2 | K11: -45.3 | L11: 44.7 | M11: -8 | N11: 39.5 | O11: 52.8 | P11: 8.2 | Q11: 51 | R11: -20.7 | S11: 32 | T11: -20.6 | U11: -33.6 | V11: 42
A12: 2100000 | B12: =+B11+1 -> 9 | C12: 45.6 | D12: 13.9 | E12: 62.2 | F12: 25.3 | G12: 9.2 | H12: -17.8 | I12: 73.6 | J12: 46 | K12: -20.1 | L12: 30.6 | M12: 47 | N12: 11.4 | O12: 74.9 | P12: -28.6 | Q12: 12.6 | R12: 55.7 | S12: -13.9 | T12: -4.6 | U12: 7.1 | V12: 71.9
A13: 1600000 | B13: =+B12+1 -> 10 | C13: 48.8 | D13: 13.2 | E13: 22.2 | F13: 15.9 | G13: -1.3 | H13: -9.9 | I13: -33.8 | J13: 55.9 | K13: 57.6 | L13: 45.9 | M13: -28.9 | N13: -9.7 | O13: 50.4 | P13: 41.2 | Q13: -34.6 | R13: -4.7 | S13: 31.3 | T13: 72.8 | U13: 48.9 | V13: -14.5
A14: 800000 | B14: =+B13+1 -> 11 | C14: 41.9 | D14: 24.4 | E14: -12.1 | F14: 41.8 | G14: -13 | H14: 62.6 | I14: 20.1 | J14: 11.9 | K14: 11.6 | L14: 0.2 | M14: 69.8 | N14: 46.9 | O14: 73.9 | P14: -12.9 | Q14: 22.8 | R14: 19.6 | S14: 53.9 | T14: -25.8 | U14: 20.2 | V14: -11.1
A15: 6300000 | B15: =+B14+1 -> 12 | C15: 9.1 | D15: -40.4 | E15: 44.5 | F15: -38.6 | G15: 73.6 | H15: 8.8 | I15: -2.9 | J15: -8.8 | K15: 59 | L15: -40.3 | M15: -11.4 | N15: -2.4 | O15: 56.7 | P15: -31.7 | Q15: 66.9 | R15: 69.7 | S15: -18.4 | T15: 69.8 | U15: 70.1 | V15: 3.2
A16: 7900000 | B16: =+B15+1 -> 13 | C16: 71.6 | D16: 16.6 | E16: 4 | F16: 61.1 | G16: -10.9 | H16: 46.2 | I16: -37.7 | J16: 69.2 | K16: 69.1 | L16: -5.3 | M16: 40.5 | N16: 41.1 | O16: -32.9 | P16: 47.1 | Q16: -13.5 | R16: 16.6 | S16: 15.7 | T16: -39.9 | U16: 14.9 | V16: 10.5
... A128: 700000 | B128: =+B127+1 -> 125 | C128: -38.1 | D128: -43.3 | E128: 45.6 | F128: 35.6 | G128: 17.5 | H128: -2.9 | I128: -8.7 | J128: 59.4 | K128: -12.1 | L128: 16.2 | M128: 13.9 | N128: 1.2 | O128: 51.4 | P128: 11.5 | Q128: 16.8 | R128: -18.2 | S128: -36.1 | T128: -32 | U128: 62.9 | V128: 20.8

Sheet 50-50 Formula
E1: No of Businesses | F1: Amount Invested in INR Lacs | G1: Amount Withdrawn | H1: Current Valuation | I1: Profit/Loss | J1: Forgone Profit/Loss | O1: Exit Conditions
D2: Unrealised | E2: =COUNTIFS($X$10:$X$134,D2) -> 77 | F2: =SUMIFS($A$10:$A$134,$X$10:$X$134,D2)/100000 -> 3739 | G2: =SUMIFS($Z$10:$Z$134,$X$10:$X$134,D2)/100000 -> 0 | H2: =SUMIFS($Y$10:$Y$134,$X$10:$X$134,D2)/100000 -> 39809.469 | I2: =H2-F2 -> 36070.469 | O2: Valuation Floor | P2: 0.5
D3: Realised Loss | E3: =COUNTIFS($X$10:$X$134,D3) -> 43 | F3: =SUMIFS($A$10:$A$134,$X$10:$X$134,D3)/100000 -> 2339 | G3: =SUMIFS($Z$10:$Z$134,$X$10:$X$134,D3)/100000 -> 935.86317 | H3: =SUMIFS($Y$10:$Y$134,$X$10:$X$134,D3)/100000 -> 4964.3466 | I3: =G3-F3 -> -1403.1368 | J3: =H3-G3 -> 4028.4834 | O3: Valuation Cap | P3: 50
D4: Realised Profit | E4: =COUNTIFS($X$10:$X$134,D4) -> 5 | F4: =SUMIFS($A$10:$A$134,$X$10:$X$134,D4)/100000 -> 352 | G4: =SUMIFS($Z$10:$Z$134,$X$10:$X$134,D4)/100000 -> 20250.965 | H4: =SUMIFS($Y$10:$Y$134,$X$10:$X$134,D4)/100000 -> 28163.916 | I4: =G4-F4 -> 19898.965 | J4: =H4-G4 -> 7912.9504
D5: Total | E5: =SUM(E2:E4) -> 125 | F5: =SUM(F2:F4) -> 6430 | G5: =SUM(G2:G4) -> 21186.828 | H5: =SUM(H2:H4) -> 72937.731 | I5: =SUM(I2:I4) -> 54566.297 | J5: =SUM(J2:J4) -> 11941.434
D6: Checks | E6: =COUNT(B10:B134)-E5 -> 0 | F6: =SUM(A10:A134)/100000-F5 -> 0 | G6: =SUM(Z10:Z134)/100000-G5 -> 0 | H6: =SUM(Y10:Y134)/100000-H5 -> 0
D7: Overall Check | E7: =H5-I5-J5-F5 -> 0
C8: Valuation at end of Quarter | AC8: Exit Identifier
A9: =Data!A3 -> Investment in INR | B9: Business | C9: Q1 | D9: Q2 | E9: Q3 | F9: Q4 | G9: Q5 | H9: Q6 | I9: Q7 | J9: Q8 | K9: Q9 | L9: Q10 | M9: Q11 | N9: Q12 | O9: Q13 | P9: Q14 | Q9: Q15 | R9: Q16 | S9: Q17 | T9: Q18 | U9: Q19 | V9: Q20 | X9: Current Status | Y9: Current Valuation | Z9: Realised Value | AC9: Q1 | AD9: Q2 | AE9: Q3 | AF9: Q4 | AG9: Q5 | AH9: Q6 | AI9: Q7 | AJ9: Q8 | AK9: Q9 | AL9: Q10 | AM9: Q11 | AN9: Q12 | AO9: Q13 | AP9: Q14 | AQ9: Q15 | AR9: Q16 | AS9: Q17 | AT9: Q18 | AU9: Q19 | AV9: Q20
A10: =Data!A4 -> 2700000 | B10: 1 | C10: {=PRODUCT(Data!$C4:C4/100+1)} -> 0.736 | D10: {=PRODUCT(Data!$C4:D4/100+1)} -> 0.575552 | E10: {=PRODUCT(Data!$C4:E4/100+1)} -> 0.6618848 | F10: {=PRODUCT(Data!$C4:F4/100+1)} -> 1.0040792 | G10: {=PRODUCT(Data!$C4:G4/100+1)} -> 1.4930658 | H10: {=PRODUCT(Data!$C4:H4/100+1)} -> 2.3978637 | I10: {=PRODUCT(Data!$C4:I4/100+1)} -> 1.6761067 | J10: {=PRODUCT(Data!$C4:J4/100+1)} -> 1.3442376 | ... V10: {=PRODUCT(Data!$C4:V4/100+1)} -> 4.3983702 | X10: =IF(MIN(C10:V10)<(1-$P$2),"Realised Loss",IF(MAX(C10:V10)>$P$3,"Realised Profit","Unrealised")) -> Unrealised | Y10: =A10*V10 -> 11875599 | Z10: =IF(X10="Unrealised",0,OFFSET(B10,0,MATCH(1,AC10:AV10,0)))*A10 -> 0 | AC10: =IF(OR(C10<(1-$P$2),C10>$P$3),1,0) -> 0 | AD10: =IF(SUM($AC10:AC10)>0,1,IF(OR(D10<(1-$P$2),D10>$P$3),1,0)) -> 0 | AE10: =IF(SUM($AC10:AD10)>0,1,IF(OR(E10<(1-$P$2),E10>$P$3),1,0)) -> 0 | AF10: =IF(SUM($AC10:AE10)>0,1,IF(OR(F10<(1-$P$2),F10>$P$3),1,0)) -> 0 | AG10: =IF(SUM($AC10:AF10)>0,1,IF(OR(G10<(1-$P$2),G10>$P$3),1,0)) -> 0 | AH10: =IF(SUM($AC10:AG10)>0,1,IF(OR(H10<(1-$P$2),H10>$P$3),1,0)) -> 0 | AI10: =IF(SUM($AC10:AH10)>0,1,IF(OR(I10<(1-$P$2),I10>$P$3),1,0)) -> 0 | AJ10: =IF(SUM($AC10:AI10)>0,1,IF(OR(J10<(1-$P$2),J10>$P$3),1,0)) -> 0 | AK10: =IF(SUM($AC10:AJ10)>0,1,IF(OR(K10<(1-$P$2),K10>$P$3),1,0)) -> 0 | ... AV10: =IF(SUM($AC10:AU10)>0,1,IF(OR(V10<(1-$P$2),V10>$P$3),1,0)) -> 0
A11: =Data!A5 -> 9200000 | B11: =+B10+1 -> 2 | C11: {=PRODUCT(Data!$C5:C5/100+1)} -> 1.581 | D11: {=PRODUCT(Data!$C5:D5/100+1)} -> 2.330394 | E11: {=PRODUCT(Data!$C5:E5/100+1)} -> 3.099424 | F11: {=PRODUCT(Data!$C5:F5/100+1)} -> 2.6933995 | G11: {=PRODUCT(Data!$C5:G5/100+1)} -> 1.7641767 | H11: {=PRODUCT(Data!$C5:H5/100+1)} -> 2.4416205 | I11: {=PRODUCT(Data!$C5:I5/100+1)} -> 4.1727294 | J11: {=PRODUCT(Data!$C5:J5/100+1)} -> 3.8347383 | ... V11: {=PRODUCT(Data!$C5:V5/100+1)} -> 18.752518 | X11: =IF(MIN(C11:V11)<(1-$P$2),"Realised Loss",IF(MAX(C11:V11)>$P$3,"Realised Profit","Unrealised")) -> Unrealised | Y11: =A11*V11 -> 1.7252316e+08 | Z11: =IF(X11="Unrealised",0,OFFSET(B11,0,MATCH(1,AC11:AV11,0)))*A11 -> 0 | AC11: =IF(OR(C11<(1-$P$2),C11>$P$3),1,0) -> 0 | AD11: =IF(SUM($AC11:AC11)>0,1,IF(OR(D11<(1-$P$2),D11>$P$3),1,0)) -> 0 | AE11: =IF(SUM($AC11:AD11)>0,1,IF(OR(E11<(1-$P$2),E11>$P$3),1,0)) -> 0 | AF11: =IF(SUM($AC11:AE11)>0,1,IF(OR(F11<(1-$P$2),F11>$P$3),1,0)) -> 0 | AG11: =IF(SUM($AC11:AF11)>0,1,IF(OR(G11<(1-$P$2),G11>$P$3),1,0)) -> 0 | AH11: =IF(SUM($AC11:AG11)>0,1,IF(OR(H11<(1-$P$2),H11>$P$3),1,0)) -> 0 | AI11: =IF(SUM($AC11:AH11)>0,1,IF(OR(I11<(1-$P$2),I11>$P$3),1,0)) -> 0 | AJ11: =IF(SUM($AC11:AI11)>0,1,IF(OR(J11<(1-$P$2),J11>$P$3),1,0)) -> 0 | AK11: =IF(SUM($AC11:AJ11)>0,1,IF(OR(K11<(1-$P$2),K11>$P$3),1,0)) -> 0 | ... AV11: =IF(SUM($AC11:AU11)>0,1,IF(OR(V11<(1-$P$2),V11>$P$3),1,0)) -> 0
A12: =Data!A6 -> 2700000 | B12: =+B11+1 -> 3 | C12: {=PRODUCT(Data!$C6:C6/100+1)} -> 0.667 | D12: {=PRODUCT(Data!$C6:D6/100+1)} -> 0.455561 | E12: {=PRODUCT(Data!$C6:E6/100+1)} -> 0.26012533 | F12: {=PRODUCT(Data!$C6:F6/100+1)} -> 0.13058292 | G12: {=PRODUCT(Data!$C6:G6/100+1)} -> 0.067903116 | H12: {=PRODUCT(Data!$C6:H6/100+1)} -> 0.054186687 | I12: {=PRODUCT(Data!$C6:I6/100+1)} -> 0.037172067 | J12: {=PRODUCT(Data!$C6:J6/100+1)} -> 0.061928664 | ... V12: {=PRODUCT(Data!$C6:V6/100+1)} -> 0.095665485 | X12: =IF(MIN(C12:V12)<(1-$P$2),"Realised Loss",IF(MAX(C12:V12)>$P$3,"Realised Profit","Unrealised")) -> Realised Loss | Y12: =A12*V12 -> 258296.81 | Z12: =IF(X12="Unrealised",0,OFFSET(B12,0,MATCH(1,AC12:AV12,0)))*A12 -> 1230014.7 | AC12: =IF(OR(C12<(1-$P$2),C12>$P$3),1,0) -> 0 | AD12: =IF(SUM($AC12:AC12)>0,1,IF(OR(D12<(1-$P$2),D12>$P$3),1,0)) -> 1 | AE12: =IF(SUM($AC12:AD12)>0,1,IF(OR(E12<(1-$P$2),E12>$P$3),1,0)) -> 1 | AF12: =IF(SUM($AC12:AE12)>0,1,IF(OR(F12<(1-$P$2),F12>$P$3),1,0)) -> 1 | AG12: =IF(SUM($AC12:AF12)>0,1,IF(OR(G12<(1-$P$2),G12>$P$3),1,0)) -> 1 | AH12: =IF(SUM($AC12:AG12)>0,1,IF(OR(H12<(1-$P$2),H12>$P$3),1,0)) -> 1 | AI12: =IF(SUM($AC12:AH12)>0,1,IF(OR(I12<(1-$P$2),I12>$P$3),1,0)) -> 1 | AJ12: =IF(SUM($AC12:AI12)>0,1,IF(OR(J12<(1-$P$2),J12>$P$3),1,0)) -> 1 | AK12: =IF(SUM($AC12:AJ12)>0,1,IF(OR(K12<(1-$P$2),K12>$P$3),1,0)) -> 1 | ... AV12: =IF(SUM($AC12:AU12)>0,1,IF(OR(V12<(1-$P$2),V12>$P$3),1,0)) -> 1
A13: =Data!A7 -> 5600000 | B13: =+B12+1 -> 4 | C13: {=PRODUCT(Data!$C7:C7/100+1)} -> 1.128 | D13: {=PRODUCT(Data!$C7:D7/100+1)} -> 1.239672 | E13: {=PRODUCT(Data!$C7:E7/100+1)} -> 1.5471107 | F13: {=PRODUCT(Data!$C7:F7/100+1)} -> 2.376362 | G13: {=PRODUCT(Data!$C7:G7/100+1)} -> 3.3387886 | H13: {=PRODUCT(Data!$C7:H7/100+1)} -> 2.7845497 | I13: {=PRODUCT(Data!$C7:I7/100+1)} -> 2.2220706 | J13: {=PRODUCT(Data!$C7:J7/100+1)} -> 3.2642218 | ... V13: {=PRODUCT(Data!$C7:V7/100+1)} -> 1.1623368 | X13: =IF(MIN(C13:V13)<(1-$P$2),"Realised Loss",IF(MAX(C13:V13)>$P$3,"Realised Profit","Unrealised")) -> Unrealised | Y13: =A13*V13 -> 6509085.8 | Z13: =IF(X13="Unrealised",0,OFFSET(B13,0,MATCH(1,AC13:AV13,0)))*A13 -> 0 | AC13: =IF(OR(C13<(1-$P$2),C13>$P$3),1,0) -> 0 | AD13: =IF(SUM($AC13:AC13)>0,1,IF(OR(D13<(1-$P$2),D13>$P$3),1,0)) -> 0 | AE13: =IF(SUM($AC13:AD13)>0,1,IF(OR(E13<(1-$P$2),E13>$P$3),1,0)) -> 0 | AF13: =IF(SUM($AC13:AE13)>0,1,IF(OR(F13<(1-$P$2),F13>$P$3),1,0)) -> 0 | AG13: =IF(SUM($AC13:AF13)>0,1,IF(OR(G13<(1-$P$2),G13>$P$3),1,0)) -> 0 | AH13: =IF(SUM($AC13:AG13)>0,1,IF(OR(H13<(1-$P$2),H13>$P$3),1,0)) -> 0 | AI13: =IF(SUM($AC13:AH13)>0,1,IF(OR(I13<(1-$P$2),I13>$P$3),1,0)) -> 0 | AJ13: =IF(SUM($AC13:AI13)>0,1,IF(OR(J13<(1-$P$2),J13>$P$3),1,0)) -> 0 | AK13: =IF(SUM($AC13:AJ13)>0,1,IF(OR(K13<(1-$P$2),K13>$P$3),1,0)) -> 0 | ... AV13: =IF(SUM($AC13:AU13)>0,1,IF(OR(V13<(1-$P$2),V13>$P$3),1,0)) -> 0
A14: =Data!A8 -> 6900000 | B14: =+B13+1 -> 5 | C14: {=PRODUCT(Data!$C8:C8/100+1)} -> 1.616 | D14: {=PRODUCT(Data!$C8:D8/100+1)} -> 1.178064 | E14: {=PRODUCT(Data!$C8:E8/100+1)} -> 1.4101426 | F14: {=PRODUCT(Data!$C8:F8/100+1)} -> 0.79955086 | G14: {=PRODUCT(Data!$C8:G8/100+1)} -> 0.55408875 | H14: {=PRODUCT(Data!$C8:H8/100+1)} -> 0.35904951 | I14: {=PRODUCT(Data!$C8:I8/100+1)} -> 0.31488642 | J14: {=PRODUCT(Data!$C8:J8/100+1)} -> 0.54191952 | ... V14: {=PRODUCT(Data!$C8:V8/100+1)} -> 1.2737703 | X14: =IF(MIN(C14:V14)<(1-$P$2),"Realised Loss",IF(MAX(C14:V14)>$P$3,"Realised Profit","Unrealised")) -> Realised Loss | Y14: =A14*V14 -> 8789014.8 | Z14: =IF(X14="Unrealised",0,OFFSET(B14,0,MATCH(1,AC14:AV14,0)))*A14 -> 2477441.6 | AC14: =IF(OR(C14<(1-$P$2),C14>$P$3),1,0) -> 0 | AD14: =IF(SUM($AC14:AC14)>0,1,IF(OR(D14<(1-$P$2),D14>$P$3),1,0)) -> 0 | AE14: =IF(SUM($AC14:AD14)>0,1,IF(OR(E14<(1-$P$2),E14>$P$3),1,0)) -> 0 | AF14: =IF(SUM($AC14:AE14)>0,1,IF(OR(F14<(1-$P$2),F14>$P$3),1,0)) -> 0 | AG14: =IF(SUM($AC14:AF14)>0,1,IF(OR(G14<(1-$P$2),G14>$P$3),1,0)) -> 0 | AH14: =IF(SUM($AC14:AG14)>0,1,IF(OR(H14<(1-$P$2),H14>$P$3),1,0)) -> 1 | AI14: =IF(SUM($AC14:AH14)>0,1,IF(OR(I14<(1-$P$2),I14>$P$3),1,0)) -> 1 | AJ14: =IF(SUM($AC14:AI14)>0,1,IF(OR(J14<(1-$P$2),J14>$P$3),1,0)) -> 1 | AK14: =IF(SUM($AC14:AJ14)>0,1,IF(OR(K14<(1-$P$2),K14>$P$3),1,0)) -> 1 | ... AV14: =IF(SUM($AC14:AU14)>0,1,IF(OR(V14<(1-$P$2),V14>$P$3),1,0)) -> 1
A15: =Data!A9 -> 1600000 | B15: =+B14+1 -> 6 | C15: {=PRODUCT(Data!$C9:C9/100+1)} -> 1.126 | D15: {=PRODUCT(Data!$C9:D9/100+1)} -> 0.987502 | E15: {=PRODUCT(Data!$C9:E9/100+1)} -> 1.0240396 | F15: {=PRODUCT(Data!$C9:F9/100+1)} -> 1.2145109 | G15: {=PRODUCT(Data!$C9:G9/100+1)} -> 0.8112933 | H15: {=PRODUCT(Data!$C9:H9/100+1)} -> 1.3832551 | I15: {=PRODUCT(Data!$C9:I9/100+1)} -> 1.0471241 | J15: {=PRODUCT(Data!$C9:J9/100+1)} -> 0.85654751 | ... V15: {=PRODUCT(Data!$C9:V9/100+1)} -> 0.32872846 | X15: =IF(MIN(C15:V15)<(1-$P$2),"Realised Loss",IF(MAX(C15:V15)>$P$3,"Realised Profit","Unrealised")) -> Realised Loss | Y15: =A15*V15 -> 525965.53 | Z15: =IF(X15="Unrealised",0,OFFSET(B15,0,MATCH(1,AC15:AV15,0)))*A15 -> 728994.24 | AC15: =IF(OR(C15<(1-$P$2),C15>$P$3),1,0) -> 0 | AD15: =IF(SUM($AC15:AC15)>0,1,IF(OR(D15<(1-$P$2),D15>$P$3),1,0)) -> 0 | AE15: =IF(SUM($AC15:AD15)>0,1,IF(OR(E15<(1-$P$2),E15>$P$3),1,0)) -> 0 | AF15: =IF(SUM($AC15:AE15)>0,1,IF(OR(F15<(1-$P$2),F15>$P$3),1,0)) -> 0 | AG15: =IF(SUM($AC15:AF15)>0,1,IF(OR(G15<(1-$P$2),G15>$P$3),1,0)) -> 0 | AH15: =IF(SUM($AC15:AG15)>0,1,IF(OR(H15<(1-$P$2),H15>$P$3),1,0)) -> 0 | AI15: =IF(SUM($AC15:AH15)>0,1,IF(OR(I15<(1-$P$2),I15>$P$3),1,0)) -> 0 | AJ15: =IF(SUM($AC15:AI15)>0,1,IF(OR(J15<(1-$P$2),J15>$P$3),1,0)) -> 0 | AK15: =IF(SUM($AC15:AJ15)>0,1,IF(OR(K15<(1-$P$2),K15>$P$3),1,0)) -> 0 | ... AV15: =IF(SUM($AC15:AU15)>0,1,IF(OR(V15<(1-$P$2),V15>$P$3),1,0)) -> 1
A16: =Data!A10 -> 9700000 | B16: =+B15+1 -> 7 | C16: {=PRODUCT(Data!$C10:C10/100+1)} -> 0.841 | D16: {=PRODUCT(Data!$C10:D10/100+1)} -> 0.694666 | E16: {=PRODUCT(Data!$C10:E10/100+1)} -> 0.72106331 | F16: {=PRODUCT(Data!$C10:F10/100+1)} -> 0.77081668 | G16: {=PRODUCT(Data!$C10:G10/100+1)} -> 0.76619178 | H16: {=PRODUCT(Data!$C10:H10/100+1)} -> 1.3163175 | I16: {=PRODUCT(Data!$C10:I10/100+1)} -> 1.5901115 | J16: {=PRODUCT(Data!$C10:J10/100+1)} -> 1.3770366 | ... V16: {=PRODUCT(Data!$C10:V10/100+1)} -> 3.3123768 | X16: =IF(MIN(C16:V16)<(1-$P$2),"Realised Loss",IF(MAX(C16:V16)>$P$3,"Realised Profit","Unrealised")) -> Unrealised | Y16: =A16*V16 -> 32130055 | Z16: =IF(X16="Unrealised",0,OFFSET(B16,0,MATCH(1,AC16:AV16,0)))*A16 -> 0 | AC16: =IF(OR(C16<(1-$P$2),C16>$P$3),1,0) -> 0 | AD16: =IF(SUM($AC16:AC16)>0,1,IF(OR(D16<(1-$P$2),D16>$P$3),1,0)) -> 0 | AE16: =IF(SUM($AC16:AD16)>0,1,IF(OR(E16<(1-$P$2),E16>$P$3),1,0)) -> 0 | AF16: =IF(SUM($AC16:AE16)>0,1,IF(OR(F16<(1-$P$2),F16>$P$3),1,0)) -> 0 | AG16: =IF(SUM($AC16:AF16)>0,1,IF(OR(G16<(1-$P$2),G16>$P$3),1,0)) -> 0 | AH16: =IF(SUM($AC16:AG16)>0,1,IF(OR(H16<(1-$P$2),H16>$P$3),1,0)) -> 0 | AI16: =IF(SUM($AC16:AH16)>0,1,IF(OR(I16<(1-$P$2),I16>$P$3),1,0)) -> 0 | AJ16: =IF(SUM($AC16:AI16)>0,1,IF(OR(J16<(1-$P$2),J16>$P$3),1,0)) -> 0 | AK16: =IF(SUM($AC16:AJ16)>0,1,IF(OR(K16<(1-$P$2),K16>$P$3),1,0)) -> 0 | ... AV16: =IF(SUM($AC16:AU16)>0,1,IF(OR(V16<(1-$P$2),V16>$P$3),1,0)) -> 0
A17: =Data!A11 -> 3600000 | B17: =+B16+1 -> 8 | C17: {=PRODUCT(Data!$C11:C11/100+1)} -> 1.654 | D17: {=PRODUCT(Data!$C11:D11/100+1)} -> 2.178318 | E17: {=PRODUCT(Data!$C11:E11/100+1)} -> 2.7991386 | F17: {=PRODUCT(Data!$C11:F11/100+1)} -> 1.7858504 | G17: {=PRODUCT(Data!$C11:G11/100+1)} -> 2.137663 | H17: {=PRODUCT(Data!$C11:H11/100+1)} -> 3.4330868 | I17: {=PRODUCT(Data!$C11:I11/100+1)} -> 3.4605514 | J17: {=PRODUCT(Data!$C11:J11/100+1)} -> 2.4846759 | ... V17: {=PRODUCT(Data!$C11:V11/100+1)} -> 4.9378655 | X17: =IF(MIN(C17:V17)<(1-$P$2),"Realised Loss",IF(MAX(C17:V17)>$P$3,"Realised Profit","Unrealised")) -> Unrealised | Y17: =A17*V17 -> 17776316 | Z17: =IF(X17="Unrealised",0,OFFSET(B17,0,MATCH(1,AC17:AV17,0)))*A17 -> 0 | AC17: =IF(OR(C17<(1-$P$2),C17>$P$3),1,0) -> 0 | AD17: =IF(SUM($AC17:AC17)>0,1,IF(OR(D17<(1-$P$2),D17>$P$3),1,0)) -> 0 | AE17: =IF(SUM($AC17:AD17)>0,1,IF(OR(E17<(1-$P$2),E17>$P$3),1,0)) -> 0 | AF17: =IF(SUM($AC17:AE17)>0,1,IF(OR(F17<(1-$P$2),F17>$P$3),1,0)) -> 0 | AG17: =IF(SUM($AC17:AF17)>0,1,IF(OR(G17<(1-$P$2),G17>$P$3),1,0)) -> 0 | AH17: =IF(SUM($AC17:AG17)>0,1,IF(OR(H17<(1-$P$2),H17>$P$3),1,0)) -> 0 | AI17: =IF(SUM($AC17:AH17)>0,1,IF(OR(I17<(1-$P$2),I17>$P$3),1,0)) -> 0 | AJ17: =IF(SUM($AC17:AI17)>0,1,IF(OR(J17<(1-$P$2),J17>$P$3),1,0)) -> 0 | AK17: =IF(SUM($AC17:AJ17)>0,1,IF(OR(K17<(1-$P$2),K17>$P$3),1,0)) -> 0 | ... AV17: =IF(SUM($AC17:AU17)>0,1,IF(OR(V17<(1-$P$2),V17>$P$3),1,0)) -> 0
A18: =Data!A12 -> 2100000 | B18: =+B17+1 -> 9 | C18: {=PRODUCT(Data!$C12:C12/100+1)} -> 1.456 | D18: {=PRODUCT(Data!$C12:D12/100+1)} -> 1.658384 | E18: {=PRODUCT(Data!$C12:E12/100+1)} -> 2.6898988 | F18: {=PRODUCT(Data!$C12:F12/100+1)} -> 3.3704433 | G18: {=PRODUCT(Data!$C12:G12/100+1)} -> 3.680524 | H18: {=PRODUCT(Data!$C12:H12/100+1)} -> 3.0253908 | I18: {=PRODUCT(Data!$C12:I12/100+1)} -> 5.2520784 | J18: {=PRODUCT(Data!$C12:J12/100+1)} -> 7.6680344 | ... V18: {=PRODUCT(Data!$C12:V12/100+1)} -> 43.381886 | X18: =IF(MIN(C18:V18)<(1-$P$2),"Realised Loss",IF(MAX(C18:V18)>$P$3,"Realised Profit","Unrealised")) -> Unrealised | Y18: =A18*V18 -> 91101961 | Z18: =IF(X18="Unrealised",0,OFFSET(B18,0,MATCH(1,AC18:AV18,0)))*A18 -> 0 | AC18: =IF(OR(C18<(1-$P$2),C18>$P$3),1,0) -> 0 | AD18: =IF(SUM($AC18:AC18)>0,1,IF(OR(D18<(1-$P$2),D18>$P$3),1,0)) -> 0 | AE18: =IF(SUM($AC18:AD18)>0,1,IF(OR(E18<(1-$P$2),E18>$P$3),1,0)) -> 0 | AF18: =IF(SUM($AC18:AE18)>0,1,IF(OR(F18<(1-$P$2),F18>$P$3),1,0)) -> 0 | AG18: =IF(SUM($AC18:AF18)>0,1,IF(OR(G18<(1-$P$2),G18>$P$3),1,0)) -> 0 | AH18: =IF(SUM($AC18:AG18)>0,1,IF(OR(H18<(1-$P$2),H18>$P$3),1,0)) -> 0 | AI18: =IF(SUM($AC18:AH18)>0,1,IF(OR(I18<(1-$P$2),I18>$P$3),1,0)) -> 0 | AJ18: =IF(SUM($AC18:AI18)>0,1,IF(OR(J18<(1-$P$2),J18>$P$3),1,0)) -> 0 | AK18: =IF(SUM($AC18:AJ18)>0,1,IF(OR(K18<(1-$P$2),K18>$P$3),1,0)) -> 0 | ... AV18: =IF(SUM($AC18:AU18)>0,1,IF(OR(V18<(1-$P$2),V18>$P$3),1,0)) -> 0
A19: =Data!A13 -> 1600000 | B19: =+B18+1 -> 10 | C19: {=PRODUCT(Data!$C13:C13/100+1)} -> 1.488 | D19: {=PRODUCT(Data!$C13:D13/100+1)} -> 1.684416 | E19: {=PRODUCT(Data!$C13:E13/100+1)} -> 2.0583564 | F19: {=PRODUCT(Data!$C13:F13/100+1)} -> 2.385635 | G19: {=PRODUCT(Data!$C13:G13/100+1)} -> 2.3546218 | H19: {=PRODUCT(Data!$C13:H13/100+1)} -> 2.1215142 | I19: {=PRODUCT(Data!$C13:I13/100+1)} -> 1.4044424 | J19: {=PRODUCT(Data!$C13:J13/100+1)} -> 2.1895257 | ... V19: {=PRODUCT(Data!$C13:V13/100+1)} -> 12.357806 | X19: =IF(MIN(C19:V19)<(1-$P$2),"Realised Loss",IF(MAX(C19:V19)>$P$3,"Realised Profit","Unrealised")) -> Unrealised | Y19: =A19*V19 -> 19772489 | Z19: =IF(X19="Unrealised",0,OFFSET(B19,0,MATCH(1,AC19:AV19,0)))*A19 -> 0 | AC19: =IF(OR(C19<(1-$P$2),C19>$P$3),1,0) -> 0 | AD19: =IF(SUM($AC19:AC19)>0,1,IF(OR(D19<(1-$P$2),D19>$P$3),1,0)) -> 0 | AE19: =IF(SUM($AC19:AD19)>0,1,IF(OR(E19<(1-$P$2),E19>$P$3),1,0)) -> 0 | AF19: =IF(SUM($AC19:AE19)>0,1,IF(OR(F19<(1-$P$2),F19>$P$3),1,0)) -> 0 | AG19: =IF(SUM($AC19:AF19)>0,1,IF(OR(G19<(1-$P$2),G19>$P$3),1,0)) -> 0 | AH19: =IF(SUM($AC19:AG19)>0,1,IF(OR(H19<(1-$P$2),H19>$P$3),1,0)) -> 0 | AI19: =IF(SUM($AC19:AH19)>0,1,IF(OR(I19<(1-$P$2),I19>$P$3),1,0)) -> 0 | AJ19: =IF(SUM($AC19:AI19)>0,1,IF(OR(J19<(1-$P$2),J19>$P$3),1,0)) -> 0 | AK19: =IF(SUM($AC19:AJ19)>0,1,IF(OR(K19<(1-$P$2),K19>$P$3),1,0)) -> 0 | ... AV19: =IF(SUM($AC19:AU19)>0,1,IF(OR(V19<(1-$P$2),V19>$P$3),1,0)) -> 0
A20: =Data!A14 -> 800000 | B20: =+B19+1 -> 11 | C20: {=PRODUCT(Data!$C14:C14/100+1)} -> 1.419 | D20: {=PRODUCT(Data!$C14:D14/100+1)} -> 1.765236 | E20: {=PRODUCT(Data!$C14:E14/100+1)} -> 1.5516424 | F20: {=PRODUCT(Data!$C14:F14/100+1)} -> 2.200229 | G20: {=PRODUCT(Data!$C14:G14/100+1)} -> 1.9141992 | H20: {=PRODUCT(Data!$C14:H14/100+1)} -> 3.1124879 | I20: {=PRODUCT(Data!$C14:I14/100+1)} -> 3.738098 | J20: {=PRODUCT(Data!$C14:J14/100+1)} -> 4.1829317 | ... V20: {=PRODUCT(Data!$C14:V14/100+1)} -> 31.671469 | X20: =IF(MIN(C20:V20)<(1-$P$2),"Realised Loss",IF(MAX(C20:V20)>$P$3,"Realised Profit","Unrealised")) -> Unrealised | Y20: =A20*V20 -> 25337175 | Z20: =IF(X20="Unrealised",0,OFFSET(B20,0,MATCH(1,AC20:AV20,0)))*A20 -> 0 | AC20: =IF(OR(C20<(1-$P$2),C20>$P$3),1,0) -> 0 | AD20: =IF(SUM($AC20:AC20)>0,1,IF(OR(D20<(1-$P$2),D20>$P$3),1,0)) -> 0 | AE20: =IF(SUM($AC20:AD20)>0,1,IF(OR(E20<(1-$P$2),E20>$P$3),1,0)) -> 0 | AF20: =IF(SUM($AC20:AE20)>0,1,IF(OR(F20<(1-$P$2),F20>$P$3),1,0)) -> 0 | AG20: =IF(SUM($AC20:AF20)>0,1,IF(OR(G20<(1-$P$2),G20>$P$3),1,0)) -> 0 | AH20: =IF(SUM($AC20:AG20)>0,1,IF(OR(H20<(1-$P$2),H20>$P$3),1,0)) -> 0 | AI20: =IF(SUM($AC20:AH20)>0,1,IF(OR(I20<(1-$P$2),I20>$P$3),1,0)) -> 0 | AJ20: =IF(SUM($AC20:AI20)>0,1,IF(OR(J20<(1-$P$2),J20>$P$3),1,0)) -> 0 | AK20: =IF(SUM($AC20:AJ20)>0,1,IF(OR(K20<(1-$P$2),K20>$P$3),1,0)) -> 0 | ... AV20: =IF(SUM($AC20:AU20)>0,1,IF(OR(V20<(1-$P$2),V20>$P$3),1,0)) -> 0
A21: =Data!A15 -> 6300000 | B21: =+B20+1 -> 12 | C21: {=PRODUCT(Data!$C15:C15/100+1)} -> 1.091 | D21: {=PRODUCT(Data!$C15:D15/100+1)} -> 0.650236 | E21: {=PRODUCT(Data!$C15:E15/100+1)} -> 0.93959102 | F21: {=PRODUCT(Data!$C15:F15/100+1)} -> 0.57690889 | G21: {=PRODUCT(Data!$C15:G15/100+1)} -> 1.0015138 | H21: {=PRODUCT(Data!$C15:H15/100+1)} -> 1.089647 | I21: {=PRODUCT(Data!$C15:I15/100+1)} -> 1.0580473 | J21: {=PRODUCT(Data!$C15:J15/100+1)} -> 0.96493912 | ... V21: {=PRODUCT(Data!$C15:V15/100+1)} -> 5.8397552 | X21: =IF(MIN(C21:V21)<(1-$P$2),"Realised Loss",IF(MAX(C21:V21)>$P$3,"Realised Profit","Unrealised")) -> Unrealised | Y21: =A21*V21 -> 36790458 | Z21: =IF(X21="Unrealised",0,OFFSET(B21,0,MATCH(1,AC21:AV21,0)))*A21 -> 0 | AC21: =IF(OR(C21<(1-$P$2),C21>$P$3),1,0) -> 0 | AD21: =IF(SUM($AC21:AC21)>0,1,IF(OR(D21<(1-$P$2),D21>$P$3),1,0)) -> 0 | AE21: =IF(SUM($AC21:AD21)>0,1,IF(OR(E21<(1-$P$2),E21>$P$3),1,0)) -> 0 | AF21: =IF(SUM($AC21:AE21)>0,1,IF(OR(F21<(1-$P$2),F21>$P$3),1,0)) -> 0 | AG21: =IF(SUM($AC21:AF21)>0,1,IF(OR(G21<(1-$P$2),G21>$P$3),1,0)) -> 0 | AH21: =IF(SUM($AC21:AG21)>0,1,IF(OR(H21<(1-$P$2),H21>$P$3),1,0)) -> 0 | AI21: =IF(SUM($AC21:AH21)>0,1,IF(OR(I21<(1-$P$2),I21>$P$3),1,0)) -> 0 | AJ21: =IF(SUM($AC21:AI21)>0,1,IF(OR(J21<(1-$P$2),J21>$P$3),1,0)) -> 0 | AK21: =IF(SUM($AC21:AJ21)>0,1,IF(OR(K21<(1-$P$2),K21>$P$3),1,0)) -> 0 | ... AV21: =IF(SUM($AC21:AU21)>0,1,IF(OR(V21<(1-$P$2),V21>$P$3),1,0)) -> 0
A22: =Data!A16 -> 7900000 | B22: =+B21+1 -> 13 | C22: {=PRODUCT(Data!$C16:C16/100+1)} -> 1.716 | D22: {=PRODUCT(Data!$C16:D16/100+1)} -> 2.000856 | E22: {=PRODUCT(Data!$C16:E16/100+1)} -> 2.0808902 | F22: {=PRODUCT(Data!$C16:F16/100+1)} -> 3.3523142 | G22: {=PRODUCT(Data!$C16:G16/100+1)} -> 2.9869119 | H22: {=PRODUCT(Data!$C16:H16/100+1)} -> 4.3668652 | I22: {=PRODUCT(Data!$C16:I16/100+1)} -> 2.720557 | J22: {=PRODUCT(Data!$C16:J16/100+1)} -> 4.6031825 | ... V22: {=PRODUCT(Data!$C16:V16/100+1)} -> 12.843847 | X22: =IF(MIN(C22:V22)<(1-$P$2),"Realised Loss",IF(MAX(C22:V22)>$P$3,"Realised Profit","Unrealised")) -> Unrealised | Y22: =A22*V22 -> 1.0146639e+08 | Z22: =IF(X22="Unrealised",0,OFFSET(B22,0,MATCH(1,AC22:AV22,0)))*A22 -> 0 | AC22: =IF(OR(C22<(1-$P$2),C22>$P$3),1,0) -> 0 | AD22: =IF(SUM($AC22:AC22)>0,1,IF(OR(D22<(1-$P$2),D22>$P$3),1,0)) -> 0 | AE22: =IF(SUM($AC22:AD22)>0,1,IF(OR(E22<(1-$P$2),E22>$P$3),1,0)) -> 0 | AF22: =IF(SUM($AC22:AE22)>0,1,IF(OR(F22<(1-$P$2),F22>$P$3),1,0)) -> 0 | AG22: =IF(SUM($AC22:AF22)>0,1,IF(OR(G22<(1-$P$2),G22>$P$3),1,0)) -> 0 | AH22: =IF(SUM($AC22:AG22)>0,1,IF(OR(H22<(1-$P$2),H22>$P$3),1,0)) -> 0 | AI22: =IF(SUM($AC22:AH22)>0,1,IF(OR(I22<(1-$P$2),I22>$P$3),1,0)) -> 0 | AJ22: =IF(SUM($AC22:AI22)>0,1,IF(OR(J22<(1-$P$2),J22>$P$3),1,0)) -> 0 | AK22: =IF(SUM($AC22:AJ22)>0,1,IF(OR(K22<(1-$P$2),K22>$P$3),1,0)) -> 0 | ... AV22: =IF(SUM($AC22:AU22)>0,1,IF(OR(V22<(1-$P$2),V22>$P$3),1,0)) -> 0
... A134: =Data!A128 -> 700000 | B134: =+B133+1 -> 125 | C134: {=PRODUCT(Data!$C128:C128/100+1)} -> 0.619 | D134: {=PRODUCT(Data!$C128:D128/100+1)} -> 0.350973 | E134: {=PRODUCT(Data!$C128:E128/100+1)} -> 0.51101669 | F134: {=PRODUCT(Data!$C128:F128/100+1)} -> 0.69293863 | G134: {=PRODUCT(Data!$C128:G128/100+1)} -> 0.81420289 | H134: {=PRODUCT(Data!$C128:H128/100+1)} -> 0.79059101 | I134: {=PRODUCT(Data!$C128:I128/100+1)} -> 0.72180959 | J134: {=PRODUCT(Data!$C128:J128/100+1)} -> 1.1505645 | ... V134: {=PRODUCT(Data!$C128:V128/100+1)} -> 1.8681205 | X134: =IF(MIN(C134:V134)<(1-$P$2),"Realised Loss",IF(MAX(C134:V134)>$P$3,"Realised Profit","Unrealised")) -> Realised Loss | Y134: =A134*V134 -> 1307684.3 | Z134: =IF(X134="Unrealised",0,OFFSET(B134,0,MATCH(1,AC134:AV134,0)))*A134 -> 245681.1 | AC134: =IF(OR(C134<(1-$P$2),C134>$P$3),1,0) -> 0 | AD134: =IF(SUM($AC134:AC134)>0,1,IF(OR(D134<(1-$P$2),D134>$P$3),1,0)) -> 1 | AE134: =IF(SUM($AC134:AD134)>0,1,IF(OR(E134<(1-$P$2),E134>$P$3),1,0)) -> 1 | AF134: =IF(SUM($AC134:AE134)>0,1,IF(OR(F134<(1-$P$2),F134>$P$3),1,0)) -> 1 | AG134: =IF(SUM($AC134:AF134)>0,1,IF(OR(G134<(1-$P$2),G134>$P$3),1,0)) -> 1 | AH134: =IF(SUM($AC134:AG134)>0,1,IF(OR(H134<(1-$P$2),H134>$P$3),1,0)) -> 1 | AI134: =IF(SUM($AC134:AH134)>0,1,IF(OR(I134<(1-$P$2),I134>$P$3),1,0)) -> 1 | AJ134: =IF(SUM($AC134:AI134)>0,1,IF(OR(J134<(1-$P$2),J134>$P$3),1,0)) -> 1 | AK134: =IF(SUM($AC134:AJ134)>0,1,IF(OR(K134<(1-$P$2),K134>$P$3),1,0)) -> 1 | ... AV134: =IF(SUM($AC134:AU134)>0,1,IF(OR(V134<(1-$P$2),V134>$P$3),1,0)) -> 1

Sheet Soln>

Sheet 20-20 Formula
E1: No of Businesses | F1: Amount Invested in INR Lacs | G1: Amount Withdrawn | H1: Current Valuation | I1: Profit/Loss | J1: Forgone Profit/Loss | O1: Exit Conditions
D2: Unrealised | E2: =COUNTIFS($X$10:$X$134,D2) -> 28 | F2: =SUMIFS($A$10:$A$134,$X$10:$X$134,D2)/100000 -> 1211 | G2: =SUMIFS($Z$10:$Z$134,$X$10:$X$134,D2)/100000 -> 0 | H2: =SUMIFS($Y$10:$Y$134,$X$10:$X$134,D2)/100000 -> 9079.0657 | I2: =H2-F2 -> 7868.0657 | O2: Valuation Floor | P2: 0.2
D3: Realised Loss | E3: =COUNTIFS($X$10:$X$134,D3) -> 73 | F3: =SUMIFS($A$10:$A$134,$X$10:$X$134,D3)/100000 -> 3926 | G3: =SUMIFS($Z$10:$Z$134,$X$10:$X$134,D3)/100000 -> 2684.1436 | H3: =SUMIFS($Y$10:$Y$134,$X$10:$X$134,D3)/100000 -> 14349.756 | I3: =G3-F3 -> -1241.8564 | J3: =H3-G3 -> 11665.613 | O3: Valuation Cap | P3: 20
D4: Realised Profit | E4: =COUNTIFS($X$10:$X$134,D4) -> 24 | F4: =SUMIFS($A$10:$A$134,$X$10:$X$134,D4)/100000 -> 1293 | G4: =SUMIFS($Z$10:$Z$134,$X$10:$X$134,D4)/100000 -> 31039.709 | H4: =SUMIFS($Y$10:$Y$134,$X$10:$X$134,D4)/100000 -> 49508.909 | I4: =G4-F4 -> 29746.709 | J4: =H4-G4 -> 18469.2
D5: Total | E5: =SUM(E2:E4) -> 125 | F5: =SUM(F2:F4) -> 6430 | G5: =SUM(G2:G4) -> 33723.852 | H5: =SUM(H2:H4) -> 72937.731 | I5: =SUM(I2:I4) -> 36372.918 | J5: =SUM(J2:J4) -> 30134.813
D6: Checks | E6: =COUNT(B10:B134)-E5 -> 0 | F6: =SUM(A10:A134)/100000-F5 -> 0 | G6: =SUM(Z10:Z134)/100000-G5 -> 0 | H6: =SUM(Y10:Y134)/100000-H5 -> 0
D7: Overall Check | E7: =H5-I5-J5-F5 -> 0
C8: Valuation at end of Quarter | AC8: Exit Identifier
A9: =Data!A3 -> Investment in INR | B9: Business | C9: Q1 | D9: Q2 | E9: Q3 | F9: Q4 | G9: Q5 | H9: Q6 | I9: Q7 | J9: Q8 | K9: Q9 | L9: Q10 | M9: Q11 | N9: Q12 | O9: Q13 | P9: Q14 | Q9: Q15 | R9: Q16 | S9: Q17 | T9: Q18 | U9: Q19 | V9: Q20 | X9: Current Status | Y9: Current Valuation | Z9: Realised Value | AC9: Q1 | AD9: Q2 | AE9: Q3 | AF9: Q4 | AG9: Q5 | AH9: Q6 | AI9: Q7 | AJ9: Q8 | AK9: Q9 | AL9: Q10 | AM9: Q11 | AN9: Q12 | AO9: Q13 | AP9: Q14 | AQ9: Q15 | AR9: Q16 | AS9: Q17 | AT9: Q18 | AU9: Q19 | AV9: Q20
A10: =Data!A4 -> 2700000 | B10: 1 | C10: {=PRODUCT(Data!$C4:C4/100+1)} -> 0.736 | D10: {=PRODUCT(Data!$C4:D4/100+1)} -> 0.575552 | E10: {=PRODUCT(Data!$C4:E4/100+1)} -> 0.6618848 | F10: {=PRODUCT(Data!$C4:F4/100+1)} -> 1.0040792 | G10: {=PRODUCT(Data!$C4:G4/100+1)} -> 1.4930658 | H10: {=PRODUCT(Data!$C4:H4/100+1)} -> 2.3978637 | I10: {=PRODUCT(Data!$C4:I4/100+1)} -> 1.6761067 | J10: {=PRODUCT(Data!$C4:J4/100+1)} -> 1.3442376 | ... V10: {=PRODUCT(Data!$C4:V4/100+1)} -> 4.3983702 | X10: =IF(MIN(C10:V10)<(1-$P$2),"Realised Loss",IF(MAX(C10:V10)>$P$3,"Realised Profit","Unrealised")) -> Realised Loss | Y10: =A10*V10 -> 11875599 | Z10: =IF(X10="Unrealised",0,OFFSET(B10,0,MATCH(1,AC10:AV10,0)))*A10 -> 1987200 | AC10: =IF(OR(C10<(1-$P$2),C10>$P$3),1,0) -> 1 | AD10: =IF(SUM($AC10:AC10)>0,1,IF(OR(D10<(1-$P$2),D10>$P$3),1,0)) -> 1 | AE10: =IF(SUM($AC10:AD10)>0,1,IF(OR(E10<(1-$P$2),E10>$P$3),1,0)) -> 1 | AF10: =IF(SUM($AC10:AE10)>0,1,IF(OR(F10<(1-$P$2),F10>$P$3),1,0)) -> 1 | AG10: =IF(SUM($AC10:AF10)>0,1,IF(OR(G10<(1-$P$2),G10>$P$3),1,0)) -> 1 | AH10: =IF(SUM($AC10:AG10)>0,1,IF(OR(H10<(1-$P$2),H10>$P$3),1,0)) -> 1 | AI10: =IF(SUM($AC10:AH10)>0,1,IF(OR(I10<(1-$P$2),I10>$P$3),1,0)) -> 1 | AJ10: =IF(SUM($AC10:AI10)>0,1,IF(OR(J10<(1-$P$2),J10>$P$3),1,0)) -> 1 | AK10: =IF(SUM($AC10:AJ10)>0,1,IF(OR(K10<(1-$P$2),K10>$P$3),1,0)) -> 1 | ... AV10: =IF(SUM($AC10:AU10)>0,1,IF(OR(V10<(1-$P$2),V10>$P$3),1,0)) -> 1
A11: =Data!A5 -> 9200000 | B11: =+B10+1 -> 2 | C11: {=PRODUCT(Data!$C5:C5/100+1)} -> 1.581 | D11: {=PRODUCT(Data!$C5:D5/100+1)} -> 2.330394 | E11: {=PRODUCT(Data!$C5:E5/100+1)} -> 3.099424 | F11: {=PRODUCT(Data!$C5:F5/100+1)} -> 2.6933995 | G11: {=PRODUCT(Data!$C5:G5/100+1)} -> 1.7641767 | H11: {=PRODUCT(Data!$C5:H5/100+1)} -> 2.4416205 | I11: {=PRODUCT(Data!$C5:I5/100+1)} -> 4.1727294 | J11: {=PRODUCT(Data!$C5:J5/100+1)} -> 3.8347383 | ... V11: {=PRODUCT(Data!$C5:V5/100+1)} -> 18.752518 | X11: =IF(MIN(C11:V11)<(1-$P$2),"Realised Loss",IF(MAX(C11:V11)>$P$3,"Realised Profit","Unrealised")) -> Realised Profit | Y11: =A11*V11 -> 1.7252316e+08 | Z11: =IF(X11="Unrealised",0,OFFSET(B11,0,MATCH(1,AC11:AV11,0)))*A11 -> 2.0639754e+08 | AC11: =IF(OR(C11<(1-$P$2),C11>$P$3),1,0) -> 0 | AD11: =IF(SUM($AC11:AC11)>0,1,IF(OR(D11<(1-$P$2),D11>$P$3),1,0)) -> 0 | AE11: =IF(SUM($AC11:AD11)>0,1,IF(OR(E11<(1-$P$2),E11>$P$3),1,0)) -> 0 | AF11: =IF(SUM($AC11:AE11)>0,1,IF(OR(F11<(1-$P$2),F11>$P$3),1,0)) -> 0 | AG11: =IF(SUM($AC11:AF11)>0,1,IF(OR(G11<(1-$P$2),G11>$P$3),1,0)) -> 0 | AH11: =IF(SUM($AC11:AG11)>0,1,IF(OR(H11<(1-$P$2),H11>$P$3),1,0)) -> 0 | AI11: =IF(SUM($AC11:AH11)>0,1,IF(OR(I11<(1-$P$2),I11>$P$3),1,0)) -> 0 | AJ11: =IF(SUM($AC11:AI11)>0,1,IF(OR(J11<(1-$P$2),J11>$P$3),1,0)) -> 0 | AK11: =IF(SUM($AC11:AJ11)>0,1,IF(OR(K11<(1-$P$2),K11>$P$3),1,0)) -> 0 | ... AV11: =IF(SUM($AC11:AU11)>0,1,IF(OR(V11<(1-$P$2),V11>$P$3),1,0)) -> 1
A12: =Data!A6 -> 2700000 | B12: =+B11+1 -> 3 | C12: {=PRODUCT(Data!$C6:C6/100+1)} -> 0.667 | D12: {=PRODUCT(Data!$C6:D6/100+1)} -> 0.455561 | E12: {=PRODUCT(Data!$C6:E6/100+1)} -> 0.26012533 | F12: {=PRODUCT(Data!$C6:F6/100+1)} -> 0.13058292 | G12: {=PRODUCT(Data!$C6:G6/100+1)} -> 0.067903116 | H12: {=PRODUCT(Data!$C6:H6/100+1)} -> 0.054186687 | I12: {=PRODUCT(Data!$C6:I6/100+1)} -> 0.037172067 | J12: {=PRODUCT(Data!$C6:J6/100+1)} -> 0.061928664 | ... V12: {=PRODUCT(Data!$C6:V6/100+1)} -> 0.095665485 | X12: =IF(MIN(C12:V12)<(1-$P$2),"Realised Loss",IF(MAX(C12:V12)>$P$3,"Realised Profit","Unrealised")) -> Realised Loss | Y12: =A12*V12 -> 258296.81 | Z12: =IF(X12="Unrealised",0,OFFSET(B12,0,MATCH(1,AC12:AV12,0)))*A12 -> 1800900 | AC12: =IF(OR(C12<(1-$P$2),C12>$P$3),1,0) -> 1 | AD12: =IF(SUM($AC12:AC12)>0,1,IF(OR(D12<(1-$P$2),D12>$P$3),1,0)) -> 1 | AE12: =IF(SUM($AC12:AD12)>0,1,IF(OR(E12<(1-$P$2),E12>$P$3),1,0)) -> 1 | AF12: =IF(SUM($AC12:AE12)>0,1,IF(OR(F12<(1-$P$2),F12>$P$3),1,0)) -> 1 | AG12: =IF(SUM($AC12:AF12)>0,1,IF(OR(G12<(1-$P$2),G12>$P$3),1,0)) -> 1 | AH12: =IF(SUM($AC12:AG12)>0,1,IF(OR(H12<(1-$P$2),H12>$P$3),1,0)) -> 1 | AI12: =IF(SUM($AC12:AH12)>0,1,IF(OR(I12<(1-$P$2),I12>$P$3),1,0)) -> 1 | AJ12: =IF(SUM($AC12:AI12)>0,1,IF(OR(J12<(1-$P$2),J12>$P$3),1,0)) -> 1 | AK12: =IF(SUM($AC12:AJ12)>0,1,IF(OR(K12<(1-$P$2),K12>$P$3),1,0)) -> 1 | ... AV12: =IF(SUM($AC12:AU12)>0,1,IF(OR(V12<(1-$P$2),V12>$P$3),1,0)) -> 1
A13: =Data!A7 -> 5600000 | B13: =+B12+1 -> 4 | C13: {=PRODUCT(Data!$C7:C7/100+1)} -> 1.128 | D13: {=PRODUCT(Data!$C7:D7/100+1)} -> 1.239672 | E13: {=PRODUCT(Data!$C7:E7/100+1)} -> 1.5471107 | F13: {=PRODUCT(Data!$C7:F7/100+1)} -> 2.376362 | G13: {=PRODUCT(Data!$C7:G7/100+1)} -> 3.3387886 | H13: {=PRODUCT(Data!$C7:H7/100+1)} -> 2.7845497 | I13: {=PRODUCT(Data!$C7:I7/100+1)} -> 2.2220706 | J13: {=PRODUCT(Data!$C7:J7/100+1)} -> 3.2642218 | ... V13: {=PRODUCT(Data!$C7:V7/100+1)} -> 1.1623368 | X13: =IF(MIN(C13:V13)<(1-$P$2),"Realised Loss",IF(MAX(C13:V13)>$P$3,"Realised Profit","Unrealised")) -> Unrealised | Y13: =A13*V13 -> 6509085.8 | Z13: =IF(X13="Unrealised",0,OFFSET(B13,0,MATCH(1,AC13:AV13,0)))*A13 -> 0 | AC13: =IF(OR(C13<(1-$P$2),C13>$P$3),1,0) -> 0 | AD13: =IF(SUM($AC13:AC13)>0,1,IF(OR(D13<(1-$P$2),D13>$P$3),1,0)) -> 0 | AE13: =IF(SUM($AC13:AD13)>0,1,IF(OR(E13<(1-$P$2),E13>$P$3),1,0)) -> 0 | AF13: =IF(SUM($AC13:AE13)>0,1,IF(OR(F13<(1-$P$2),F13>$P$3),1,0)) -> 0 | AG13: =IF(SUM($AC13:AF13)>0,1,IF(OR(G13<(1-$P$2),G13>$P$3),1,0)) -> 0 | AH13: =IF(SUM($AC13:AG13)>0,1,IF(OR(H13<(1-$P$2),H13>$P$3),1,0)) -> 0 | AI13: =IF(SUM($AC13:AH13)>0,1,IF(OR(I13<(1-$P$2),I13>$P$3),1,0)) -> 0 | AJ13: =IF(SUM($AC13:AI13)>0,1,IF(OR(J13<(1-$P$2),J13>$P$3),1,0)) -> 0 | AK13: =IF(SUM($AC13:AJ13)>0,1,IF(OR(K13<(1-$P$2),K13>$P$3),1,0)) -> 0 | ... AV13: =IF(SUM($AC13:AU13)>0,1,IF(OR(V13<(1-$P$2),V13>$P$3),1,0)) -> 0
A14: =Data!A8 -> 6900000 | B14: =+B13+1 -> 5 | C14: {=PRODUCT(Data!$C8:C8/100+1)} -> 1.616 | D14: {=PRODUCT(Data!$C8:D8/100+1)} -> 1.178064 | E14: {=PRODUCT(Data!$C8:E8/100+1)} -> 1.4101426 | F14: {=PRODUCT(Data!$C8:F8/100+1)} -> 0.79955086 | G14: {=PRODUCT(Data!$C8:G8/100+1)} -> 0.55408875 | H14: {=PRODUCT(Data!$C8:H8/100+1)} -> 0.35904951 | I14: {=PRODUCT(Data!$C8:I8/100+1)} -> 0.31488642 | J14: {=PRODUCT(Data!$C8:J8/100+1)} -> 0.54191952 | ... V14: {=PRODUCT(Data!$C8:V8/100+1)} -> 1.2737703 | X14: =IF(MIN(C14:V14)<(1-$P$2),"Realised Loss",IF(MAX(C14:V14)>$P$3,"Realised Profit","Unrealised")) -> Realised Loss | Y14: =A14*V14 -> 8789014.8 | Z14: =IF(X14="Unrealised",0,OFFSET(B14,0,MATCH(1,AC14:AV14,0)))*A14 -> 5516900.9 | AC14: =IF(OR(C14<(1-$P$2),C14>$P$3),1,0) -> 0 | AD14: =IF(SUM($AC14:AC14)>0,1,IF(OR(D14<(1-$P$2),D14>$P$3),1,0)) -> 0 | AE14: =IF(SUM($AC14:AD14)>0,1,IF(OR(E14<(1-$P$2),E14>$P$3),1,0)) -> 0 | AF14: =IF(SUM($AC14:AE14)>0,1,IF(OR(F14<(1-$P$2),F14>$P$3),1,0)) -> 1 | AG14: =IF(SUM($AC14:AF14)>0,1,IF(OR(G14<(1-$P$2),G14>$P$3),1,0)) -> 1 | AH14: =IF(SUM($AC14:AG14)>0,1,IF(OR(H14<(1-$P$2),H14>$P$3),1,0)) -> 1 | AI14: =IF(SUM($AC14:AH14)>0,1,IF(OR(I14<(1-$P$2),I14>$P$3),1,0)) -> 1 | AJ14: =IF(SUM($AC14:AI14)>0,1,IF(OR(J14<(1-$P$2),J14>$P$3),1,0)) -> 1 | AK14: =IF(SUM($AC14:AJ14)>0,1,IF(OR(K14<(1-$P$2),K14>$P$3),1,0)) -> 1 | ... AV14: =IF(SUM($AC14:AU14)>0,1,IF(OR(V14<(1-$P$2),V14>$P$3),1,0)) -> 1
A15: =Data!A9 -> 1600000 | B15: =+B14+1 -> 6 | C15: {=PRODUCT(Data!$C9:C9/100+1)} -> 1.126 | D15: {=PRODUCT(Data!$C9:D9/100+1)} -> 0.987502 | E15: {=PRODUCT(Data!$C9:E9/100+1)} -> 1.0240396 | F15: {=PRODUCT(Data!$C9:F9/100+1)} -> 1.2145109 | G15: {=PRODUCT(Data!$C9:G9/100+1)} -> 0.8112933 | H15: {=PRODUCT(Data!$C9:H9/100+1)} -> 1.3832551 | I15: {=PRODUCT(Data!$C9:I9/100+1)} -> 1.0471241 | J15: {=PRODUCT(Data!$C9:J9/100+1)} -> 0.85654751 | ... V15: {=PRODUCT(Data!$C9:V9/100+1)} -> 0.32872846 | X15: =IF(MIN(C15:V15)<(1-$P$2),"Realised Loss",IF(MAX(C15:V15)>$P$3,"Realised Profit","Unrealised")) -> Realised Loss | Y15: =A15*V15 -> 525965.53 | Z15: =IF(X15="Unrealised",0,OFFSET(B15,0,MATCH(1,AC15:AV15,0)))*A15 -> 925119.59 | AC15: =IF(OR(C15<(1-$P$2),C15>$P$3),1,0) -> 0 | AD15: =IF(SUM($AC15:AC15)>0,1,IF(OR(D15<(1-$P$2),D15>$P$3),1,0)) -> 0 | AE15: =IF(SUM($AC15:AD15)>0,1,IF(OR(E15<(1-$P$2),E15>$P$3),1,0)) -> 0 | AF15: =IF(SUM($AC15:AE15)>0,1,IF(OR(F15<(1-$P$2),F15>$P$3),1,0)) -> 0 | AG15: =IF(SUM($AC15:AF15)>0,1,IF(OR(G15<(1-$P$2),G15>$P$3),1,0)) -> 0 | AH15: =IF(SUM($AC15:AG15)>0,1,IF(OR(H15<(1-$P$2),H15>$P$3),1,0)) -> 0 | AI15: =IF(SUM($AC15:AH15)>0,1,IF(OR(I15<(1-$P$2),I15>$P$3),1,0)) -> 0 | AJ15: =IF(SUM($AC15:AI15)>0,1,IF(OR(J15<(1-$P$2),J15>$P$3),1,0)) -> 0 | AK15: =IF(SUM($AC15:AJ15)>0,1,IF(OR(K15<(1-$P$2),K15>$P$3),1,0)) -> 0 | ... AV15: =IF(SUM($AC15:AU15)>0,1,IF(OR(V15<(1-$P$2),V15>$P$3),1,0)) -> 1
A16: =Data!A10 -> 9700000 | B16: =+B15+1 -> 7 | C16: {=PRODUCT(Data!$C10:C10/100+1)} -> 0.841 | D16: {=PRODUCT(Data!$C10:D10/100+1)} -> 0.694666 | E16: {=PRODUCT(Data!$C10:E10/100+1)} -> 0.72106331 | F16: {=PRODUCT(Data!$C10:F10/100+1)} -> 0.77081668 | G16: {=PRODUCT(Data!$C10:G10/100+1)} -> 0.76619178 | H16: {=PRODUCT(Data!$C10:H10/100+1)} -> 1.3163175 | I16: {=PRODUCT(Data!$C10:I10/100+1)} -> 1.5901115 | J16: {=PRODUCT(Data!$C10:J10/100+1)} -> 1.3770366 | ... V16: {=PRODUCT(Data!$C10:V10/100+1)} -> 3.3123768 | X16: =IF(MIN(C16:V16)<(1-$P$2),"Realised Loss",IF(MAX(C16:V16)>$P$3,"Realised Profit","Unrealised")) -> Realised Loss | Y16: =A16*V16 -> 32130055 | Z16: =IF(X16="Unrealised",0,OFFSET(B16,0,MATCH(1,AC16:AV16,0)))*A16 -> 6738260.2 | AC16: =IF(OR(C16<(1-$P$2),C16>$P$3),1,0) -> 0 | AD16: =IF(SUM($AC16:AC16)>0,1,IF(OR(D16<(1-$P$2),D16>$P$3),1,0)) -> 1 | AE16: =IF(SUM($AC16:AD16)>0,1,IF(OR(E16<(1-$P$2),E16>$P$3),1,0)) -> 1 | AF16: =IF(SUM($AC16:AE16)>0,1,IF(OR(F16<(1-$P$2),F16>$P$3),1,0)) -> 1 | AG16: =IF(SUM($AC16:AF16)>0,1,IF(OR(G16<(1-$P$2),G16>$P$3),1,0)) -> 1 | AH16: =IF(SUM($AC16:AG16)>0,1,IF(OR(H16<(1-$P$2),H16>$P$3),1,0)) -> 1 | AI16: =IF(SUM($AC16:AH16)>0,1,IF(OR(I16<(1-$P$2),I16>$P$3),1,0)) -> 1 | AJ16: =IF(SUM($AC16:AI16)>0,1,IF(OR(J16<(1-$P$2),J16>$P$3),1,0)) -> 1 | AK16: =IF(SUM($AC16:AJ16)>0,1,IF(OR(K16<(1-$P$2),K16>$P$3),1,0)) -> 1 | ... AV16: =IF(SUM($AC16:AU16)>0,1,IF(OR(V16<(1-$P$2),V16>$P$3),1,0)) -> 1
A17: =Data!A11 -> 3600000 | B17: =+B16+1 -> 8 | C17: {=PRODUCT(Data!$C11:C11/100+1)} -> 1.654 | D17: {=PRODUCT(Data!$C11:D11/100+1)} -> 2.178318 | E17: {=PRODUCT(Data!$C11:E11/100+1)} -> 2.7991386 | F17: {=PRODUCT(Data!$C11:F11/100+1)} -> 1.7858504 | G17: {=PRODUCT(Data!$C11:G11/100+1)} -> 2.137663 | H17: {=PRODUCT(Data!$C11:H11/100+1)} -> 3.4330868 | I17: {=PRODUCT(Data!$C11:I11/100+1)} -> 3.4605514 | J17: {=PRODUCT(Data!$C11:J11/100+1)} -> 2.4846759 | ... V17: {=PRODUCT(Data!$C11:V11/100+1)} -> 4.9378655 | X17: =IF(MIN(C17:V17)<(1-$P$2),"Realised Loss",IF(MAX(C17:V17)>$P$3,"Realised Profit","Unrealised")) -> Unrealised | Y17: =A17*V17 -> 17776316 | Z17: =IF(X17="Unrealised",0,OFFSET(B17,0,MATCH(1,AC17:AV17,0)))*A17 -> 0 | AC17: =IF(OR(C17<(1-$P$2),C17>$P$3),1,0) -> 0 | AD17: =IF(SUM($AC17:AC17)>0,1,IF(OR(D17<(1-$P$2),D17>$P$3),1,0)) -> 0 | AE17: =IF(SUM($AC17:AD17)>0,1,IF(OR(E17<(1-$P$2),E17>$P$3),1,0)) -> 0 | AF17: =IF(SUM($AC17:AE17)>0,1,IF(OR(F17<(1-$P$2),F17>$P$3),1,0)) -> 0 | AG17: =IF(SUM($AC17:AF17)>0,1,IF(OR(G17<(1-$P$2),G17>$P$3),1,0)) -> 0 | AH17: =IF(SUM($AC17:AG17)>0,1,IF(OR(H17<(1-$P$2),H17>$P$3),1,0)) -> 0 | AI17: =IF(SUM($AC17:AH17)>0,1,IF(OR(I17<(1-$P$2),I17>$P$3),1,0)) -> 0 | AJ17: =IF(SUM($AC17:AI17)>0,1,IF(OR(J17<(1-$P$2),J17>$P$3),1,0)) -> 0 | AK17: =IF(SUM($AC17:AJ17)>0,1,IF(OR(K17<(1-$P$2),K17>$P$3),1,0)) -> 0 | ... AV17: =IF(SUM($AC17:AU17)>0,1,IF(OR(V17<(1-$P$2),V17>$P$3),1,0)) -> 0
A18: =Data!A12 -> 2100000 | B18: =+B17+1 -> 9 | C18: {=PRODUCT(Data!$C12:C12/100+1)} -> 1.456 | D18: {=PRODUCT(Data!$C12:D12/100+1)} -> 1.658384 | E18: {=PRODUCT(Data!$C12:E12/100+1)} -> 2.6898988 | F18: {=PRODUCT(Data!$C12:F12/100+1)} -> 3.3704433 | G18: {=PRODUCT(Data!$C12:G12/100+1)} -> 3.680524 | H18: {=PRODUCT(Data!$C12:H12/100+1)} -> 3.0253908 | I18: {=PRODUCT(Data!$C12:I12/100+1)} -> 5.2520784 | J18: {=PRODUCT(Data!$C12:J12/100+1)} -> 7.6680344 | ... V18: {=PRODUCT(Data!$C12:V12/100+1)} -> 43.381886 | X18: =IF(MIN(C18:V18)<(1-$P$2),"Realised Loss",IF(MAX(C18:V18)>$P$3,"Realised Profit","Unrealised")) -> Realised Profit | Y18: =A18*V18 -> 91101961 | Z18: =IF(X18="Unrealised",0,OFFSET(B18,0,MATCH(1,AC18:AV18,0)))*A18 -> 48126651 | AC18: =IF(OR(C18<(1-$P$2),C18>$P$3),1,0) -> 0 | AD18: =IF(SUM($AC18:AC18)>0,1,IF(OR(D18<(1-$P$2),D18>$P$3),1,0)) -> 0 | AE18: =IF(SUM($AC18:AD18)>0,1,IF(OR(E18<(1-$P$2),E18>$P$3),1,0)) -> 0 | AF18: =IF(SUM($AC18:AE18)>0,1,IF(OR(F18<(1-$P$2),F18>$P$3),1,0)) -> 0 | AG18: =IF(SUM($AC18:AF18)>0,1,IF(OR(G18<(1-$P$2),G18>$P$3),1,0)) -> 0 | AH18: =IF(SUM($AC18:AG18)>0,1,IF(OR(H18<(1-$P$2),H18>$P$3),1,0)) -> 0 | AI18: =IF(SUM($AC18:AH18)>0,1,IF(OR(I18<(1-$P$2),I18>$P$3),1,0)) -> 0 | AJ18: =IF(SUM($AC18:AI18)>0,1,IF(OR(J18<(1-$P$2),J18>$P$3),1,0)) -> 0 | AK18: =IF(SUM($AC18:AJ18)>0,1,IF(OR(K18<(1-$P$2),K18>$P$3),1,0)) -> 0 | ... AV18: =IF(SUM($AC18:AU18)>0,1,IF(OR(V18<(1-$P$2),V18>$P$3),1,0)) -> 1
A19: =Data!A13 -> 1600000 | B19: =+B18+1 -> 10 | C19: {=PRODUCT(Data!$C13:C13/100+1)} -> 1.488 | D19: {=PRODUCT(Data!$C13:D13/100+1)} -> 1.684416 | E19: {=PRODUCT(Data!$C13:E13/100+1)} -> 2.0583564 | F19: {=PRODUCT(Data!$C13:F13/100+1)} -> 2.385635 | G19: {=PRODUCT(Data!$C13:G13/100+1)} -> 2.3546218 | H19: {=PRODUCT(Data!$C13:H13/100+1)} -> 2.1215142 | I19: {=PRODUCT(Data!$C13:I13/100+1)} -> 1.4044424 | J19: {=PRODUCT(Data!$C13:J13/100+1)} -> 2.1895257 | ... V19: {=PRODUCT(Data!$C13:V13/100+1)} -> 12.357806 | X19: =IF(MIN(C19:V19)<(1-$P$2),"Realised Loss",IF(MAX(C19:V19)>$P$3,"Realised Profit","Unrealised")) -> Unrealised | Y19: =A19*V19 -> 19772489 | Z19: =IF(X19="Unrealised",0,OFFSET(B19,0,MATCH(1,AC19:AV19,0)))*A19 -> 0 | AC19: =IF(OR(C19<(1-$P$2),C19>$P$3),1,0) -> 0 | AD19: =IF(SUM($AC19:AC19)>0,1,IF(OR(D19<(1-$P$2),D19>$P$3),1,0)) -> 0 | AE19: =IF(SUM($AC19:AD19)>0,1,IF(OR(E19<(1-$P$2),E19>$P$3),1,0)) -> 0 | AF19: =IF(SUM($AC19:AE19)>0,1,IF(OR(F19<(1-$P$2),F19>$P$3),1,0)) -> 0 | AG19: =IF(SUM($AC19:AF19)>0,1,IF(OR(G19<(1-$P$2),G19>$P$3),1,0)) -> 0 | AH19: =IF(SUM($AC19:AG19)>0,1,IF(OR(H19<(1-$P$2),H19>$P$3),1,0)) -> 0 | AI19: =IF(SUM($AC19:AH19)>0,1,IF(OR(I19<(1-$P$2),I19>$P$3),1,0)) -> 0 | AJ19: =IF(SUM($AC19:AI19)>0,1,IF(OR(J19<(1-$P$2),J19>$P$3),1,0)) -> 0 | AK19: =IF(SUM($AC19:AJ19)>0,1,IF(OR(K19<(1-$P$2),K19>$P$3),1,0)) -> 0 | ... AV19: =IF(SUM($AC19:AU19)>0,1,IF(OR(V19<(1-$P$2),V19>$P$3),1,0)) -> 0
A20: =Data!A14 -> 800000 | B20: =+B19+1 -> 11 | C20: {=PRODUCT(Data!$C14:C14/100+1)} -> 1.419 | D20: {=PRODUCT(Data!$C14:D14/100+1)} -> 1.765236 | E20: {=PRODUCT(Data!$C14:E14/100+1)} -> 1.5516424 | F20: {=PRODUCT(Data!$C14:F14/100+1)} -> 2.200229 | G20: {=PRODUCT(Data!$C14:G14/100+1)} -> 1.9141992 | H20: {=PRODUCT(Data!$C14:H14/100+1)} -> 3.1124879 | I20: {=PRODUCT(Data!$C14:I14/100+1)} -> 3.738098 | J20: {=PRODUCT(Data!$C14:J14/100+1)} -> 4.1829317 | ... V20: {=PRODUCT(Data!$C14:V14/100+1)} -> 31.671469 | X20: =IF(MIN(C20:V20)<(1-$P$2),"Realised Loss",IF(MAX(C20:V20)>$P$3,"Realised Profit","Unrealised")) -> Realised Profit | Y20: =A20*V20 -> 25337175 | Z20: =IF(X20="Unrealised",0,OFFSET(B20,0,MATCH(1,AC20:AV20,0)))*A20 -> 16231615 | AC20: =IF(OR(C20<(1-$P$2),C20>$P$3),1,0) -> 0 | AD20: =IF(SUM($AC20:AC20)>0,1,IF(OR(D20<(1-$P$2),D20>$P$3),1,0)) -> 0 | AE20: =IF(SUM($AC20:AD20)>0,1,IF(OR(E20<(1-$P$2),E20>$P$3),1,0)) -> 0 | AF20: =IF(SUM($AC20:AE20)>0,1,IF(OR(F20<(1-$P$2),F20>$P$3),1,0)) -> 0 | AG20: =IF(SUM($AC20:AF20)>0,1,IF(OR(G20<(1-$P$2),G20>$P$3),1,0)) -> 0 | AH20: =IF(SUM($AC20:AG20)>0,1,IF(OR(H20<(1-$P$2),H20>$P$3),1,0)) -> 0 | AI20: =IF(SUM($AC20:AH20)>0,1,IF(OR(I20<(1-$P$2),I20>$P$3),1,0)) -> 0 | AJ20: =IF(SUM($AC20:AI20)>0,1,IF(OR(J20<(1-$P$2),J20>$P$3),1,0)) -> 0 | AK20: =IF(SUM($AC20:AJ20)>0,1,IF(OR(K20<(1-$P$2),K20>$P$3),1,0)) -> 0 | ... AV20: =IF(SUM($AC20:AU20)>0,1,IF(OR(V20<(1-$P$2),V20>$P$3),1,0)) -> 1
A21: =Data!A15 -> 6300000 | B21: =+B20+1 -> 12 | C21: {=PRODUCT(Data!$C15:C15/100+1)} -> 1.091 | D21: {=PRODUCT(Data!$C15:D15/100+1)} -> 0.650236 | E21: {=PRODUCT(Data!$C15:E15/100+1)} -> 0.93959102 | F21: {=PRODUCT(Data!$C15:F15/100+1)} -> 0.57690889 | G21: {=PRODUCT(Data!$C15:G15/100+1)} -> 1.0015138 | H21: {=PRODUCT(Data!$C15:H15/100+1)} -> 1.089647 | I21: {=PRODUCT(Data!$C15:I15/100+1)} -> 1.0580473 | J21: {=PRODUCT(Data!$C15:J15/100+1)} -> 0.96493912 | ... V21: {=PRODUCT(Data!$C15:V15/100+1)} -> 5.8397552 | X21: =IF(MIN(C21:V21)<(1-$P$2),"Realised Loss",IF(MAX(C21:V21)>$P$3,"Realised Profit","Unrealised")) -> Realised Loss | Y21: =A21*V21 -> 36790458 | Z21: =IF(X21="Unrealised",0,OFFSET(B21,0,MATCH(1,AC21:AV21,0)))*A21 -> 4096486.8 | AC21: =IF(OR(C21<(1-$P$2),C21>$P$3),1,0) -> 0 | AD21: =IF(SUM($AC21:AC21)>0,1,IF(OR(D21<(1-$P$2),D21>$P$3),1,0)) -> 1 | AE21: =IF(SUM($AC21:AD21)>0,1,IF(OR(E21<(1-$P$2),E21>$P$3),1,0)) -> 1 | AF21: =IF(SUM($AC21:AE21)>0,1,IF(OR(F21<(1-$P$2),F21>$P$3),1,0)) -> 1 | AG21: =IF(SUM($AC21:AF21)>0,1,IF(OR(G21<(1-$P$2),G21>$P$3),1,0)) -> 1 | AH21: =IF(SUM($AC21:AG21)>0,1,IF(OR(H21<(1-$P$2),H21>$P$3),1,0)) -> 1 | AI21: =IF(SUM($AC21:AH21)>0,1,IF(OR(I21<(1-$P$2),I21>$P$3),1,0)) -> 1 | AJ21: =IF(SUM($AC21:AI21)>0,1,IF(OR(J21<(1-$P$2),J21>$P$3),1,0)) -> 1 | AK21: =IF(SUM($AC21:AJ21)>0,1,IF(OR(K21<(1-$P$2),K21>$P$3),1,0)) -> 1 | ... AV21: =IF(SUM($AC21:AU21)>0,1,IF(OR(V21<(1-$P$2),V21>$P$3),1,0)) -> 1
A22: =Data!A16 -> 7900000 | B22: =+B21+1 -> 13 | C22: {=PRODUCT(Data!$C16:C16/100+1)} -> 1.716 | D22: {=PRODUCT(Data!$C16:D16/100+1)} -> 2.000856 | E22: {=PRODUCT(Data!$C16:E16/100+1)} -> 2.0808902 | F22: {=PRODUCT(Data!$C16:F16/100+1)} -> 3.3523142 | G22: {=PRODUCT(Data!$C16:G16/100+1)} -> 2.9869119 | H22: {=PRODUCT(Data!$C16:H16/100+1)} -> 4.3668652 | I22: {=PRODUCT(Data!$C16:I16/100+1)} -> 2.720557 | J22: {=PRODUCT(Data!$C16:J16/100+1)} -> 4.6031825 | ... V22: {=PRODUCT(Data!$C16:V16/100+1)} -> 12.843847 | X22: =IF(MIN(C22:V22)<(1-$P$2),"Realised Loss",IF(MAX(C22:V22)>$P$3,"Realised Profit","Unrealised")) -> Unrealised | Y22: =A22*V22 -> 1.0146639e+08 | Z22: =IF(X22="Unrealised",0,OFFSET(B22,0,MATCH(1,AC22:AV22,0)))*A22 -> 0 | AC22: =IF(OR(C22<(1-$P$2),C22>$P$3),1,0) -> 0 | AD22: =IF(SUM($AC22:AC22)>0,1,IF(OR(D22<(1-$P$2),D22>$P$3),1,0)) -> 0 | AE22: =IF(SUM($AC22:AD22)>0,1,IF(OR(E22<(1-$P$2),E22>$P$3),1,0)) -> 0 | AF22: =IF(SUM($AC22:AE22)>0,1,IF(OR(F22<(1-$P$2),F22>$P$3),1,0)) -> 0 | AG22: =IF(SUM($AC22:AF22)>0,1,IF(OR(G22<(1-$P$2),G22>$P$3),1,0)) -> 0 | AH22: =IF(SUM($AC22:AG22)>0,1,IF(OR(H22<(1-$P$2),H22>$P$3),1,0)) -> 0 | AI22: =IF(SUM($AC22:AH22)>0,1,IF(OR(I22<(1-$P$2),I22>$P$3),1,0)) -> 0 | AJ22: =IF(SUM($AC22:AI22)>0,1,IF(OR(J22<(1-$P$2),J22>$P$3),1,0)) -> 0 | AK22: =IF(SUM($AC22:AJ22)>0,1,IF(OR(K22<(1-$P$2),K22>$P$3),1,0)) -> 0 | ... AV22: =IF(SUM($AC22:AU22)>0,1,IF(OR(V22<(1-$P$2),V22>$P$3),1,0)) -> 0
... A134: =Data!A128 -> 700000 | B134: =+B133+1 -> 125 | C134: {=PRODUCT(Data!$C128:C128/100+1)} -> 0.619 | D134: {=PRODUCT(Data!$C128:D128/100+1)} -> 0.350973 | E134: {=PRODUCT(Data!$C128:E128/100+1)} -> 0.51101669 | F134: {=PRODUCT(Data!$C128:F128/100+1)} -> 0.69293863 | G134: {=PRODUCT(Data!$C128:G128/100+1)} -> 0.81420289 | H134: {=PRODUCT(Data!$C128:H128/100+1)} -> 0.79059101 | I134: {=PRODUCT(Data!$C128:I128/100+1)} -> 0.72180959 | J134: {=PRODUCT(Data!$C128:J128/100+1)} -> 1.1505645 | ... V134: {=PRODUCT(Data!$C128:V128/100+1)} -> 1.8681205 | X134: =IF(MIN(C134:V134)<(1-$P$2),"Realised Loss",IF(MAX(C134:V134)>$P$3,"Realised Profit","Unrealised")) -> Realised Loss | Y134: =A134*V134 -> 1307684.3 | Z134: =IF(X134="Unrealised",0,OFFSET(B134,0,MATCH(1,AC134:AV134,0)))*A134 -> 433300 | AC134: =IF(OR(C134<(1-$P$2),C134>$P$3),1,0) -> 1 | AD134: =IF(SUM($AC134:AC134)>0,1,IF(OR(D134<(1-$P$2),D134>$P$3),1,0)) -> 1 | AE134: =IF(SUM($AC134:AD134)>0,1,IF(OR(E134<(1-$P$2),E134>$P$3),1,0)) -> 1 | AF134: =IF(SUM($AC134:AE134)>0,1,IF(OR(F134<(1-$P$2),F134>$P$3),1,0)) -> 1 | AG134: =IF(SUM($AC134:AF134)>0,1,IF(OR(G134<(1-$P$2),G134>$P$3),1,0)) -> 1 | AH134: =IF(SUM($AC134:AG134)>0,1,IF(OR(H134<(1-$P$2),H134>$P$3),1,0)) -> 1 | AI134: =IF(SUM($AC134:AH134)>0,1,IF(OR(I134<(1-$P$2),I134>$P$3),1,0)) -> 1 | AJ134: =IF(SUM($AC134:AI134)>0,1,IF(OR(J134<(1-$P$2),J134>$P$3),1,0)) -> 1 | AK134: =IF(SUM($AC134:AJ134)>0,1,IF(OR(K134<(1-$P$2),K134>$P$3),1,0)) -> 1 | ... AV134: =IF(SUM($AC134:AU134)>0,1,IF(OR(V134<(1-$P$2),V134>$P$3),1,0)) -> 1

Sheet 70-70 Formula
E1: No of Businesses | F1: Amount Invested in INR Lacs | G1: Amount Withdrawn | H1: Current Valuation | I1: Profit/Loss | J1: Forgone Profit/Loss | O1: Exit Conditions
D2: Unrealised | E2: =COUNTIFS($X$10:$X$134,D2) -> 99 | F2: =SUMIFS($A$10:$A$134,$X$10:$X$134,D2)/100000 -> 4886 | G2: =SUMIFS($Z$10:$Z$134,$X$10:$X$134,D2)/100000 -> 0 | H2: =SUMIFS($Y$10:$Y$134,$X$10:$X$134,D2)/100000 -> 47017.809 | I2: =H2-F2 -> 42131.809 | O2: Valuation Floor | P2: 0.7
D3: Realised Loss | E3: =COUNTIFS($X$10:$X$134,D3) -> 22 | F3: =SUMIFS($A$10:$A$134,$X$10:$X$134,D3)/100000 -> 1283 | G3: =SUMIFS($Z$10:$Z$134,$X$10:$X$134,D3)/100000 -> 320.57728 | H3: =SUMIFS($Y$10:$Y$134,$X$10:$X$134,D3)/100000 -> 2418.4621 | I3: =G3-F3 -> -962.42272 | J3: =H3-G3 -> 2097.8848 | O3: Valuation Cap | P3: 70
D4: Realised Profit | E4: =COUNTIFS($X$10:$X$134,D4) -> 4 | F4: =SUMIFS($A$10:$A$134,$X$10:$X$134,D4)/100000 -> 261 | G4: =SUMIFS($Z$10:$Z$134,$X$10:$X$134,D4)/100000 -> 21176.244 | H4: =SUMIFS($Y$10:$Y$134,$X$10:$X$134,D4)/100000 -> 23501.459 | I4: =G4-F4 -> 20915.244 | J4: =H4-G4 -> 2325.2155
D5: Total | E5: =SUM(E2:E4) -> 125 | F5: =SUM(F2:F4) -> 6430 | G5: =SUM(G2:G4) -> 21496.821 | H5: =SUM(H2:H4) -> 72937.731 | I5: =SUM(I2:I4) -> 62084.63 | J5: =SUM(J2:J4) -> 4423.1004
D6: Checks | E6: =COUNT(B10:B134)-E5 -> 0 | F6: =SUM(A10:A134)/100000-F5 -> 0 | G6: =SUM(Z10:Z134)/100000-G5 -> 0 | H6: =SUM(Y10:Y134)/100000-H5 -> 0
D7: Overall Check | E7: =H5-I5-J5-F5 -> 0
C8: Valuation at end of Quarter | AC8: Exit Identifier
A9: =Data!A3 -> Investment in INR | B9: Business | C9: Q1 | D9: Q2 | E9: Q3 | F9: Q4 | G9: Q5 | H9: Q6 | I9: Q7 | J9: Q8 | K9: Q9 | L9: Q10 | M9: Q11 | N9: Q12 | O9: Q13 | P9: Q14 | Q9: Q15 | R9: Q16 | S9: Q17 | T9: Q18 | U9: Q19 | V9: Q20 | X9: Current Status | Y9: Current Valuation | Z9: Realised Value | AC9: Q1 | AD9: Q2 | AE9: Q3 | AF9: Q4 | AG9: Q5 | AH9: Q6 | AI9: Q7 | AJ9: Q8 | AK9: Q9 | AL9: Q10 | AM9: Q11 | AN9: Q12 | AO9: Q13 | AP9: Q14 | AQ9: Q15 | AR9: Q16 | AS9: Q17 | AT9: Q18 | AU9: Q19 | AV9: Q20
A10: =Data!A4 -> 2700000 | B10: 1 | C10: {=PRODUCT(Data!$C4:C4/100+1)} -> 0.736 | D10: {=PRODUCT(Data!$C4:D4/100+1)} -> 0.575552 | E10: {=PRODUCT(Data!$C4:E4/100+1)} -> 0.6618848 | F10: {=PRODUCT(Data!$C4:F4/100+1)} -> 1.0040792 | G10: {=PRODUCT(Data!$C4:G4/100+1)} -> 1.4930658 | H10: {=PRODUCT(Data!$C4:H4/100+1)} -> 2.3978637 | I10: {=PRODUCT(Data!$C4:I4/100+1)} -> 1.6761067 | J10: {=PRODUCT(Data!$C4:J4/100+1)} -> 1.3442376 | ... V10: {=PRODUCT(Data!$C4:V4/100+1)} -> 4.3983702 | X10: =IF(MIN(C10:V10)<(1-$P$2),"Realised Loss",IF(MAX(C10:V10)>$P$3,"Realised Profit","Unrealised")) -> Unrealised | Y10: =A10*V10 -> 11875599 | Z10: =IF(X10="Unrealised",0,OFFSET(B10,0,MATCH(1,AC10:AV10,0)))*A10 -> 0 | AC10: =IF(OR(C10<(1-$P$2),C10>$P$3),1,0) -> 0 | AD10: =IF(SUM($AC10:AC10)>0,1,IF(OR(D10<(1-$P$2),D10>$P$3),1,0)) -> 0 | AE10: =IF(SUM($AC10:AD10)>0,1,IF(OR(E10<(1-$P$2),E10>$P$3),1,0)) -> 0 | AF10: =IF(SUM($AC10:AE10)>0,1,IF(OR(F10<(1-$P$2),F10>$P$3),1,0)) -> 0 | AG10: =IF(SUM($AC10:AF10)>0,1,IF(OR(G10<(1-$P$2),G10>$P$3),1,0)) -> 0 | AH10: =IF(SUM($AC10:AG10)>0,1,IF(OR(H10<(1-$P$2),H10>$P$3),1,0)) -> 0 | AI10: =IF(SUM($AC10:AH10)>0,1,IF(OR(I10<(1-$P$2),I10>$P$3),1,0)) -> 0 | AJ10: =IF(SUM($AC10:AI10)>0,1,IF(OR(J10<(1-$P$2),J10>$P$3),1,0)) -> 0 | AK10: =IF(SUM($AC10:AJ10)>0,1,IF(OR(K10<(1-$P$2),K10>$P$3),1,0)) -> 0 | ... AV10: =IF(SUM($AC10:AU10)>0,1,IF(OR(V10<(1-$P$2),V10>$P$3),1,0)) -> 0
A11: =Data!A5 -> 9200000 | B11: =+B10+1 -> 2 | C11: {=PRODUCT(Data!$C5:C5/100+1)} -> 1.581 | D11: {=PRODUCT(Data!$C5:D5/100+1)} -> 2.330394 | E11: {=PRODUCT(Data!$C5:E5/100+1)} -> 3.099424 | F11: {=PRODUCT(Data!$C5:F5/100+1)} -> 2.6933995 | G11: {=PRODUCT(Data!$C5:G5/100+1)} -> 1.7641767 | H11: {=PRODUCT(Data!$C5:H5/100+1)} -> 2.4416205 | I11: {=PRODUCT(Data!$C5:I5/100+1)} -> 4.1727294 | J11: {=PRODUCT(Data!$C5:J5/100+1)} -> 3.8347383 | ... V11: {=PRODUCT(Data!$C5:V5/100+1)} -> 18.752518 | X11: =IF(MIN(C11:V11)<(1-$P$2),"Realised Loss",IF(MAX(C11:V11)>$P$3,"Realised Profit","Unrealised")) -> Unrealised | Y11: =A11*V11 -> 1.7252316e+08 | Z11: =IF(X11="Unrealised",0,OFFSET(B11,0,MATCH(1,AC11:AV11,0)))*A11 -> 0 | AC11: =IF(OR(C11<(1-$P$2),C11>$P$3),1,0) -> 0 | AD11: =IF(SUM($AC11:AC11)>0,1,IF(OR(D11<(1-$P$2),D11>$P$3),1,0)) -> 0 | AE11: =IF(SUM($AC11:AD11)>0,1,IF(OR(E11<(1-$P$2),E11>$P$3),1,0)) -> 0 | AF11: =IF(SUM($AC11:AE11)>0,1,IF(OR(F11<(1-$P$2),F11>$P$3),1,0)) -> 0 | AG11: =IF(SUM($AC11:AF11)>0,1,IF(OR(G11<(1-$P$2),G11>$P$3),1,0)) -> 0 | AH11: =IF(SUM($AC11:AG11)>0,1,IF(OR(H11<(1-$P$2),H11>$P$3),1,0)) -> 0 | AI11: =IF(SUM($AC11:AH11)>0,1,IF(OR(I11<(1-$P$2),I11>$P$3),1,0)) -> 0 | AJ11: =IF(SUM($AC11:AI11)>0,1,IF(OR(J11<(1-$P$2),J11>$P$3),1,0)) -> 0 | AK11: =IF(SUM($AC11:AJ11)>0,1,IF(OR(K11<(1-$P$2),K11>$P$3),1,0)) -> 0 | ... AV11: =IF(SUM($AC11:AU11)>0,1,IF(OR(V11<(1-$P$2),V11>$P$3),1,0)) -> 0
A12: =Data!A6 -> 2700000 | B12: =+B11+1 -> 3 | C12: {=PRODUCT(Data!$C6:C6/100+1)} -> 0.667 | D12: {=PRODUCT(Data!$C6:D6/100+1)} -> 0.455561 | E12: {=PRODUCT(Data!$C6:E6/100+1)} -> 0.26012533 | F12: {=PRODUCT(Data!$C6:F6/100+1)} -> 0.13058292 | G12: {=PRODUCT(Data!$C6:G6/100+1)} -> 0.067903116 | H12: {=PRODUCT(Data!$C6:H6/100+1)} -> 0.054186687 | I12: {=PRODUCT(Data!$C6:I6/100+1)} -> 0.037172067 | J12: {=PRODUCT(Data!$C6:J6/100+1)} -> 0.061928664 | ... V12: {=PRODUCT(Data!$C6:V6/100+1)} -> 0.095665485 | X12: =IF(MIN(C12:V12)<(1-$P$2),"Realised Loss",IF(MAX(C12:V12)>$P$3,"Realised Profit","Unrealised")) -> Realised Loss | Y12: =A12*V12 -> 258296.81 | Z12: =IF(X12="Unrealised",0,OFFSET(B12,0,MATCH(1,AC12:AV12,0)))*A12 -> 702338.39 | AC12: =IF(OR(C12<(1-$P$2),C12>$P$3),1,0) -> 0 | AD12: =IF(SUM($AC12:AC12)>0,1,IF(OR(D12<(1-$P$2),D12>$P$3),1,0)) -> 0 | AE12: =IF(SUM($AC12:AD12)>0,1,IF(OR(E12<(1-$P$2),E12>$P$3),1,0)) -> 1 | AF12: =IF(SUM($AC12:AE12)>0,1,IF(OR(F12<(1-$P$2),F12>$P$3),1,0)) -> 1 | AG12: =IF(SUM($AC12:AF12)>0,1,IF(OR(G12<(1-$P$2),G12>$P$3),1,0)) -> 1 | AH12: =IF(SUM($AC12:AG12)>0,1,IF(OR(H12<(1-$P$2),H12>$P$3),1,0)) -> 1 | AI12: =IF(SUM($AC12:AH12)>0,1,IF(OR(I12<(1-$P$2),I12>$P$3),1,0)) -> 1 | AJ12: =IF(SUM($AC12:AI12)>0,1,IF(OR(J12<(1-$P$2),J12>$P$3),1,0)) -> 1 | AK12: =IF(SUM($AC12:AJ12)>0,1,IF(OR(K12<(1-$P$2),K12>$P$3),1,0)) -> 1 | ... AV12: =IF(SUM($AC12:AU12)>0,1,IF(OR(V12<(1-$P$2),V12>$P$3),1,0)) -> 1
A13: =Data!A7 -> 5600000 | B13: =+B12+1 -> 4 | C13: {=PRODUCT(Data!$C7:C7/100+1)} -> 1.128 | D13: {=PRODUCT(Data!$C7:D7/100+1)} -> 1.239672 | E13: {=PRODUCT(Data!$C7:E7/100+1)} -> 1.5471107 | F13: {=PRODUCT(Data!$C7:F7/100+1)} -> 2.376362 | G13: {=PRODUCT(Data!$C7:G7/100+1)} -> 3.3387886 | H13: {=PRODUCT(Data!$C7:H7/100+1)} -> 2.7845497 | I13: {=PRODUCT(Data!$C7:I7/100+1)} -> 2.2220706 | J13: {=PRODUCT(Data!$C7:J7/100+1)} -> 3.2642218 | ... V13: {=PRODUCT(Data!$C7:V7/100+1)} -> 1.1623368 | X13: =IF(MIN(C13:V13)<(1-$P$2),"Realised Loss",IF(MAX(C13:V13)>$P$3,"Realised Profit","Unrealised")) -> Unrealised | Y13: =A13*V13 -> 6509085.8 | Z13: =IF(X13="Unrealised",0,OFFSET(B13,0,MATCH(1,AC13:AV13,0)))*A13 -> 0 | AC13: =IF(OR(C13<(1-$P$2),C13>$P$3),1,0) -> 0 | AD13: =IF(SUM($AC13:AC13)>0,1,IF(OR(D13<(1-$P$2),D13>$P$3),1,0)) -> 0 | AE13: =IF(SUM($AC13:AD13)>0,1,IF(OR(E13<(1-$P$2),E13>$P$3),1,0)) -> 0 | AF13: =IF(SUM($AC13:AE13)>0,1,IF(OR(F13<(1-$P$2),F13>$P$3),1,0)) -> 0 | AG13: =IF(SUM($AC13:AF13)>0,1,IF(OR(G13<(1-$P$2),G13>$P$3),1,0)) -> 0 | AH13: =IF(SUM($AC13:AG13)>0,1,IF(OR(H13<(1-$P$2),H13>$P$3),1,0)) -> 0 | AI13: =IF(SUM($AC13:AH13)>0,1,IF(OR(I13<(1-$P$2),I13>$P$3),1,0)) -> 0 | AJ13: =IF(SUM($AC13:AI13)>0,1,IF(OR(J13<(1-$P$2),J13>$P$3),1,0)) -> 0 | AK13: =IF(SUM($AC13:AJ13)>0,1,IF(OR(K13<(1-$P$2),K13>$P$3),1,0)) -> 0 | ... AV13: =IF(SUM($AC13:AU13)>0,1,IF(OR(V13<(1-$P$2),V13>$P$3),1,0)) -> 0
A14: =Data!A8 -> 6900000 | B14: =+B13+1 -> 5 | C14: {=PRODUCT(Data!$C8:C8/100+1)} -> 1.616 | D14: {=PRODUCT(Data!$C8:D8/100+1)} -> 1.178064 | E14: {=PRODUCT(Data!$C8:E8/100+1)} -> 1.4101426 | F14: {=PRODUCT(Data!$C8:F8/100+1)} -> 0.79955086 | G14: {=PRODUCT(Data!$C8:G8/100+1)} -> 0.55408875 | H14: {=PRODUCT(Data!$C8:H8/100+1)} -> 0.35904951 | I14: {=PRODUCT(Data!$C8:I8/100+1)} -> 0.31488642 | J14: {=PRODUCT(Data!$C8:J8/100+1)} -> 0.54191952 | ... V14: {=PRODUCT(Data!$C8:V8/100+1)} -> 1.2737703 | X14: =IF(MIN(C14:V14)<(1-$P$2),"Realised Loss",IF(MAX(C14:V14)>$P$3,"Realised Profit","Unrealised")) -> Realised Loss | Y14: =A14*V14 -> 8789014.8 | Z14: =IF(X14="Unrealised",0,OFFSET(B14,0,MATCH(1,AC14:AV14,0)))*A14 -> 1636600.1 | AC14: =IF(OR(C14<(1-$P$2),C14>$P$3),1,0) -> 0 | AD14: =IF(SUM($AC14:AC14)>0,1,IF(OR(D14<(1-$P$2),D14>$P$3),1,0)) -> 0 | AE14: =IF(SUM($AC14:AD14)>0,1,IF(OR(E14<(1-$P$2),E14>$P$3),1,0)) -> 0 | AF14: =IF(SUM($AC14:AE14)>0,1,IF(OR(F14<(1-$P$2),F14>$P$3),1,0)) -> 0 | AG14: =IF(SUM($AC14:AF14)>0,1,IF(OR(G14<(1-$P$2),G14>$P$3),1,0)) -> 0 | AH14: =IF(SUM($AC14:AG14)>0,1,IF(OR(H14<(1-$P$2),H14>$P$3),1,0)) -> 0 | AI14: =IF(SUM($AC14:AH14)>0,1,IF(OR(I14<(1-$P$2),I14>$P$3),1,0)) -> 0 | AJ14: =IF(SUM($AC14:AI14)>0,1,IF(OR(J14<(1-$P$2),J14>$P$3),1,0)) -> 0 | AK14: =IF(SUM($AC14:AJ14)>0,1,IF(OR(K14<(1-$P$2),K14>$P$3),1,0)) -> 0 | ... AV14: =IF(SUM($AC14:AU14)>0,1,IF(OR(V14<(1-$P$2),V14>$P$3),1,0)) -> 1
A15: =Data!A9 -> 1600000 | B15: =+B14+1 -> 6 | C15: {=PRODUCT(Data!$C9:C9/100+1)} -> 1.126 | D15: {=PRODUCT(Data!$C9:D9/100+1)} -> 0.987502 | E15: {=PRODUCT(Data!$C9:E9/100+1)} -> 1.0240396 | F15: {=PRODUCT(Data!$C9:F9/100+1)} -> 1.2145109 | G15: {=PRODUCT(Data!$C9:G9/100+1)} -> 0.8112933 | H15: {=PRODUCT(Data!$C9:H9/100+1)} -> 1.3832551 | I15: {=PRODUCT(Data!$C9:I9/100+1)} -> 1.0471241 | J15: {=PRODUCT(Data!$C9:J9/100+1)} -> 0.85654751 | ... V15: {=PRODUCT(Data!$C9:V9/100+1)} -> 0.32872846 | X15: =IF(MIN(C15:V15)<(1-$P$2),"Realised Loss",IF(MAX(C15:V15)>$P$3,"Realised Profit","Unrealised")) -> Realised Loss | Y15: =A15*V15 -> 525965.53 | Z15: =IF(X15="Unrealised",0,OFFSET(B15,0,MATCH(1,AC15:AV15,0)))*A15 -> 391469.91 | AC15: =IF(OR(C15<(1-$P$2),C15>$P$3),1,0) -> 0 | AD15: =IF(SUM($AC15:AC15)>0,1,IF(OR(D15<(1-$P$2),D15>$P$3),1,0)) -> 0 | AE15: =IF(SUM($AC15:AD15)>0,1,IF(OR(E15<(1-$P$2),E15>$P$3),1,0)) -> 0 | AF15: =IF(SUM($AC15:AE15)>0,1,IF(OR(F15<(1-$P$2),F15>$P$3),1,0)) -> 0 | AG15: =IF(SUM($AC15:AF15)>0,1,IF(OR(G15<(1-$P$2),G15>$P$3),1,0)) -> 0 | AH15: =IF(SUM($AC15:AG15)>0,1,IF(OR(H15<(1-$P$2),H15>$P$3),1,0)) -> 0 | AI15: =IF(SUM($AC15:AH15)>0,1,IF(OR(I15<(1-$P$2),I15>$P$3),1,0)) -> 0 | AJ15: =IF(SUM($AC15:AI15)>0,1,IF(OR(J15<(1-$P$2),J15>$P$3),1,0)) -> 0 | AK15: =IF(SUM($AC15:AJ15)>0,1,IF(OR(K15<(1-$P$2),K15>$P$3),1,0)) -> 0 | ... AV15: =IF(SUM($AC15:AU15)>0,1,IF(OR(V15<(1-$P$2),V15>$P$3),1,0)) -> 1
