Workbook
Name Ann_Inst: [1]Parameters!$F$7
Name COGS: [1]Parameters!$B$12:$C$14
Name Disc_DPP_A: [1]Parameters!$C$19
Name Disc_DPP_B: [1]Parameters!$F$16
Name Disc_NPV_A: [1]Parameters!$C$18
Name Disc_NPV_B: [1]Parameters!$F$15
Name Guarantee: [1]Parameters!$C$16
Name Inc_Roy: [1]Parameters!$C$9
Name Infl_Criteria: [1]Parameters!$I$5:$J$7
Name Inflation: [1]Parameters!$I$10:$J$33
Name Int_Cost_B: [1]Parameters!$F$9
Name Int_Rate: [1]Parameters!$F$4
Name Int_Rev_A: [1]Parameters!$C$5
Name Int_Roy: [1]Parameters!$C$8
Name Invt_A: [1]Parameters!$C$2
Name Invt_B: [1]Parameters!$F$2
Name Loan_Amt: [1]Parameters!$F$3
Name Loan_Term: [1]Parameters!$F$5
Name Rev_Per_B: [1]Parameters!$F$14
Name Tax_A: [1]Parameters!$C$21
Name Tax_B: [1]Parameters!$F$18

Sheet Audit_Trail
A2: Financial Projections of Bank for the First Year
A4: Purpose
A5: The bank has received a license to commence the banking operations in the country. The bank has reached out to us to help them evaluate the following: a) Expected profit of the bank at the end of first year b) Whether the expected net assets at the end of the first year will be sufficient to meet the regulatory requirement of 180% of the required capital c) Impact of regulatory draft proposal on a) and b) at the end of first year This spreadsheet does the following: • Performs checks on the data provided for evaluation. • Calculates the customer level projections, expected profit, net assets, required capital and meeting regulatory requirement before and after the regulatory draft proposal for the first year.
A7: Data
A8: Following data has been provided: The bank has provided the following information: • Details regarding the calculation of interest on loan, initial investment, interest rate on deposit, reverse repo rate, cost of banking operations, commission on insurance and its cost - these are tabulated in "Parameters" sheet • Details regarding calculation of probability of default, expected loan default amount, required capital, net assets and regulatory requirement and details of draft regulatory proposal - these are tabulated in "Parameters" sheet • Customer and Loan information about 400 customers namely, age, gender, bank staff, loan type and loan amount - these are tabulated in "Data" sheet • Age wise premium rate data for insurance - these are tabulated in "Data" sheet In addition, we have also received 400 random numbers to calculate the probability of default. These numbers have been generated from Noraml (0,1) distribution. - these are tabulated in "Data" sheet
A10: Checks on Customer and Loan Information: Check on Age of Customer: Age of 400 customers has been checked to ensure that there are no negative, blank, zero or very high value using IF function and it was fine. Check on Gender of Customer: Gender of 400 customers has been checked to ensure that are no blank value or value other than F or M using IF function. The error was found and the following revisions were done in "Revised_Data" sheet: Value other than F or M was changed to previous customer's gender. Check on Type of Loan: Type of Loan of 400 customers has been checked to ensure that there are no blank value or other than loans provided by the bank using IF function. The error was found and the following revisions were done in "Revised_Data" sheet: Blank value was changed to previous customer's type of loan. Check on Loan amount: Loan amount of 400 customers has been checked to ensure that there are no negative, blank, zero or very high value using IF function. The error was found and the following revisions were done in "Revised_Data" sheet: Negative value was converted to positive value and blank value was changed to previous customer's loan amount. Check on Bank Staff: Bank Staff details of 400 customers has been checked to ensure that there are no blank value or value than Yes or No using IF function. The error was found and the following revisions were done in "Revised_Data" sheet: Blank value was changed to previous customer's bank staff value. The above data checks were again performed on Revised Data in "Revised_Data_Checks" and it was fine.
A12: Checks on Premium Rate Data for Insurance: Check on Age in Premium Rate Data: Age has been checked to ensure that they are increasing by 1 year using IF function and it was fine. Check on Premium Rate of Male Customer: Premium Rate of male customers has been checked to ensure that are no blank, negative, zero or very high value and premium rate increases with age using IF function. The error was found and the following revisions were done in "Revised_Data" sheet: Negative value was converted to positive value and premium rate for the current age which was lower than premium rate of previous age was changed to average of previous year and next year's premium rate. Check on Age in Customer and Premium Rate Data: The age of customers was checked with age in premium rate data using VLOOKUP and IF function and it was fine. The above data checks were again performed on Revised Data in "Revised_Data_Checks" and it was fine. The age wise premium rate for female customers has been calculated in cell G5:G47 in "Parameters" sheet wherein rate till 20 years is same as rate of male customer at age 18 years and thereafter same as rate of male customer which is younger by 3 years using VLOOKUP and IF function. The reasonalbility check has been performed in cell I5:I47 in "Parameters" sheet wherein premium rate of female customer is equal or lower than corresponding premium rate of male customer.
A14: Random Number Checks: Graphical Checks A histogram has been prepared to check normal distribution using a graphical approach. • In cell AD10:AD24, cumulative frequency has been computed using COUNTIF function in excel. • In cell AE10:AE24, frequency for each range has been calculated. • A Column chart has been plotted for the summarized frequency values and polynomial-trendline added to the same.
A16: • As can be seen above, the data when plotted on a graph forms a bell shape, confirming adherence to a normal distribution
A18: Assumptions
A19: Following assumptions have been made to evaluate the opportunities: • Apart from the data errors discovered, the data provided by the bank is correct and can be used for evaluation. • The annual projection for the first year will be sufficient for evaluation. • All the cashflows except initial investment, sanction of loan and receipt of deposit will take place at the end of the year. • The random numbers provided are suitable and can be used for calculation of probablity of default. • There will be no changes in interest rate on loan, deposit and initial investment that will be used for evaluation. • The bank will be able to offer the interest rate based on the calculation approach shared. • The bank will be able to attract equivalent amount of deposits at the weighted interest rate on loan less 5%. • The formula for calculation of probability of default will not change. • The calculation approach and formula for expected loan default amount, provisions and required capital will not change. • The premium rate for male customers will increase with increase in age. • The premium rate and commission rate agreed with insurance company will not change. • The probability of allocation of insurance to staff and probability of customer availing insurance if promoted by Staff A or B will not change. • The changes proposed in draft regulatory proposal will not further change. • The interest amount on loan, deposit and initial investment will be received at the end of the first year. • The defaults on loan if any will appear after the receipt of first year interest amount and no additional charges are expected to be incurred on loan recovery. • The expenses provided for the first year are inclusive of implied inflation. • There will be no additional revenue or additional cost involved for the bank. • No loans by new customers, top-ups and prepayment by existing customers will be provided by the bank. • The deposits cannot be redeemed or increased by the customers during the first year and no new customers have provided the deposit during the first year.
A21: Cust_Level_Projections
... A68: In column I, resonability checks have been performed between values after draft regulatory proposal and values before draft regulatory proposal.

Sheet Data
B1: Customer and Loan Information | J1: Premium Rate Data for Insurance (per 1000 SA)
B3: Name of Customer | C3: Age of Customer | D3: Gender of Customer | E3: Type of Loan | F3: Loan Amount | G3: Bank Staff | H3: Random Number | J3: Age of Customer | K3: Premium Rate for Male Customer
B4: ACOSTA | C4: 22 | D4: F | E4: Education Loan | F4: 14000000 | G4: No | H4: -1.1106447 | J4: 18 | K4: 3.01
B5: ADAMS | C5: 58 | D5: F | E5: Education Loan | F5: 9000000 | G5: No | H5: 1.17782 | J5: 19 | K5: 3.085
B6: AGUILAR | C6: 19 | D6: M | E6: Education Loan | F6: 10000000 | G6: No | H6: 0.83217426 | J6: 20 | K6: 3.162
B7: AGUIRRE | C7: 32 | D7: M | E7: Personal Loan | F7: 12000000 | G7: No | H7: 0.6196113 | J7: 21 | K7: 3.241
B8: ALEXANDER | C8: 22 | D8: M | E8: Education Loan | F8: 8000000 | G8: No | H8: -2.0099079 | J8: 22 | K8: 3.322
B9: ALLEN | C9: 37 | D9: M | E9: Personal Loan | F9: 12000000 | G9: No | H9: -0.9369264 | J9: 23 | K9: 3.405
B10: ALVARADO | C10: 34 | D10: M | E10: Education Loan | F10: 12000000 | G10: No | H10: 0.77959402 | J10: 24 | K10: 3.49
B11: ALVAREZ | C11: 28 | D11: M | E11: Vehicle Loan | F11: 12000000 | G11: No | H11: 1.5913996 | J11: 25 | K11: 3.577
B12: ANDERSON | C12: 47 | D12: M | E12: Education Loan | F12: 13000000 | G12: No | H12: -0.84163822 | J12: 26 | K12: 3.666
B13: ANDREWS | C13: 40 | D13: M | E13: Home Loan | F13: 9000000 | G13: No | H13: -0.29295495 | J13: 27 | K13: 3.758
B14: ARMSTRONG | C14: 29 | D14: M | E14: Vehicle Loan | F14: 12000000 | G14: No | H14: 0.64105117 | J14: 28 | K14: =K13*1.025 -> 3.85195
B15: ARNOLD | C15: 49 | D15: M | E15: Home Loan | F15: 8000000 | G15: No | H15: 0.61863857 | J15: 29 | K15: 3.948
B16: AUSTIN | C16: 60 | D16: M | E16: Education Loan | F16: 10000000 | G16: No | H16: -0.25982288 | J16: 30 | K16: 4.047
B17: AVILA | C17: 59 | D17: M | E17: Vehicle Loan | F17: 9000000 | G17: Yes | H17: 1.7048512 | J17: 31 | K17: 3.933
B18: AYALA | C18: 30 | D18: M | E18: Personal Loan | F18: 13000000 | G18: No | H18: -1.9498275 | J18: 32 | K18: 4.252
B19: BAILEY | C19: 24 | D19: F | E19: Home Loan | F19: 13000000 | G19: No | H19: 1.1108307 | J19: 33 | K19: 4.358
B20: BAKER | C20: 46 | D20: F | E20: Vehicle Loan | F20: 11000000 | G20: No | H20: -0.48693909 | J20: 34 | K20: -4.467
B21: BALDWIN | C21: 27 | D21: M | E21: Vehicle Loan | F21: 11000000 | G21: No | H21: -0.6351669 | J21: 35 | K21: 4.579
B22: BANKS | C22: 27 | D22: M | E22: Personal Loan | F22: 10000000 | G22: No | H22: -0.34206238 | J22: 36 | K22: 4.693
B23: BARBER | C23: 45 | D23: F | E23: Education Loan | F23: 13000000 | G23: No | H23: -0.53936174 | J23: 37 | K23: 4.81
B24: BARKER | C24: 44 | D24: F | E24: Personal Loan | F24: 10000000 | G24: No | H24: -1.2532378 | J24: 38 | K24: 4.93
B25: BARNES | C25: 29 | D25: M | E25: Vehicle Loan | F25: 14000000 | G25: No | H25: 0.021014226 | J25: 39 | K25: 5.053
B26: BARNETT | C26: 30 | D26: M | E26: Education Loan | F26: -11000000 | G26: No | H26: -0.7746163 | J26: 40 | K26: 5.179
... B28: BATES | C28: 49 | D28: M | E28: Education Loan | F28: 12000000 | G28: No | H28: 1.6154231 | J28: 42 | K28: 5.441
B29: BECK | C29: 28 | D29: F | E29: Home Loan | F29: 10000000 | G29: No | H29: 0.1434965 | J29: 43 | K29: =K28*1.025 -> 5.577025
B30: BECKER | C30: 23 | D30: F | E30: Home Loan | F30: 12000000 | G30: No | H30: -0.52892385 | J30: 44 | K30: 5.716
B31: BELL | C31: 21 | D31: F | E31: Home Loan | F31: 13000000 | G31: No | H31: -0.55185874 | J31: 45 | K31: 5.859
B32: BENNETT | C32: 49 | D32: F | E32: Education Loan | F32: 10000000 | G32: No | H32: -0.056442998 | J32: 46 | K32: 6.005
B33: BENSON | C33: 59 | D33: M | E33: Home Loan | F33: 8000000 | G33: No | H33: 0.82166717 | J33: 47 | K33: 5.91
B34: BERRY | C34: 46 | D34: M | E34: Education Loan | F34: 12000000 | G34: No | H34: -0.28572008 | J34: 48 | K34: 6.309
B35: BISHOP | C35: 44 | D35: X | E35: Home Loan | F35: 11000000 | G35: No | H35: 0.57432309 | J35: 49 | K35: 6.467
B36: BLACK | C36: 30 | D36: F | E36: Home Loan | F36: 11000000 | G36: No | H36: 0.058537885 | J36: 50 | K36: -6.629
B37: BOWEN | C37: 31 | D37: M | E37: Home Loan | F37: 10000000 | G37: No | H37: 1.0187425 | J37: 51 | K37: 6.795
B38: BOWMAN | C38: 24 | D38: M | E38: Vehicle Loan | F38: 12000000 | G38: No | H38: -0.99966653 | J38: 52 | K38: 6.965
B39: BOYD | C39: 58 | D39: F | E39: Vehicle Loan | F39: 11000000 | G39: No | H39: 0.43111463 | J39: 53 | K39: 7.139
B40: BRADLEY | C40: 37 | D40: M | E40: Home Loan | F40: 12000000 | G40: Yes | H40: -0.89902674 | J40: 54 | K40: 7.317
B41: BREWER | C41: 23 | D41: F | E41: Home Loan | F41: 10000000 | G41: No | H41: 0.42109056 | J41: 55 | K41: 7.5
... B46: BURTON | C46: 34 | D46: F | E46: Vehicle Loan | F46: 10000000 | G46: No | H46: -1.5533813 | J46: 60 | K46: 8.486
...

Sheet Data_Checks
B1: Customer and Loan Information | J1: Premium Rate Data for Insurance (per 1000 SA) | M1: Checks on Customer and Loan Information | S1: Checks on Premium Rate Data for Insurance (per 1000 SA) | V1: Checks on Age in Customer and Premium Data | X1: Description of Checks | AC1: Graphical Checks on Random Number
B3: Name of Customer | C3: Age of Customer | D3: Gender of Customer | E3: Type of Loan | F3: Loan Amount | G3: Bank Staff | H3: Random Number | J3: Age of Customer | K3: Premium Rate for Male Customer | M3: Age | N3: Gender | O3: Type of Loan | P3: Loan Amount | Q3: Bank Staff | S3: Age | T3: Premium Rate for Male Customer | V3: Age | X3: Age of Customers | AC3: Details of Normal Distribution
B4: ACOSTA | C4: 22 | D4: F | E4: Education Loan | F4: 14000000 | G4: No | H4: -1.1106447 | J4: 18 | K4: 3.01 | M4: =IF(C4<0,"Negative",IF(C4=0,"Zero",IF(C4>100,"Unreasonably High",IF(C4="","Blank","OK")))) -> OK | N4: =IF(D4="","Blank",IF(D4="F","OK",IF(D4="M","OK","Unreasonable"))) -> OK | O4: =IF(E4="Education Loan","OK",IF(E4="Home Loan","OK",IF(E4="Personal Loan","OK",IF(E4="Vehicle Loan","OK",IF(E4="","Blank","Unreasonable"))))) -> OK | P4: =IF(F4="","Blank",IF(F4<0,"Negative",IF(F4=0,"Zero",IF(F4>10^9,"Very High","OK")))) -> OK | Q4: =IF(G4="","Blank",IF(G4="Yes","OK",IF(G4="No","OK","Unreasonable"))) -> OK | T4: =IF(K4="","Blank",IF(K4<0,"Negative",IF(K4>100,"Very High",IF(AND(J4<>18,K4<=K3),"Unreasonable","OK")))) -> OK | V4: =IF(VLOOKUP(C4,$J$4:$J$46,1,0)=C4,"OK","Check") -> OK | X4: Negative Value | AC4: Mean | AD4: 0
B5: ADAMS | C5: 58 | D5: F | E5: Education Loan | F5: 9000000 | G5: No | H5: 1.17782 | J5: 19 | K5: 3.085 | M5: =IF(C5<0,"Negative",IF(C5=0,"Zero",IF(C5>100,"Unreasonably High",IF(C5="","Blank","OK")))) -> OK | N5: =IF(D5="","Blank",IF(D5="F","OK",IF(D5="M","OK","Unreasonable"))) -> OK | O5: =IF(E5="Education Loan","OK",IF(E5="Home Loan","OK",IF(E5="Personal Loan","OK",IF(E5="Vehicle Loan","OK",IF(E5="","Blank","Unreasonable"))))) -> OK | P5: =IF(F5="","Blank",IF(F5<0,"Negative",IF(F5=0,"Zero",IF(F5>10^9,"Very High","OK")))) -> OK | Q5: =IF(G5="","Blank",IF(G5="Yes","OK",IF(G5="No","OK","Unreasonable"))) -> OK | S5: =IF(J5=J4+1,"OK","Check") -> OK | T5: =IF(K5="","Blank",IF(K5<0,"Negative",IF(K5>100,"Very High",IF(AND(J5<>18,K5<=K4),"Unreasonable","OK")))) -> OK | V5: =IF(VLOOKUP(C5,$J$4:$J$46,1,0)=C5,"OK","Check") -> OK | X5: Zero Value | AC5: St. Deviation | AD5: 1
B6: AGUILAR | C6: 19 | D6: M | E6: Education Loan | F6: 10000000 | G6: No | H6: 0.83217426 | J6: 20 | K6: 3.162 | M6: =IF(C6<0,"Negative",IF(C6=0,"Zero",IF(C6>100,"Unreasonably High",IF(C6="","Blank","OK")))) -> OK | N6: =IF(D6="","Blank",IF(D6="F","OK",IF(D6="M","OK","Unreasonable"))) -> OK | O6: =IF(E6="Education Loan","OK",IF(E6="Home Loan","OK",IF(E6="Personal Loan","OK",IF(E6="Vehicle Loan","OK",IF(E6="","Blank","Unreasonable"))))) -> OK | P6: =IF(F6="","Blank",IF(F6<0,"Negative",IF(F6=0,"Zero",IF(F6>10^9,"Very High","OK")))) -> OK | Q6: =IF(G6="","Blank",IF(G6="Yes","OK",IF(G6="No","OK","Unreasonable"))) -> OK | S6: =IF(J6=J5+1,"OK","Check") -> OK | T6: =IF(K6="","Blank",IF(K6<0,"Negative",IF(K6>100,"Very High",IF(AND(J6<>18,K6<=K5),"Unreasonable","OK")))) -> OK | V6: =IF(VLOOKUP(C6,$J$4:$J$46,1,0)=C6,"OK","Check") -> OK | X6: Blank Value | AC6: Count | AD6: =4*100 -> 400
B7: AGUIRRE | C7: 32 | D7: M | E7: Personal Loan | F7: 12000000 | G7: No | H7: 0.6196113 | J7: 21 | K7: 3.241 | M7: =IF(C7<0,"Negative",IF(C7=0,"Zero",IF(C7>100,"Unreasonably High",IF(C7="","Blank","OK")))) -> OK | N7: =IF(D7="","Blank",IF(D7="F","OK",IF(D7="M","OK","Unreasonable"))) -> OK | O7: =IF(E7="Education Loan","OK",IF(E7="Home Loan","OK",IF(E7="Personal Loan","OK",IF(E7="Vehicle Loan","OK",IF(E7="","Blank","Unreasonable"))))) -> OK | P7: =IF(F7="","Blank",IF(F7<0,"Negative",IF(F7=0,"Zero",IF(F7>10^9,"Very High","OK")))) -> OK | Q7: =IF(G7="","Blank",IF(G7="Yes","OK",IF(G7="No","OK","Unreasonable"))) -> OK | S7: =IF(J7=J6+1,"OK","Check") -> OK | T7: =IF(K7="","Blank",IF(K7<0,"Negative",IF(K7>100,"Very High",IF(AND(J7<>18,K7<=K6),"Unreasonable","OK")))) -> OK | V7: =IF(VLOOKUP(C7,$J$4:$J$46,1,0)=C7,"OK","Check") -> OK | X7: Very High Value
B8: ALEXANDER | C8: 22 | D8: M | E8: Education Loan | F8: 8000000 | G8: No | H8: -2.0099079 | J8: 22 | K8: 3.322 | M8: =IF(C8<0,"Negative",IF(C8=0,"Zero",IF(C8>100,"Unreasonably High",IF(C8="","Blank","OK")))) -> OK | N8: =IF(D8="","Blank",IF(D8="F","OK",IF(D8="M","OK","Unreasonable"))) -> OK | O8: =IF(E8="Education Loan","OK",IF(E8="Home Loan","OK",IF(E8="Personal Loan","OK",IF(E8="Vehicle Loan","OK",IF(E8="","Blank","Unreasonable"))))) -> OK | P8: =IF(F8="","Blank",IF(F8<0,"Negative",IF(F8=0,"Zero",IF(F8>10^9,"Very High","OK")))) -> OK | Q8: =IF(G8="","Blank",IF(G8="Yes","OK",IF(G8="No","OK","Unreasonable"))) -> OK | S8: =IF(J8=J7+1,"OK","Check") -> OK | T8: =IF(K8="","Blank",IF(K8<0,"Negative",IF(K8>100,"Very High",IF(AND(J8<>18,K8<=K7),"Unreasonable","OK")))) -> OK | V8: =IF(VLOOKUP(C8,$J$4:$J$46,1,0)=C8,"OK","Check") -> OK | AC8: Graphical Checks
B9: ALLEN | C9: 37 | D9: M | E9: Personal Loan | F9: 12000000 | G9: No | H9: -0.9369264 | J9: 23 | K9: 3.405 | M9: =IF(C9<0,"Negative",IF(C9=0,"Zero",IF(C9>100,"Unreasonably High",IF(C9="","Blank","OK")))) -> OK | N9: =IF(D9="","Blank",IF(D9="F","OK",IF(D9="M","OK","Unreasonable"))) -> OK | O9: =IF(E9="Education Loan","OK",IF(E9="Home Loan","OK",IF(E9="Personal Loan","OK",IF(E9="Vehicle Loan","OK",IF(E9="","Blank","Unreasonable"))))) -> OK | P9: =IF(F9="","Blank",IF(F9<0,"Negative",IF(F9=0,"Zero",IF(F9>10^9,"Very High","OK")))) -> OK | Q9: =IF(G9="","Blank",IF(G9="Yes","OK",IF(G9="No","OK","Unreasonable"))) -> OK | S9: =IF(J9=J8+1,"OK","Check") -> OK | T9: =IF(K9="","Blank",IF(K9<0,"Negative",IF(K9>100,"Very High",IF(AND(J9<>18,K9<=K8),"Unreasonable","OK")))) -> OK | V9: =IF(VLOOKUP(C9,$J$4:$J$46,1,0)=C9,"OK","Check") -> OK | X9: Gender of Customers | AC9: Less Than | AD9: Cumulative Frequency | AE9: Frequency
B10: ALVARADO | C10: 34 | D10: M | E10: Education Loan | F10: 12000000 | G10: No | H10: 0.77959402 | J10: 24 | K10: 3.49 | M10: =IF(C10<0,"Negative",IF(C10=0,"Zero",IF(C10>100,"Unreasonably High",IF(C10="","Blank","OK")))) -> OK | N10: =IF(D10="","Blank",IF(D10="F","OK",IF(D10="M","OK","Unreasonable"))) -> OK | O10: =IF(E10="Education Loan","OK",IF(E10="Home Loan","OK",IF(E10="Personal Loan","OK",IF(E10="Vehicle Loan","OK",IF(E10="","Blank","Unreasonable"))))) -> OK | P10: =IF(F10="","Blank",IF(F10<0,"Negative",IF(F10=0,"Zero",IF(F10>10^9,"Very High","OK")))) -> OK | Q10: =IF(G10="","Blank",IF(G10="Yes","OK",IF(G10="No","OK","Unreasonable"))) -> OK | S10: =IF(J10=J9+1,"OK","Check") -> OK | T10: =IF(K10="","Blank",IF(K10<0,"Negative",IF(K10>100,"Very High",IF(AND(J10<>18,K10<=K9),"Unreasonable","OK")))) -> OK | V10: =IF(VLOOKUP(C10,$J$4:$J$46,1,0)=C10,"OK","Check") -> OK | X10: Blank Value | AC10: -3 | AD10: =COUNTIFS($H$4:$H$403,"<"&AC10) -> 0 | AE10: =AD10 -> 0
B11: ALVAREZ | C11: 28 | D11: M | E11: Vehicle Loan | F11: 12000000 | G11: No | H11: 1.5913996 | J11: 25 | K11: 3.577 | M11: =IF(C11<0,"Negative",IF(C11=0,"Zero",IF(C11>100,"Unreasonably High",IF(C11="","Blank","OK")))) -> OK | N11: =IF(D11="","Blank",IF(D11="F","OK",IF(D11="M","OK","Unreasonable"))) -> OK | O11: =IF(E11="Education Loan","OK",IF(E11="Home Loan","OK",IF(E11="Personal Loan","OK",IF(E11="Vehicle Loan","OK",IF(E11="","Blank","Unreasonable"))))) -> OK | P11: =IF(F11="","Blank",IF(F11<0,"Negative",IF(F11=0,"Zero",IF(F11>10^9,"Very High","OK")))) -> OK | Q11: =IF(G11="","Blank",IF(G11="Yes","OK",IF(G11="No","OK","Unreasonable"))) -> OK | S11: =IF(J11=J10+1,"OK","Check") -> OK | T11: =IF(K11="","Blank",IF(K11<0,"Negative",IF(K11>100,"Very High",IF(AND(J11<>18,K11<=K10),"Unreasonable","OK")))) -> OK | V11: =IF(VLOOKUP(C11,$J$4:$J$46,1,0)=C11,"OK","Check") -> OK | X11: Value other than M or F | AC11: =AC10+0.5 -> -2.5 | AD11: =COUNTIFS($H$4:$H$403,"<"&AC11) -> 1 | AE11: =AD11-AD10 -> 1 | AO11: Bell shaped curve seems reasonable
B12: ANDERSON | C12: 47 | D12: M | E12: Education Loan | F12: 13000000 | G12: No | H12: -0.84163822 | J12: 26 | K12: 3.666 | M12: =IF(C12<0,"Negative",IF(C12=0,"Zero",IF(C12>100,"Unreasonably High",IF(C12="","Blank","OK")))) -> OK | N12: =IF(D12="","Blank",IF(D12="F","OK",IF(D12="M","OK","Unreasonable"))) -> OK | O12: =IF(E12="Education Loan","OK",IF(E12="Home Loan","OK",IF(E12="Personal Loan","OK",IF(E12="Vehicle Loan","OK",IF(E12="","Blank","Unreasonable"))))) -> OK | P12: =IF(F12="","Blank",IF(F12<0,"Negative",IF(F12=0,"Zero",IF(F12>10^9,"Very High","OK")))) -> OK | Q12: =IF(G12="","Blank",IF(G12="Yes","OK",IF(G12="No","OK","Unreasonable"))) -> OK | S12: =IF(J12=J11+1,"OK","Check") -> OK | T12: =IF(K12="","Blank",IF(K12<0,"Negative",IF(K12>100,"Very High",IF(AND(J12<>18,K12<=K11),"Unreasonable","OK")))) -> OK | V12: =IF(VLOOKUP(C12,$J$4:$J$46,1,0)=C12,"OK","Check") -> OK | AC12: =AC11+0.5 -> -2 | AD12: =COUNTIFS($H$4:$H$403,"<"&AC12) -> 9 | AE12: =AD12-AD11 -> 8
B13: ANDREWS | C13: 40 | D13: M | E13: Home Loan | F13: 9000000 | G13: No | H13: -0.29295495 | J13: 27 | K13: 3.758 | M13: =IF(C13<0,"Negative",IF(C13=0,"Zero",IF(C13>100,"Unreasonably High",IF(C13="","Blank","OK")))) -> OK | N13: =IF(D13="","Blank",IF(D13="F","OK",IF(D13="M","OK","Unreasonable"))) -> OK | O13: =IF(E13="Education Loan","OK",IF(E13="Home Loan","OK",IF(E13="Personal Loan","OK",IF(E13="Vehicle Loan","OK",IF(E13="","Blank","Unreasonable"))))) -> OK | P13: =IF(F13="","Blank",IF(F13<0,"Negative",IF(F13=0,"Zero",IF(F13>10^9,"Very High","OK")))) -> OK | Q13: =IF(G13="","Blank",IF(G13="Yes","OK",IF(G13="No","OK","Unreasonable"))) -> OK | S13: =IF(J13=J12+1,"OK","Check") -> OK | T13: =IF(K13="","Blank",IF(K13<0,"Negative",IF(K13>100,"Very High",IF(AND(J13<>18,K13<=K12),"Unreasonable","OK")))) -> OK | V13: =IF(VLOOKUP(C13,$J$4:$J$46,1,0)=C13,"OK","Check") -> OK | X13: Type of Loan | AC13: =AC12+0.5 -> -1.5 | AD13: =COUNTIFS($H$4:$H$403,"<"&AC13) -> 32 | AE13: =AD13-AD12 -> 23
B14: ARMSTRONG | C14: 29 | D14: M | E14: Vehicle Loan | F14: 12000000 | G14: No | H14: 0.64105117 | J14: 28 | K14: =K13*1.025 -> 3.85195 | M14: =IF(C14<0,"Negative",IF(C14=0,"Zero",IF(C14>100,"Unreasonably High",IF(C14="","Blank","OK")))) -> OK | N14: =IF(D14="","Blank",IF(D14="F","OK",IF(D14="M","OK","Unreasonable"))) -> OK | O14: =IF(E14="Education Loan","OK",IF(E14="Home Loan","OK",IF(E14="Personal Loan","OK",IF(E14="Vehicle Loan","OK",IF(E14="","Blank","Unreasonable"))))) -> OK | P14: =IF(F14="","Blank",IF(F14<0,"Negative",IF(F14=0,"Zero",IF(F14>10^9,"Very High","OK")))) -> OK | Q14: =IF(G14="","Blank",IF(G14="Yes","OK",IF(G14="No","OK","Unreasonable"))) -> OK | S14: =IF(J14=J13+1,"OK","Check") -> OK | T14: =IF(K14="","Blank",IF(K14<0,"Negative",IF(K14>100,"Very High",IF(AND(J14<>18,K14<=K13),"Unreasonable","OK")))) -> OK | V14: =IF(VLOOKUP(C14,$J$4:$J$46,1,0)=C14,"OK","Check") -> OK | X14: Blank Value | AC14: =AC13+0.5 -> -1 | AD14: =COUNTIFS($H$4:$H$403,"<"&AC14) -> 67 | AE14: =AD14-AD13 -> 35
B15: ARNOLD | C15: 49 | D15: M | E15: Home Loan | F15: 8000000 | G15: No | H15: 0.61863857 | J15: 29 | K15: 3.948 | M15: =IF(C15<0,"Negative",IF(C15=0,"Zero",IF(C15>100,"Unreasonably High",IF(C15="","Blank","OK")))) -> OK | N15: =IF(D15="","Blank",IF(D15="F","OK",IF(D15="M","OK","Unreasonable"))) -> OK | O15: =IF(E15="Education Loan","OK",IF(E15="Home Loan","OK",IF(E15="Personal Loan","OK",IF(E15="Vehicle Loan","OK",IF(E15="","Blank","Unreasonable"))))) -> OK | P15: =IF(F15="","Blank",IF(F15<0,"Negative",IF(F15=0,"Zero",IF(F15>10^9,"Very High","OK")))) -> OK | Q15: =IF(G15="","Blank",IF(G15="Yes","OK",IF(G15="No","OK","Unreasonable"))) -> OK | S15: =IF(J15=J14+1,"OK","Check") -> OK | T15: =IF(K15="","Blank",IF(K15<0,"Negative",IF(K15>100,"Very High",IF(AND(J15<>18,K15<=K14),"Unreasonable","OK")))) -> OK | V15: =IF(VLOOKUP(C15,$J$4:$J$46,1,0)=C15,"OK","Check") -> OK | X15: Value other than metioned loans | AC15: =AC14+0.5 -> -0.5 | AD15: =COUNTIFS($H$4:$H$403,"<"&AC15) -> 128 | AE15: =AD15-AD14 -> 61
B16: AUSTIN | C16: 60 | D16: M | E16: Education Loan | F16: 10000000 | G16: No | H16: -0.25982288 | J16: 30 | K16: 4.047 | M16: =IF(C16<0,"Negative",IF(C16=0,"Zero",IF(C16>100,"Unreasonably High",IF(C16="","Blank","OK")))) -> OK | N16: =IF(D16="","Blank",IF(D16="F","OK",IF(D16="M","OK","Unreasonable"))) -> OK | O16: =IF(E16="Education Loan","OK",IF(E16="Home Loan","OK",IF(E16="Personal Loan","OK",IF(E16="Vehicle Loan","OK",IF(E16="","Blank","Unreasonable"))))) -> OK | P16: =IF(F16="","Blank",IF(F16<0,"Negative",IF(F16=0,"Zero",IF(F16>10^9,"Very High","OK")))) -> OK | Q16: =IF(G16="","Blank",IF(G16="Yes","OK",IF(G16="No","OK","Unreasonable"))) -> OK | S16: =IF(J16=J15+1,"OK","Check") -> OK | T16: =IF(K16="","Blank",IF(K16<0,"Negative",IF(K16>100,"Very High",IF(AND(J16<>18,K16<=K15),"Unreasonable","OK")))) -> OK | V16: =IF(VLOOKUP(C16,$J$4:$J$46,1,0)=C16,"OK","Check") -> OK | AC16: =AC15+0.5 -> 0 | AD16: =COUNTIFS($H$4:$H$403,"<"&AC16) -> 207 | AE16: =AD16-AD15 -> 79
B17: AVILA | C17: 59 | D17: M | E17: Vehicle Loan | F17: 9000000 | G17: Yes | H17: 1.7048512 | J17: 31 | K17: 3.933 | M17: =IF(C17<0,"Negative",IF(C17=0,"Zero",IF(C17>100,"Unreasonably High",IF(C17="","Blank","OK")))) -> OK | N17: =IF(D17="","Blank",IF(D17="F","OK",IF(D17="M","OK","Unreasonable"))) -> OK | O17: =IF(E17="Education Loan","OK",IF(E17="Home Loan","OK",IF(E17="Personal Loan","OK",IF(E17="Vehicle Loan","OK",IF(E17="","Blank","Unreasonable"))))) -> OK | P17: =IF(F17="","Blank",IF(F17<0,"Negative",IF(F17=0,"Zero",IF(F17>10^9,"Very High","OK")))) -> OK | Q17: =IF(G17="","Blank",IF(G17="Yes","OK",IF(G17="No","OK","Unreasonable"))) -> OK | S17: =IF(J17=J16+1,"OK","Check") -> OK | T17: =IF(K17="","Blank",IF(K17<0,"Negative",IF(K17>100,"Very High",IF(AND(J17<>18,K17<=K16),"Unreasonable","OK")))) -> Unreasonable | V17: =IF(VLOOKUP(C17,$J$4:$J$46,1,0)=C17,"OK","Check") -> OK | X17: Loan Amount | AC17: =AC16+0.5 -> 0.5 | AD17: =COUNTIFS($H$4:$H$403,"<"&AC17) -> 290 | AE17: =AD17-AD16 -> 83
B18: AYALA | C18: 30 | D18: M | E18: Personal Loan | F18: 13000000 | G18: No | H18: -1.9498275 | J18: 32 | K18: 4.252 | M18: =IF(C18<0,"Negative",IF(C18=0,"Zero",IF(C18>100,"Unreasonably High",IF(C18="","Blank","OK")))) -> OK | N18: =IF(D18="","Blank",IF(D18="F","OK",IF(D18="M","OK","Unreasonable"))) -> OK | O18: =IF(E18="Education Loan","OK",IF(E18="Home Loan","OK",IF(E18="Personal Loan","OK",IF(E18="Vehicle Loan","OK",IF(E18="","Blank","Unreasonable"))))) -> OK | P18: =IF(F18="","Blank",IF(F18<0,"Negative",IF(F18=0,"Zero",IF(F18>10^9,"Very High","OK")))) -> OK | Q18: =IF(G18="","Blank",IF(G18="Yes","OK",IF(G18="No","OK","Unreasonable"))) -> OK | S18: =IF(J18=J17+1,"OK","Check") -> OK | T18: =IF(K18="","Blank",IF(K18<0,"Negative",IF(K18>100,"Very High",IF(AND(J18<>18,K18<=K17),"Unreasonable","OK")))) -> OK | V18: =IF(VLOOKUP(C18,$J$4:$J$46,1,0)=C18,"OK","Check") -> OK | X18: Negative Value | AC18: =AC17+0.5 -> 1 | AD18: =COUNTIFS($H$4:$H$403,"<"&AC18) -> 336 | AE18: =AD18-AD17 -> 46
B19: BAILEY | C19: 24 | D19: F | E19: Home Loan | F19: 13000000 | G19: No | H19: 1.1108307 | J19: 33 | K19: 4.358 | M19: =IF(C19<0,"Negative",IF(C19=0,"Zero",IF(C19>100,"Unreasonably High",IF(C19="","Blank","OK")))) -> OK | N19: =IF(D19="","Blank",IF(D19="F","OK",IF(D19="M","OK","Unreasonable"))) -> OK | O19: =IF(E19="Education Loan","OK",IF(E19="Home Loan","OK",IF(E19="Personal Loan","OK",IF(E19="Vehicle Loan","OK",IF(E19="","Blank","Unreasonable"))))) -> OK | P19: =IF(F19="","Blank",IF(F19<0,"Negative",IF(F19=0,"Zero",IF(F19>10^9,"Very High","OK")))) -> OK | Q19: =IF(G19="","Blank",IF(G19="Yes","OK",IF(G19="No","OK","Unreasonable"))) -> OK | S19: =IF(J19=J18+1,"OK","Check") -> OK | T19: =IF(K19="","Blank",IF(K19<0,"Negative",IF(K19>100,"Very High",IF(AND(J19<>18,K19<=K18),"Unreasonable","OK")))) -> OK | V19: =IF(VLOOKUP(C19,$J$4:$J$46,1,0)=C19,"OK","Check") -> OK | X19: Zero Value | AC19: =AC18+0.5 -> 1.5 | AD19: =COUNTIFS($H$4:$H$403,"<"&AC19) -> 377 | AE19: =AD19-AD18 -> 41
B20: BAKER | C20: 46 | D20: F | E20: Vehicle Loan | F20: 11000000 | G20: No | H20: -0.48693909 | J20: 34 | K20: -4.467 | M20: =IF(C20<0,"Negative",IF(C20=0,"Zero",IF(C20>100,"Unreasonably High",IF(C20="","Blank","OK")))) -> OK | N20: =IF(D20="","Blank",IF(D20="F","OK",IF(D20="M","OK","Unreasonable"))) -> OK | O20: =IF(E20="Education Loan","OK",IF(E20="Home Loan","OK",IF(E20="Personal Loan","OK",IF(E20="Vehicle Loan","OK",IF(E20="","Blank","Unreasonable"))))) -> OK | P20: =IF(F20="","Blank",IF(F20<0,"Negative",IF(F20=0,"Zero",IF(F20>10^9,"Very High","OK")))) -> OK | Q20: =IF(G20="","Blank",IF(G20="Yes","OK",IF(G20="No","OK","Unreasonable"))) -> OK | S20: =IF(J20=J19+1,"OK","Check") -> OK | T20: =IF(K20="","Blank",IF(K20<0,"Negative",IF(K20>100,"Very High",IF(AND(J20<>18,K20<=K19),"Unreasonable","OK")))) -> Negative | V20: =IF(VLOOKUP(C20,$J$4:$J$46,1,0)=C20,"OK","Check") -> OK | X20: Blank Value | AC20: =AC19+0.5 -> 2 | AD20: =COUNTIFS($H$4:$H$403,"<"&AC20) -> 390 | AE20: =AD20-AD19 -> 13
B21: BALDWIN | C21: 27 | D21: M | E21: Vehicle Loan | F21: 11000000 | G21: No | H21: -0.6351669 | J21: 35 | K21: 4.579 | M21: =IF(C21<0,"Negative",IF(C21=0,"Zero",IF(C21>100,"Unreasonably High",IF(C21="","Blank","OK")))) -> OK | N21: =IF(D21="","Blank",IF(D21="F","OK",IF(D21="M","OK","Unreasonable"))) -> OK | O21: =IF(E21="Education Loan","OK",IF(E21="Home Loan","OK",IF(E21="Personal Loan","OK",IF(E21="Vehicle Loan","OK",IF(E21="","Blank","Unreasonable"))))) -> OK | P21: =IF(F21="","Blank",IF(F21<0,"Negative",IF(F21=0,"Zero",IF(F21>10^9,"Very High","OK")))) -> OK | Q21: =IF(G21="","Blank",IF(G21="Yes","OK",IF(G21="No","OK","Unreasonable"))) -> OK | S21: =IF(J21=J20+1,"OK","Check") -> OK | T21: =IF(K21="","Blank",IF(K21<0,"Negative",IF(K21>100,"Very High",IF(AND(J21<>18,K21<=K20),"Unreasonable","OK")))) -> OK | V21: =IF(VLOOKUP(C21,$J$4:$J$46,1,0)=C21,"OK","Check") -> OK | X21: Very High Value | AC21: =AC20+0.5 -> 2.5 | AD21: =COUNTIFS($H$4:$H$403,"<"&AC21) -> 396 | AE21: =AD21-AD20 -> 6
B22: BANKS | C22: 27 | D22: M | E22: Personal Loan | F22: 10000000 | G22: No | H22: -0.34206238 | J22: 36 | K22: 4.693 | M22: =IF(C22<0,"Negative",IF(C22=0,"Zero",IF(C22>100,"Unreasonably High",IF(C22="","Blank","OK")))) -> OK | N22: =IF(D22="","Blank",IF(D22="F","OK",IF(D22="M","OK","Unreasonable"))) -> OK | O22: =IF(E22="Education Loan","OK",IF(E22="Home Loan","OK",IF(E22="Personal Loan","OK",IF(E22="Vehicle Loan","OK",IF(E22="","Blank","Unreasonable"))))) -> OK | P22: =IF(F22="","Blank",IF(F22<0,"Negative",IF(F22=0,"Zero",IF(F22>10^9,"Very High","OK")))) -> OK | Q22: =IF(G22="","Blank",IF(G22="Yes","OK",IF(G22="No","OK","Unreasonable"))) -> OK | S22: =IF(J22=J21+1,"OK","Check") -> OK | T22: =IF(K22="","Blank",IF(K22<0,"Negative",IF(K22>100,"Very High",IF(AND(J22<>18,K22<=K21),"Unreasonable","OK")))) -> OK | V22: =IF(VLOOKUP(C22,$J$4:$J$46,1,0)=C22,"OK","Check") -> OK | AC22: =AC21+0.5 -> 3 | AD22: =COUNTIFS($H$4:$H$403,"<"&AC22) -> 399 | AE22: =AD22-AD21 -> 3
B23: BARBER | C23: 45 | D23: F | E23: Education Loan | F23: 13000000 | G23: No | H23: -0.53936174 | J23: 37 | K23: 4.81 | M23: =IF(C23<0,"Negative",IF(C23=0,"Zero",IF(C23>100,"Unreasonably High",IF(C23="","Blank","OK")))) -> OK | N23: =IF(D23="","Blank",IF(D23="F","OK",IF(D23="M","OK","Unreasonable"))) -> OK | O23: =IF(E23="Education Loan","OK",IF(E23="Home Loan","OK",IF(E23="Personal Loan","OK",IF(E23="Vehicle Loan","OK",IF(E23="","Blank","Unreasonable"))))) -> OK | P23: =IF(F23="","Blank",IF(F23<0,"Negative",IF(F23=0,"Zero",IF(F23>10^9,"Very High","OK")))) -> OK | Q23: =IF(G23="","Blank",IF(G23="Yes","OK",IF(G23="No","OK","Unreasonable"))) -> OK | S23: =IF(J23=J22+1,"OK","Check") -> OK | T23: =IF(K23="","Blank",IF(K23<0,"Negative",IF(K23>100,"Very High",IF(AND(J23<>18,K23<=K22),"Unreasonable","OK")))) -> OK | V23: =IF(VLOOKUP(C23,$J$4:$J$46,1,0)=C23,"OK","Check") -> OK | X23: Bank Staff | AC23: =AC22+0.5 -> 3.5 | AD23: =COUNTIFS($H$4:$H$403,"<"&AC23) -> 400 | AE23: =AD23-AD22 -> 1
B24: BARKER | C24: 44 | D24: F | E24: Personal Loan | F24: 10000000 | G24: No | H24: -1.2532378 | J24: 38 | K24: 4.93 | M24: =IF(C24<0,"Negative",IF(C24=0,"Zero",IF(C24>100,"Unreasonably High",IF(C24="","Blank","OK")))) -> OK | N24: =IF(D24="","Blank",IF(D24="F","OK",IF(D24="M","OK","Unreasonable"))) -> OK | O24: =IF(E24="Education Loan","OK",IF(E24="Home Loan","OK",IF(E24="Personal Loan","OK",IF(E24="Vehicle Loan","OK",IF(E24="","Blank","Unreasonable"))))) -> OK | P24: =IF(F24="","Blank",IF(F24<0,"Negative",IF(F24=0,"Zero",IF(F24>10^9,"Very High","OK")))) -> OK | Q24: =IF(G24="","Blank",IF(G24="Yes","OK",IF(G24="No","OK","Unreasonable"))) -> OK | S24: =IF(J24=J23+1,"OK","Check") -> OK | T24: =IF(K24="","Blank",IF(K24<0,"Negative",IF(K24>100,"Very High",IF(AND(J24<>18,K24<=K23),"Unreasonable","OK")))) -> OK | V24: =IF(VLOOKUP(C24,$J$4:$J$46,1,0)=C24,"OK","Check") -> OK | X24: Blank Value | AC24: =AC23+0.5 -> 4 | AD24: =COUNTIFS($H$4:$H$403,"<"&AC24) -> 400 | AE24: =AD24-AD23 -> 0
B25: BARNES | C25: 29 | D25: M | E25: Vehicle Loan | F25: 14000000 | G25: No | H25: 0.021014226 | J25: 39 | K25: 5.053 | M25: =IF(C25<0,"Negative",IF(C25=0,"Zero",IF(C25>100,"Unreasonably High",IF(C25="","Blank","OK")))) -> OK | N25: =IF(D25="","Blank",IF(D25="F","OK",IF(D25="M","OK","Unreasonable"))) -> OK | O25: =IF(E25="Education Loan","OK",IF(E25="Home Loan","OK",IF(E25="Personal Loan","OK",IF(E25="Vehicle Loan","OK",IF(E25="","Blank","Unreasonable"))))) -> OK | P25: =IF(F25="","Blank",IF(F25<0,"Negative",IF(F25=0,"Zero",IF(F25>10^9,"Very High","OK")))) -> OK | Q25: =IF(G25="","Blank",IF(G25="Yes","OK",IF(G25="No","OK","Unreasonable"))) -> OK | S25: =IF(J25=J24+1,"OK","Check") -> OK | T25: =IF(K25="","Blank",IF(K25<0,"Negative",IF(K25>100,"Very High",IF(AND(J25<>18,K25<=K24),"Unreasonable","OK")))) -> OK | V25: =IF(VLOOKUP(C25,$J$4:$J$46,1,0)=C25,"OK","Check") -> OK | X25: Value other than Yes or No | AE25: =SUM(AE10:AE24) -> 400
B26: BARNETT | C26: 30 | D26: M | E26: Education Loan | F26: -11000000 | G26: No | H26: -0.7746163 | J26: 40 | K26: 5.179 | M26: =IF(C26<0,"Negative",IF(C26=0,"Zero",IF(C26>100,"Unreasonably High",IF(C26="","Blank","OK")))) -> OK | N26: =IF(D26="","Blank",IF(D26="F","OK",IF(D26="M","OK","Unreasonable"))) -> OK | O26: =IF(E26="Education Loan","OK",IF(E26="Home Loan","OK",IF(E26="Personal Loan","OK",IF(E26="Vehicle Loan","OK",IF(E26="","Blank","Unreasonable"))))) -> OK | P26: =IF(F26="","Blank",IF(F26<0,"Negative",IF(F26=0,"Zero",IF(F26>10^9,"Very High","OK")))) -> Negative | Q26: =IF(G26="","Blank",IF(G26="Yes","OK",IF(G26="No","OK","Unreasonable"))) -> OK | S26: =IF(J26=J25+1,"OK","Check") -> OK | T26: =IF(K26="","Blank",IF(K26<0,"Negative",IF(K26>100,"Very High",IF(AND(J26<>18,K26<=K25),"Unreasonable","OK")))) -> OK | V26: =IF(VLOOKUP(C26,$J$4:$J$46,1,0)=C26,"OK","Check") -> OK | AE26: =IF(AE25=AD6,"OK","Check") -> OK
B27: BARRETT | C27: 39 | D27: F | E27: Education Loan | F27: 9000000 | G27: No | H27: -0.59918005 | J27: 41 | K27: 5.308 | M27: =IF(C27<0,"Negative",IF(C27=0,"Zero",IF(C27>100,"Unreasonably High",IF(C27="","Blank","OK")))) -> OK | N27: =IF(D27="","Blank",IF(D27="F","OK",IF(D27="M","OK","Unreasonable"))) -> OK | O27: =IF(E27="Education Loan","OK",IF(E27="Home Loan","OK",IF(E27="Personal Loan","OK",IF(E27="Vehicle Loan","OK",IF(E27="","Blank","Unreasonable"))))) -> OK | P27: =IF(F27="","Blank",IF(F27<0,"Negative",IF(F27=0,"Zero",IF(F27>10^9,"Very High","OK")))) -> OK | Q27: =IF(G27="","Blank",IF(G27="Yes","OK",IF(G27="No","OK","Unreasonable"))) -> OK | S27: =IF(J27=J26+1,"OK","Check") -> OK | T27: =IF(K27="","Blank",IF(K27<0,"Negative",IF(K27>100,"Very High",IF(AND(J27<>18,K27<=K26),"Unreasonable","OK")))) -> OK | V27: =IF(VLOOKUP(C27,$J$4:$J$46,1,0)=C27,"OK","Check") -> OK | X27: Age in Premium Rate table
B28: BATES | C28: 49 | D28: M | E28: Education Loan | F28: 12000000 | G28: No | H28: 1.6154231 | J28: 42 | K28: 5.441 | M28: =IF(C28<0,"Negative",IF(C28=0,"Zero",IF(C28>100,"Unreasonably High",IF(C28="","Blank","OK")))) -> OK | N28: =IF(D28="","Blank",IF(D28="F","OK",IF(D28="M","OK","Unreasonable"))) -> OK | O28: =IF(E28="Education Loan","OK",IF(E28="Home Loan","OK",IF(E28="Personal Loan","OK",IF(E28="Vehicle Loan","OK",IF(E28="","Blank","Unreasonable"))))) -> OK | P28: =IF(F28="","Blank",IF(F28<0,"Negative",IF(F28=0,"Zero",IF(F28>10^9,"Very High","OK")))) -> OK | Q28: =IF(G28="","Blank",IF(G28="Yes","OK",IF(G28="No","OK","Unreasonable"))) -> OK | S28: =IF(J28=J27+1,"OK","Check") -> OK | T28: =IF(K28="","Blank",IF(K28<0,"Negative",IF(K28>100,"Very High",IF(AND(J28<>18,K28<=K27),"Unreasonable","OK")))) -> OK | V28: =IF(VLOOKUP(C28,$J$4:$J$46,1,0)=C28,"OK","Check") -> OK | X28: Whether age is in increasing order by 1
B29: BECK | C29: 28 | D29: F | E29: Home Loan | F29: 10000000 | G29: No | H29: 0.1434965 | J29: 43 | K29: =K28*1.025 -> 5.577025 | M29: =IF(C29<0,"Negative",IF(C29=0,"Zero",IF(C29>100,"Unreasonably High",IF(C29="","Blank","OK")))) -> OK | N29: =IF(D29="","Blank",IF(D29="F","OK",IF(D29="M","OK","Unreasonable"))) -> OK | O29: =IF(E29="Education Loan","OK",IF(E29="Home Loan","OK",IF(E29="Personal Loan","OK",IF(E29="Vehicle Loan","OK",IF(E29="","Blank","Unreasonable"))))) -> OK | P29: =IF(F29="","Blank",IF(F29<0,"Negative",IF(F29=0,"Zero",IF(F29>10^9,"Very High","OK")))) -> OK | Q29: =IF(G29="","Blank",IF(G29="Yes","OK",IF(G29="No","OK","Unreasonable"))) -> OK | S29: =IF(J29=J28+1,"OK","Check") -> OK | T29: =IF(K29="","Blank",IF(K29<0,"Negative",IF(K29>100,"Very High",IF(AND(J29<>18,K29<=K28),"Unreasonable","OK")))) -> OK | V29: =IF(VLOOKUP(C29,$J$4:$J$46,1,0)=C29,"OK","Check") -> OK
B30: BECKER | C30: 23 | D30: F | E30: Home Loan | F30: 12000000 | G30: No | H30: -0.52892385 | J30: 44 | K30: 5.716 | M30: =IF(C30<0,"Negative",IF(C30=0,"Zero",IF(C30>100,"Unreasonably High",IF(C30="","Blank","OK")))) -> OK | N30: =IF(D30="","Blank",IF(D30="F","OK",IF(D30="M","OK","Unreasonable"))) -> OK | O30: =IF(E30="Education Loan","OK",IF(E30="Home Loan","OK",IF(E30="Personal Loan","OK",IF(E30="Vehicle Loan","OK",IF(E30="","Blank","Unreasonable"))))) -> OK | P30: =IF(F30="","Blank",IF(F30<0,"Negative",IF(F30=0,"Zero",IF(F30>10^9,"Very High","OK")))) -> OK | Q30: =IF(G30="","Blank",IF(G30="Yes","OK",IF(G30="No","OK","Unreasonable"))) -> OK | S30: =IF(J30=J29+1,"OK","Check") -> OK | T30: =IF(K30="","Blank",IF(K30<0,"Negative",IF(K30>100,"Very High",IF(AND(J30<>18,K30<=K29),"Unreasonable","OK")))) -> OK | V30: =IF(VLOOKUP(C30,$J$4:$J$46,1,0)=C30,"OK","Check") -> OK | X30: Premium Rate for Male Customer
B31: BELL | C31: 21 | D31: F | E31: Home Loan | F31: 13000000 | G31: No | H31: -0.55185874 | J31: 45 | K31: 5.859 | M31: =IF(C31<0,"Negative",IF(C31=0,"Zero",IF(C31>100,"Unreasonably High",IF(C31="","Blank","OK")))) -> OK | N31: =IF(D31="","Blank",IF(D31="F","OK",IF(D31="M","OK","Unreasonable"))) -> OK | O31: =IF(E31="Education Loan","OK",IF(E31="Home Loan","OK",IF(E31="Personal Loan","OK",IF(E31="Vehicle Loan","OK",IF(E31="","Blank","Unreasonable"))))) -> OK | P31: =IF(F31="","Blank",IF(F31<0,"Negative",IF(F31=0,"Zero",IF(F31>10^9,"Very High","OK")))) -> OK | Q31: =IF(G31="","Blank",IF(G31="Yes","OK",IF(G31="No","OK","Unreasonable"))) -> OK | S31: =IF(J31=J30+1,"OK","Check") -> OK | T31: =IF(K31="","Blank",IF(K31<0,"Negative",IF(K31>100,"Very High",IF(AND(J31<>18,K31<=K30),"Unreasonable","OK")))) -> OK | V31: =IF(VLOOKUP(C31,$J$4:$J$46,1,0)=C31,"OK","Check") -> OK | X31: Negative Value
B32: BENNETT | C32: 49 | D32: F | E32: Education Loan | F32: 10000000 | G32: No | H32: -0.056442998 | J32: 46 | K32: 6.005 | M32: =IF(C32<0,"Negative",IF(C32=0,"Zero",IF(C32>100,"Unreasonably High",IF(C32="","Blank","OK")))) -> OK | N32: =IF(D32="","Blank",IF(D32="F","OK",IF(D32="M","OK","Unreasonable"))) -> OK | O32: =IF(E32="Education Loan","OK",IF(E32="Home Loan","OK",IF(E32="Personal Loan","OK",IF(E32="Vehicle Loan","OK",IF(E32="","Blank","Unreasonable"))))) -> OK | P32: =IF(F32="","Blank",IF(F32<0,"Negative",IF(F32=0,"Zero",IF(F32>10^9,"Very High","OK")))) -> OK | Q32: =IF(G32="","Blank",IF(G32="Yes","OK",IF(G32="No","OK","Unreasonable"))) -> OK | S32: =IF(J32=J31+1,"OK","Check") -> OK | T32: =IF(K32="","Blank",IF(K32<0,"Negative",IF(K32>100,"Very High",IF(AND(J32<>18,K32<=K31),"Unreasonable","OK")))) -> OK | V32: =IF(VLOOKUP(C32,$J$4:$J$46,1,0)=C32,"OK","Check") -> OK | X32: Zero Value
B33: BENSON | C33: 59 | D33: M | E33: Home Loan | F33: 8000000 | G33: No | H33: 0.82166717 | J33: 47 | K33: 5.91 | M33: =IF(C33<0,"Negative",IF(C33=0,"Zero",IF(C33>100,"Unreasonably High",IF(C33="","Blank","OK")))) -> OK | N33: =IF(D33="","Blank",IF(D33="F","OK",IF(D33="M","OK","Unreasonable"))) -> OK | O33: =IF(E33="Education Loan","OK",IF(E33="Home Loan","OK",IF(E33="Personal Loan","OK",IF(E33="Vehicle Loan","OK",IF(E33="","Blank","Unreasonable"))))) -> OK | P33: =IF(F33="","Blank",IF(F33<0,"Negative",IF(F33=0,"Zero",IF(F33>10^9,"Very High","OK")))) -> OK | Q33: =IF(G33="","Blank",IF(G33="Yes","OK",IF(G33="No","OK","Unreasonable"))) -> OK | S33: =IF(J33=J32+1,"OK","Check") -> OK | T33: =IF(K33="","Blank",IF(K33<0,"Negative",IF(K33>100,"Very High",IF(AND(J33<>18,K33<=K32),"Unreasonable","OK")))) -> Unreasonable | V33: =IF(VLOOKUP(C33,$J$4:$J$46,1,0)=C33,"OK","Check") -> OK | X33: Blank Value
B34: BERRY | C34: 46 | D34: M | E34: Education Loan | F34: 12000000 | G34: No | H34: -0.28572008 | J34: 48 | K34: 6.309 | M34: =IF(C34<0,"Negative",IF(C34=0,"Zero",IF(C34>100,"Unreasonably High",IF(C34="","Blank","OK")))) -> OK | N34: =IF(D34="","Blank",IF(D34="F","OK",IF(D34="M","OK","Unreasonable"))) -> OK | O34: =IF(E34="Education Loan","OK",IF(E34="Home Loan","OK",IF(E34="Personal Loan","OK",IF(E34="Vehicle Loan","OK",IF(E34="","Blank","Unreasonable"))))) -> OK | P34: =IF(F34="","Blank",IF(F34<0,"Negative",IF(F34=0,"Zero",IF(F34>10^9,"Very High","OK")))) -> OK | Q34: =IF(G34="","Blank",IF(G34="Yes","OK",IF(G34="No","OK","Unreasonable"))) -> OK | S34: =IF(J34=J33+1,"OK","Check") -> OK | T34: =IF(K34="","Blank",IF(K34<0,"Negative",IF(K34>100,"Very High",IF(AND(J34<>18,K34<=K33),"Unreasonable","OK")))) -> OK | V34: =IF(VLOOKUP(C34,$J$4:$J$46,1,0)=C34,"OK","Check") -> OK | X34: Very High Value
B35: BISHOP | C35: 44 | D35: X | E35: Home Loan | F35: 11000000 | G35: No | H35: 0.57432309 | J35: 49 | K35: 6.467 | M35: =IF(C35<0,"Negative",IF(C35=0,"Zero",IF(C35>100,"Unreasonably High",IF(C35="","Blank","OK")))) -> OK | N35: =IF(D35="","Blank",IF(D35="F","OK",IF(D35="M","OK","Unreasonable"))) -> Unreasonable | O35: =IF(E35="Education Loan","OK",IF(E35="Home Loan","OK",IF(E35="Personal Loan","OK",IF(E35="Vehicle Loan","OK",IF(E35="","Blank","Unreasonable"))))) -> OK | P35: =IF(F35="","Blank",IF(F35<0,"Negative",IF(F35=0,"Zero",IF(F35>10^9,"Very High","OK")))) -> OK | Q35: =IF(G35="","Blank",IF(G35="Yes","OK",IF(G35="No","OK","Unreasonable"))) -> OK | S35: =IF(J35=J34+1,"OK","Check") -> OK | T35: =IF(K35="","Blank",IF(K35<0,"Negative",IF(K35>100,"Very High",IF(AND(J35<>18,K35<=K34),"Unreasonable","OK")))) -> OK | V35: =IF(VLOOKUP(C35,$J$4:$J$46,1,0)=C35,"OK","Check") -> OK | X35: Premium rate increasing with age
B36: BLACK | C36: 30 | D36: F | E36: Home Loan | F36: 11000000 | G36: No | H36: 0.058537885 | J36: 50 | K36: -6.629 | M36: =IF(C36<0,"Negative",IF(C36=0,"Zero",IF(C36>100,"Unreasonably High",IF(C36="","Blank","OK")))) -> OK | N36: =IF(D36="","Blank",IF(D36="F","OK",IF(D36="M","OK","Unreasonable"))) -> OK | O36: =IF(E36="Education Loan","OK",IF(E36="Home Loan","OK",IF(E36="Personal Loan","OK",IF(E36="Vehicle Loan","OK",IF(E36="","Blank","Unreasonable"))))) -> OK | P36: =IF(F36="","Blank",IF(F36<0,"Negative",IF(F36=0,"Zero",IF(F36>10^9,"Very High","OK")))) -> OK | Q36: =IF(G36="","Blank",IF(G36="Yes","OK",IF(G36="No","OK","Unreasonable"))) -> OK | S36: =IF(J36=J35+1,"OK","Check") -> OK | T36: =IF(K36="","Blank",IF(K36<0,"Negative",IF(K36>100,"Very High",IF(AND(J36<>18,K36<=K35),"Unreasonable","OK")))) -> Negative | V36: =IF(VLOOKUP(C36,$J$4:$J$46,1,0)=C36,"OK","Check") -> OK
B37: BOWEN | C37: 31 | D37: M | E37: Home Loan | F37: 10000000 | G37: No | H37: 1.0187425 | J37: 51 | K37: 6.795 | M37: =IF(C37<0,"Negative",IF(C37=0,"Zero",IF(C37>100,"Unreasonably High",IF(C37="","Blank","OK")))) -> OK | N37: =IF(D37="","Blank",IF(D37="F","OK",IF(D37="M","OK","Unreasonable"))) -> OK | O37: =IF(E37="Education Loan","OK",IF(E37="Home Loan","OK",IF(E37="Personal Loan","OK",IF(E37="Vehicle Loan","OK",IF(E37="","Blank","Unreasonable"))))) -> OK | P37: =IF(F37="","Blank",IF(F37<0,"Negative",IF(F37=0,"Zero",IF(F37>10^9,"Very High","OK")))) -> OK | Q37: =IF(G37="","Blank",IF(G37="Yes","OK",IF(G37="No","OK","Unreasonable"))) -> OK | S37: =IF(J37=J36+1,"OK","Check") -> OK | T37: =IF(K37="","Blank",IF(K37<0,"Negative",IF(K37>100,"Very High",IF(AND(J37<>18,K37<=K36),"Unreasonable","OK")))) -> OK | V37: =IF(VLOOKUP(C37,$J$4:$J$46,1,0)=C37,"OK","Check") -> OK | X37: Age in Customer and Premium Data
B38: BOWMAN | C38: 24 | D38: M | E38: Vehicle Loan | F38: 12000000 | G38: No | H38: -0.99966653 | J38: 52 | K38: 6.965 | M38: =IF(C38<0,"Negative",IF(C38=0,"Zero",IF(C38>100,"Unreasonably High",IF(C38="","Blank","OK")))) -> OK | N38: =IF(D38="","Blank",IF(D38="F","OK",IF(D38="M","OK","Unreasonable"))) -> OK | O38: =IF(E38="Education Loan","OK",IF(E38="Home Loan","OK",IF(E38="Personal Loan","OK",IF(E38="Vehicle Loan","OK",IF(E38="","Blank","Unreasonable"))))) -> OK | P38: =IF(F38="","Blank",IF(F38<0,"Negative",IF(F38=0,"Zero",IF(F38>10^9,"Very High","OK")))) -> OK | Q38: =IF(G38="","Blank",IF(G38="Yes","OK",IF(G38="No","OK","Unreasonable"))) -> OK | S38: =IF(J38=J37+1,"OK","Check") -> OK | T38: =IF(K38="","Blank",IF(K38<0,"Negative",IF(K38>100,"Very High",IF(AND(J38<>18,K38<=K37),"Unreasonable","OK")))) -> OK | V38: =IF(VLOOKUP(C38,$J$4:$J$46,1,0)=C38,"OK","Check") -> OK | X38: Whether Premium rate for all the customers is available in premium rate table
B39: BOYD | C39: 58 | D39: F | E39: Vehicle Loan | F39: 11000000 | G39: No | H39: 0.43111463 | J39: 53 | K39: 7.139 | M39: =IF(C39<0,"Negative",IF(C39=0,"Zero",IF(C39>100,"Unreasonably High",IF(C39="","Blank","OK")))) -> OK | N39: =IF(D39="","Blank",IF(D39="F","OK",IF(D39="M","OK","Unreasonable"))) -> OK | O39: =IF(E39="Education Loan","OK",IF(E39="Home Loan","OK",IF(E39="Personal Loan","OK",IF(E39="Vehicle Loan","OK",IF(E39="","Blank","Unreasonable"))))) -> OK | P39: =IF(F39="","Blank",IF(F39<0,"Negative",IF(F39=0,"Zero",IF(F39>10^9,"Very High","OK")))) -> OK | Q39: =IF(G39="","Blank",IF(G39="Yes","OK",IF(G39="No","OK","Unreasonable"))) -> OK | S39: =IF(J39=J38+1,"OK","Check") -> OK | T39: =IF(K39="","Blank",IF(K39<0,"Negative",IF(K39>100,"Very High",IF(AND(J39<>18,K39<=K38),"Unreasonable","OK")))) -> OK | V39: =IF(VLOOKUP(C39,$J$4:$J$46,1,0)=C39,"OK","Check") -> OK
B40: BRADLEY | C40: 37 | D40: M | E40: Home Loan | F40: 12000000 | G40: Yes | H40: -0.89902674 | J40: 54 | K40: 7.317 | M40: =IF(C40<0,"Negative",IF(C40=0,"Zero",IF(C40>100,"Unreasonably High",IF(C40="","Blank","OK")))) -> OK | N40: =IF(D40="","Blank",IF(D40="F","OK",IF(D40="M","OK","Unreasonable"))) -> OK | O40: =IF(E40="Education Loan","OK",IF(E40="Home Loan","OK",IF(E40="Personal Loan","OK",IF(E40="Vehicle Loan","OK",IF(E40="","Blank","Unreasonable"))))) -> OK | P40: =IF(F40="","Blank",IF(F40<0,"Negative",IF(F40=0,"Zero",IF(F40>10^9,"Very High","OK")))) -> OK | Q40: =IF(G40="","Blank",IF(G40="Yes","OK",IF(G40="No","OK","Unreasonable"))) -> OK | S40: =IF(J40=J39+1,"OK","Check") -> OK | T40: =IF(K40="","Blank",IF(K40<0,"Negative",IF(K40>100,"Very High",IF(AND(J40<>18,K40<=K39),"Unreasonable","OK")))) -> OK | V40: =IF(VLOOKUP(C40,$J$4:$J$46,1,0)=C40,"OK","Check") -> OK
B41: BREWER | C41: 23 | D41: F | E41: Home Loan | F41: 10000000 | G41: No | H41: 0.42109056 | J41: 55 | K41: 7.5 | M41: =IF(C41<0,"Negative",IF(C41=0,"Zero",IF(C41>100,"Unreasonably High",IF(C41="","Blank","OK")))) -> OK | N41: =IF(D41="","Blank",IF(D41="F","OK",IF(D41="M","OK","Unreasonable"))) -> OK | O41: =IF(E41="Education Loan","OK",IF(E41="Home Loan","OK",IF(E41="Personal Loan","OK",IF(E41="Vehicle Loan","OK",IF(E41="","Blank","Unreasonable"))))) -> OK | P41: =IF(F41="","Blank",IF(F41<0,"Negative",IF(F41=0,"Zero",IF(F41>10^9,"Very High","OK")))) -> OK | Q41: =IF(G41="","Blank",IF(G41="Yes","OK",IF(G41="No","OK","Unreasonable"))) -> OK | S41: =IF(J41=J40+1,"OK","Check") -> OK | T41: =IF(K41="","Blank",IF(K41<0,"Negative",IF(K41>100,"Very High",IF(AND(J41<>18,K41<=K40),"Unreasonable","OK")))) -> OK | V41: =IF(VLOOKUP(C41,$J$4:$J$46,1,0)=C41,"OK","Check") -> OK
...

Sheet Revised_Data
B1: Revised Customer and Loan Information | J1: Revised Premium Rate Data for Insurance (per 1000 SA) | M1: Checks on Revised Customer and Loan Information | S1: Checks on Revised Premium Rate Data for Insurance (per 1000 SA) | V1: Checks on Age in Customer and Premium Data | X1: Revision in Data based on Checks
B3: Name of Customer | C3: Age of Customer | D3: Gender of Customer | E3: Type of Loan | F3: Loan Amount | G3: Bank Staff | H3: Random Number | J3: Age of Customer | K3: Premium Rate for Male Customer | M3: Age | N3: Gender | O3: Type of Loan | P3: Loan Amount | Q3: Bank Staff | S3: Age | T3: Premium Rate for Male Customer | V3: Age | X3: Age of Customers
B4: =Data_Checks!B4 -> ACOSTA | C4: =Data_Checks!C4 -> 22 | D4: =IF(AND(Data_Checks!D4<>"F",Data_Checks!D4<>"M"),D3,Data_Checks!D4) -> F | E4: =IF(Data_Checks!E4="",E3,Data_Checks!E4) -> Education Loan | F4: =IF(Data_Checks!F4="",F3,ABS(Data_Checks!F4)) -> 14000000 | G4: =IF(Data_Checks!G4="",G3,Data_Checks!G4) -> No | H4: =Data_Checks!H4 -> -1.1106447 | J4: =Data_Checks!J4 -> 18 | K4: =IF(Data_Checks!T4="Unreasonable",AVERAGE(K3,K5),ABS(Data_Checks!K4)) -> 3.01 | M4: =IF(C4<0,"Negative",IF(C4=0,"Zero",IF(C4>100,"Unreasonably High",IF(C4="","Blank","OK")))) -> OK | N4: =IF(D4="","Blank",IF(D4="F","OK",IF(D4="M","OK","Unreasonable"))) -> OK | O4: =IF(E4="Education Loan","OK",IF(E4="Home Loan","OK",IF(E4="Personal Loan","OK",IF(E4="Vehicle Loan","OK",IF(E4="","Blank","Unreasonable"))))) -> OK | P4: =IF(F4="","Blank",IF(F4<0,"Negative",IF(F4=0,"Zero",IF(F4>10^9,"Very High","OK")))) -> OK | Q4: =IF(G4="","Blank",IF(G4="Yes","OK",IF(G4="No","OK","Unreasonable"))) -> OK | T4: =IF(K4="","Blank",IF(K4<0,"Negative",IF(K4>100,"Very High",IF(AND(J4<>18,K4<=K3),"Unreasonable","OK")))) -> OK | V4: =IF(VLOOKUP(C4,$J$4:$J$46,1,0)=C4,"OK","Check") -> OK | X4: No Negative Value
B5: =Data_Checks!B5 -> ADAMS | C5: =Data_Checks!C5 -> 58 | D5: =IF(AND(Data_Checks!D5<>"F",Data_Checks!D5<>"M"),D4,Data_Checks!D5) -> F | E5: =IF(Data_Checks!E5="",E4,Data_Checks!E5) -> Education Loan | F5: =IF(Data_Checks!F5="",F4,ABS(Data_Checks!F5)) -> 9000000 | G5: =IF(Data_Checks!G5="",G4,Data_Checks!G5) -> No | H5: =Data_Checks!H5 -> 1.17782 | J5: =Data_Checks!J5 -> 19 | K5: =IF(Data_Checks!T5="Unreasonable",AVERAGE(K4,K6),ABS(Data_Checks!K5)) -> 3.085 | M5: =IF(C5<0,"Negative",IF(C5=0,"Zero",IF(C5>100,"Unreasonably High",IF(C5="","Blank","OK")))) -> OK | N5: =IF(D5="","Blank",IF(D5="F","OK",IF(D5="M","OK","Unreasonable"))) -> OK | O5: =IF(E5="Education Loan","OK",IF(E5="Home Loan","OK",IF(E5="Personal Loan","OK",IF(E5="Vehicle Loan","OK",IF(E5="","Blank","Unreasonable"))))) -> OK | P5: =IF(F5="","Blank",IF(F5<0,"Negative",IF(F5=0,"Zero",IF(F5>10^9,"Very High","OK")))) -> OK | Q5: =IF(G5="","Blank",IF(G5="Yes","OK",IF(G5="No","OK","Unreasonable"))) -> OK | S5: =IF(J5=J4+1,"OK","Check") -> OK | T5: =IF(K5="","Blank",IF(K5<0,"Negative",IF(K5>100,"Very High",IF(AND(J5<>18,K5<=K4),"Unreasonable","OK")))) -> OK | V5: =IF(VLOOKUP(C5,$J$4:$J$46,1,0)=C5,"OK","Check") -> OK | X5: No Zero Value
B6: =Data_Checks!B6 -> AGUILAR | C6: =Data_Checks!C6 -> 19 | D6: =IF(AND(Data_Checks!D6<>"F",Data_Checks!D6<>"M"),D5,Data_Checks!D6) -> M | E6: =IF(Data_Checks!E6="",E5,Data_Checks!E6) -> Education Loan | F6: =IF(Data_Checks!F6="",F5,ABS(Data_Checks!F6)) -> 10000000 | G6: =IF(Data_Checks!G6="",G5,Data_Checks!G6) -> No | H6: =Data_Checks!H6 -> 0.83217426 | J6: =Data_Checks!J6 -> 20 | K6: =IF(Data_Checks!T6="Unreasonable",AVERAGE(K5,K7),ABS(Data_Checks!K6)) -> 3.162 | M6: =IF(C6<0,"Negative",IF(C6=0,"Zero",IF(C6>100,"Unreasonably High",IF(C6="","Blank","OK")))) -> OK | N6: =IF(D6="","Blank",IF(D6="F","OK",IF(D6="M","OK","Unreasonable"))) -> OK | O6: =IF(E6="Education Loan","OK",IF(E6="Home Loan","OK",IF(E6="Personal Loan","OK",IF(E6="Vehicle Loan","OK",IF(E6="","Blank","Unreasonable"))))) -> OK | P6: =IF(F6="","Blank",IF(F6<0,"Negative",IF(F6=0,"Zero",IF(F6>10^9,"Very High","OK")))) -> OK | Q6: =IF(G6="","Blank",IF(G6="Yes","OK",IF(G6="No","OK","Unreasonable"))) -> OK | S6: =IF(J6=J5+1,"OK","Check") -> OK | T6: =IF(K6="","Blank",IF(K6<0,"Negative",IF(K6>100,"Very High",IF(AND(J6<>18,K6<=K5),"Unreasonable","OK")))) -> OK | V6: =IF(VLOOKUP(C6,$J$4:$J$46,1,0)=C6,"OK","Check") -> OK | X6: No Blank Value
B7: =Data_Checks!B7 -> AGUIRRE | C7: =Data_Checks!C7 -> 32 | D7: =IF(AND(Data_Checks!D7<>"F",Data_Checks!D7<>"M"),D6,Data_Checks!D7) -> M | E7: =IF(Data_Checks!E7="",E6,Data_Checks!E7) -> Personal Loan | F7: =IF(Data_Checks!F7="",F6,ABS(Data_Checks!F7)) -> 12000000 | G7: =IF(Data_Checks!G7="",G6,Data_Checks!G7) -> No | H7: =Data_Checks!H7 -> 0.6196113 | J7: =Data_Checks!J7 -> 21 | K7: =IF(Data_Checks!T7="Unreasonable",AVERAGE(K6,K8),ABS(Data_Checks!K7)) -> 3.241 | M7: =IF(C7<0,"Negative",IF(C7=0,"Zero",IF(C7>100,"Unreasonably High",IF(C7="","Blank","OK")))) -> OK | N7: =IF(D7="","Blank",IF(D7="F","OK",IF(D7="M","OK","Unreasonable"))) -> OK | O7: =IF(E7="Education Loan","OK",IF(E7="Home Loan","OK",IF(E7="Personal Loan","OK",IF(E7="Vehicle Loan","OK",IF(E7="","Blank","Unreasonable"))))) -> OK | P7: =IF(F7="","Blank",IF(F7<0,"Negative",IF(F7=0,"Zero",IF(F7>10^9,"Very High","OK")))) -> OK | Q7: =IF(G7="","Blank",IF(G7="Yes","OK",IF(G7="No","OK","Unreasonable"))) -> OK | S7: =IF(J7=J6+1,"OK","Check") -> OK | T7: =IF(K7="","Blank",IF(K7<0,"Negative",IF(K7>100,"Very High",IF(AND(J7<>18,K7<=K6),"Unreasonable","OK")))) -> OK | V7: =IF(VLOOKUP(C7,$J$4:$J$46,1,0)=C7,"OK","Check") -> OK | X7: No Very High Value
B8: =Data_Checks!B8 -> ALEXANDER | C8: =Data_Checks!C8 -> 22 | D8: =IF(AND(Data_Checks!D8<>"F",Data_Checks!D8<>"M"),D7,Data_Checks!D8) -> M | E8: =IF(Data_Checks!E8="",E7,Data_Checks!E8) -> Education Loan | F8: =IF(Data_Checks!F8="",F7,ABS(Data_Checks!F8)) -> 8000000 | G8: =IF(Data_Checks!G8="",G7,Data_Checks!G8) -> No | H8: =Data_Checks!H8 -> -2.0099079 | J8: =Data_Checks!J8 -> 22 | K8: =IF(Data_Checks!T8="Unreasonable",AVERAGE(K7,K9),ABS(Data_Checks!K8)) -> 3.322 | M8: =IF(C8<0,"Negative",IF(C8=0,"Zero",IF(C8>100,"Unreasonably High",IF(C8="","Blank","OK")))) -> OK | N8: =IF(D8="","Blank",IF(D8="F","OK",IF(D8="M","OK","Unreasonable"))) -> OK | O8: =IF(E8="Education Loan","OK",IF(E8="Home Loan","OK",IF(E8="Personal Loan","OK",IF(E8="Vehicle Loan","OK",IF(E8="","Blank","Unreasonable"))))) -> OK | P8: =IF(F8="","Blank",IF(F8<0,"Negative",IF(F8=0,"Zero",IF(F8>10^9,"Very High","OK")))) -> OK | Q8: =IF(G8="","Blank",IF(G8="Yes","OK",IF(G8="No","OK","Unreasonable"))) -> OK | S8: =IF(J8=J7+1,"OK","Check") -> OK | T8: =IF(K8="","Blank",IF(K8<0,"Negative",IF(K8>100,"Very High",IF(AND(J8<>18,K8<=K7),"Unreasonable","OK")))) -> OK | V8: =IF(VLOOKUP(C8,$J$4:$J$46,1,0)=C8,"OK","Check") -> OK
B9: =Data_Checks!B9 -> ALLEN | C9: =Data_Checks!C9 -> 37 | D9: =IF(AND(Data_Checks!D9<>"F",Data_Checks!D9<>"M"),D8,Data_Checks!D9) -> M | E9: =IF(Data_Checks!E9="",E8,Data_Checks!E9) -> Personal Loan | F9: =IF(Data_Checks!F9="",F8,ABS(Data_Checks!F9)) -> 12000000 | G9: =IF(Data_Checks!G9="",G8,Data_Checks!G9) -> No | H9: =Data_Checks!H9 -> -0.9369264 | J9: =Data_Checks!J9 -> 23 | K9: =IF(Data_Checks!T9="Unreasonable",AVERAGE(K8,K10),ABS(Data_Checks!K9)) -> 3.405 | M9: =IF(C9<0,"Negative",IF(C9=0,"Zero",IF(C9>100,"Unreasonably High",IF(C9="","Blank","OK")))) -> OK | N9: =IF(D9="","Blank",IF(D9="F","OK",IF(D9="M","OK","Unreasonable"))) -> OK | O9: =IF(E9="Education Loan","OK",IF(E9="Home Loan","OK",IF(E9="Personal Loan","OK",IF(E9="Vehicle Loan","OK",IF(E9="","Blank","Unreasonable"))))) -> OK | P9: =IF(F9="","Blank",IF(F9<0,"Negative",IF(F9=0,"Zero",IF(F9>10^9,"Very High","OK")))) -> OK | Q9: =IF(G9="","Blank",IF(G9="Yes","OK",IF(G9="No","OK","Unreasonable"))) -> OK | S9: =IF(J9=J8+1,"OK","Check") -> OK | T9: =IF(K9="","Blank",IF(K9<0,"Negative",IF(K9>100,"Very High",IF(AND(J9<>18,K9<=K8),"Unreasonable","OK")))) -> OK | V9: =IF(VLOOKUP(C9,$J$4:$J$46,1,0)=C9,"OK","Check") -> OK | X9: Gender of Customers
B10: =Data_Checks!B10 -> ALVARADO | C10: =Data_Checks!C10 -> 34 | D10: =IF(AND(Data_Checks!D10<>"F",Data_Checks!D10<>"M"),D9,Data_Checks!D10) -> M | E10: =IF(Data_Checks!E10="",E9,Data_Checks!E10) -> Education Loan | F10: =IF(Data_Checks!F10="",F9,ABS(Data_Checks!F10)) -> 12000000 | G10: =IF(Data_Checks!G10="",G9,Data_Checks!G10) -> No | H10: =Data_Checks!H10 -> 0.77959402 | J10: =Data_Checks!J10 -> 24 | K10: =IF(Data_Checks!T10="Unreasonable",AVERAGE(K9,K11),ABS(Data_Checks!K10)) -> 3.49 | M10: =IF(C10<0,"Negative",IF(C10=0,"Zero",IF(C10>100,"Unreasonably High",IF(C10="","Blank","OK")))) -> OK | N10: =IF(D10="","Blank",IF(D10="F","OK",IF(D10="M","OK","Unreasonable"))) -> OK | O10: =IF(E10="Education Loan","OK",IF(E10="Home Loan","OK",IF(E10="Personal Loan","OK",IF(E10="Vehicle Loan","OK",IF(E10="","Blank","Unreasonable"))))) -> OK | P10: =IF(F10="","Blank",IF(F10<0,"Negative",IF(F10=0,"Zero",IF(F10>10^9,"Very High","OK")))) -> OK | Q10: =IF(G10="","Blank",IF(G10="Yes","OK",IF(G10="No","OK","Unreasonable"))) -> OK | S10: =IF(J10=J9+1,"OK","Check") -> OK | T10: =IF(K10="","Blank",IF(K10<0,"Negative",IF(K10>100,"Very High",IF(AND(J10<>18,K10<=K9),"Unreasonable","OK")))) -> OK | V10: =IF(VLOOKUP(C10,$J$4:$J$46,1,0)=C10,"OK","Check") -> OK | X10: No Blank Value
