Workbook

Sheet Summary
A2: Purpose
A3: The 'Insurance Company' has been operating since last 10 years. So far the company has not been performing any mortality experience analysis and the mortality assumptions were based on the reinsurer's rates. However, for the first time, it was decided to conduct the study using the company's own data. The objective of this exercise is to calculate the actual mortality experience of the company over last few years and using an average of that to set the mortality adjustment assumptions. These adjustment factors will be applied on the standard mortality table, which has been used as the base here. Further, using a sample term insurance policy, a high level impact of changing the mortality assumption on the Best estimate liability has to be ascertained.
A5: Data
A6: The following information has been obtained by the records team of the company. • Inforce count at the start • Number of mortality claims • Inforce amount of sum assured • Amount of mortality claims paid during the year This data is grouped by age and year. • Year : The data is from 2016 to 2022 (both inclusive) • Age : ranging from 21 years to 80 years Check : A check was performed to ensure that the claim (number as well as amount) is not more than the inforce value. No errors were observed.
A7: Other inputs and assumptions
A8: The following additional information/assumption was used (1) Age group - It was agreed that the analysis will be performed on age group level. These groups are of size 10 years. For the same an age grouping table was created which shows into which each age will be classified. This is set based on internal discussion. (2) Reference age - Each of the age groups defined above require a reference age, which will be used to lookup the values from the mortality table. This is the mid point of the group. For example for group 21 to 30, the reference age is set is 25 years. (3) Mortality table - The base mortality table used by the company in its models has been used here to set the expected value (4) Population mix - The analysis is first performed age group wise. Then a single weighted average adjustment factor is calculated using weights for each group. These weights have been received from the marketing team. (5) Previous mortality adjustment factor used - this is the reinsurers' rate which was used in the previous valuation, when the company didn't had any internal mortality experience study. This is used to calculate the impact of changing the assumption. (6) Best estimate liability calculation model - for a sample term insurance policy (assumed to be a representative of the business), a simple set of calculations were obtained. This is a standard calculation, which has been used without further check.
A9: Besides, the following additional assumption is made: (1) The inforce count and inforce sum assured at the start of the year provided in the data can be used as the exposed to risk value. (2) The sample policy for which impact is tested is a representative of the portfolio (3) The best estimate liability calculation model obtained is correct
A10: Methodology
A11: There are two parts of the objective of this exercise : 1. The first part is to calculate the actual mortality experience and compare it with the expected. The ratio of the two represents the mortality adjustment factor which will represent the best estimate mortality assumptions. 2. The second part is to estimate the impact the BEL of changing the mortality assumption from that used in the previous valuation.
A12: Actual vs Expected mortality Expected mortality - this is directly taken from the mortality table. Lookup is made corresponding to the reference age for each age group. The below values were obtained.
A14: Actual mortality - This is calculated in the following steps: (a) Summarising the data variable wise into age group and year. Check was done to ensure that all the data was correctly included. (b) Actual mortality each year by each age group. The calculation have been performed on two basis : (i) based on the counts - Number of mortality claims / Number of inforce lives at the start of the period (ii) Based on amounts - Amount of mortality claims paid / Sum assured inforce at the start of the period. (c) An average of 7 years of experience is taken. This includes 7 years period starting from 2016 to 2022. This period was used because the claims data was obtained for this period only.
A15: Once the 7 years average was obtained across different age groups, representing the actual mortality experience these were then compared against the expected mortality rates. The ratio of actual : expected was calculated for each age group under both the approaches. The expected value remains same in the two approaches, but the actual changes
... A36: •Identify if other rating factors can be used and data can be obtained regarding the same, for example gender • Confirm the products covered and perform the testing for different products. The impact of mortality claim on term insurance products is strongest. • make improvements in the data systems to correctly adjust for the exposed for risk, for example how are policies who have incepted in the middle of the year included in the inforce value used as denominator • review if the age groups are reasonable • Perform further Validation checks on the data. • Explore if the company wants to rate the a mix of reinsurers; rate and its own experience results, but using a credibility factor, which can increase to 100% over a few years. • Expand the model to model mortality improvement trends • Perform a separate analysis for Covid 19 claims • Calculate the impact on overall capital requirements by changing the assumptions • Automate the process to reduce manual work and save time. • Obtain more information from the industry on the analysis and approaches being used. • Get the model peer reviewed • Ensure the claims information provided in the data matches with the claim amount paid in the financial statements. • Consider preforming similar exercise for lapse assumption • Check if the claims data represents the actual number of claims in the year or are they just the claims paid. These should ideally represent the actual number of claims incurred. • Built in adequate prudence level in line with the regulations • Ensure that the mortality table being used is latest and is same as used in the valuation models • Allow for any smoothing of the final mortality adjustment factor, like rounding to nearest 5% • Perform the impact assessment using the valuation models using the entire data rather than one single policy • Verify that the other assumptions and inputs are correct

Sheet Data
B2: Inforce and mortality claims data | J2: =SUM(J4:J565) -> 0 | K2: =SUM(K4:K565) -> 0
B3: Age | C3: Year | D3: Inforce count at the start | E3: Number of mortality claims | F3: Inforce sum assured (amount) | G3: Mortality claim amount paid | H3: Age group | J3: Check 1 - number of claims | K3: Check 1 - number of claims
B4: 21 | C4: 2016 | D4: 20 | E4: 0 | F4: 100 | G4: 0 | H4: =VLOOKUP(B4,'Other Info'!$B$3:$D$121,2,0) -> 21-30 years | J4: =IF(E4>D4,1, 0) -> 0 | K4: =IF(G4>F4,1, 0) -> 0
B5: 22 | C5: 2016 | D5: 40 | E5: 0 | F5: 400 | G5: 0 | H5: =VLOOKUP(B5,'Other Info'!$B$3:$D$121,2,0) -> 21-30 years | J5: =IF(E5>D5,1, 0) -> 0 | K5: =IF(G5>F5,1, 0) -> 0
B6: 23 | C6: 2016 | D6: 90 | E6: 0 | F6: 100 | G6: 0 | H6: =VLOOKUP(B6,'Other Info'!$B$3:$D$121,2,0) -> 21-30 years | J6: =IF(E6>D6,1, 0) -> 0 | K6: =IF(G6>F6,1, 0) -> 0
B7: 24 | C7: 2016 | D7: 130 | E7: 0 | F7: 3200 | G7: 0 | H7: =VLOOKUP(B7,'Other Info'!$B$3:$D$121,2,0) -> 21-30 years | J7: =IF(E7>D7,1, 0) -> 0 | K7: =IF(G7>F7,1, 0) -> 0
B8: 25 | C8: 2016 | D8: 130 | E8: 0 | F8: 4100 | G8: 0 | H8: =VLOOKUP(B8,'Other Info'!$B$3:$D$121,2,0) -> 21-30 years | J8: =IF(E8>D8,1, 0) -> 0 | K8: =IF(G8>F8,1, 0) -> 0
B9: 26 | C9: 2016 | D9: 190 | E9: 0 | F9: 1600 | G9: 0 | H9: =VLOOKUP(B9,'Other Info'!$B$3:$D$121,2,0) -> 21-30 years | J9: =IF(E9>D9,1, 0) -> 0 | K9: =IF(G9>F9,1, 0) -> 0
B10: 27 | C10: 2016 | D10: 200 | E10: 0 | F10: 3000 | G10: 0 | H10: =VLOOKUP(B10,'Other Info'!$B$3:$D$121,2,0) -> 21-30 years | J10: =IF(E10>D10,1, 0) -> 0 | K10: =IF(G10>F10,1, 0) -> 0
B11: 28 | C11: 2016 | D11: 340 | E11: 0 | F11: 2100 | G11: 0 | H11: =VLOOKUP(B11,'Other Info'!$B$3:$D$121,2,0) -> 21-30 years | J11: =IF(E11>D11,1, 0) -> 0 | K11: =IF(G11>F11,1, 0) -> 0
B12: 21 | C12: 2016 | D12: 2200 | E12: 0 | F12: 143000 | G12: 0 | H12: =VLOOKUP(B12,'Other Info'!$B$3:$D$121,2,0) -> 21-30 years | J12: =IF(E12>D12,1, 0) -> 0 | K12: =IF(G12>F12,1, 0) -> 0
B13: 22 | C13: 2016 | D13: 2930 | E13: 0 | F13: 156500 | G13: 0 | H13: =VLOOKUP(B13,'Other Info'!$B$3:$D$121,2,0) -> 21-30 years | J13: =IF(E13>D13,1, 0) -> 0 | K13: =IF(G13>F13,1, 0) -> 0
B14: 23 | C14: 2016 | D14: 3720 | E14: 3 | F14: 173800 | G14: 10 | H14: =VLOOKUP(B14,'Other Info'!$B$3:$D$121,2,0) -> 21-30 years | J14: =IF(E14>D14,1, 0) -> 0 | K14: =IF(G14>F14,1, 0) -> 0
B15: 24 | C15: 2016 | D15: 4620 | E15: 4 | F15: 244500 | G15: 20 | H15: =VLOOKUP(B15,'Other Info'!$B$3:$D$121,2,0) -> 21-30 years | J15: =IF(E15>D15,1, 0) -> 0 | K15: =IF(G15>F15,1, 0) -> 0
... B509: 79 | C509: 2020 | D509: 2.43 | E509: 0.3 | F509: 510.3 | G509: 0 | H509: =VLOOKUP(B509,'Other Info'!$B$3:$D$121,2,0) -> 71-80 years | J509: =IF(E509>D509,1, 0) -> 0 | K509: =IF(G509>F509,1, 0) -> 0
B510: 21 | C510: 2021 | D510: 453 | E510: 0.3 | F510: 23520 | H510: =VLOOKUP(B510,'Other Info'!$B$3:$D$121,2,0) -> 21-30 years | J510: =IF(E510>D510,1, 0) -> 0 | K510: =IF(G510>F510,1, 0) -> 0
B511: 22 | C511: 2021 | D511: 480 | E511: 0.3 | F511: 25350 | H511: =VLOOKUP(B511,'Other Info'!$B$3:$D$121,2,0) -> 21-30 years | J511: =IF(E511>D511,1, 0) -> 0 | K511: =IF(G511>F511,1, 0) -> 0
B512: 23 | C512: 2021 | D512: 600 | E512: 0.3 | F512: 27660 | G512: 0 | H512: =VLOOKUP(B512,'Other Info'!$B$3:$D$121,2,0) -> 21-30 years | J512: =IF(E512>D512,1, 0) -> 0 | K512: =IF(G512>F512,1, 0) -> 0
B513: 24 | C513: 2021 | D513: 873 | E513: 0.9 | F513: 36090 | G513: 1500 | H513: =VLOOKUP(B513,'Other Info'!$B$3:$D$121,2,0) -> 21-30 years | J513: =IF(E513>D513,1, 0) -> 0 | K513: =IF(G513>F513,1, 0) -> 0
B514: 26 | C514: 2021 | D514: 1065 | E514: 0.9 | F514: 120060 | G514: 300 | H514: =VLOOKUP(B514,'Other Info'!$B$3:$D$121,2,0) -> 21-30 years | J514: =IF(E514>D514,1, 0) -> 0 | K514: =IF(G514>F514,1, 0) -> 0
B515: 27 | C515: 2021 | D515: 1509 | E515: 0.9 | F515: 107910 | G515: 100 | H515: =VLOOKUP(B515,'Other Info'!$B$3:$D$121,2,0) -> 21-30 years | J515: =IF(E515>D515,1, 0) -> 0 | K515: =IF(G515>F515,1, 0) -> 0
B516: 28 | C516: 2021 | D516: 1998 | E516: 1.5 | F516: 168360 | G516: 300 | H516: =VLOOKUP(B516,'Other Info'!$B$3:$D$121,2,0) -> 21-30 years | J516: =IF(E516>D516,1, 0) -> 0 | K516: =IF(G516>F516,1, 0) -> 0
B517: 29 | C517: 2021 | D517: 2823 | E517: 3.6 | F517: 263430 | G517: 200 | H517: =VLOOKUP(B517,'Other Info'!$B$3:$D$121,2,0) -> 21-30 years | J517: =IF(E517>D517,1, 0) -> 0 | K517: =IF(G517>F517,1, 0) -> 0
B518: 30 | C518: 2021 | D518: 3696 | E518: 5.7 | F518: 421710 | G518: 400 | H518: =VLOOKUP(B518,'Other Info'!$B$3:$D$121,2,0) -> 21-30 years | J518: =IF(E518>D518,1, 0) -> 0 | K518: =IF(G518>F518,1, 0) -> 0
B519: 31 | C519: 2021 | D519: 4459.05 | E519: 3.3 | F519: 518294.7 | G519: 800 | H519: =VLOOKUP(B519,'Other Info'!$B$3:$D$121,2,0) -> 31-40 years | J519: =IF(E519>D519,1, 0) -> 0 | K519: =IF(G519>F519,1, 0) -> 0
B520: 32 | C520: 2021 | D520: 6143.04 | E520: 7.2 | F520: 806662.8 | G520: 900 | H520: =VLOOKUP(B520,'Other Info'!$B$3:$D$121,2,0) -> 31-40 years | J520: =IF(E520>D520,1, 0) -> 0 | K520: =IF(G520>F520,1, 0) -> 0
B521: 33 | C521: 2021 | D521: 8162.37 | E521: 10.8 | F521: 1359609.3 | G521: 2000 | H521: =VLOOKUP(B521,'Other Info'!$B$3:$D$121,2,0) -> 31-40 years | J521: =IF(E521>D521,1, 0) -> 0 | K521: =IF(G521>F521,1, 0) -> 0
B522: 34 | C522: 2021 | D522: 10509.75 | E522: 13.8 | F522: 2005187.4 | G522: 1176 | H522: =VLOOKUP(B522,'Other Info'!$B$3:$D$121,2,0) -> 31-40 years | J522: =IF(E522>D522,1, 0) -> 0 | K522: =IF(G522>F522,1, 0) -> 0
B523: 35 | C523: 2021 | D523: 14553.27 | E523: 16.2 | F523: 2717201.7 | G523: 2700 | H523: =VLOOKUP(B523,'Other Info'!$B$3:$D$121,2,0) -> 31-40 years | J523: =IF(E523>D523,1, 0) -> 0 | K523: =IF(G523>F523,1, 0) -> 0
... B565: 78 | C565: 2021 | D565: 2.43 | E565: 0.3 | F565: 720 | G565: 720 | H565: =VLOOKUP(B565,'Other Info'!$B$3:$D$121,2,0) -> 71-80 years | J565: =IF(E565>D565,1, 0) -> 0 | K565: =IF(G565>F565,1, 0) -> 0

Sheet Other Info
B2: Age group lookup table | F2: Mortality table | I2: population mix
B3: Age | C3: Age group | D3: Reference age for expected rate | F3: Age | G3: Mortality rate | I3: Age group | J3: Mix | L3: Mortality adjustment factor assumption used in the previous valuation | M3: 1.05
B4: 1 | C4: <=20 years | D4: 18 | F4: 0 | G4: 0.000915 | I4: 21-30 years | J4: 0.08
B5: 2 | C5: <=20 years | D5: 18 | F5: 1 | G5: 0.000915 | I5: 31-40 years | J5: 0.28
B6: 3 | C6: <=20 years | D6: 18 | F6: 2 | G6: 0.000915 | I6: 41-50 years | J6: 0.23
B7: 4 | C7: <=20 years | D7: 18 | F7: 3 | G7: 0.00047 | I7: 51-60 years | J7: 0.18
B8: 5 | C8: <=20 years | D8: 18 | F8: 4 | G8: 0.000271 | I8: 61-70 years | J8: 0.13
B9: 6 | C9: <=20 years | D9: 18 | F9: 5 | G9: 0.000185 | I9: 71-80 years | J9: 0.1
B10: 7 | C10: <=20 years | D10: 18 | F10: 6 | G10: 0.000152 | I10: Total | J10: =SUM(J4:J9) -> 1
B11: 8 | C11: <=20 years | D11: 18 | F11: 7 | G11: 0.000149
B12: 9 | C12: <=20 years | D12: 18 | F12: 8 | G12: 0.000167
B13: 10 | C13: <=20 years | D13: 18 | F13: 9 | G13: 0.000206
B14: 11 | C14: <=20 years | D14: 18 | F14: 10 | G14: 0.000265
B15: 12 | C15: <=20 years | D15: 18 | F15: 11 | G15: 0.000341
B16: 13 | C16: <=20 years | D16: 18 | F16: 12 | G16: 0.000429
B17: 15 | C17: <=20 years | D17: 18 | F17: 13 | G17: 0.000522
B18: 16 | C18: <=20 years | D18: 18 | F18: 14 | G18: 0.000614
B19: 17 | C19: <=20 years | D19: 18 | F19: 15 | G19: 0.000698
B20: 18 | C20: <=20 years | D20: 18 | F20: 16 | G20: 0.00077
B21: 19 | C21: <=20 years | D21: 18 | F21: 17 | G21: 0.000829
B22: 20 | C22: <=20 years | D22: 18 | F22: 18 | G22: 0.000874
... B114: 113 | C114: Above 90 years | D114: 85 | F114: 110 | G114: 0.784333
B115: 114 | C115: Above 90 years | D115: 85
B116: 115 | C116: Above 90 years | D116: 85
B117: 116 | C117: Above 90 years | D117: 85
B118: 117 | C118: Above 90 years | D118: 85
B119: 118 | C119: Above 90 years | D119: 85
B120: 119 | C120: Above 90 years | D120: 85
B121: 120 | C121: Above 90 years | D121: 85

Sheet Summary data
B2: Inforce count of the policies (exposed to risk) | K2: Inforce sum assured (exposed to risk)
B3: Age Group \ Year | C3: 2016 | D3: =C3+1 -> 2017 | E3: =D3+1 -> 2018 | F3: =E3+1 -> 2019 | G3: =F3+1 -> 2020 | H3: =G3+1 -> 2021 | I3: =H3+1 -> 2022 | K3: Age Group \ Year | L3: 2016 | M3: =L3+1 -> 2017 | N3: =M3+1 -> 2018 | O3: =N3+1 -> 2019 | P3: =O3+1 -> 2020 | Q3: =P3+1 -> 2021 | R3: =Q3+1 -> 2022
B4: 21-30 years | C4: =SUMIFS(Data!$D:$D,Data!$H:$H,'Summary data'!$B4,Data!$C:$C,'Summary data'!C$3) -> 73960 | D4: =SUMIFS(Data!$D:$D,Data!$H:$H,'Summary data'!$B4,Data!$C:$C,'Summary data'!D$3) -> 69340 | E4: =SUMIFS(Data!$D:$D,Data!$H:$H,'Summary data'!$B4,Data!$C:$C,'Summary data'!E$3) -> 65730 | F4: =SUMIFS(Data!$D:$D,Data!$H:$H,'Summary data'!$B4,Data!$C:$C,'Summary data'!F$3) -> 60510 | G4: =SUMIFS(Data!$D:$D,Data!$H:$H,'Summary data'!$B4,Data!$C:$C,'Summary data'!G$3) -> 68654 | H4: =SUMIFS(Data!$D:$D,Data!$H:$H,'Summary data'!$B4,Data!$C:$C,'Summary data'!H$3) -> 62307 | I4: =SUMIFS(Data!$D:$D,Data!$H:$H,'Summary data'!$B4,Data!$C:$C,'Summary data'!I$3) -> 79080 | K4: 21-30 years | L4: =SUMIFS(Data!$F:$F,Data!$H:$H,'Summary data'!$B4,Data!$C:$C,'Summary data'!L$3) -> 5460800 | M4: =SUMIFS(Data!$F:$F,Data!$H:$H,'Summary data'!$B4,Data!$C:$C,'Summary data'!M$3) -> 5167200 | N4: =SUMIFS(Data!$F:$F,Data!$H:$H,'Summary data'!$B4,Data!$C:$C,'Summary data'!N$3) -> 4802600 | O4: =SUMIFS(Data!$F:$F,Data!$H:$H,'Summary data'!$B4,Data!$C:$C,'Summary data'!O$3) -> 4732600 | P4: =SUMIFS(Data!$F:$F,Data!$H:$H,'Summary data'!$B4,Data!$C:$C,'Summary data'!P$3) -> 5705250 | Q4: =SUMIFS(Data!$F:$F,Data!$H:$H,'Summary data'!$B4,Data!$C:$C,'Summary data'!Q$3) -> 5385690 | R4: =SUMIFS(Data!$F:$F,Data!$H:$H,'Summary data'!$B4,Data!$C:$C,'Summary data'!R$3) -> 5559700
B5: 31-40 years | C5: =SUMIFS(Data!$D:$D,Data!$H:$H,'Summary data'!$B5,Data!$C:$C,'Summary data'!C$3) -> 537660 | D5: =SUMIFS(Data!$D:$D,Data!$H:$H,'Summary data'!$B5,Data!$C:$C,'Summary data'!D$3) -> 589920 | E5: =SUMIFS(Data!$D:$D,Data!$H:$H,'Summary data'!$B5,Data!$C:$C,'Summary data'!E$3) -> 613900 | F5: =SUMIFS(Data!$D:$D,Data!$H:$H,'Summary data'!$B5,Data!$C:$C,'Summary data'!F$3) -> 628160 | G5: =SUMIFS(Data!$D:$D,Data!$H:$H,'Summary data'!$B5,Data!$C:$C,'Summary data'!G$3) -> 656482.32 | H5: =SUMIFS(Data!$D:$D,Data!$H:$H,'Summary data'!$B5,Data!$C:$C,'Summary data'!H$3) -> 637875.81 | I5: =SUMIFS(Data!$D:$D,Data!$H:$H,'Summary data'!$B5,Data!$C:$C,'Summary data'!I$3) -> 568120 | K5: 31-40 years | L5: =SUMIFS(Data!$F:$F,Data!$H:$H,'Summary data'!$B5,Data!$C:$C,'Summary data'!L$3) -> 143573700 | M5: =SUMIFS(Data!$F:$F,Data!$H:$H,'Summary data'!$B5,Data!$C:$C,'Summary data'!M$3) -> 152111000 | N5: =SUMIFS(Data!$F:$F,Data!$H:$H,'Summary data'!$B5,Data!$C:$C,'Summary data'!N$3) -> 160061600 | O5: =SUMIFS(Data!$F:$F,Data!$H:$H,'Summary data'!$B5,Data!$C:$C,'Summary data'!O$3) -> 169270500 | P5: =SUMIFS(Data!$F:$F,Data!$H:$H,'Summary data'!$B5,Data!$C:$C,'Summary data'!P$3) -> 1.8266886e+08 | Q5: =SUMIFS(Data!$F:$F,Data!$H:$H,'Summary data'!$B5,Data!$C:$C,'Summary data'!Q$3) -> 1.8048504e+08 | R5: =SUMIFS(Data!$F:$F,Data!$H:$H,'Summary data'!$B5,Data!$C:$C,'Summary data'!R$3) -> 136016100
B6: 41-50 years | C6: =SUMIFS(Data!$D:$D,Data!$H:$H,'Summary data'!$B6,Data!$C:$C,'Summary data'!C$3) -> 789460 | D6: =SUMIFS(Data!$D:$D,Data!$H:$H,'Summary data'!$B6,Data!$C:$C,'Summary data'!D$3) -> 732660 | E6: =SUMIFS(Data!$D:$D,Data!$H:$H,'Summary data'!$B6,Data!$C:$C,'Summary data'!E$3) -> 777230 | F6: =SUMIFS(Data!$D:$D,Data!$H:$H,'Summary data'!$B6,Data!$C:$C,'Summary data'!F$3) -> 790230 | G6: =SUMIFS(Data!$D:$D,Data!$H:$H,'Summary data'!$B6,Data!$C:$C,'Summary data'!G$3) -> 861406.65 | H6: =SUMIFS(Data!$D:$D,Data!$H:$H,'Summary data'!$B6,Data!$C:$C,'Summary data'!H$3) -> 869978.07 | I6: =SUMIFS(Data!$D:$D,Data!$H:$H,'Summary data'!$B6,Data!$C:$C,'Summary data'!I$3) -> 792380 | K6: 41-50 years | L6: =SUMIFS(Data!$F:$F,Data!$H:$H,'Summary data'!$B6,Data!$C:$C,'Summary data'!L$3) -> 297449200 | M6: =SUMIFS(Data!$F:$F,Data!$H:$H,'Summary data'!$B6,Data!$C:$C,'Summary data'!M$3) -> 310769000 | N6: =SUMIFS(Data!$F:$F,Data!$H:$H,'Summary data'!$B6,Data!$C:$C,'Summary data'!N$3) -> 331410700 | O6: =SUMIFS(Data!$F:$F,Data!$H:$H,'Summary data'!$B6,Data!$C:$C,'Summary data'!O$3) -> 353826700 | P6: =SUMIFS(Data!$F:$F,Data!$H:$H,'Summary data'!$B6,Data!$C:$C,'Summary data'!P$3) -> 3.9977503e+08 | Q6: =SUMIFS(Data!$F:$F,Data!$H:$H,'Summary data'!$B6,Data!$C:$C,'Summary data'!Q$3) -> 422448858 | R6: =SUMIFS(Data!$F:$F,Data!$H:$H,'Summary data'!$B6,Data!$C:$C,'Summary data'!R$3) -> 292344100
B7: 51-60 years | C7: =SUMIFS(Data!$D:$D,Data!$H:$H,'Summary data'!$B7,Data!$C:$C,'Summary data'!C$3) -> 792590 | D7: =SUMIFS(Data!$D:$D,Data!$H:$H,'Summary data'!$B7,Data!$C:$C,'Summary data'!D$3) -> 779210 | E7: =SUMIFS(Data!$D:$D,Data!$H:$H,'Summary data'!$B7,Data!$C:$C,'Summary data'!E$3) -> 724690 | F7: =SUMIFS(Data!$D:$D,Data!$H:$H,'Summary data'!$B7,Data!$C:$C,'Summary data'!F$3) -> 710830 | G7: =SUMIFS(Data!$D:$D,Data!$H:$H,'Summary data'!$B7,Data!$C:$C,'Summary data'!G$3) -> 765752.13 | H7: =SUMIFS(Data!$D:$D,Data!$H:$H,'Summary data'!$B7,Data!$C:$C,'Summary data'!H$3) -> 743965.56 | I7: =SUMIFS(Data!$D:$D,Data!$H:$H,'Summary data'!$B7,Data!$C:$C,'Summary data'!I$3) -> 807020 | K7: 51-60 years | L7: =SUMIFS(Data!$F:$F,Data!$H:$H,'Summary data'!$B7,Data!$C:$C,'Summary data'!L$3) -> 338283800 | M7: =SUMIFS(Data!$F:$F,Data!$H:$H,'Summary data'!$B7,Data!$C:$C,'Summary data'!M$3) -> 339149700 | N7: =SUMIFS(Data!$F:$F,Data!$H:$H,'Summary data'!$B7,Data!$C:$C,'Summary data'!N$3) -> 341284600 | O7: =SUMIFS(Data!$F:$F,Data!$H:$H,'Summary data'!$B7,Data!$C:$C,'Summary data'!O$3) -> 343599400 | P7: =SUMIFS(Data!$F:$F,Data!$H:$H,'Summary data'!$B7,Data!$C:$C,'Summary data'!P$3) -> 3.6404463e+08 | Q7: =SUMIFS(Data!$F:$F,Data!$H:$H,'Summary data'!$B7,Data!$C:$C,'Summary data'!Q$3) -> 3.6462305e+08 | R7: =SUMIFS(Data!$F:$F,Data!$H:$H,'Summary data'!$B7,Data!$C:$C,'Summary data'!R$3) -> 337382600
B8: 61-70 years | C8: =SUMIFS(Data!$D:$D,Data!$H:$H,'Summary data'!$B8,Data!$C:$C,'Summary data'!C$3) -> 172620 | D8: =SUMIFS(Data!$D:$D,Data!$H:$H,'Summary data'!$B8,Data!$C:$C,'Summary data'!D$3) -> 183960 | E8: =SUMIFS(Data!$D:$D,Data!$H:$H,'Summary data'!$B8,Data!$C:$C,'Summary data'!E$3) -> 193570 | F8: =SUMIFS(Data!$D:$D,Data!$H:$H,'Summary data'!$B8,Data!$C:$C,'Summary data'!F$3) -> 199660 | G8: =SUMIFS(Data!$D:$D,Data!$H:$H,'Summary data'!$B8,Data!$C:$C,'Summary data'!G$3) -> 215580.69 | H8: =SUMIFS(Data!$D:$D,Data!$H:$H,'Summary data'!$B8,Data!$C:$C,'Summary data'!H$3) -> 214632.99 | I8: =SUMIFS(Data!$D:$D,Data!$H:$H,'Summary data'!$B8,Data!$C:$C,'Summary data'!I$3) -> 162340 | K8: 61-70 years | L8: =SUMIFS(Data!$F:$F,Data!$H:$H,'Summary data'!$B8,Data!$C:$C,'Summary data'!L$3) -> 94087000 | M8: =SUMIFS(Data!$F:$F,Data!$H:$H,'Summary data'!$B8,Data!$C:$C,'Summary data'!M$3) -> 103642000 | N8: =SUMIFS(Data!$F:$F,Data!$H:$H,'Summary data'!$B8,Data!$C:$C,'Summary data'!N$3) -> 112449100 | O8: =SUMIFS(Data!$F:$F,Data!$H:$H,'Summary data'!$B8,Data!$C:$C,'Summary data'!O$3) -> 120208500 | P8: =SUMIFS(Data!$F:$F,Data!$H:$H,'Summary data'!$B8,Data!$C:$C,'Summary data'!P$3) -> 1.3510243e+08 | Q8: =SUMIFS(Data!$F:$F,Data!$H:$H,'Summary data'!$B8,Data!$C:$C,'Summary data'!Q$3) -> 1.4099249e+08 | R8: =SUMIFS(Data!$F:$F,Data!$H:$H,'Summary data'!$B8,Data!$C:$C,'Summary data'!R$3) -> 84525700
B9: 71-80 years | C9: =SUMIFS(Data!$D:$D,Data!$H:$H,'Summary data'!$B9,Data!$C:$C,'Summary data'!C$3) -> 2080 | D9: =SUMIFS(Data!$D:$D,Data!$H:$H,'Summary data'!$B9,Data!$C:$C,'Summary data'!D$3) -> 2410 | E9: =SUMIFS(Data!$D:$D,Data!$H:$H,'Summary data'!$B9,Data!$C:$C,'Summary data'!E$3) -> 2380 | F9: =SUMIFS(Data!$D:$D,Data!$H:$H,'Summary data'!$B9,Data!$C:$C,'Summary data'!F$3) -> 2670 | G9: =SUMIFS(Data!$D:$D,Data!$H:$H,'Summary data'!$B9,Data!$C:$C,'Summary data'!G$3) -> 3611.79 | H9: =SUMIFS(Data!$D:$D,Data!$H:$H,'Summary data'!$B9,Data!$C:$C,'Summary data'!H$3) -> 4007.07 | I9: =SUMIFS(Data!$D:$D,Data!$H:$H,'Summary data'!$B9,Data!$C:$C,'Summary data'!I$3) -> 1820 | K9: 71-80 years | L9: =SUMIFS(Data!$F:$F,Data!$H:$H,'Summary data'!$B9,Data!$C:$C,'Summary data'!L$3) -> 905500 | M9: =SUMIFS(Data!$F:$F,Data!$H:$H,'Summary data'!$B9,Data!$C:$C,'Summary data'!M$3) -> 1427500 | N9: =SUMIFS(Data!$F:$F,Data!$H:$H,'Summary data'!$B9,Data!$C:$C,'Summary data'!N$3) -> 1810000 | O9: =SUMIFS(Data!$F:$F,Data!$H:$H,'Summary data'!$B9,Data!$C:$C,'Summary data'!O$3) -> 2249100 | P9: =SUMIFS(Data!$F:$F,Data!$H:$H,'Summary data'!$B9,Data!$C:$C,'Summary data'!P$3) -> 2526568.2 | Q9: =SUMIFS(Data!$F:$F,Data!$H:$H,'Summary data'!$B9,Data!$C:$C,'Summary data'!Q$3) -> 3276451.4 | R9: =SUMIFS(Data!$F:$F,Data!$H:$H,'Summary data'!$B9,Data!$C:$C,'Summary data'!R$3) -> 832300
B10: Check (sum total from data) | C10: =SUM(C4:I9)=SUM(Data!D:D) -> TRUE | K10: Check (sum total from data) | L10: =SUM(L4:R9)=SUM(Data!F:F) -> TRUE
B12: Number of mortality claims | K12: Amount of mortality claims paid
B13: Age Group \ Year | C13: 2016 | D13: =C13+1 -> 2017 | E13: =D13+1 -> 2018 | F13: =E13+1 -> 2019 | G13: =F13+1 -> 2020 | H13: =G13+1 -> 2021 | I13: =H13+1 -> 2022 | K13: Age Group \ Year | L13: 2016 | M13: =L13+1 -> 2017 | N13: =M13+1 -> 2018 | O13: =N13+1 -> 2019 | P13: =O13+1 -> 2020 | Q13: =P13+1 -> 2021 | R13: =Q13+1 -> 2022
B14: 21-30 years | C14: =SUMIFS(Data!$E:$E,Data!$H:$H,'Summary data'!$B14,Data!$C:$C,'Summary data'!C$3) -> 51 | D14: =SUMIFS(Data!$E:$E,Data!$H:$H,'Summary data'!$B14,Data!$C:$C,'Summary data'!D$3) -> 54 | E14: =SUMIFS(Data!$E:$E,Data!$H:$H,'Summary data'!$B14,Data!$C:$C,'Summary data'!E$3) -> 41 | F14: =SUMIFS(Data!$E:$E,Data!$H:$H,'Summary data'!$B14,Data!$C:$C,'Summary data'!F$3) -> 25 | G14: =SUMIFS(Data!$E:$E,Data!$H:$H,'Summary data'!$B14,Data!$C:$C,'Summary data'!G$3) -> 54.6 | H14: =SUMIFS(Data!$E:$E,Data!$H:$H,'Summary data'!$B14,Data!$C:$C,'Summary data'!H$3) -> 62.4 | I14: =SUMIFS(Data!$E:$E,Data!$H:$H,'Summary data'!$B14,Data!$C:$C,'Summary data'!I$3) -> 50 | K14: 21-30 years | L14: =SUMIFS(Data!$G:$G,Data!$H:$H,'Summary data'!$B14,Data!$C:$C,'Summary data'!L$3) -> 6760 | M14: =SUMIFS(Data!$G:$G,Data!$H:$H,'Summary data'!$B14,Data!$C:$C,'Summary data'!M$3) -> 3890 | N14: =SUMIFS(Data!$G:$G,Data!$H:$H,'Summary data'!$B14,Data!$C:$C,'Summary data'!N$3) -> 2240 | O14: =SUMIFS(Data!$G:$G,Data!$H:$H,'Summary data'!$B14,Data!$C:$C,'Summary data'!O$3) -> 1380 | P14: =SUMIFS(Data!$G:$G,Data!$H:$H,'Summary data'!$B14,Data!$C:$C,'Summary data'!P$3) -> 4986 | Q14: =SUMIFS(Data!$G:$G,Data!$H:$H,'Summary data'!$B14,Data!$C:$C,'Summary data'!Q$3) -> 5990 | R14: =SUMIFS(Data!$G:$G,Data!$H:$H,'Summary data'!$B14,Data!$C:$C,'Summary data'!R$3) -> 2030
B15: 31-40 years | C15: =SUMIFS(Data!$E:$E,Data!$H:$H,'Summary data'!$B15,Data!$C:$C,'Summary data'!C$3) -> 589 | D15: =SUMIFS(Data!$E:$E,Data!$H:$H,'Summary data'!$B15,Data!$C:$C,'Summary data'!D$3) -> 610 | E15: =SUMIFS(Data!$E:$E,Data!$H:$H,'Summary data'!$B15,Data!$C:$C,'Summary data'!E$3) -> 687 | F15: =SUMIFS(Data!$E:$E,Data!$H:$H,'Summary data'!$B15,Data!$C:$C,'Summary data'!F$3) -> 616 | G15: =SUMIFS(Data!$E:$E,Data!$H:$H,'Summary data'!$B15,Data!$C:$C,'Summary data'!G$3) -> 895.7 | H15: =SUMIFS(Data!$E:$E,Data!$H:$H,'Summary data'!$B15,Data!$C:$C,'Summary data'!H$3) -> 912.6 | I15: =SUMIFS(Data!$E:$E,Data!$H:$H,'Summary data'!$B15,Data!$C:$C,'Summary data'!I$3) -> 676 | K15: 31-40 years | L15: =SUMIFS(Data!$G:$G,Data!$H:$H,'Summary data'!$B15,Data!$C:$C,'Summary data'!L$3) -> 129590 | M15: =SUMIFS(Data!$G:$G,Data!$H:$H,'Summary data'!$B15,Data!$C:$C,'Summary data'!M$3) -> 109330 | N15: =SUMIFS(Data!$G:$G,Data!$H:$H,'Summary data'!$B15,Data!$C:$C,'Summary data'!N$3) -> 140350 | O15: =SUMIFS(Data!$G:$G,Data!$H:$H,'Summary data'!$B15,Data!$C:$C,'Summary data'!O$3) -> 126600 | P15: =SUMIFS(Data!$G:$G,Data!$H:$H,'Summary data'!$B15,Data!$C:$C,'Summary data'!P$3) -> 256747 | Q15: =SUMIFS(Data!$G:$G,Data!$H:$H,'Summary data'!$B15,Data!$C:$C,'Summary data'!Q$3) -> 207346 | R15: =SUMIFS(Data!$G:$G,Data!$H:$H,'Summary data'!$B15,Data!$C:$C,'Summary data'!R$3) -> 123000
B16: 41-50 years | C16: =SUMIFS(Data!$E:$E,Data!$H:$H,'Summary data'!$B16,Data!$C:$C,'Summary data'!C$3) -> 2142 | D16: =SUMIFS(Data!$E:$E,Data!$H:$H,'Summary data'!$B16,Data!$C:$C,'Summary data'!D$3) -> 2025 | E16: =SUMIFS(Data!$E:$E,Data!$H:$H,'Summary data'!$B16,Data!$C:$C,'Summary data'!E$3) -> 2194 | F16: =SUMIFS(Data!$E:$E,Data!$H:$H,'Summary data'!$B16,Data!$C:$C,'Summary data'!F$3) -> 2017 | G16: =SUMIFS(Data!$E:$E,Data!$H:$H,'Summary data'!$B16,Data!$C:$C,'Summary data'!G$3) -> 2958.8 | H16: =SUMIFS(Data!$E:$E,Data!$H:$H,'Summary data'!$B16,Data!$C:$C,'Summary data'!H$3) -> 2830.1 | I16: =SUMIFS(Data!$E:$E,Data!$H:$H,'Summary data'!$B16,Data!$C:$C,'Summary data'!I$3) -> 2275 | K16: 41-50 years | L16: =SUMIFS(Data!$G:$G,Data!$H:$H,'Summary data'!$B16,Data!$C:$C,'Summary data'!L$3) -> 576410 | M16: =SUMIFS(Data!$G:$G,Data!$H:$H,'Summary data'!$B16,Data!$C:$C,'Summary data'!M$3) -> 583900 | N16: =SUMIFS(Data!$G:$G,Data!$H:$H,'Summary data'!$B16,Data!$C:$C,'Summary data'!N$3) -> 602570 | O16: =SUMIFS(Data!$G:$G,Data!$H:$H,'Summary data'!$B16,Data!$C:$C,'Summary data'!O$3) -> 650650 | P16: =SUMIFS(Data!$G:$G,Data!$H:$H,'Summary data'!$B16,Data!$C:$C,'Summary data'!P$3) -> 927849 | Q16: =SUMIFS(Data!$G:$G,Data!$H:$H,'Summary data'!$B16,Data!$C:$C,'Summary data'!Q$3) -> 939198 | R16: =SUMIFS(Data!$G:$G,Data!$H:$H,'Summary data'!$B16,Data!$C:$C,'Summary data'!R$3) -> 587650
B17: 51-60 years | C17: =SUMIFS(Data!$E:$E,Data!$H:$H,'Summary data'!$B17,Data!$C:$C,'Summary data'!C$3) -> 6956 | D17: =SUMIFS(Data!$E:$E,Data!$H:$H,'Summary data'!$B17,Data!$C:$C,'Summary data'!D$3) -> 6941 | E17: =SUMIFS(Data!$E:$E,Data!$H:$H,'Summary data'!$B17,Data!$C:$C,'Summary data'!E$3) -> 6624 | F17: =SUMIFS(Data!$E:$E,Data!$H:$H,'Summary data'!$B17,Data!$C:$C,'Summary data'!F$3) -> 6259 | G17: =SUMIFS(Data!$E:$E,Data!$H:$H,'Summary data'!$B17,Data!$C:$C,'Summary data'!G$3) -> 9102.6 | H17: =SUMIFS(Data!$E:$E,Data!$H:$H,'Summary data'!$B17,Data!$C:$C,'Summary data'!H$3) -> 8307 | I17: =SUMIFS(Data!$E:$E,Data!$H:$H,'Summary data'!$B17,Data!$C:$C,'Summary data'!I$3) -> 7182 | K17: 51-60 years | L17: =SUMIFS(Data!$G:$G,Data!$H:$H,'Summary data'!$B17,Data!$C:$C,'Summary data'!L$3) -> 2307640 | M17: =SUMIFS(Data!$G:$G,Data!$H:$H,'Summary data'!$B17,Data!$C:$C,'Summary data'!M$3) -> 2285100 | N17: =SUMIFS(Data!$G:$G,Data!$H:$H,'Summary data'!$B17,Data!$C:$C,'Summary data'!N$3) -> 2291250 | O17: =SUMIFS(Data!$G:$G,Data!$H:$H,'Summary data'!$B17,Data!$C:$C,'Summary data'!O$3) -> 2312970 | P17: =SUMIFS(Data!$G:$G,Data!$H:$H,'Summary data'!$B17,Data!$C:$C,'Summary data'!P$3) -> 3257839 | Q17: =SUMIFS(Data!$G:$G,Data!$H:$H,'Summary data'!$B17,Data!$C:$C,'Summary data'!Q$3) -> 2977767 | R17: =SUMIFS(Data!$G:$G,Data!$H:$H,'Summary data'!$B17,Data!$C:$C,'Summary data'!R$3) -> 2230950
B18: 61-70 years | C18: =SUMIFS(Data!$E:$E,Data!$H:$H,'Summary data'!$B18,Data!$C:$C,'Summary data'!C$3) -> 3517 | D18: =SUMIFS(Data!$E:$E,Data!$H:$H,'Summary data'!$B18,Data!$C:$C,'Summary data'!D$3) -> 3828 | E18: =SUMIFS(Data!$E:$E,Data!$H:$H,'Summary data'!$B18,Data!$C:$C,'Summary data'!E$3) -> 4101 | F18: =SUMIFS(Data!$E:$E,Data!$H:$H,'Summary data'!$B18,Data!$C:$C,'Summary data'!F$3) -> 4292 | G18: =SUMIFS(Data!$E:$E,Data!$H:$H,'Summary data'!$B18,Data!$C:$C,'Summary data'!G$3) -> 6129.5 | H18: =SUMIFS(Data!$E:$E,Data!$H:$H,'Summary data'!$B18,Data!$C:$C,'Summary data'!H$3) -> 6173.6 | I18: =SUMIFS(Data!$E:$E,Data!$H:$H,'Summary data'!$B18,Data!$C:$C,'Summary data'!I$3) -> 3399 | K18: 61-70 years | L18: =SUMIFS(Data!$G:$G,Data!$H:$H,'Summary data'!$B18,Data!$C:$C,'Summary data'!L$3) -> 1562510 | M18: =SUMIFS(Data!$G:$G,Data!$H:$H,'Summary data'!$B18,Data!$C:$C,'Summary data'!M$3) -> 1649430 | N18: =SUMIFS(Data!$G:$G,Data!$H:$H,'Summary data'!$B18,Data!$C:$C,'Summary data'!N$3) -> 1945790 | O18: =SUMIFS(Data!$G:$G,Data!$H:$H,'Summary data'!$B18,Data!$C:$C,'Summary data'!O$3) -> 2039720 | P18: =SUMIFS(Data!$G:$G,Data!$H:$H,'Summary data'!$B18,Data!$C:$C,'Summary data'!P$3) -> 3027414 | Q18: =SUMIFS(Data!$G:$G,Data!$H:$H,'Summary data'!$B18,Data!$C:$C,'Summary data'!Q$3) -> 3267504 | R18: =SUMIFS(Data!$G:$G,Data!$H:$H,'Summary data'!$B18,Data!$C:$C,'Summary data'!R$3) -> 1472670
B19: 71-80 years | C19: =SUMIFS(Data!$E:$E,Data!$H:$H,'Summary data'!$B19,Data!$C:$C,'Summary data'!C$3) -> 82 | D19: =SUMIFS(Data!$E:$E,Data!$H:$H,'Summary data'!$B19,Data!$C:$C,'Summary data'!D$3) -> 98 | E19: =SUMIFS(Data!$E:$E,Data!$H:$H,'Summary data'!$B19,Data!$C:$C,'Summary data'!E$3) -> 98 | F19: =SUMIFS(Data!$E:$E,Data!$H:$H,'Summary data'!$B19,Data!$C:$C,'Summary data'!F$3) -> 100 | G19: =SUMIFS(Data!$E:$E,Data!$H:$H,'Summary data'!$B19,Data!$C:$C,'Summary data'!G$3) -> 183.3 | H19: =SUMIFS(Data!$E:$E,Data!$H:$H,'Summary data'!$B19,Data!$C:$C,'Summary data'!H$3) -> 207.7 | I19: =SUMIFS(Data!$E:$E,Data!$H:$H,'Summary data'!$B19,Data!$C:$C,'Summary data'!I$3) -> 76 | K19: 71-80 years | L19: =SUMIFS(Data!$G:$G,Data!$H:$H,'Summary data'!$B19,Data!$C:$C,'Summary data'!L$3) -> 26220 | M19: =SUMIFS(Data!$G:$G,Data!$H:$H,'Summary data'!$B19,Data!$C:$C,'Summary data'!M$3) -> 61350 | N19: =SUMIFS(Data!$G:$G,Data!$H:$H,'Summary data'!$B19,Data!$C:$C,'Summary data'!N$3) -> 68360 | O19: =SUMIFS(Data!$G:$G,Data!$H:$H,'Summary data'!$B19,Data!$C:$C,'Summary data'!O$3) -> 92020 | P19: =SUMIFS(Data!$G:$G,Data!$H:$H,'Summary data'!$B19,Data!$C:$C,'Summary data'!P$3) -> 114911 | Q19: =SUMIFS(Data!$G:$G,Data!$H:$H,'Summary data'!$B19,Data!$C:$C,'Summary data'!Q$3) -> 164228 | R19: =SUMIFS(Data!$G:$G,Data!$H:$H,'Summary data'!$B19,Data!$C:$C,'Summary data'!R$3) -> 31290
B20: Check (sum total from data) | C20: =SUM(C14:I19)=SUM(Data!E:E) -> TRUE | K20: Check (sum total from data) | L20: =SUM(L14:R19)=SUM(Data!G:G) -> TRUE

Sheet Expected mortality
B2: Expected mortality claim rate from the mortality table
B3: Age group | C3: Reference Age | D3: Mortality rate from the table
B4: 21-30 years | C4: =VLOOKUP(B4,'Other Info'!$C$4:$D$121,2,0) -> 25 | D4: =VLOOKUP(C4,'Other Info'!$F$4:$G$114,2,0) -> 0.000931
B5: 31-40 years | C5: =VLOOKUP(B5,'Other Info'!$C$4:$D$121,2,0) -> 35 | D5: =VLOOKUP(C5,'Other Info'!$F$4:$G$114,2,0) -> 0.001202
B6: 41-50 years | C6: =VLOOKUP(B6,'Other Info'!$C$4:$D$121,2,0) -> 45 | D6: =VLOOKUP(C6,'Other Info'!$F$4:$G$114,2,0) -> 0.002579
B7: 51-60 years | C7: =VLOOKUP(B7,'Other Info'!$C$4:$D$121,2,0) -> 55 | D7: =VLOOKUP(C7,'Other Info'!$F$4:$G$114,2,0) -> 0.007513
B8: 61-70 years | C8: =VLOOKUP(B8,'Other Info'!$C$4:$D$121,2,0) -> 65 | D8: =VLOOKUP(C8,'Other Info'!$F$4:$G$114,2,0) -> 0.015932
B9: 71-80 years | C9: =VLOOKUP(B9,'Other Info'!$C$4:$D$121,2,0) -> 75 | D9: =VLOOKUP(C9,'Other Info'!$F$4:$G$114,2,0) -> 0.038221

Sheet Actual vs exp - no. of claims
B2: Actual mortality experience using number of claims
B3: Age \ Year | C3: 2016 | D3: =C3+1 -> 2017 | E3: =D3+1 -> 2018 | F3: =E3+1 -> 2019 | G3: =F3+1 -> 2020 | H3: =G3+1 -> 2021 | I3: =H3+1 -> 2022 | J3: Average for last 7 years | K3: Expected rate | L3: Population weight | M3: Mortality adjustment factor
B4: 21-30 years | C4: ='Summary data'!C14/'Summary data'!C4 -> 0.00068956193 | D4: ='Summary data'!D14/'Summary data'!D4 -> 0.00077877127 | E4: ='Summary data'!E14/'Summary data'!E4 -> 0.00062376388 | F4: ='Summary data'!F14/'Summary data'!F4 -> 0.00041315485 | G4: ='Summary data'!G14/'Summary data'!G4 -> 0.00079529234 | H4: ='Summary data'!H14/'Summary data'!H4 -> 0.0010014926 | I4: ='Summary data'!I14/'Summary data'!I4 -> 0.00063227112 | J4: =AVERAGE(C4:I4) -> 0.00070490114 | K4: ='Expected mortality'!D4 -> 0.000931 | L4: ='Other Info'!J4 -> 0.08 | M4: =J4/K4 -> 0.75714408
B5: 31-40 years | C5: ='Summary data'!C15/'Summary data'!C5 -> 0.0010954879 | D5: ='Summary data'!D15/'Summary data'!D5 -> 0.0010340385 | E5: ='Summary data'!E15/'Summary data'!E5 -> 0.0011190748 | F5: ='Summary data'!F15/'Summary data'!F5 -> 0.00098064187 | G5: ='Summary data'!G15/'Summary data'!G5 -> 0.0013643932 | H5: ='Summary data'!H15/'Summary data'!H5 -> 0.001430686 | I5: ='Summary data'!I15/'Summary data'!I5 -> 0.0011898895 | J5: =AVERAGE(C5:I5) -> 0.0011734588 | K5: ='Expected mortality'!D5 -> 0.001202 | L5: ='Other Info'!J5 -> 0.28 | M5: =J5/K5 -> 0.97625525
B6: 41-50 years | C6: ='Summary data'!C16/'Summary data'!C6 -> 0.002713247 | D6: ='Summary data'!D16/'Summary data'!D6 -> 0.0027639014 | E6: ='Summary data'!E16/'Summary data'!E6 -> 0.0028228452 | F6: ='Summary data'!F16/'Summary data'!F6 -> 0.0025524214 | G6: ='Summary data'!G16/'Summary data'!G6 -> 0.0034348469 | H6: ='Summary data'!H16/'Summary data'!H6 -> 0.0032530705 | I6: ='Summary data'!I16/'Summary data'!I6 -> 0.0028710972 | J6: =AVERAGE(C6:I6) -> 0.0029159185 | K6: ='Expected mortality'!D6 -> 0.002579 | L6: ='Other Info'!J6 -> 0.23 | M6: =J6/K6 -> 1.1306392
B7: 51-60 years | C7: ='Summary data'!C17/'Summary data'!C7 -> 0.0087762904 | D7: ='Summary data'!D17/'Summary data'!D7 -> 0.0089077399 | E7: ='Summary data'!E17/'Summary data'!E7 -> 0.0091404601 | F7: ='Summary data'!F17/'Summary data'!F7 -> 0.0088051996 | G7: ='Summary data'!G17/'Summary data'!G7 -> 0.011887136 | H7: ='Summary data'!H17/'Summary data'!H7 -> 0.011165839 | I7: ='Summary data'!I17/'Summary data'!I7 -> 0.0088994077 | J7: =AVERAGE(C7:I7) -> 0.0096545819 | K7: ='Expected mortality'!D7 -> 0.007513 | L7: ='Other Info'!J7 -> 0.18 | M7: =J7/K7 -> 1.2850502
B8: 61-70 years | C8: ='Summary data'!C18/'Summary data'!C8 -> 0.020374232 | D8: ='Summary data'!D18/'Summary data'!D8 -> 0.020808871 | E8: ='Summary data'!E18/'Summary data'!E8 -> 0.021186134 | F8: ='Summary data'!F18/'Summary data'!F8 -> 0.021496544 | G8: ='Summary data'!G18/'Summary data'!G8 -> 0.028432509 | H8: ='Summary data'!H18/'Summary data'!H8 -> 0.028763519 | I8: ='Summary data'!I18/'Summary data'!I8 -> 0.020937538 | J8: =AVERAGE(C8:I8) -> 0.023142764 | K8: ='Expected mortality'!D8 -> 0.015932 | L8: ='Other Info'!J8 -> 0.13 | M8: =J8/K8 -> 1.4525963
B9: 71-80 years | C9: ='Summary data'!C19/'Summary data'!C9 -> 0.039423077 | D9: ='Summary data'!D19/'Summary data'!D9 -> 0.0406639 | E9: ='Summary data'!E19/'Summary data'!E9 -> 0.041176471 | F9: ='Summary data'!F19/'Summary data'!F9 -> 0.037453184 | G9: ='Summary data'!G19/'Summary data'!G9 -> 0.050750459 | H9: ='Summary data'!H19/'Summary data'!H9 -> 0.051833384 | I9: ='Summary data'!I19/'Summary data'!I9 -> 0.041758242 | J9: =AVERAGE(C9:I9) -> 0.043294102 | K9: ='Expected mortality'!D9 -> 0.038221 | L9: ='Other Info'!J9 -> 0.1 | M9: =J9/K9 -> 1.1327308
B10: Weighted average | M10: =SUMPRODUCT(M4:M9,L4:L9) -> 1.1273896

Sheet BEL
B1: Mortality table
B2: Age | C2: Mortality rate | E2: Assumptions | H2: Data entries | P2: Projection year | Q2: Age | R2: Cumulative survival rate at the start of the year | S2: Mortality adjustment factor | T2: Annual mortality rate | U2: Cumulative survival rate at the end of the year | V2: Cumulative mortality rate | W2: Expected Death benefit | X2: Expected Net Premium | Z2: Projection year | AA2: Age | AB2: Cumulative survival rate at the start of the year | AC2: Mortality adjustment factor | AD2: Annual mortality rate | AE2: Cumulative survival rate at the end of the year | AF2: Cumulative mortality rate | AG2: Expected Death benefit | AH2: Expected Net Premium | AJ2: Projection year | AK2: Age | AL2: Cumulative survival rate at the start of the year | AM2: Mortality adjustment factor | AN2: Annual mortality rate | AO2: Cumulative survival rate at the end of the year | AP2: Cumulative mortality rate | AQ2: Expected Death benefit | AR2: Expected Net Premium
B3: ='Other Info'!F4 -> 0 | C3: ='Other Info'!G4 -> 0.000915 | E3: Interest rate | F3: 0.06 | H3: Starting age | I3: 32 | L3: Base | M3: Proposed | N3: Proposed with uncertainty factor | P3: (t) | Q3: x | R3: tp(x-1) | T3: qx | U3: tpx | V3: t|qx | Z3: (t) | AA3: x | AB3: tp(x-1) | AD3: qx | AE3: tpx | AF3: t|qx | AJ3: (t) | AK3: x | AL3: tp(x-1) | AN3: qx | AO3: tpx | AP3: t|qx
B4: ='Other Info'!F5 -> 1 | C4: ='Other Info'!G5 -> 0.000915 | E4: Net premium adj. for expenses | F4: 0.3 | H4: outstanding term | I4: 35 | K4: Mortality multiplier assumption | L4: ='Other Info'!$M$3 -> 1.05 | M4: ='Actual vs exp - no. of claims'!M$10 -> 1.1273896 | N4: =M4 -> 1.1273896
B5: ='Other Info'!F6 -> 2 | C5: ='Other Info'!G6 -> 0.000915 | H5: Average annual premium | I5: 1500 | K5: Results | P5: 1 | Q5: =IF(P5="","",BEL!$I$3+P5-1) -> 32 | R5: 1 | S5: =IF(P5="","",$L$4) -> 1.05 | T5: =IF(P5="",0,VLOOKUP(Q5,BEL!$B$2:$C$118,2,0)*S5) -> 0.0010941 | U5: =IF(P5="",0,R5*(1-T5)) -> 0.9989059 | V5: =R5*T5 -> 0.0010941 | W5: =BEL!$I$6*V5 -> 1094.1 | X5: =BEL!$I$5*R5*(1-$F$4) -> 1050 | Z5: 1 | AA5: =IF(Z5="","",BEL!$I$3+Z5-1) -> 32 | AB5: 1 | AC5: =IF(Z5="","",$M$4) -> 1.1273896 | AD5: =IF(Z5="",0,VLOOKUP(AA5,BEL!$B$2:$C$118,2,0)*AC5) -> 0.00117474 | AE5: =IF(Z5="",0,AB5*(1-AD5)) -> 0.99882526 | AF5: =AB5*AD5 -> 0.00117474 | AG5: =BEL!$I$6*AF5 -> 1174.74 | AH5: =BEL!$I$5*AB5*(1-$F$4) -> 1050 | AJ5: 1 | AK5: =IF(AJ5="","",BEL!$I$3+AJ5-1) -> 32 | AL5: 1 | AM5: =AC5*(1+$N$13)^(AJ5-1) -> 1.1273896 | AN5: =IF(AJ5="",0,VLOOKUP(AK5,BEL!$B$2:$C$118,2,0)*AM5) -> 0.00117474 | AO5: =IF(AJ5="",0,AL5*(1-AN5)) -> 0.99882526 | AP5: =AL5*AN5 -> 0.00117474 | AQ5: =BEL!$I$6*AP5 -> 1174.74 | AR5: =BEL!$I$5*AL5*(1-$F$4) -> 1050
B6: ='Other Info'!F7 -> 3 | C6: ='Other Info'!G7 -> 0.00047 | H6: Sum assured payable on death | I6: 1000000 | K6: Net present value of death benefit payable | L6: =NPV($F$3,W5:W68) -> 50834.369 | M6: =NPV($F$3,AG5:AG68) -> 54299.84 | N6: =NPV($F$3,AQ5:AQ68) -> 56820.973 | P6: =IF(P5<BEL!$I$4,P5+1,"") -> 2 | Q6: =IF(P6="","",BEL!$I$3+P6-1) -> 33 | R6: =IF(P6="",0,U5) -> 0.9989059 | S6: =IF(P6="","",$L$4) -> 1.05 | T6: =IF(P6="",0,VLOOKUP(Q6,BEL!$B$2:$C$118,2,0)*S6) -> 0.0011403 | U6: =IF(P6="",0,R6*(1-T6)) -> 0.99776685 | V6: =R6*T6 -> 0.0011390524 | W6: =BEL!$I$6*V6 -> 1139.0524 | X6: =BEL!$I$5*R6*(1-$F$4) -> 1048.8512 | Z6: =IF(Z5<BEL!$I$4,Z5+1,"") -> 2 | AA6: =IF(Z6="","",BEL!$I$3+Z6-1) -> 33 | AB6: =IF(Z6="",0,AE5) -> 0.99882526 | AC6: =IF(Z6="","",$M$4) -> 1.1273896 | AD6: =IF(Z6="",0,VLOOKUP(AA6,BEL!$B$2:$C$118,2,0)*AC6) -> 0.0012243451 | AE6: =IF(Z6="",0,AB6*(1-AD6)) -> 0.99760235 | AF6: =AB6*AD6 -> 0.0012229069 | AG6: =BEL!$I$6*AF6 -> 1222.9069 | AH6: =BEL!$I$5*AB6*(1-$F$4) -> 1048.7665 | AJ6: =IF(AJ5<BEL!$I$4,AJ5+1,"") -> 2 | AK6: =IF(AJ6="","",BEL!$I$3+AJ6-1) -> 33 | AL6: =IF(AJ6="",0,AO5) -> 0.99882526 | AM6: =AC6*(1+$N$13)^(AJ6-1) -> 1.1302081 | AN6: =IF(AJ6="",0,VLOOKUP(AK6,BEL!$B$2:$C$118,2,0)*AM6) -> 0.001227406 | AO6: =IF(AJ6="",0,AL6*(1-AN6)) -> 0.9975993 | AP6: =AL6*AN6 -> 0.0012259641 | AQ6: =BEL!$I$6*AP6 -> 1225.9641 | AR6: =BEL!$I$5*AL6*(1-$F$4) -> 1048.7665
B7: ='Other Info'!F8 -> 4 | C7: ='Other Info'!G8 -> 0.000271 | K7: Net present value of net premium receivable | L7: =NPV($F$3,X5:X68)*(1+$F$3) -> 15665.116 | M7: =NPV($F$3,AH5:AH68)*(1+$F$3) -> 15631.87 | N7: =NPV($F$3,AR5:AR68)*(1+$F$3) -> 15613.748 | P7: =IF(P6<BEL!$I$4,P6+1,"") -> 3 | Q7: =IF(P7="","",BEL!$I$3+P7-1) -> 34 | R7: =IF(P7="",0,U6) -> 0.99776685 | S7: =IF(P7="","",$L$4) -> 1.05 | T7: =IF(P7="",0,VLOOKUP(Q7,BEL!$B$2:$C$118,2,0)*S7) -> 0.001197 | U7: =IF(P7="",0,R7*(1-T7)) -> 0.99657252 | V7: =R7*T7 -> 0.0011943269 | W7: =BEL!$I$6*V7 -> 1194.3269 | X7: =BEL!$I$5*R7*(1-$F$4) -> 1047.6552 | Z7: =IF(Z6<BEL!$I$4,Z6+1,"") -> 3 | AA7: =IF(Z7="","",BEL!$I$3+Z7-1) -> 34 | AB7: =IF(Z7="",0,AE6) -> 0.99760235 | AC7: =IF(Z7="","",$M$4) -> 1.1273896 | AD7: =IF(Z7="",0,VLOOKUP(AA7,BEL!$B$2:$C$118,2,0)*AC7) -> 0.0012852242 | AE7: =IF(Z7="",0,AB7*(1-AD7)) -> 0.99632021 | AF7: =AB7*AD7 -> 0.0012821427 | AG7: =BEL!$I$6*AF7 -> 1282.1427 | AH7: =BEL!$I$5*AB7*(1-$F$4) -> 1047.4825 | AJ7: =IF(AJ6<BEL!$I$4,AJ6+1,"") -> 3 | AK7: =IF(AJ7="","",BEL!$I$3+AJ7-1) -> 34 | AL7: =IF(AJ7="",0,AO6) -> 0.9975993 | AM7: =AC7*(1+$N$13)^(AJ7-1) -> 1.1330336 | AN7: =IF(AJ7="",0,VLOOKUP(AK7,BEL!$B$2:$C$118,2,0)*AM7) -> 0.0012916583 | AO7: =IF(AJ7="",0,AL7*(1-AN7)) -> 0.99631074 | AP7: =AL7*AN7 -> 0.0012885575 | AQ7: =BEL!$I$6*AP7 -> 1288.5575 | AR7: =BEL!$I$5*AL7*(1-$F$4) -> 1047.4793
B8: ='Other Info'!F9 -> 5 | C8: ='Other Info'!G9 -> 0.000185 | K8: BEL | L8: =L6-L7 -> 35169.252 | M8: =M6-M7 -> 38667.97 | N8: =N6-N7 -> 41207.225 | P8: =IF(P7<BEL!$I$4,P7+1,"") -> 4 | Q8: =IF(P8="","",BEL!$I$3+P8-1) -> 35 | R8: =IF(P8="",0,U7) -> 0.99657252 | S8: =IF(P8="","",$L$4) -> 1.05 | T8: =IF(P8="",0,VLOOKUP(Q8,BEL!$B$2:$C$118,2,0)*S8) -> 0.0012621 | U8: =IF(P8="",0,R8*(1-T8)) -> 0.99531475 | V8: =R8*T8 -> 0.0012577742 | W8: =BEL!$I$6*V8 -> 1257.7742 | X8: =BEL!$I$5*R8*(1-$F$4) -> 1046.4011 | Z8: =IF(Z7<BEL!$I$4,Z7+1,"") -> 4 | AA8: =IF(Z8="","",BEL!$I$3+Z8-1) -> 35 | AB8: =IF(Z8="",0,AE7) -> 0.99632021 | AC8: =IF(Z8="","",$M$4) -> 1.1273896 | AD8: =IF(Z8="",0,VLOOKUP(AA8,BEL!$B$2:$C$118,2,0)*AC8) -> 0.0013551223 | AE8: =IF(Z8="",0,AB8*(1-AD8)) -> 0.99497007 | AF8: =AB8*AD8 -> 0.0013501358 | AG8: =BEL!$I$6*AF8 -> 1350.1358 | AH8: =BEL!$I$5*AB8*(1-$F$4) -> 1046.1362 | AJ8: =IF(AJ7<BEL!$I$4,AJ7+1,"") -> 4 | AK8: =IF(AJ8="","",BEL!$I$3+AJ8-1) -> 35 | AL8: =IF(AJ8="",0,AO7) -> 0.99631074 | AM8: =AC8*(1+$N$13)^(AJ8-1) -> 1.1358662 | AN8: =IF(AJ8="",0,VLOOKUP(AK8,BEL!$B$2:$C$118,2,0)*AM8) -> 0.0013653112 | AO8: =IF(AJ8="",0,AL8*(1-AN8)) -> 0.99495046 | AP8: =AL8*AN8 -> 0.0013602742 | AQ8: =BEL!$I$6*AP8 -> 1360.2742 | AR8: =BEL!$I$5*AL8*(1-$F$4) -> 1046.1263
B9: ='Other Info'!F10 -> 6 | C9: ='Other Info'!G10 -> 0.000152 | P9: =IF(P8<BEL!$I$4,P8+1,"") -> 5 | Q9: =IF(P9="","",BEL!$I$3+P9-1) -> 36 | R9: =IF(P9="",0,U8) -> 0.99531475 | S9: =IF(P9="","",$L$4) -> 1.05 | T9: =IF(P9="",0,VLOOKUP(Q9,BEL!$B$2:$C$118,2,0)*S9) -> 0.00133875 | U9: =IF(P9="",0,R9*(1-T9)) -> 0.99398227 | V9: =R9*T9 -> 0.0013324776 | W9: =BEL!$I$6*V9 -> 1332.4776 | X9: =BEL!$I$5*R9*(1-$F$4) -> 1045.0805 | Z9: =IF(Z8<BEL!$I$4,Z8+1,"") -> 5 | AA9: =IF(Z9="","",BEL!$I$3+Z9-1) -> 36 | AB9: =IF(Z9="",0,AE8) -> 0.99497007 | AC9: =IF(Z9="","",$M$4) -> 1.1273896 | AD9: =IF(Z9="",0,VLOOKUP(AA9,BEL!$B$2:$C$118,2,0)*AC9) -> 0.0014374218 | AE9: =IF(Z9="",0,AB9*(1-AD9)) -> 0.99353988 | AF9: =AB9*AD9 -> 0.0014301917 | AG9: =BEL!$I$6*AF9 -> 1430.1917 | AH9: =BEL!$I$5*AB9*(1-$F$4) -> 1044.7186 | AJ9: =IF(AJ8<BEL!$I$4,AJ8+1,"") -> 5 | AK9: =IF(AJ9="","",BEL!$I$3+AJ9-1) -> 36 | AL9: =IF(AJ9="",0,AO8) -> 0.99495046 | AM9: =AC9*(1+$N$13)^(AJ9-1) -> 1.1387059 | AN9: =IF(AJ9="",0,VLOOKUP(AK9,BEL!$B$2:$C$118,2,0)*AM9) -> 0.00145185 | AO9: =IF(AJ9="",0,AL9*(1-AN9)) -> 0.99350595 | AP9: =AL9*AN9 -> 0.0014445188 | AQ9: =BEL!$I$6*AP9 -> 1444.5188 | AR9: =BEL!$I$5*AL9*(1-$F$4) -> 1044.698
B10: ='Other Info'!F11 -> 7 | C10: ='Other Info'!G11 -> 0.000149 | K10: Impact | M10: =M8/L8-1 -> 0.099482276 | N10: =N8/M8-1 -> 0.06566819 | P10: =IF(P9<BEL!$I$4,P9+1,"") -> 6 | Q10: =IF(P10="","",BEL!$I$3+P10-1) -> 37 | R10: =IF(P10="",0,U9) -> 0.99398227 | S10: =IF(P10="","",$L$4) -> 1.05 | T10: =IF(P10="",0,VLOOKUP(Q10,BEL!$B$2:$C$118,2,0)*S10) -> 0.0014259 | U10: =IF(P10="",0,R10*(1-T10)) -> 0.99256495 | V10: =R10*T10 -> 0.0014173193 | W10: =BEL!$I$6*V10 -> 1417.3193 | X10: =BEL!$I$5*R10*(1-$F$4) -> 1043.6814 | Z10: =IF(Z9<BEL!$I$4,Z9+1,"") -> 6 | AA10: =IF(Z10="","",BEL!$I$3+Z10-1) -> 37 | AB10: =IF(Z10="",0,AE9) -> 0.99353988 | AC10: =IF(Z10="","",$M$4) -> 1.1273896 | AD10: =IF(Z10="",0,VLOOKUP(AA10,BEL!$B$2:$C$118,2,0)*AC10) -> 0.0015309951 | AE10: =IF(Z10="",0,AB10*(1-AD10)) -> 0.99201878 | AF10: =AB10*AD10 -> 0.0015211047 | AG10: =BEL!$I$6*AF10 -> 1521.1047 | AH10: =BEL!$I$5*AB10*(1-$F$4) -> 1043.2169 | AJ10: =IF(AJ9<BEL!$I$4,AJ9+1,"") -> 6 | AK10: =IF(AJ10="","",BEL!$I$3+AJ10-1) -> 37 | AL10: =IF(AJ10="",0,AO9) -> 0.99350595 | AM10: =AC10*(1+$N$13)^(AJ10-1) -> 1.1415526 | AN10: =IF(AJ10="",0,VLOOKUP(AK10,BEL!$B$2:$C$118,2,0)*AM10) -> 0.0015502285 | AO10: =IF(AJ10="",0,AL10*(1-AN10)) -> 0.99196578 | AP10: =AL10*AN10 -> 0.0015401612 | AQ10: =BEL!$I$6*AP10 -> 1540.1612 | AR10: =BEL!$I$5*AL10*(1-$F$4) -> 1043.1812
B11: ='Other Info'!F12 -> 8 | C11: ='Other Info'!G12 -> 0.000167 | K11: Impact from base | N11: =N8/L8-1 -> 0.17168329 | P11: =IF(P10<BEL!$I$4,P10+1,"") -> 7 | Q11: =IF(P11="","",BEL!$I$3+P11-1) -> 38 | R11: =IF(P11="",0,U10) -> 0.99256495 | S11: =IF(P11="","",$L$4) -> 1.05 | T11: =IF(P11="",0,VLOOKUP(Q11,BEL!$B$2:$C$118,2,0)*S11) -> 0.00152565 | U11: =IF(P11="",0,R11*(1-T11)) -> 0.99105064 | V11: =R11*T11 -> 0.0015143067 | W11: =BEL!$I$6*V11 -> 1514.3067 | X11: =BEL!$I$5*R11*(1-$F$4) -> 1042.1932 | Z11: =IF(Z10<BEL!$I$4,Z10+1,"") -> 7 | AA11: =IF(Z11="","",BEL!$I$3+Z11-1) -> 38 | AB11: =IF(Z11="",0,AE10) -> 0.99201878 | AC11: =IF(Z11="","",$M$4) -> 1.1273896 | AD11: =IF(Z11="",0,VLOOKUP(AA11,BEL!$B$2:$C$118,2,0)*AC11) -> 0.0016380971 | AE11: =IF(Z11="",0,AB11*(1-AD11)) -> 0.99039376 | AF11: =AB11*AD11 -> 0.0016250231 | AG11: =BEL!$I$6*AF11 -> 1625.0231 | AH11: =BEL!$I$5*AB11*(1-$F$4) -> 1041.6197 | AJ11: =IF(AJ10<BEL!$I$4,AJ10+1,"") -> 7 | AK11: =IF(AJ11="","",BEL!$I$3+AJ11-1) -> 38 | AL11: =IF(AJ11="",0,AO10) -> 0.99196578 | AM11: =AC11*(1+$N$13)^(AJ11-1) -> 1.1444065 | AN11: =IF(AJ11="",0,VLOOKUP(AK11,BEL!$B$2:$C$118,2,0)*AM11) -> 0.0016628227 | AO11: =IF(AJ11="",0,AL11*(1-AN11)) -> 0.99031632 | AP11: =AL11*AN11 -> 0.0016494632 | AQ11: =BEL!$I$6*AP11 -> 1649.4632 | AR11: =BEL!$I$5*AL11*(1-$F$4) -> 1041.5641
B12: ='Other Info'!F13 -> 9 | C12: ='Other Info'!G13 -> 0.000206 | P12: =IF(P11<BEL!$I$4,P11+1,"") -> 8 | Q12: =IF(P12="","",BEL!$I$3+P12-1) -> 39 | R12: =IF(P12="",0,U11) -> 0.99105064 | S12: =IF(P12="","",$L$4) -> 1.05 | T12: =IF(P12="",0,VLOOKUP(Q12,BEL!$B$2:$C$118,2,0)*S12) -> 0.001638 | U12: =IF(P12="",0,R12*(1-T12)) -> 0.9894273 | V12: =R12*T12 -> 0.001623341 | W12: =BEL!$I$6*V12 -> 1623.341 | X12: =BEL!$I$5*R12*(1-$F$4) -> 1040.6032 | Z12: =IF(Z11<BEL!$I$4,Z11+1,"") -> 8 | AA12: =IF(Z12="","",BEL!$I$3+Z12-1) -> 39 | AB12: =IF(Z12="",0,AE11) -> 0.99039376 | AC12: =IF(Z12="","",$M$4) -> 1.1273896 | AD12: =IF(Z12="",0,VLOOKUP(AA12,BEL!$B$2:$C$118,2,0)*AC12) -> 0.0017587278 | AE12: =IF(Z12="",0,AB12*(1-AD12)) -> 0.98865192 | AF12: =AB12*AD12 -> 0.0017418331 | AG12: =BEL!$I$6*AF12 -> 1741.8331 | AH12: =BEL!$I$5*AB12*(1-$F$4) -> 1039.9134 | AJ12: =IF(AJ11<BEL!$I$4,AJ11+1,"") -> 8 | AK12: =IF(AJ12="","",BEL!$I$3+AJ12-1) -> 39 | AL12: =IF(AJ12="",0,AO11) -> 0.99031632 | AM12: =AC12*(1+$N$13)^(AJ12-1) -> 1.1472675 | AN12: =IF(AJ12="",0,VLOOKUP(AK12,BEL!$B$2:$C$118,2,0)*AM12) -> 0.0017897374 | AO12: =IF(AJ12="",0,AL12*(1-AN12)) -> 0.98854391 | AP12: =AL12*AN12 -> 0.0017724061 | AQ12: =BEL!$I$6*AP12 -> 1772.4061 | AR12: =BEL!$I$5*AL12*(1-$F$4) -> 1039.8321
B13: ='Other Info'!F14 -> 10 | C13: ='Other Info'!G14 -> 0.000265 | K13: Uncertainty factor | N13: =0.25% -> 0.0025 | P13: =IF(P12<BEL!$I$4,P12+1,"") -> 9 | Q13: =IF(P13="","",BEL!$I$3+P13-1) -> 40 | R13: =IF(P13="",0,U12) -> 0.9894273 | S13: =IF(P13="","",$L$4) -> 1.05 | T13: =IF(P13="",0,VLOOKUP(Q13,BEL!$B$2:$C$118,2,0)*S13) -> 0.001764 | U13: =IF(P13="",0,R13*(1-T13)) -> 0.98768195 | V13: =R13*T13 -> 0.0017453498 | W13: =BEL!$I$6*V13 -> 1745.3498 | X13: =BEL!$I$5*R13*(1-$F$4) -> 1038.8987 | Z13: =IF(Z12<BEL!$I$4,Z12+1,"") -> 9 | AA13: =IF(Z13="","",BEL!$I$3+Z13-1) -> 40 | AB13: =IF(Z13="",0,AE12) -> 0.98865192 | AC13: =IF(Z13="","",$M$4) -> 1.1273896 | AD13: =IF(Z13="",0,VLOOKUP(AA13,BEL!$B$2:$C$118,2,0)*AC13) -> 0.0018940146 | AE13: =IF(Z13="",0,AB13*(1-AD13)) -> 0.9867794 | AF13: =AB13*AD13 -> 0.0018725212 | AG13: =BEL!$I$6*AF13 -> 1872.5212 | AH13: =BEL!$I$5*AB13*(1-$F$4) -> 1038.0845 | AJ13: =IF(AJ12<BEL!$I$4,AJ12+1,"") -> 9 | AK13: =IF(AJ13="","",BEL!$I$3+AJ13-1) -> 40 | AL13: =IF(AJ13="",0,AO12) -> 0.98854391 | AM13: =AC13*(1+$N$13)^(AJ13-1) -> 1.1501357 | AN13: =IF(AJ13="",0,VLOOKUP(AK13,BEL!$B$2:$C$118,2,0)*AM13) -> 0.001932228 | AO13: =IF(AJ13="",0,AL13*(1-AN13)) -> 0.98663382 | AP13: =AL13*AN13 -> 0.0019100922 | AQ13: =BEL!$I$6*AP13 -> 1910.0922 | AR13: =BEL!$I$5*AL13*(1-$F$4) -> 1037.9711
B14: ='Other Info'!F15 -> 11 | C14: ='Other Info'!G15 -> 0.000341 | P14: =IF(P13<BEL!$I$4,P13+1,"") -> 10 | Q14: =IF(P14="","",BEL!$I$3+P14-1) -> 41 | R14: =IF(P14="",0,U13) -> 0.98768195 | S14: =IF(P14="","",$L$4) -> 1.05 | T14: =IF(P14="",0,VLOOKUP(Q14,BEL!$B$2:$C$118,2,0)*S14) -> 0.00190575 | U14: =IF(P14="",0,R14*(1-T14)) -> 0.98579968 | V14: =R14*T14 -> 0.0018822749 | W14: =BEL!$I$6*V14 -> 1882.2749 | X14: =BEL!$I$5*R14*(1-$F$4) -> 1037.066 | Z14: =IF(Z13<BEL!$I$4,Z13+1,"") -> 10 | AA14: =IF(Z14="","",BEL!$I$3+Z14-1) -> 41 | AB14: =IF(Z14="",0,AE13) -> 0.9867794 | AC14: =IF(Z14="","",$M$4) -> 1.1273896 | AD14: =IF(Z14="",0,VLOOKUP(AA14,BEL!$B$2:$C$118,2,0)*AC14) -> 0.0020462122 | AE14: =IF(Z14="",0,AB14*(1-AD14)) -> 0.98476024 | AF14: =AB14*AD14 -> 0.00201916 | AG14: =BEL!$I$6*AF14 -> 2019.16 | AH14: =BEL!$I$5*AB14*(1-$F$4) -> 1036.1184 | AJ14: =IF(AJ13<BEL!$I$4,AJ13+1,"") -> 10 | AK14: =IF(AJ14="","",BEL!$I$3+AJ14-1) -> 41 | AL14: =IF(AJ14="",0,AO13) -> 0.98663382 | AM14: =AC14*(1+$N$13)^(AJ14-1) -> 1.1530111 | AN14: =IF(AJ14="",0,VLOOKUP(AK14,BEL!$B$2:$C$118,2,0)*AM14) -> 0.0020927151 | AO14: =IF(AJ14="",0,AL14*(1-AN14)) -> 0.98456908 | AP14: =AL14*AN14 -> 0.0020647435 | AQ14: =BEL!$I$6*AP14 -> 2064.7435 | AR14: =BEL!$I$5*AL14*(1-$F$4) -> 1035.9655
B15: ='Other Info'!F16 -> 12 | C15: ='Other Info'!G16 -> 0.000429 | P15: =IF(P14<BEL!$I$4,P14+1,"") -> 11 | Q15: =IF(P15="","",BEL!$I$3+P15-1) -> 42 | R15: =IF(P15="",0,U14) -> 0.98579968 | S15: =IF(P15="","",$L$4) -> 1.05 | T15: =IF(P15="",0,VLOOKUP(Q15,BEL!$B$2:$C$118,2,0)*S15) -> 0.00206745 | U15: =IF(P15="",0,R15*(1-T15)) -> 0.98376159 | V15: =R15*T15 -> 0.0020380915 | W15: =BEL!$I$6*V15 -> 2038.0915 | X15: =BEL!$I$5*R15*(1-$F$4) -> 1035.0897 | Z15: =IF(Z14<BEL!$I$4,Z14+1,"") -> 11 | AA15: =IF(Z15="","",BEL!$I$3+Z15-1) -> 42 | AB15: =IF(Z15="",0,AE14) -> 0.98476024 | AC15: =IF(Z15="","",$M$4) -> 1.1273896 | AD15: =IF(Z15="",0,VLOOKUP(AA15,BEL!$B$2:$C$118,2,0)*AC15) -> 0.0022198302 | AE15: =IF(Z15="",0,AB15*(1-AD15)) -> 0.98257424 | AF15: =AB15*AD15 -> 0.0021860005 | AG15: =BEL!$I$6*AF15 -> 2186.0005 | AH15: =BEL!$I$5*AB15*(1-$F$4) -> 1033.9983 | AJ15: =IF(AJ14<BEL!$I$4,AJ14+1,"") -> 11 | AK15: =IF(AJ15="","",BEL!$I$3+AJ15-1) -> 42 | AL15: =IF(AJ15="",0,AO14) -> 0.98456908 | AM15: =AC15*(1+$N$13)^(AJ15-1) -> 1.1558936 | AN15: =IF(AJ15="",0,VLOOKUP(AK15,BEL!$B$2:$C$118,2,0)*AM15) -> 0.0022759545 | AO15: =IF(AJ15="",0,AL15*(1-AN15)) -> 0.98232824 | AP15: =AL15*AN15 -> 0.0022408344 | AQ15: =BEL!$I$6*AP15 -> 2240.8344 | AR15: =BEL!$I$5*AL15*(1-$F$4) -> 1033.7975
B16: ='Other Info'!F17 -> 13 | C16: ='Other Info'!G17 -> 0.000522 | P16: =IF(P15<BEL!$I$4,P15+1,"") -> 12 | Q16: =IF(P16="","",BEL!$I$3+P16-1) -> 43 | R16: =IF(P16="",0,U15) -> 0.98376159 | S16: =IF(P16="","",$L$4) -> 1.05 | T16: =IF(P16="",0,VLOOKUP(Q16,BEL!$B$2:$C$118,2,0)*S16) -> 0.0022512 | U16: =IF(P16="",0,R16*(1-T16)) -> 0.98154694 | V16: =R16*T16 -> 0.0022146441 | W16: =BEL!$I$6*V16 -> 2214.6441 | X16: =BEL!$I$5*R16*(1-$F$4) -> 1032.9497 | Z16: =IF(Z15<BEL!$I$4,Z15+1,"") -> 12 | AA16: =IF(Z16="","",BEL!$I$3+Z16-1) -> 43 | AB16: =IF(Z16="",0,AE15) -> 0.98257424 | AC16: =IF(Z16="","",$M$4) -> 1.1273896 | AD16: =IF(Z16="",0,VLOOKUP(AA16,BEL!$B$2:$C$118,2,0)*AC16) -> 0.0024171234 | AE16: =IF(Z16="",0,AB16*(1-AD16)) -> 0.98019924 | AF16: =AB16*AD16 -> 0.0023750032 | AG16: =BEL!$I$6*AF16 -> 2375.0032 | AH16: =BEL!$I$5*AB16*(1-$F$4) -> 1031.703 | AJ16: =IF(AJ15<BEL!$I$4,AJ15+1,"") -> 12 | AK16: =IF(AJ16="","",BEL!$I$3+AJ16-1) -> 43 | AL16: =IF(AJ16="",0,AO15) -> 0.98232824 | AM16: =AC16*(1+$N$13)^(AJ16-1) -> 1.1587833 | AN16: =IF(AJ16="",0,VLOOKUP(AK16,BEL!$B$2:$C$118,2,0)*AM16) -> 0.0024844314 | AO16: =IF(AJ16="",0,AL16*(1-AN16)) -> 0.97988772 | AP16: =AL16*AN16 -> 0.0024405272 | AQ16: =BEL!$I$6*AP16 -> 2440.5272 | AR16: =BEL!$I$5*AL16*(1-$F$4) -> 1031.4447
B17: ='Other Info'!F18 -> 14 | C17: ='Other Info'!G18 -> 0.000614 | P17: =IF(P16<BEL!$I$4,P16+1,"") -> 13 | Q17: =IF(P17="","",BEL!$I$3+P17-1) -> 44 | R17: =IF(P17="",0,U16) -> 0.98154694 | S17: =IF(P17="","",$L$4) -> 1.05 | T17: =IF(P17="",0,VLOOKUP(Q17,BEL!$B$2:$C$118,2,0)*S17) -> 0.00246225 | U17: =IF(P17="",0,R17*(1-T17)) -> 0.97913013 | V17: =R17*T17 -> 0.002416814 | W17: =BEL!$I$6*V17 -> 2416.814 | X17: =BEL!$I$5*R17*(1-$F$4) -> 1030.6243 | Z17: =IF(Z16<BEL!$I$4,Z16+1,"") -> 13 | AA17: =IF(Z17="","",BEL!$I$3+Z17-1) -> 44 | AB17: =IF(Z17="",0,AE16) -> 0.98019924 | AC17: =IF(Z17="","",$M$4) -> 1.1273896 | AD17: =IF(Z17="",0,VLOOKUP(AA17,BEL!$B$2:$C$118,2,0)*AC17) -> 0.0026437287 | AE17: =IF(Z17="",0,AB17*(1-AD17)) -> 0.97760786 | AF17: =AB17*AD17 -> 0.0025913809 | AG17: =BEL!$I$6*AF17 -> 2591.3809 | AH17: =BEL!$I$5*AB17*(1-$F$4) -> 1029.2092 | AJ17: =IF(AJ16<BEL!$I$4,AJ16+1,"") -> 13 | AK17: =IF(AJ17="","",BEL!$I$3+AJ17-1) -> 44 | AL17: =IF(AJ17="",0,AO16) -> 0.97988772 | AM17: =AC17*(1+$N$13)^(AJ17-1) -> 1.1616803 | AN17: =IF(AJ17="",0,VLOOKUP(AK17,BEL!$B$2:$C$118,2,0)*AM17) -> 0.0027241402 | AO17: =IF(AJ17="",0,AL17*(1-AN17)) -> 0.97721837 | AP17: =AL17*AN17 -> 0.0026693516 | AQ17: =BEL!$I$6*AP17 -> 2669.3516 | AR17: =BEL!$I$5*AL17*(1-$F$4) -> 1028.8821
B18: ='Other Info'!F19 -> 15 | C18: ='Other Info'!G19 -> 0.000698 | P18: =IF(P17<BEL!$I$4,P17+1,"") -> 14 | Q18: =IF(P18="","",BEL!$I$3+P18-1) -> 45 | R18: =IF(P18="",0,U17) -> 0.97913013 | S18: =IF(P18="","",$L$4) -> 1.05 | T18: =IF(P18="",0,VLOOKUP(Q18,BEL!$B$2:$C$118,2,0)*S18) -> 0.00270795 | U18: =IF(P18="",0,R18*(1-T18)) -> 0.97647869 | V18: =R18*T18 -> 0.0026514354 | W18: =BEL!$I$6*V18 -> 2651.4354 | X18: =BEL!$I$5*R18*(1-$F$4) -> 1028.0866 | Z18: =IF(Z17<BEL!$I$4,Z17+1,"") -> 14 | AA18: =IF(Z18="","",BEL!$I$3+Z18-1) -> 45 | AB18: =IF(Z18="",0,AE17) -> 0.97760786 | AC18: =IF(Z18="","",$M$4) -> 1.1273896 | AD18: =IF(Z18="",0,VLOOKUP(AA18,BEL!$B$2:$C$118,2,0)*AC18) -> 0.0029075379 | AE18: =IF(Z18="",0,AB18*(1-AD18)) -> 0.97476542 | AF18: =AB18*AD18 -> 0.0028424319 | AG18: =BEL!$I$6*AF18 -> 2842.4319 | AH18: =BEL!$I$5*AB18*(1-$F$4) -> 1026.4882 | AJ18: =IF(AJ17<BEL!$I$4,AJ17+1,"") -> 14 | AK18: =IF(AJ18="","",BEL!$I$3+AJ18-1) -> 45 | AL18: =IF(AJ18="",0,AO17) -> 0.97721837 | AM18: =AC18*(1+$N$13)^(AJ18-1) -> 1.1645845 | AN18: =IF(AJ18="",0,VLOOKUP(AK18,BEL!$B$2:$C$118,2,0)*AM18) -> 0.0030034634 | AO18: =IF(AJ18="",0,AL18*(1-AN18)) -> 0.97428333 | AP18: =AL18*AN18 -> 0.0029350396 | AQ18: =BEL!$I$6*AP18 -> 2935.0396 | AR18: =BEL!$I$5*AL18*(1-$F$4) -> 1026.0793
B19: ='Other Info'!F20 -> 16 | C19: ='Other Info'!G20 -> 0.00077 | P19: =IF(P18<BEL!$I$4,P18+1,"") -> 15 | Q19: =IF(P19="","",BEL!$I$3+P19-1) -> 46 | R19: =IF(P19="",0,U18) -> 0.97647869 | S19: =IF(P19="","",$L$4) -> 1.05 | T19: =IF(P19="",0,VLOOKUP(Q19,BEL!$B$2:$C$118,2,0)*S19) -> 0.00299355 | U19: =IF(P19="",0,R19*(1-T19)) -> 0.97355555 | V19: =R19*T19 -> 0.0029231378 | W19: =BEL!$I$6*V19 -> 2923.1378 | X19: =BEL!$I$5*R19*(1-$F$4) -> 1025.3026 | Z19: =IF(Z18<BEL!$I$4,Z18+1,"") -> 15 | AA19: =IF(Z19="","",BEL!$I$3+Z19-1) -> 46 | AB19: =IF(Z19="",0,AE18) -> 0.97476542 | AC19: =IF(Z19="","",$M$4) -> 1.1273896 | AD19: =IF(Z19="",0,VLOOKUP(AA19,BEL!$B$2:$C$118,2,0)*AC19) -> 0.0032141879 | AE19: =IF(Z19="",0,AB19*(1-AD19)) -> 0.97163235 | AF19: =AB19*AD19 -> 0.0031330792 | AG19: =BEL!$I$6*AF19 -> 3133.0792 | AH19: =BEL!$I$5*AB19*(1-$F$4) -> 1023.5037 | AJ19: =IF(AJ18<BEL!$I$4,AJ18+1,"") -> 15 | AK19: =IF(AJ19="","",BEL!$I$3+AJ19-1) -> 46 | AL19: =IF(AJ19="",0,AO18) -> 0.97428333 | AM19: =AC19*(1+$N$13)^(AJ19-1) -> 1.1674959 | AN19: =IF(AJ19="",0,VLOOKUP(AK19,BEL!$B$2:$C$118,2,0)*AM19) -> 0.0033285309 | AO19: =IF(AJ19="",0,AL19*(1-AN19)) -> 0.97104039 | AP19: =AL19*AN19 -> 0.0032429322 | AQ19: =BEL!$I$6*AP19 -> 3242.9322 | AR19: =BEL!$I$5*AL19*(1-$F$4) -> 1022.9975
B20: ='Other Info'!F21 -> 17 | C20: ='Other Info'!G21 -> 0.000829 | P20: =IF(P19<BEL!$I$4,P19+1,"") -> 16 | Q20: =IF(P20="","",BEL!$I$3+P20-1) -> 47 | R20: =IF(P20="",0,U19) -> 0.97355555 | S20: =IF(P20="","",$L$4) -> 1.05 | T20: =IF(P20="",0,VLOOKUP(Q20,BEL!$B$2:$C$118,2,0)*S20) -> 0.0033264 | U20: =IF(P20="",0,R20*(1-T20)) -> 0.97031712 | V20: =R20*T20 -> 0.0032384352 | W20: =BEL!$I$6*V20 -> 3238.4352 | X20: =BEL!$I$5*R20*(1-$F$4) -> 1022.2333 | Z20: =IF(Z19<BEL!$I$4,Z19+1,"") -> 16 | AA20: =IF(Z20="","",BEL!$I$3+Z20-1) -> 47 | AB20: =IF(Z20="",0,AE19) -> 0.97163235 | AC20: =IF(Z20="","",$M$4) -> 1.1273896 | AD20: =IF(Z20="",0,VLOOKUP(AA20,BEL!$B$2:$C$118,2,0)*AC20) -> 0.0035715704 | AE20: =IF(Z20="",0,AB20*(1-AD20)) -> 0.96816209 | AF20: =AB20*AD20 -> 0.0034702533 | AG20: =BEL!$I$6*AF20 -> 3470.2533 | AH20: =BEL!$I$5*AB20*(1-$F$4) -> 1020.214 | AJ20: =IF(AJ19<BEL!$I$4,AJ19+1,"") -> 16 | AK20: =IF(AJ20="","",BEL!$I$3+AJ20-1) -> 47 | AL20: =IF(AJ20="",0,AO19) -> 0.97104039 | AM20: =AC20*(1+$N$13)^(AJ20-1) -> 1.1704147 | AN20: =IF(AJ20="",0,VLOOKUP(AK20,BEL!$B$2:$C$118,2,0)*AM20) -> 0.0037078737 | AO20: =IF(AJ20="",0,AL20*(1-AN20)) -> 0.9674399 | AP20: =AL20*AN20 -> 0.0036004951 | AQ20: =BEL!$I$6*AP20 -> 3600.4951 | AR20: =BEL!$I$5*AL20*(1-$F$4) -> 1019.5924
