Workbook
Name Admin_Charge_Cap: Parameters!$B$7:$E$11
Name Admin_Charge_Perc: Parameters!$B$7:$D$11
Name Allocation_Charge: Parameters!$B$14:$C$19
Name Comm_Existing_Pol: Parameters!$C$25
Name Comm_New_Pol: Parameters!$C$26
Name Current_Year: Parameters!$B$22
Name Disc_Rate: Parameters!$B$29
Name FMC_Debt: Parameters!$C$3
Name FMC_Eq: Parameters!$C$4

Sheet Audit trail
A1: Evaluation of Insurance Policies
A3: Purpose:
A4: Our client, Mr. A is an insurance broker who has been in the insurance business for more than 20 years. He has sold a wide range of life, health, and general insurance policies. He anticipates that the economic scenario will worsen. Hence, he wanted to advise his clients whether they should continue the policy or surrender it. He has reached out to us to carry out analysis of current and projected returns of 250 unit-linked policies that he sold for XYZ Life Insurance Company between 2011 to 2015 This spreadsheet does the following: • Calculates surrender and maturity IRR for each of the 250 customers by projecting the fund value for each policy. • Performs checks on the data provided to carry out the above-mentioned projections. • Models a scenario for goal-seeking new average premium that surrendering customers should pay such that Mr. A does not lose commission income.
A6: Data:
A7: Following data set has been provided: • Mr. A has provided the following information: o Return till date on Fund A (debt-oriented) and Fund B (equity-oriented) – these are all tabulated in the “Investment Inc.” sheet. o Details of administration charge, allocation charge, and fund management charge – these are all tabulated in the “Parameters” sheet. o Other inputs such as annual premium, premium paying term, policy term, issuance year, split of fund chosen by customers (debt/equity) – these are all tabulated in the “Data” sheet. This policy data will flow into all subsequent sheets. • In addition, ABC Consultants’ estimate is that investment returns from year 2024 onwards to be projected using following method: o Fund A: 10-year moving average less 50bps. o Fund B: 75% * (5-year moving average less 50 bps) + 25% * 10-year moving average. This has been computed in “Investment Inc.” sheet.
A9: Data Checks:
A10: Parameters
A11: Check 1: FMC of equity-oriented fund is higher than that of debt-oriented fund. This seems reasonable. Check 2: Allocation charges are premium banded. The maximum charge in the lower premium band is less than or equal to minimum charge in next premium band. This seems reasonable. Check 3: Allocation charges are non-increasing by policy duration. This seems reasonable.
A13: Data
A14: Check 1: In row 11, a check has been performed to ensure that the split of funds A and B adds up to 100%. The data looks okay. Check 2: The 250 policies should all be issued between 2011 to 2015, as per information provided in question paper. A check has been performed in row 14 to ensure adherence. Check seems fine. Check 3: o Minimum Value • The minimum value of annual premium, premium paying term and policy term has been computed using MIN function in excel. • All values seem reasonable. o Maximum Value • The maximum value of annual premium, premium paying term and policy term has been computed using MAX function in excel. • All values seem reasonable. Check 4: The policy term of every policy should be greater than the premium paying term. In row 22, a check has been performed and it looks fine. Check 5: Fund management charge (FMC) has been computed in row 26 using the SUMPRODUCT function in excel. Given each customer has choice between Fund A and Fund B, FMC for each policy should be strictly between 0.80% and 1.50%. In rows 27 and 28, the range of FMC has been checked. No error found. Check 6: Administration Charge for each policy has been computed in row 32. Administration charge does not exceed INR 1500, as expected.
A16: Assumptions:
A17: Following assumptions have been made to carry out the required projections: • For surrender IRR projection, it is assumed that all policies have paid all due premiums to date and continue to be in-force. • For maturity IRR projection, it is assumed that all policies will continue to pay due premiums and remain in-force till maturity date. • All clients will surrender at end of 2023 if surrender IRR at point >= projected maturity IRR. • Commission is paid at beginning of calendar year. • Premiums are annual, paid in advance. • There have been no changes to the policy. e.g., mode, fund allocation, etc. • All the customers surrendering current policy and buying new policy shall pay same premium. • Premium is assumed to be received at start of issuance year mentioned. • Policies do not stop paying premium or surrender before end of policy term. • Customer buys new policy immediately on surrendering the previous one. For all sheets hereon, same calculations flow through columns C to IR (for each of the 250 customers)
... A56: This worksheet shows the split of customers who are better off surrendering policy vs continuing till maturity, represented using a pie chart.

Sheet Investment Inc.
B2: Annual Investment Return (%)
B3: Year | C3: Fund A | D3: Fund B
B4: 2011 | C4: 0.09 | D4: 0.17
B5: =B4+1 -> 2012 | C5: 0.05 | D5: 0.1
B6: =B5+1 -> 2013 | C6: 0.09 | D6: 0.12
B7: =B6+1 -> 2014 | C7: 0.09 | D7: 0.14
B8: =B7+1 -> 2015 | C8: 0.05 | D8: -0.02
B9: =B8+1 -> 2016 | C9: 0.05 | D9: 0.09
B10: =B9+1 -> 2017 | C10: 0.06 | D10: 0.11
B11: =B10+1 -> 2018 | C11: 0.06 | D11: 0.19
B12: =B11+1 -> 2019 | C12: 0.06 | D12: 0.17
B13: =B12+1 -> 2020 | C13: 0.05 | D13: 0.14
B14: =B13+1 -> 2021 | C14: 0.1 | D14: 0.06
B15: =B14+1 -> 2022 | C15: 0.09 | D15: 0.16
B16: =B15+1 -> 2023 | C16: 0.05 | D16: 0.18
B17: =B16+1 -> 2024 | C17: =AVERAGE(C7:C16)-0.5% -> 0.061 | D17: =75%*(AVERAGE(D12:D16)-0.5%)+25%*AVERAGE(D7:D16) -> 0.13325
B18: =B17+1 -> 2025 | C18: =AVERAGE(C8:C17)-0.5% -> 0.0581 | D18: =75%*(AVERAGE(D13:D17)-0.5%)+25%*AVERAGE(D8:D17) -> 0.12756875
B19: =B18+1 -> 2026 | C19: =AVERAGE(C9:C18)-0.5% -> 0.05891 | D19: =75%*(AVERAGE(D14:D18)-0.5%)+25%*AVERAGE(D9:D18) -> 0.12939328
B20: =B19+1 -> 2027 | C20: =AVERAGE(C10:C19)-0.5% -> 0.059801 | D20: =75%*(AVERAGE(D15:D19)-0.5%)+25%*AVERAGE(D10:D19) -> 0.14078711
B21: =B20+1 -> 2028 | C21: =AVERAGE(C11:C20)-0.5% -> 0.0597811 | D21: =75%*(AVERAGE(D16:D20)-0.5%)+25%*AVERAGE(D11:D20) -> 0.13867485
B22: =B21+1 -> 2029 | C22: =AVERAGE(C12:C21)-0.5% -> 0.05975921 | D22: =75%*(AVERAGE(D17:D21)-0.5%)+25%*AVERAGE(D12:D21) -> 0.13119295
B23: =B22+1 -> 2030 | C23: =AVERAGE(C13:C22)-0.5% -> 0.059735131 | D23: =75%*(AVERAGE(D18:D22)-0.5%)+25%*AVERAGE(D13:D22) -> 0.12991421
B24: =B23+1 -> 2031 | C24: =AVERAGE(C14:C23)-0.5% -> 0.060708644 | D24: =75%*(AVERAGE(D19:D23)-0.5%)+25%*AVERAGE(D14:D23) -> 0.13001389
B25: =B24+1 -> 2032 | C25: =AVERAGE(C15:C24)-0.5% -> 0.056779509 | D25: =75%*(AVERAGE(D20:D24)-0.5%)+25%*AVERAGE(D15:D24) -> 0.13185733
B26: =B25+1 -> 2033 | C26: =AVERAGE(C16:C25)-0.5% -> 0.053457459 | D26: =75%*(AVERAGE(D21:D25)-0.5%)+25%*AVERAGE(D16:D25) -> 0.12981429
B27: =B26+1 -> 2034 | C27: =AVERAGE(C17:C26)-0.5% -> 0.053803205 | D27: =75%*(AVERAGE(D22:D26)-0.5%)+25%*AVERAGE(D17:D26) -> 0.12723057
B28: =B27+1 -> 2035 | C28: =AVERAGE(C18:C27)-0.5% -> 0.053083526 | D28: =75%*(AVERAGE(D23:D27)-0.5%)+25%*AVERAGE(D18:D27) -> 0.12648572
... B38: =B37+1 -> 2045 | C38: =AVERAGE(C28:C37)-0.5% -> 0.044531944 | D38: =75%*(AVERAGE(D33:D37)-0.5%)+25%*AVERAGE(D28:D37) -> 0.11658421

Sheet Parameters
B2: Fund Management Charge
B3: Debt | C3: 0.008 | D3: FMC_Debt | H3: =FMC_Eq>FMC_Debt -> TRUE
B4: Equity | C4: 0.015 | D4: FMC_Eq | H4: Check 1: FMC of equity oriented fund is higher than that of debt-oriented fund
B6: Policy Administration Charge
B7: Premium Band | D7: Charge (%Prem) | E7: Charge Cap | F7: Admin_Charge_Perc | H7: Min. Charge | I7: Max. Charge
B8: 0 | C8: 50000 | D8: 0.01 | E8: 375 | F8: Admin_Charge_Cap | H8: =MIN(D8*B8,E8) -> 0 | I8: =MIN(D8*C8,E8) -> 375
B9: =C8 -> 50000 | C9: 100000 | D9: 0.0075 | E9: 600 | H9: =MIN(D9*B9,E9) -> 375 | I9: =MIN(D9*C9,E9) -> 600
B10: =C9 -> 100000 | C10: 250000 | D10: 0.0075 | E10: 1250 | H10: =MIN(D10*B10,E10) -> 750 | I10: =MIN(D10*C10,E10) -> 1250
B11: =C10 -> 250000 | C11: 10000000000 | D11: 0.005 | E11: 1500 | H11: =MIN(D11*B11,E11) -> 1250 | I11: =MIN(D11*C11,E11) -> 1500
B13: Premium Allocation Charge | H13: Check 2: The max. charge in lower premium band <= min. charge in next premium band. This seems reasonable
B14: Policy Year | C14: Charge (% Prem) | D14: Allocation_Charge
B15: 1 | C15: 0.1
B16: 2 | C16: 0.075 | H16: =C16<=C15 -> TRUE
B17: 3 | C17: 0.05 | H17: =C17<=C16 -> TRUE
B18: 4 | C18: 0.05 | H18: =C18<=C17 -> TRUE
B19: 5 | C19: 0 | H19: =C19<=C18 -> TRUE
H20: Check 3: Allocation charges are non-increasing by policy duration. This seems reasonable.
B21: Current Year
B22: 2023 | C22: Current_Year
B24: Commission
B25: Existing Policies | C25: 0.025 | D25: Comm_Existing_Pol
B26: Single Pay | C26: 0.1 | D26: Comm_New_Pol
B28: Discount Rate
B29: 0.07 | C29: Disc_Rate

Sheet Data
B2: Customer No. | C2: 0001 | D2: 0002 | E2: 0003 | F2: 0004 | G2: 0005 | H2: 0006 | I2: 0007 | J2: 0008 | K2: 0009 | L2: 0010 | M2: 0011 | N2: 0012 | O2: 0013 | P2: 0014 | Q2: 0015 | R2: 0016 | S2: 0017 | T2: 0018 | U2: 0019 | V2: 0020 | W2: 0021 | X2: 0022 | Y2: 0023 | Z2: 0024 | AA2: 0025 | AB2: 0026 | AC2: 0027 | AD2: 0028 | AE2: 0029 | AF2: 0030 | AG2: 0031 | AH2: 0032 | AI2: 0033 | AJ2: 0034 | AK2: 0035 | AL2: 0036 | AM2: 0037 | AN2: 0038 | AO2: 0039 | AP2: 0040 | AQ2: 0041 | AR2: 0042 | AS2: 0043 | AT2: 0044 | AU2: 0045 | AV2: 0046 | AW2: 0047 | AX2: 0048 | AY2: 0049 | AZ2: 0050 | BA2: 0051 | BB2: 0052 | BC2: 0053 | BD2: 0054 | BE2: 0055 | BF2: 0056 | BG2: 0057 | BH2: 0058 | BI2: 0059 | BJ2: 0060 | BK2: 0061 | BL2: 0062 | BM2: 0063 | BN2: 0064 | BO2: 0065 | BP2: 0066 | BQ2: 0067 | BR2: 0068 | BS2: 0069 | BT2: 0070 | BU2: 0071 | BV2: 0072 | BW2: 0073 | BX2: 0074 | BY2: 0075 | BZ2: 0076 | CA2: 0077 | CB2: 0078 | CC2: 0079 | CD2: 0080 | CE2: 0081 | CF2: 0082 | CG2: 0083 | CH2: 0084 | CI2: 0085 | CJ2: 0086 | CK2: 0087 | CL2: 0088 | CM2: 0089 | CN2: 0090 | CO2: 0091 | CP2: 0092 | CQ2: 0093 | CR2: 0094 | CS2: 0095 | CT2: 0096 | CU2: 0097 | CV2: 0098 | CW2: 0099 | CX2: 0100 | CY2: 0101 | CZ2: 0102 | DA2: 0103 | DB2: 0104 | DC2: 0105 | DD2: 0106 | DE2: 0107 | DF2: 0108 | DG2: 0109 | DH2: 0110 | DI2: 0111 | DJ2: 0112 | DK2: 0113 | DL2: 0114 | DM2: 0115 | DN2: 0116 | DO2: 0117 | DP2: 0118 | DQ2: 0119 | DR2: 0120 | DS2: 0121 | DT2: 0122 | DU2: 0123 | DV2: 0124 | DW2: 0125 | DX2: 0126 | DY2: 0127 | DZ2: 0128 | EA2: 0129 | EB2: 0130 | EC2: 0131 | ED2: 0132 | EE2: 0133 | EF2: 0134 | EG2: 0135 | EH2: 0136 | EI2: 0137 | EJ2: 0138 | EK2: 0139 | EL2: 0140 | EM2: 0141 | EN2: 0142 | EO2: 0143 | EP2: 0144 | EQ2: 0145 | ER2: 0146 | ES2: 0147 | ET2: 0148 | EU2: 0149 | EV2: 0150 | EW2: 0151 | EX2: 0152 | EY2: 0153 | EZ2: 0154 | FA2: 0155 | FB2: 0156 | FC2: 0157 | FD2: 0158 | FE2: 0159 | FF2: 0160 | FG2: 0161 | FH2: 0162 | FI2: 0163 | FJ2: 0164 | FK2: 0165 | FL2: 0166 | FM2: 0167 | FN2: 0168 | FO2: 0169 | FP2: 0170 | FQ2: 0171 | FR2: 0172 | FS2: 0173 | FT2: 0174 | FU2: 0175 | FV2: 0176 | FW2: 0177 | FX2: 0178 | FY2: 0179 | FZ2: 0180 | GA2: 0181 | GB2: 0182 | GC2: 0183 | GD2: 0184 | GE2: 0185 | GF2: 0186 | GG2: 0187 | GH2: 0188 | GI2: 0189 | GJ2: 0190 | GK2: 0191 | GL2: 0192 | GM2: 0193 | GN2: 0194 | GO2: 0195 | GP2: 0196 | GQ2: 0197 | GR2: 0198 | GS2: 0199 | GT2: 0200 | GU2: 0201 | GV2: 0202 | GW2: 0203 | GX2: 0204 | GY2: 0205 | GZ2: 0206 | HA2: 0207 | HB2: 0208 | HC2: 0209 | HD2: 0210 | HE2: 0211 | HF2: 0212 | HG2: 0213 | HH2: 0214 | HI2: 0215 | HJ2: 0216 | HK2: 0217 | HL2: 0218 | HM2: 0219 | HN2: 0220 | HO2: 0221 | HP2: 0222 | HQ2: 0223 | HR2: 0224 | HS2: 0225 | HT2: 0226 | HU2: 0227 | HV2: 0228 | HW2: 0229 | HX2: 0230 | HY2: 0231 | HZ2: 0232 | IA2: 0233 | IB2: 0234 | IC2: 0235 | ID2: 0236 | IE2: 0237 | IF2: 0238 | IG2: 0239 | IH2: 0240 | II2: 0241 | IJ2: 0242 | IK2: 0243 | IL2: 0244 | IM2: 0245 | IN2: 0246 | IO2: 0247 | IP2: 0248 | IQ2: 0249 | IR2: 0250
B3: Annual Prem (INR) | C3: 200000 | D3: 350000 | E3: 950000 | F3: 250000 | G3: 525000 | H3: 825000 | I3: 700000 | J3: 475000 | K3: 250000 | L3: 975000 | M3: 225000 | N3: 225000 | O3: 750000 | P3: 775000 | Q3: 350000 | R3: 625000 | S3: 75000 | T3: 150000 | U3: 575000 | V3: 825000 | W3: 650000 | X3: 100000 | Y3: 125000 | Z3: 525000 | AA3: 75000 | AB3: 600000 | AC3: 975000 | AD3: 425000 | AE3: 475000 | AF3: 800000 | AG3: 725000 | AH3: 225000 | AI3: 50000 | AJ3: 75000 | AK3: 425000 | AL3: 1000000 | AM3: 300000 | AN3: 700000 | AO3: 50000 | AP3: 725000 | AQ3: 725000 | AR3: 400000 | AS3: 600000 | AT3: 725000 | AU3: 950000 | AV3: 775000 | AW3: 675000 | AX3: 625000 | AY3: 50000 | AZ3: 450000 | BA3: 950000 | BB3: 825000 | BC3: 375000 | BD3: 325000 | BE3: 50000 | BF3: 675000 | BG3: 800000 | BH3: 250000 | BI3: 575000 | BJ3: 550000 | BK3: 150000 | BL3: 150000 | BM3: 150000 | BN3: 125000 | BO3: 900000 | BP3: 75000 | BQ3: 425000 | BR3: 875000 | BS3: 275000 | BT3: 800000 | BU3: 225000 | BV3: 175000 | BW3: 325000 | BX3: 200000 | BY3: 575000 | BZ3: 625000 | CA3: 425000 | CB3: 825000 | CC3: 975000 | CD3: 825000 | CE3: 950000 | CF3: 300000 | CG3: 525000 | CH3: 800000 | CI3: 950000 | CJ3: 25000 | CK3: 250000 | CL3: 700000 | CM3: 200000 | CN3: 575000 | CO3: 525000 | CP3: 100000 | CQ3: 75000 | CR3: 150000 | CS3: 875000 | CT3: 150000 | CU3: 600000 | CV3: 750000 | CW3: 450000 | CX3: 875000 | CY3: 275000 | CZ3: 625000 | DA3: 1000000 | DB3: 750000 | DC3: 375000 | DD3: 725000 | DE3: 25000 | DF3: 900000 | DG3: 850000 | DH3: 450000 | DI3: 675000 | DJ3: 475000 | DK3: 575000 | DL3: 875000 | DM3: 250000 | DN3: 550000 | DO3: 250000 | DP3: 950000 | DQ3: 200000 | DR3: 825000 | DS3: 650000 | DT3: 675000 | DU3: 875000 | DV3: 25000 | DW3: 900000 | DX3: 275000 | DY3: 675000 | DZ3: 450000 | EA3: 525000 | EB3: 175000 | EC3: 900000 | ED3: 275000 | EE3: 825000 | EF3: 700000 | EG3: 925000 | EH3: 300000 | EI3: 375000 | EJ3: 525000 | EK3: 550000 | EL3: 600000 | EM3: 825000 | EN3: 725000 | EO3: 875000 | EP3: 300000 | EQ3: 325000 | ER3: 900000 | ES3: 500000 | ET3: 325000 | EU3: 975000 | EV3: 875000 | EW3: 425000 | EX3: 475000 | EY3: 1000000 | EZ3: 275000 | FA3: 975000 | FB3: 950000 | FC3: 400000 | FD3: 375000 | FE3: 500000 | FF3: 375000 | FG3: 650000 | FH3: 325000 | FI3: 775000 | FJ3: 900000 | FK3: 475000 | FL3: 975000 | FM3: 150000 | FN3: 150000 | FO3: 100000 | FP3: 825000 | FQ3: 575000 | FR3: 750000 | FS3: 325000 | FT3: 525000 | FU3: 875000 | FV3: 450000 | FW3: 475000 | FX3: 650000 | FY3: 75000 | FZ3: 725000 | GA3: 875000 | GB3: 950000 | GC3: 450000 | GD3: 150000 | GE3: 900000 | GF3: 950000 | GG3: 525000 | GH3: 200000 | GI3: 425000 | GJ3: 375000 | GK3: 50000 | GL3: 50000 | GM3: 475000 | GN3: 975000 | GO3: 925000 | GP3: 975000 | GQ3: 75000 | GR3: 800000 | GS3: 875000 | GT3: 500000 | GU3: 625000 | GV3: 550000 | GW3: 500000 | GX3: 200000 | GY3: 325000 | GZ3: 225000 | HA3: 750000 | HB3: 325000 | HC3: 75000 | HD3: 775000 | HE3: 950000 | HF3: 175000 | HG3: 75000 | HH3: 775000 | HI3: 200000 | HJ3: 225000 | HK3: 550000 | HL3: 125000 | HM3: 200000 | HN3: 400000 | HO3: 875000 | HP3: 175000 | HQ3: 950000 | HR3: 325000 | HS3: 525000 | HT3: 575000 | HU3: 125000 | HV3: 25000 | HW3: 625000 | HX3: 325000 | HY3: 775000 | HZ3: 100000 | IA3: 800000 | IB3: 1000000 | IC3: 775000 | ID3: 325000 | IE3: 175000 | IF3: 950000 | IG3: 950000 | IH3: 250000 | II3: 525000 | IJ3: 825000 | IK3: 750000 | IL3: 650000 | IM3: 500000 | IN3: 25000 | IO3: 400000 | IP3: 150000 | IQ3: 950000 | IR3: 550000
B4: Premium Paying Term | C4: 15 | D4: 15 | E4: 8 | F4: 9 | G4: 9 | H4: 14 | I4: 9 | J4: 12 | K4: 15 | L4: 8 | M4: 5 | N4: 11 | O4: 11 | P4: 6 | Q4: 13 | R4: 15 | S4: 13 | T4: 14 | U4: 11 | V4: 15 | W4: 6 | X4: 15 | Y4: 15 | Z4: 8 | AA4: 11 | AB4: 13 | AC4: 8 | AD4: 5 | AE4: 5 | AF4: 9 | AG4: 11 | AH4: 10 | AI4: 12 | AJ4: 13 | AK4: 13 | AL4: 13 | AM4: 14 | AN4: 15 | AO4: 7 | AP4: 9 | AQ4: 11 | AR4: 8 | AS4: 11 | AT4: 13 | AU4: 7 | AV4: 15 | AW4: 11 | AX4: 7 | AY4: 9 | AZ4: 13 | BA4: 13 | BB4: 9 | BC4: 13 | BD4: 5 | BE4: 6 | BF4: 11 | BG4: 12 | BH4: 7 | BI4: 7 | BJ4: 12 | BK4: 5 | BL4: 14 | BM4: 6 | BN4: 7 | BO4: 8 | BP4: 9 | BQ4: 11 | BR4: 14 | BS4: 10 | BT4: 13 | BU4: 8 | BV4: 8 | BW4: 13 | BX4: 11 | BY4: 5 | BZ4: 8 | CA4: 6 | CB4: 8 | CC4: 11 | CD4: 9 | CE4: 6 | CF4: 8 | CG4: 13 | CH4: 10 | CI4: 10 | CJ4: 14 | CK4: 13 | CL4: 5 | CM4: 13 | CN4: 9 | CO4: 13 | CP4: 7 | CQ4: 10 | CR4: 6 | CS4: 10 | CT4: 11 | CU4: 14 | CV4: 7 | CW4: 9 | CX4: 9 | CY4: 11 | CZ4: 9 | DA4: 13 | DB4: 5 | DC4: 14 | DD4: 8 | DE4: 5 | DF4: 7 | DG4: 11 | DH4: 9 | DI4: 7 | DJ4: 10 | DK4: 13 | DL4: 14 | DM4: 12 | DN4: 7 | DO4: 5 | DP4: 14 | DQ4: 10 | DR4: 14 | DS4: 15 | DT4: 9 | DU4: 5 | DV4: 10 | DW4: 7 | DX4: 7 | DY4: 13 | DZ4: 5 | EA4: 6 | EB4: 7 | EC4: 9 | ED4: 11 | EE4: 14 | EF4: 15 | EG4: 8 | EH4: 13 | EI4: 10 | EJ4: 5 | EK4: 15 | EL4: 15 | EM4: 5 | EN4: 14 | EO4: 5 | EP4: 15 | EQ4: 13 | ER4: 15 | ES4: 13 | ET4: 14 | EU4: 15 | EV4: 6 | EW4: 13 | EX4: 12 | EY4: 14 | EZ4: 12 | FA4: 6 | FB4: 6 | FC4: 5 | FD4: 8 | FE4: 10 | FF4: 15 | FG4: 6 | FH4: 12 | FI4: 9 | FJ4: 13 | FK4: 8 | FL4: 15 | FM4: 15 | FN4: 10 | FO4: 14 | FP4: 15 | FQ4: 14 | FR4: 11 | FS4: 7 | FT4: 10 | FU4: 5 | FV4: 10 | FW4: 10 | FX4: 10 | FY4: 7 | FZ4: 15 | GA4: 15 | GB4: 10 | GC4: 7 | GD4: 7 | GE4: 12 | GF4: 11 | GG4: 6 | GH4: 11 | GI4: 7 | GJ4: 8 | GK4: 12 | GL4: 10 | GM4: 9 | GN4: 15 | GO4: 8 | GP4: 8 | GQ4: 6 | GR4: 9 | GS4: 10 | GT4: 5 | GU4: 15 | GV4: 11 | GW4: 6 | GX4: 7 | GY4: 11 | GZ4: 5 | HA4: 10 | HB4: 15 | HC4: 12 | HD4: 11 | HE4: 7 | HF4: 5 | HG4: 12 | HH4: 6 | HI4: 10 | HJ4: 5 | HK4: 15 | HL4: 7 | HM4: 5 | HN4: 12 | HO4: 13 | HP4: 10 | HQ4: 9 | HR4: 14 | HS4: 13 | HT4: 6 | HU4: 5 | HV4: 7 | HW4: 11 | HX4: 8 | HY4: 12 | HZ4: 8 | IA4: 8 | IB4: 9 | IC4: 6 | ID4: 6 | IE4: 13 | IF4: 9 | IG4: 5 | IH4: 7 | II4: 5 | IJ4: 9 | IK4: 14 | IL4: 12 | IM4: 15 | IN4: 5 | IO4: 5 | IP4: 15 | IQ4: 8 | IR4: 14
B5: Policy Term | C5: 27 | D5: 28 | E5: 28 | F5: 27 | G5: 25 | H5: 29 | I5: 29 | J5: 30 | K5: 28 | L5: 29 | M5: 28 | N5: 27 | O5: 26 | P5: 27 | Q5: 30 | R5: 27 | S5: 26 | T5: 28 | U5: 25 | V5: 25 | W5: 26 | X5: 25 | Y5: 29 | Z5: 25 | AA5: 25 | AB5: 28 | AC5: 30 | AD5: 25 | AE5: 30 | AF5: 27 | AG5: 28 | AH5: 29 | AI5: 28 | AJ5: 28 | AK5: 30 | AL5: 27 | AM5: 25 | AN5: 26 | AO5: 30 | AP5: 29 | AQ5: 26 | AR5: 25 | AS5: 25 | AT5: 26 | AU5: 25 | AV5: 25 | AW5: 25 | AX5: 29 | AY5: 27 | AZ5: 29 | BA5: 30 | BB5: 25 | BC5: 29 | BD5: 28 | BE5: 30 | BF5: 28 | BG5: 30 | BH5: 26 | BI5: 30 | BJ5: 27 | BK5: 28 | BL5: 26 | BM5: 29 | BN5: 30 | BO5: 27 | BP5: 26 | BQ5: 30 | BR5: 25 | BS5: 30 | BT5: 26 | BU5: 25 | BV5: 29 | BW5: 30 | BX5: 26 | BY5: 26 | BZ5: 28 | CA5: 29 | CB5: 25 | CC5: 29 | CD5: 30 | CE5: 30 | CF5: 29 | CG5: 25 | CH5: 26 | CI5: 26 | CJ5: 30 | CK5: 25 | CL5: 29 | CM5: 30 | CN5: 26 | CO5: 29 | CP5: 26 | CQ5: 28 | CR5: 28 | CS5: 30 | CT5: 26 | CU5: 30 | CV5: 26 | CW5: 29 | CX5: 30 | CY5: 28 | CZ5: 26 | DA5: 25 | DB5: 27 | DC5: 28 | DD5: 28 | DE5: 26 | DF5: 29 | DG5: 26 | DH5: 25 | DI5: 28 | DJ5: 29 | DK5: 29 | DL5: 26 | DM5: 29 | DN5: 26 | DO5: 29 | DP5: 27 | DQ5: 30 | DR5: 29 | DS5: 25 | DT5: 29 | DU5: 27 | DV5: 29 | DW5: 30 | DX5: 30 | DY5: 26 | DZ5: 28 | EA5: 27 | EB5: 26 | EC5: 29 | ED5: 27 | EE5: 26 | EF5: 29 | EG5: 25 | EH5: 28 | EI5: 29 | EJ5: 29 | EK5: 30 | EL5: 27 | EM5: 30 | EN5: 28 | EO5: 30 | EP5: 27 | EQ5: 28 | ER5: 28 | ES5: 29 | ET5: 29 | EU5: 26 | EV5: 26 | EW5: 25 | EX5: 29 | EY5: 29 | EZ5: 27 | FA5: 28 | FB5: 28 | FC5: 30 | FD5: 29 | FE5: 28 | FF5: 29 | FG5: 26 | FH5: 28 | FI5: 27 | FJ5: 28 | FK5: 28 | FL5: 30 | FM5: 27 | FN5: 30 | FO5: 28 | FP5: 28 | FQ5: 27 | FR5: 28 | FS5: 30 | FT5: 26 | FU5: 27 | FV5: 27 | FW5: 29 | FX5: 29 | FY5: 28 | FZ5: 29 | GA5: 25 | GB5: 27 | GC5: 30 | GD5: 26 | GE5: 25 | GF5: 30 | GG5: 30 | GH5: 26 | GI5: 25 | GJ5: 28 | GK5: 26 | GL5: 30 | GM5: 25 | GN5: 27 | GO5: 30 | GP5: 28 | GQ5: 29 | GR5: 25 | GS5: 27 | GT5: 27 | GU5: 29 | GV5: 27 | GW5: 29 | GX5: 28 | GY5: 30 | GZ5: 29 | HA5: 25 | HB5: 25 | HC5: 25 | HD5: 25 | HE5: 28 | HF5: 27 | HG5: 26 | HH5: 27 | HI5: 27 | HJ5: 28 | HK5: 29 | HL5: 28 | HM5: 26 | HN5: 30 | HO5: 30 | HP5: 29 | HQ5: 28 | HR5: 30 | HS5: 28 | HT5: 26 | HU5: 26 | HV5: 29 | HW5: 30 | HX5: 29 | HY5: 30 | HZ5: 30 | IA5: 26 | IB5: 27 | IC5: 26 | ID5: 26 | IE5: 28 | IF5: 27 | IG5: 28 | IH5: 25 | II5: 28 | IJ5: 28 | IK5: 28 | IL5: 28 | IM5: 25 | IN5: 27 | IO5: 28 | IP5: 26 | IQ5: 26 | IR5: 30
B6: Fund Split:
B7: Fund A | C7: 0.9 | D7: 0.35 | E7: 0.65 | F7: 0.15 | G7: 0.8 | H7: 0.4 | I7: 1 | J7: 0.5 | K7: 0.85 | L7: 0.55 | M7: 0.05 | N7: 0.2 | O7: 0.95 | P7: 0.4 | Q7: 0.45 | R7: 0.3 | S7: 0.7 | T7: 0.3 | U7: 0.2 | V7: 0.95 | W7: 0.3 | X7: 0.4 | Y7: 0.75 | Z7: 0.85 | AA7: 0.35 | AB7: 0.45 | AC7: 0.5 | AD7: 0.55 | AE7: 0.55 | AF7: 0.4 | AG7: 0.45 | AH7: 0.7 | AI7: 0.3 | AJ7: 0.15 | AK7: 0.75 | AL7: 0.8 | AM7: 0.55 | AN7: 0.35 | AO7: 0.2 | AP7: 0.15 | AQ7: 0 | AR7: 0.7 | AS7: 0.5 | AT7: 0.45 | AU7: 0.3 | AV7: 0.65 | AW7: 0.4 | AX7: 0.25 | AY7: 0.25 | AZ7: 0.25 | BA7: 0.1 | BB7: 0.1 | BC7: 0.8 | BD7: 0.25 | BE7: 1 | BF7: 0.8 | BG7: 0.6 | BH7: 0.05 | BI7: 0.05 | BJ7: 0.15 | BK7: 0.55 | BL7: 0.6 | BM7: 0.5 | BN7: 0.45 | BO7: 0.6 | BP7: 0.35 | BQ7: 0.1 | BR7: 0.1 | BS7: 0.45 | BT7: 0.35 | BU7: 0.4 | BV7: 0.6 | BW7: 0.95 | BX7: 0.75 | BY7: 0.4 | BZ7: 0.5 | CA7: 0.15 | CB7: 0.3 | CC7: 0.55 | CD7: 0.75 | CE7: 1 | CF7: 0.55 | CG7: 0.85 | CH7: 0.75 | CI7: 0.55 | CJ7: 0.6 | CK7: 0.9 | CL7: 0.1 | CM7: 0.2 | CN7: 0.1 | CO7: 0.2 | CP7: 0.95 | CQ7: 0.2 | CR7: 0.8 | CS7: 0.6 | CT7: 0.1 | CU7: 0.5 | CV7: 0.1 | CW7: 0.55 | CX7: 0.4 | CY7: 0.3 | CZ7: 0.4 | DA7: 0.65 | DB7: 0.3 | DC7: 0.55 | DD7: 0.85 | DE7: 0.65 | DF7: 0.6 | DG7: 0.05 | DH7: 0.4 | DI7: 0.5 | DJ7: 0.75 | DK7: 0 | DL7: 0.5 | DM7: 0.3 | DN7: 0.8 | DO7: 0.15 | DP7: 0.8 | DQ7: 0.15 | DR7: 0.9 | DS7: 0.1 | DT7: 0.65 | DU7: 0.45 | DV7: 0.85 | DW7: 0.55 | DX7: 0.3 | DY7: 0.45 | DZ7: 0.95 | EA7: 0.45 | EB7: 0.75 | EC7: 0.5 | ED7: 0.45 | EE7: 0.55 | EF7: 0.4 | EG7: 0.2 | EH7: 0.3 | EI7: 0.5 | EJ7: 0.35 | EK7: 0.65 | EL7: 0.8 | EM7: 0.9 | EN7: 0.4 | EO7: 0.2 | EP7: 0.75 | EQ7: 0.65 | ER7: 0.35 | ES7: 0.65 | ET7: 0.95 | EU7: 0.95 | EV7: 0.45 | EW7: 0.8 | EX7: 0.55 | EY7: 0.25 | EZ7: 0.45 | FA7: 0.35 | FB7: 0.6 | FC7: 0.75 | FD7: 0.7 | FE7: 0.6 | FF7: 0.3 | FG7: 0.85 | FH7: 0.6 | FI7: 0.65 | FJ7: 0.65 | FK7: 0.75 | FL7: 0.55 | FM7: 0.5 | FN7: 0.75 | FO7: 0.15 | FP7: 0.7 | FQ7: 0.9 | FR7: 0.75 | FS7: 0.05 | FT7: 0.75 | FU7: 0.6 | FV7: 0.05 | FW7: 0.85 | FX7: 0.3 | FY7: 0.95 | FZ7: 0.75 | GA7: 0.55 | GB7: 0.9 | GC7: 0.45 | GD7: 0.25 | GE7: 0 | GF7: 0.95 | GG7: 0.25 | GH7: 0.5 | GI7: 0.75 | GJ7: 0.4 | GK7: 0.15 | GL7: 0.9 | GM7: 0.85 | GN7: 0.8 | GO7: 0.95 | GP7: 0.35 | GQ7: 0.25 | GR7: 0.5 | GS7: 0.8 | GT7: 0.65 | GU7: 0.95 | GV7: 0.8 | GW7: 0 | GX7: 0.85 | GY7: 0.8 | GZ7: 0.8 | HA7: 0.35 | HB7: 0.35 | HC7: 0.25 | HD7: 0.4 | HE7: 0.85 | HF7: 0.6 | HG7: 1 | HH7: 0.5 | HI7: 0.65 | HJ7: 0.8 | HK7: 0.9 | HL7: 0.6 | HM7: 0.3 | HN7: 0.05 | HO7: 0.6 | HP7: 0.5 | HQ7: 0.95 | HR7: 0.4 | HS7: 0.15 | HT7: 0.35 | HU7: 0.7 | HV7: 0.3 | HW7: 1 | HX7: 0.9 | HY7: 0.65 | HZ7: 0.35 | IA7: 0.5 | IB7: 0.6 | IC7: 0.75 | ID7: 0.45 | IE7: 0.5 | IF7: 1 | IG7: 0.1 | IH7: 1 | II7: 0.35 | IJ7: 0.5 | IK7: 0.85 | IL7: 0.05 | IM7: 0.25 | IN7: 0.15 | IO7: 0.3 | IP7: 0.5 | IQ7: 0.2 | IR7: 0.45
B8: Fund B | C8: 0.1 | D8: 0.65 | E8: 0.35 | F8: 0.85 | G8: 0.2 | H8: 0.6 | I8: 0 | J8: 0.5 | K8: 0.15 | L8: 0.45 | M8: 0.95 | N8: 0.8 | O8: 0.05 | P8: 0.6 | Q8: 0.55 | R8: 0.7 | S8: 0.3 | T8: 0.7 | U8: 0.8 | V8: 0.05 | W8: 0.7 | X8: 0.6 | Y8: 0.25 | Z8: 0.15 | AA8: 0.65 | AB8: 0.55 | AC8: 0.5 | AD8: 0.45 | AE8: 0.45 | AF8: 0.6 | AG8: 0.55 | AH8: 0.3 | AI8: 0.7 | AJ8: 0.85 | AK8: 0.25 | AL8: 0.2 | AM8: 0.45 | AN8: 0.65 | AO8: 0.8 | AP8: 0.85 | AQ8: 1 | AR8: 0.3 | AS8: 0.5 | AT8: 0.55 | AU8: 0.7 | AV8: 0.35 | AW8: 0.6 | AX8: 0.75 | AY8: 0.75 | AZ8: 0.75 | BA8: 0.9 | BB8: 0.9 | BC8: 0.2 | BD8: 0.75 | BE8: 0 | BF8: 0.2 | BG8: 0.4 | BH8: 0.95 | BI8: 0.95 | BJ8: 0.85 | BK8: 0.45 | BL8: 0.4 | BM8: 0.5 | BN8: 0.55 | BO8: 0.4 | BP8: 0.65 | BQ8: 0.9 | BR8: 0.9 | BS8: 0.55 | BT8: 0.65 | BU8: 0.6 | BV8: 0.4 | BW8: 0.05 | BX8: 0.25 | BY8: 0.6 | BZ8: 0.5 | CA8: 0.85 | CB8: 0.7 | CC8: 0.45 | CD8: 0.25 | CE8: 0 | CF8: 0.45 | CG8: 0.15 | CH8: 0.25 | CI8: 0.45 | CJ8: 0.4 | CK8: 0.1 | CL8: 0.9 | CM8: 0.8 | CN8: 0.9 | CO8: 0.8 | CP8: 0.05 | CQ8: 0.8 | CR8: 0.2 | CS8: 0.4 | CT8: 0.9 | CU8: 0.5 | CV8: 0.9 | CW8: 0.45 | CX8: 0.6 | CY8: 0.7 | CZ8: 0.6 | DA8: 0.35 | DB8: 0.7 | DC8: 0.45 | DD8: 0.15 | DE8: 0.35 | DF8: 0.4 | DG8: 0.95 | DH8: 0.6 | DI8: 0.5 | DJ8: 0.25 | DK8: 1 | DL8: 0.5 | DM8: 0.7 | DN8: 0.2 | DO8: 0.85 | DP8: 0.2 | DQ8: 0.85 | DR8: 0.1 | DS8: 0.9 | DT8: 0.35 | DU8: 0.55 | DV8: 0.15 | DW8: 0.45 | DX8: 0.7 | DY8: 0.55 | DZ8: 0.05 | EA8: 0.55 | EB8: 0.25 | EC8: 0.5 | ED8: 0.55 | EE8: 0.45 | EF8: 0.6 | EG8: 0.8 | EH8: 0.7 | EI8: 0.5 | EJ8: 0.65 | EK8: 0.35 | EL8: 0.2 | EM8: 0.1 | EN8: 0.6 | EO8: 0.8 | EP8: 0.25 | EQ8: 0.35 | ER8: 0.65 | ES8: 0.35 | ET8: 0.05 | EU8: 0.05 | EV8: 0.55 | EW8: 0.2 | EX8: 0.45 | EY8: 0.75 | EZ8: 0.55 | FA8: 0.65 | FB8: 0.4 | FC8: 0.25 | FD8: 0.3 | FE8: 0.4 | FF8: 0.7 | FG8: 0.15 | FH8: 0.4 | FI8: 0.35 | FJ8: 0.35 | FK8: 0.25 | FL8: 0.45 | FM8: 0.5 | FN8: 0.25 | FO8: 0.85 | FP8: 0.3 | FQ8: 0.1 | FR8: 0.25 | FS8: 0.95 | FT8: 0.25 | FU8: 0.4 | FV8: 0.95 | FW8: 0.15 | FX8: 0.7 | FY8: 0.05 | FZ8: 0.25 | GA8: 0.45 | GB8: 0.1 | GC8: 0.55 | GD8: 0.75 | GE8: 1 | GF8: 0.05 | GG8: 0.75 | GH8: 0.5 | GI8: 0.25 | GJ8: 0.6 | GK8: 0.85 | GL8: 0.1 | GM8: 0.15 | GN8: 0.2 | GO8: 0.05 | GP8: 0.65 | GQ8: 0.75 | GR8: 0.5 | GS8: 0.2 | GT8: 0.35 | GU8: 0.05 | GV8: 0.2 | GW8: 1 | GX8: 0.15 | GY8: 0.2 | GZ8: 0.2 | HA8: 0.65 | HB8: 0.65 | HC8: 0.75 | HD8: 0.6 | HE8: 0.15 | HF8: 0.4 | HG8: 0 | HH8: 0.5 | HI8: 0.35 | HJ8: 0.2 | HK8: 0.1 | HL8: 0.4 | HM8: 0.7 | HN8: 0.95 | HO8: 0.4 | HP8: 0.5 | HQ8: 0.05 | HR8: 0.6 | HS8: 0.85 | HT8: 0.65 | HU8: 0.3 | HV8: 0.7 | HW8: 0 | HX8: 0.1 | HY8: 0.35 | HZ8: 0.65 | IA8: 0.5 | IB8: 0.4 | IC8: 0.25 | ID8: 0.55 | IE8: 0.5 | IF8: 0 | IG8: 0.9 | IH8: 0 | II8: 0.65 | IJ8: 0.5 | IK8: 0.15 | IL8: 0.95 | IM8: 0.75 | IN8: 0.85 | IO8: 0.7 | IP8: 0.5 | IQ8: 0.8 | IR8: 0.55
B9: Issuance Year | C9: 2015 | D9: 2015 | E9: 2013 | F9: 2015 | G9: 2015 | H9: 2014 | I9: 2011 | J9: 2015 | K9: 2012 | L9: 2014 | M9: 2012 | N9: 2012 | O9: 2013 | P9: 2012 | Q9: 2015 | R9: 2013 | S9: 2012 | T9: 2014 | U9: 2013 | V9: 2011 | W9: 2011 | X9: 2014 | Y9: 2014 | Z9: 2014 | AA9: 2014 | AB9: 2012 | AC9: 2013 | AD9: 2014 | AE9: 2011 | AF9: 2012 | AG9: 2012 | AH9: 2014 | AI9: 2013 | AJ9: 2013 | AK9: 2012 | AL9: 2012 | AM9: 2015 | AN9: 2011 | AO9: 2011 | AP9: 2015 | AQ9: 2013 | AR9: 2014 | AS9: 2013 | AT9: 2014 | AU9: 2012 | AV9: 2011 | AW9: 2011 | AX9: 2014 | AY9: 2014 | AZ9: 2012 | BA9: 2014 | BB9: 2014 | BC9: 2015 | BD9: 2011 | BE9: 2013 | BF9: 2011 | BG9: 2013 | BH9: 2011 | BI9: 2015 | BJ9: 2014 | BK9: 2015 | BL9: 2015 | BM9: 2015 | BN9: 2013 | BO9: 2014 | BP9: 2015 | BQ9: 2011 | BR9: 2015 | BS9: 2015 | BT9: 2014 | BU9: 2011 | BV9: 2014 | BW9: 2015 | BX9: 2011 | BY9: 2014 | BZ9: 2013 | CA9: 2014 | CB9: 2015 | CC9: 2011 | CD9: 2013 | CE9: 2014 | CF9: 2011 | CG9: 2015 | CH9: 2013 | CI9: 2015 | CJ9: 2015 | CK9: 2013 | CL9: 2012 | CM9: 2015 | CN9: 2014 | CO9: 2012 | CP9: 2013 | CQ9: 2015 | CR9: 2013 | CS9: 2011 | CT9: 2012 | CU9: 2011 | CV9: 2011 | CW9: 2012 | CX9: 2012 | CY9: 2013 | CZ9: 2013 | DA9: 2015 | DB9: 2014 | DC9: 2011 | DD9: 2011 | DE9: 2011 | DF9: 2012 | DG9: 2013 | DH9: 2014 | DI9: 2012 | DJ9: 2015 | DK9: 2011 | DL9: 2014 | DM9: 2011 | DN9: 2013 | DO9: 2015 | DP9: 2011 | DQ9: 2012 | DR9: 2012 | DS9: 2011 | DT9: 2013 | DU9: 2012 | DV9: 2012 | DW9: 2014 | DX9: 2014 | DY9: 2015 | DZ9: 2013 | EA9: 2014 | EB9: 2013 | EC9: 2012 | ED9: 2013 | EE9: 2011 | EF9: 2015 | EG9: 2013 | EH9: 2012 | EI9: 2012 | EJ9: 2014 | EK9: 2015 | EL9: 2013 | EM9: 2012 | EN9: 2012 | EO9: 2012 | EP9: 2012 | EQ9: 2013 | ER9: 2013 | ES9: 2012 | ET9: 2011 | EU9: 2012 | EV9: 2011 | EW9: 2011 | EX9: 2012 | EY9: 2011 | EZ9: 2012 | FA9: 2012 | FB9: 2015 | FC9: 2012 | FD9: 2014 | FE9: 2014 | FF9: 2011 | FG9: 2015 | FH9: 2013 | FI9: 2012 | FJ9: 2011 | FK9: 2011 | FL9: 2012 | FM9: 2011 | FN9: 2015 | FO9: 2011 | FP9: 2015 | FQ9: 2015 | FR9: 2013 | FS9: 2013 | FT9: 2012 | FU9: 2012 | FV9: 2014 | FW9: 2011 | FX9: 2012 | FY9: 2013 | FZ9: 2013 | GA9: 2015 | GB9: 2014 | GC9: 2014 | GD9: 2011 | GE9: 2014 | GF9: 2014 | GG9: 2015 | GH9: 2012 | GI9: 2011 | GJ9: 2014 | GK9: 2013 | GL9: 2013 | GM9: 2015 | GN9: 2013 | GO9: 2011 | GP9: 2012 | GQ9: 2013 | GR9: 2014 | GS9: 2011 | GT9: 2012 | GU9: 2012 | GV9: 2011 | GW9: 2015 | GX9: 2014 | GY9: 2014 | GZ9: 2014 | HA9: 2011 | HB9: 2013 | HC9: 2013 | HD9: 2014 | HE9: 2015 | HF9: 2012 | HG9: 2015 | HH9: 2014 | HI9: 2011 | HJ9: 2015 | HK9: 2013 | HL9: 2011 | HM9: 2014 | HN9: 2011 | HO9: 2013 | HP9: 2012 | HQ9: 2015 | HR9: 2014 | HS9: 2011 | HT9: 2015 | HU9: 2015 | HV9: 2013 | HW9: 2012 | HX9: 2014 | HY9: 2014 | HZ9: 2014 | IA9: 2013 | IB9: 2013 | IC9: 2015 | ID9: 2014 | IE9: 2014 | IF9: 2011 | IG9: 2012 | IH9: 2011 | II9: 2011 | IJ9: 2014 | IK9: 2014 | IL9: 2015 | IM9: 2015 | IN9: 2011 | IO9: 2014 | IP9: 2013 | IQ9: 2014 | IR9: 2012
B11: Check 1 | C11: =(SUM(C7:C8)=1) -> TRUE | D11: =(SUM(D7:D8)=1) -> TRUE | E11: =(SUM(E7:E8)=1) -> TRUE | F11: =(SUM(F7:F8)=1) -> TRUE | G11: =(SUM(G7:G8)=1) -> TRUE | H11: =(SUM(H7:H8)=1) -> TRUE | I11: =(SUM(I7:I8)=1) -> TRUE | J11: =(SUM(J7:J8)=1) -> TRUE | ... IR11: =(SUM(IR7:IR8)=1) -> TRUE
C12: =COUNTIF(C11:IR11,"false") -> 0 | D12: Okay
B14: Check 2 | C14: =IF(AND(C9>=2011,C9<=2015),TRUE,FALSE) -> TRUE | D14: =IF(AND(D9>=2011,D9<=2015),TRUE,FALSE) -> TRUE | E14: =IF(AND(E9>=2011,E9<=2015),TRUE,FALSE) -> TRUE | F14: =IF(AND(F9>=2011,F9<=2015),TRUE,FALSE) -> TRUE | G14: =IF(AND(G9>=2011,G9<=2015),TRUE,FALSE) -> TRUE | H14: =IF(AND(H9>=2011,H9<=2015),TRUE,FALSE) -> TRUE | I14: =IF(AND(I9>=2011,I9<=2015),TRUE,FALSE) -> TRUE | J14: =IF(AND(J9>=2011,J9<=2015),TRUE,FALSE) -> TRUE | ... IR14: =IF(AND(IR9>=2011,IR9<=2015),TRUE,FALSE) -> TRUE
C15: =COUNTIF(C14:IR14,"false") -> 0 | D15: Okay
B17: Check 3 | C17: Min. | D17: Max. | E17: Average
B18: Annual Prem (INR) | C18: =MIN(C3:IR3) -> 25000 | D18: =MAX(C3:IR3) -> 1000000 | E18: =AVERAGE(C3:IR3) -> 523100 | F18: Seems reasonable
B19: Premium Term | C19: =MIN(C4:IR4) -> 5 | D19: =MAX(C4:IR4) -> 15 | E19: =AVERAGE(C4:IR4) -> 10.016 | F19: Seems reasonable
B20: Policy Term | C20: =MIN(C5:IR5) -> 25 | D20: =MAX(C5:IR5) -> 30 | E20: =AVERAGE(C5:IR5) -> 27.644 | F20: Seems reasonable
B22: Check 4 | C22: =C5>C4 -> TRUE | D22: =D5>D4 -> TRUE | E22: =E5>E4 -> TRUE | F22: =F5>F4 -> TRUE | G22: =G5>G4 -> TRUE | H22: =H5>H4 -> TRUE | I22: =I5>I4 -> TRUE | J22: =J5>J4 -> TRUE | ... IR22: =IR5>IR4 -> TRUE
C23: =COUNTIF(C22:IR22,"false") -> 0 | D23: Okay
B26: FM Charge (%p.a.) | C26: =SUMPRODUCT(C7:C8,Parameters!$C$3:$C$4) -> 0.0087 | D26: =SUMPRODUCT(D7:D8,Parameters!$C$3:$C$4) -> 0.01255 | E26: =SUMPRODUCT(E7:E8,Parameters!$C$3:$C$4) -> 0.01045 | F26: =SUMPRODUCT(F7:F8,Parameters!$C$3:$C$4) -> 0.01395 | G26: =SUMPRODUCT(G7:G8,Parameters!$C$3:$C$4) -> 0.0094 | H26: =SUMPRODUCT(H7:H8,Parameters!$C$3:$C$4) -> 0.0122 | I26: =SUMPRODUCT(I7:I8,Parameters!$C$3:$C$4) -> 0.008 | J26: =SUMPRODUCT(J7:J8,Parameters!$C$3:$C$4) -> 0.0115 | ... IR26: =SUMPRODUCT(IR7:IR8,Parameters!$C$3:$C$4) -> 0.01185
B27: Check 5 | C27: =C26<=MAX(Parameters!$C$3:$C$4) -> TRUE | D27: =D26<=MAX(Parameters!$C$3:$C$4) -> TRUE | E27: =E26<=MAX(Parameters!$C$3:$C$4) -> TRUE | F27: =F26<=MAX(Parameters!$C$3:$C$4) -> TRUE | G27: =G26<=MAX(Parameters!$C$3:$C$4) -> TRUE | H27: =H26<=MAX(Parameters!$C$3:$C$4) -> TRUE | I27: =I26<=MAX(Parameters!$C$3:$C$4) -> TRUE | J27: =J26<=MAX(Parameters!$C$3:$C$4) -> TRUE | ... IR27: =IR26<=MAX(Parameters!$C$3:$C$4) -> TRUE
C28: =C26>=MIN(Parameters!$C$3:$C$4) -> TRUE | D28: =D26>=MIN(Parameters!$C$3:$C$4) -> TRUE | E28: =E26>=MIN(Parameters!$C$3:$C$4) -> TRUE | F28: =F26>=MIN(Parameters!$C$3:$C$4) -> TRUE | G28: =G26>=MIN(Parameters!$C$3:$C$4) -> TRUE | H28: =H26>=MIN(Parameters!$C$3:$C$4) -> TRUE | I28: =I26>=MIN(Parameters!$C$3:$C$4) -> TRUE | J28: =J26>=MIN(Parameters!$C$3:$C$4) -> TRUE | ... IR28: =IR26>=MIN(Parameters!$C$3:$C$4) -> TRUE
C29: =COUNTIF(C27:IR27,"false") -> 0 | D29: Okay
C30: =COUNTIF(C28:IR28,"false") -> 0 | D30: Okay
B32: Admin Charge | C32: =MIN(VLOOKUP(C$3,Admin_Charge_Perc,3,1)*C$3,VLOOKUP(C$3,Admin_Charge_Cap,4,1)) -> 1250 | D32: =MIN(VLOOKUP(D$3,Admin_Charge_Perc,3,1)*D$3,VLOOKUP(D$3,Admin_Charge_Cap,4,1)) -> 1500 | E32: =MIN(VLOOKUP(E$3,Admin_Charge_Perc,3,1)*E$3,VLOOKUP(E$3,Admin_Charge_Cap,4,1)) -> 1500 | F32: =MIN(VLOOKUP(F$3,Admin_Charge_Perc,3,1)*F$3,VLOOKUP(F$3,Admin_Charge_Cap,4,1)) -> 1250 | G32: =MIN(VLOOKUP(G$3,Admin_Charge_Perc,3,1)*G$3,VLOOKUP(G$3,Admin_Charge_Cap,4,1)) -> 1500 | H32: =MIN(VLOOKUP(H$3,Admin_Charge_Perc,3,1)*H$3,VLOOKUP(H$3,Admin_Charge_Cap,4,1)) -> 1500 | I32: =MIN(VLOOKUP(I$3,Admin_Charge_Perc,3,1)*I$3,VLOOKUP(I$3,Admin_Charge_Cap,4,1)) -> 1500 | J32: =MIN(VLOOKUP(J$3,Admin_Charge_Perc,3,1)*J$3,VLOOKUP(J$3,Admin_Charge_Cap,4,1)) -> 1500 | ... IR32: =MIN(VLOOKUP(IR$3,Admin_Charge_Perc,3,1)*IR$3,VLOOKUP(IR$3,Admin_Charge_Cap,4,1)) -> 1500
B33: Check 6 | C33: =MAX(C32:IR32) -> 1500 | D33: Okay

Sheet Premium
B2: Customer No. | C2: =Data!C2 -> 0001 | D2: =Data!D2 -> 0002 | E2: =Data!E2 -> 0003 | F2: =Data!F2 -> 0004 | G2: =Data!G2 -> 0005 | H2: =Data!H2 -> 0006 | I2: =Data!I2 -> 0007 | J2: =Data!J2 -> 0008 | ... IR2: =Data!IR2 -> 0250
B3: Annual Prem (INR) | C3: =Data!C3 -> 200000 | D3: =Data!D3 -> 350000 | E3: =Data!E3 -> 950000 | F3: =Data!F3 -> 250000 | G3: =Data!G3 -> 525000 | H3: =Data!H3 -> 825000 | I3: =Data!I3 -> 700000 | J3: =Data!J3 -> 475000 | ... IR3: =Data!IR3 -> 550000
B4: Premium Paying Term | C4: =Data!C4 -> 15 | D4: =Data!D4 -> 15 | E4: =Data!E4 -> 8 | F4: =Data!F4 -> 9 | G4: =Data!G4 -> 9 | H4: =Data!H4 -> 14 | I4: =Data!I4 -> 9 | J4: =Data!J4 -> 12 | ... IR4: =Data!IR4 -> 14
B5: Policy Term | C5: =Data!C5 -> 27 | D5: =Data!D5 -> 28 | E5: =Data!E5 -> 28 | F5: =Data!F5 -> 27 | G5: =Data!G5 -> 25 | H5: =Data!H5 -> 29 | I5: =Data!I5 -> 29 | J5: =Data!J5 -> 30 | ... IR5: =Data!IR5 -> 30
B6: Fund Split:
B7: Fund A | C7: =Data!C7 -> 0.9 | D7: =Data!D7 -> 0.35 | E7: =Data!E7 -> 0.65 | F7: =Data!F7 -> 0.15 | G7: =Data!G7 -> 0.8 | H7: =Data!H7 -> 0.4 | I7: =Data!I7 -> 1 | J7: =Data!J7 -> 0.5 | ... IR7: =Data!IR7 -> 0.45
B8: Fund B | C8: =Data!C8 -> 0.1 | D8: =Data!D8 -> 0.65 | E8: =Data!E8 -> 0.35 | F8: =Data!F8 -> 0.85 | G8: =Data!G8 -> 0.2 | H8: =Data!H8 -> 0.6 | I8: =Data!I8 -> 0 | J8: =Data!J8 -> 0.5 | ... IR8: =Data!IR8 -> 0.55
B9: Issuance Year | C9: =Data!C9 -> 2015 | D9: =Data!D9 -> 2015 | E9: =Data!E9 -> 2013 | F9: =Data!F9 -> 2015 | G9: =Data!G9 -> 2015 | H9: =Data!H9 -> 2014 | I9: =Data!I9 -> 2011 | J9: =Data!J9 -> 2015 | ... IR9: =Data!IR9 -> 2012
B11: Projection Year/ Premium
B12: 2011 | C12: =IF(AND($B12>=C$9,$B12<=(C$9+C$4-1)),C$3,0) -> 0 | D12: =IF(AND($B12>=D$9,$B12<=(D$9+D$4-1)),D$3,0) -> 0 | E12: =IF(AND($B12>=E$9,$B12<=(E$9+E$4-1)),E$3,0) -> 0 | F12: =IF(AND($B12>=F$9,$B12<=(F$9+F$4-1)),F$3,0) -> 0 | G12: =IF(AND($B12>=G$9,$B12<=(G$9+G$4-1)),G$3,0) -> 0 | H12: =IF(AND($B12>=H$9,$B12<=(H$9+H$4-1)),H$3,0) -> 0 | I12: =IF(AND($B12>=I$9,$B12<=(I$9+I$4-1)),I$3,0) -> 700000 | J12: =IF(AND($B12>=J$9,$B12<=(J$9+J$4-1)),J$3,0) -> 0 | ... IR12: =IF(AND($B12>=IR$9,$B12<=(IR$9+IR$4-1)),IR$3,0) -> 0
B13: =B12+1 -> 2012 | C13: =IF(AND($B13>=C$9,$B13<=(C$9+C$4-1)),C$3,0) -> 0 | D13: =IF(AND($B13>=D$9,$B13<=(D$9+D$4-1)),D$3,0) -> 0 | E13: =IF(AND($B13>=E$9,$B13<=(E$9+E$4-1)),E$3,0) -> 0 | F13: =IF(AND($B13>=F$9,$B13<=(F$9+F$4-1)),F$3,0) -> 0 | G13: =IF(AND($B13>=G$9,$B13<=(G$9+G$4-1)),G$3,0) -> 0 | H13: =IF(AND($B13>=H$9,$B13<=(H$9+H$4-1)),H$3,0) -> 0 | I13: =IF(AND($B13>=I$9,$B13<=(I$9+I$4-1)),I$3,0) -> 700000 | J13: =IF(AND($B13>=J$9,$B13<=(J$9+J$4-1)),J$3,0) -> 0 | ... IR13: =IF(AND($B13>=IR$9,$B13<=(IR$9+IR$4-1)),IR$3,0) -> 550000
B14: =B13+1 -> 2013 | C14: =IF(AND($B14>=C$9,$B14<=(C$9+C$4-1)),C$3,0) -> 0 | D14: =IF(AND($B14>=D$9,$B14<=(D$9+D$4-1)),D$3,0) -> 0 | E14: =IF(AND($B14>=E$9,$B14<=(E$9+E$4-1)),E$3,0) -> 950000 | F14: =IF(AND($B14>=F$9,$B14<=(F$9+F$4-1)),F$3,0) -> 0 | G14: =IF(AND($B14>=G$9,$B14<=(G$9+G$4-1)),G$3,0) -> 0 | H14: =IF(AND($B14>=H$9,$B14<=(H$9+H$4-1)),H$3,0) -> 0 | I14: =IF(AND($B14>=I$9,$B14<=(I$9+I$4-1)),I$3,0) -> 700000 | J14: =IF(AND($B14>=J$9,$B14<=(J$9+J$4-1)),J$3,0) -> 0 | ... IR14: =IF(AND($B14>=IR$9,$B14<=(IR$9+IR$4-1)),IR$3,0) -> 550000
B15: =B14+1 -> 2014 | C15: =IF(AND($B15>=C$9,$B15<=(C$9+C$4-1)),C$3,0) -> 0 | D15: =IF(AND($B15>=D$9,$B15<=(D$9+D$4-1)),D$3,0) -> 0 | E15: =IF(AND($B15>=E$9,$B15<=(E$9+E$4-1)),E$3,0) -> 950000 | F15: =IF(AND($B15>=F$9,$B15<=(F$9+F$4-1)),F$3,0) -> 0 | G15: =IF(AND($B15>=G$9,$B15<=(G$9+G$4-1)),G$3,0) -> 0 | H15: =IF(AND($B15>=H$9,$B15<=(H$9+H$4-1)),H$3,0) -> 825000 | I15: =IF(AND($B15>=I$9,$B15<=(I$9+I$4-1)),I$3,0) -> 700000 | J15: =IF(AND($B15>=J$9,$B15<=(J$9+J$4-1)),J$3,0) -> 0 | ... IR15: =IF(AND($B15>=IR$9,$B15<=(IR$9+IR$4-1)),IR$3,0) -> 550000
B16: =B15+1 -> 2015 | C16: =IF(AND($B16>=C$9,$B16<=(C$9+C$4-1)),C$3,0) -> 200000 | D16: =IF(AND($B16>=D$9,$B16<=(D$9+D$4-1)),D$3,0) -> 350000 | E16: =IF(AND($B16>=E$9,$B16<=(E$9+E$4-1)),E$3,0) -> 950000 | F16: =IF(AND($B16>=F$9,$B16<=(F$9+F$4-1)),F$3,0) -> 250000 | G16: =IF(AND($B16>=G$9,$B16<=(G$9+G$4-1)),G$3,0) -> 525000 | H16: =IF(AND($B16>=H$9,$B16<=(H$9+H$4-1)),H$3,0) -> 825000 | I16: =IF(AND($B16>=I$9,$B16<=(I$9+I$4-1)),I$3,0) -> 700000 | J16: =IF(AND($B16>=J$9,$B16<=(J$9+J$4-1)),J$3,0) -> 475000 | ... IR16: =IF(AND($B16>=IR$9,$B16<=(IR$9+IR$4-1)),IR$3,0) -> 550000
B17: =B16+1 -> 2016 | C17: =IF(AND($B17>=C$9,$B17<=(C$9+C$4-1)),C$3,0) -> 200000 | D17: =IF(AND($B17>=D$9,$B17<=(D$9+D$4-1)),D$3,0) -> 350000 | E17: =IF(AND($B17>=E$9,$B17<=(E$9+E$4-1)),E$3,0) -> 950000 | F17: =IF(AND($B17>=F$9,$B17<=(F$9+F$4-1)),F$3,0) -> 250000 | G17: =IF(AND($B17>=G$9,$B17<=(G$9+G$4-1)),G$3,0) -> 525000 | H17: =IF(AND($B17>=H$9,$B17<=(H$9+H$4-1)),H$3,0) -> 825000 | I17: =IF(AND($B17>=I$9,$B17<=(I$9+I$4-1)),I$3,0) -> 700000 | J17: =IF(AND($B17>=J$9,$B17<=(J$9+J$4-1)),J$3,0) -> 475000 | ... IR17: =IF(AND($B17>=IR$9,$B17<=(IR$9+IR$4-1)),IR$3,0) -> 550000
B18: =B17+1 -> 2017 | C18: =IF(AND($B18>=C$9,$B18<=(C$9+C$4-1)),C$3,0) -> 200000 | D18: =IF(AND($B18>=D$9,$B18<=(D$9+D$4-1)),D$3,0) -> 350000 | E18: =IF(AND($B18>=E$9,$B18<=(E$9+E$4-1)),E$3,0) -> 950000 | F18: =IF(AND($B18>=F$9,$B18<=(F$9+F$4-1)),F$3,0) -> 250000 | G18: =IF(AND($B18>=G$9,$B18<=(G$9+G$4-1)),G$3,0) -> 525000 | H18: =IF(AND($B18>=H$9,$B18<=(H$9+H$4-1)),H$3,0) -> 825000 | I18: =IF(AND($B18>=I$9,$B18<=(I$9+I$4-1)),I$3,0) -> 700000 | J18: =IF(AND($B18>=J$9,$B18<=(J$9+J$4-1)),J$3,0) -> 475000 | ... IR18: =IF(AND($B18>=IR$9,$B18<=(IR$9+IR$4-1)),IR$3,0) -> 550000
B19: =B18+1 -> 2018 | C19: =IF(AND($B19>=C$9,$B19<=(C$9+C$4-1)),C$3,0) -> 200000 | D19: =IF(AND($B19>=D$9,$B19<=(D$9+D$4-1)),D$3,0) -> 350000 | E19: =IF(AND($B19>=E$9,$B19<=(E$9+E$4-1)),E$3,0) -> 950000 | F19: =IF(AND($B19>=F$9,$B19<=(F$9+F$4-1)),F$3,0) -> 250000 | G19: =IF(AND($B19>=G$9,$B19<=(G$9+G$4-1)),G$3,0) -> 525000 | H19: =IF(AND($B19>=H$9,$B19<=(H$9+H$4-1)),H$3,0) -> 825000 | I19: =IF(AND($B19>=I$9,$B19<=(I$9+I$4-1)),I$3,0) -> 700000 | J19: =IF(AND($B19>=J$9,$B19<=(J$9+J$4-1)),J$3,0) -> 475000 | ... IR19: =IF(AND($B19>=IR$9,$B19<=(IR$9+IR$4-1)),IR$3,0) -> 550000
B20: =B19+1 -> 2019 | C20: =IF(AND($B20>=C$9,$B20<=(C$9+C$4-1)),C$3,0) -> 200000 | D20: =IF(AND($B20>=D$9,$B20<=(D$9+D$4-1)),D$3,0) -> 350000 | E20: =IF(AND($B20>=E$9,$B20<=(E$9+E$4-1)),E$3,0) -> 950000 | F20: =IF(AND($B20>=F$9,$B20<=(F$9+F$4-1)),F$3,0) -> 250000 | G20: =IF(AND($B20>=G$9,$B20<=(G$9+G$4-1)),G$3,0) -> 525000 | H20: =IF(AND($B20>=H$9,$B20<=(H$9+H$4-1)),H$3,0) -> 825000 | I20: =IF(AND($B20>=I$9,$B20<=(I$9+I$4-1)),I$3,0) -> 700000 | J20: =IF(AND($B20>=J$9,$B20<=(J$9+J$4-1)),J$3,0) -> 475000 | ... IR20: =IF(AND($B20>=IR$9,$B20<=(IR$9+IR$4-1)),IR$3,0) -> 550000
B21: =B20+1 -> 2020 | C21: =IF(AND($B21>=C$9,$B21<=(C$9+C$4-1)),C$3,0) -> 200000 | D21: =IF(AND($B21>=D$9,$B21<=(D$9+D$4-1)),D$3,0) -> 350000 | E21: =IF(AND($B21>=E$9,$B21<=(E$9+E$4-1)),E$3,0) -> 950000 | F21: =IF(AND($B21>=F$9,$B21<=(F$9+F$4-1)),F$3,0) -> 250000 | G21: =IF(AND($B21>=G$9,$B21<=(G$9+G$4-1)),G$3,0) -> 525000 | H21: =IF(AND($B21>=H$9,$B21<=(H$9+H$4-1)),H$3,0) -> 825000 | I21: =IF(AND($B21>=I$9,$B21<=(I$9+I$4-1)),I$3,0) -> 0 | J21: =IF(AND($B21>=J$9,$B21<=(J$9+J$4-1)),J$3,0) -> 475000 | ... IR21: =IF(AND($B21>=IR$9,$B21<=(IR$9+IR$4-1)),IR$3,0) -> 550000
B22: =B21+1 -> 2021 | C22: =IF(AND($B22>=C$9,$B22<=(C$9+C$4-1)),C$3,0) -> 200000 | D22: =IF(AND($B22>=D$9,$B22<=(D$9+D$4-1)),D$3,0) -> 350000 | E22: =IF(AND($B22>=E$9,$B22<=(E$9+E$4-1)),E$3,0) -> 0 | F22: =IF(AND($B22>=F$9,$B22<=(F$9+F$4-1)),F$3,0) -> 250000 | G22: =IF(AND($B22>=G$9,$B22<=(G$9+G$4-1)),G$3,0) -> 525000 | H22: =IF(AND($B22>=H$9,$B22<=(H$9+H$4-1)),H$3,0) -> 825000 | I22: =IF(AND($B22>=I$9,$B22<=(I$9+I$4-1)),I$3,0) -> 0 | J22: =IF(AND($B22>=J$9,$B22<=(J$9+J$4-1)),J$3,0) -> 475000 | ... IR22: =IF(AND($B22>=IR$9,$B22<=(IR$9+IR$4-1)),IR$3,0) -> 550000
B23: =B22+1 -> 2022 | C23: =IF(AND($B23>=C$9,$B23<=(C$9+C$4-1)),C$3,0) -> 200000 | D23: =IF(AND($B23>=D$9,$B23<=(D$9+D$4-1)),D$3,0) -> 350000 | E23: =IF(AND($B23>=E$9,$B23<=(E$9+E$4-1)),E$3,0) -> 0 | F23: =IF(AND($B23>=F$9,$B23<=(F$9+F$4-1)),F$3,0) -> 250000 | G23: =IF(AND($B23>=G$9,$B23<=(G$9+G$4-1)),G$3,0) -> 525000 | H23: =IF(AND($B23>=H$9,$B23<=(H$9+H$4-1)),H$3,0) -> 825000 | I23: =IF(AND($B23>=I$9,$B23<=(I$9+I$4-1)),I$3,0) -> 0 | J23: =IF(AND($B23>=J$9,$B23<=(J$9+J$4-1)),J$3,0) -> 475000 | ... IR23: =IF(AND($B23>=IR$9,$B23<=(IR$9+IR$4-1)),IR$3,0) -> 550000
B24: =B23+1 -> 2023 | C24: =IF(AND($B24>=C$9,$B24<=(C$9+C$4-1)),C$3,0) -> 200000 | D24: =IF(AND($B24>=D$9,$B24<=(D$9+D$4-1)),D$3,0) -> 350000 | E24: =IF(AND($B24>=E$9,$B24<=(E$9+E$4-1)),E$3,0) -> 0 | F24: =IF(AND($B24>=F$9,$B24<=(F$9+F$4-1)),F$3,0) -> 250000 | G24: =IF(AND($B24>=G$9,$B24<=(G$9+G$4-1)),G$3,0) -> 525000 | H24: =IF(AND($B24>=H$9,$B24<=(H$9+H$4-1)),H$3,0) -> 825000 | I24: =IF(AND($B24>=I$9,$B24<=(I$9+I$4-1)),I$3,0) -> 0 | J24: =IF(AND($B24>=J$9,$B24<=(J$9+J$4-1)),J$3,0) -> 475000 | ... IR24: =IF(AND($B24>=IR$9,$B24<=(IR$9+IR$4-1)),IR$3,0) -> 550000
... B46: =B45+1 -> 2045 | C46: =IF(AND($B46>=C$9,$B46<=(C$9+C$4-1)),C$3,0) -> 0 | D46: =IF(AND($B46>=D$9,$B46<=(D$9+D$4-1)),D$3,0) -> 0 | E46: =IF(AND($B46>=E$9,$B46<=(E$9+E$4-1)),E$3,0) -> 0 | F46: =IF(AND($B46>=F$9,$B46<=(F$9+F$4-1)),F$3,0) -> 0 | G46: =IF(AND($B46>=G$9,$B46<=(G$9+G$4-1)),G$3,0) -> 0 | H46: =IF(AND($B46>=H$9,$B46<=(H$9+H$4-1)),H$3,0) -> 0 | I46: =IF(AND($B46>=I$9,$B46<=(I$9+I$4-1)),I$3,0) -> 0 | J46: =IF(AND($B46>=J$9,$B46<=(J$9+J$4-1)),J$3,0) -> 0 | ... IR46: =IF(AND($B46>=IR$9,$B46<=(IR$9+IR$4-1)),IR$3,0) -> 0

Sheet Allocation Charge
B2: Customer No. | C2: =Data!C2 -> 0001 | D2: =Data!D2 -> 0002 | E2: =Data!E2 -> 0003 | F2: =Data!F2 -> 0004 | G2: =Data!G2 -> 0005 | H2: =Data!H2 -> 0006 | I2: =Data!I2 -> 0007 | J2: =Data!J2 -> 0008 | ... IR2: =Data!IR2 -> 0250
B3: Annual Prem (INR) | C3: =Data!C3 -> 200000 | D3: =Data!D3 -> 350000 | E3: =Data!E3 -> 950000 | F3: =Data!F3 -> 250000 | G3: =Data!G3 -> 525000 | H3: =Data!H3 -> 825000 | I3: =Data!I3 -> 700000 | J3: =Data!J3 -> 475000 | ... IR3: =Data!IR3 -> 550000
B4: Premium Paying Term | C4: =Data!C4 -> 15 | D4: =Data!D4 -> 15 | E4: =Data!E4 -> 8 | F4: =Data!F4 -> 9 | G4: =Data!G4 -> 9 | H4: =Data!H4 -> 14 | I4: =Data!I4 -> 9 | J4: =Data!J4 -> 12 | ... IR4: =Data!IR4 -> 14
B5: Policy Term | C5: =Data!C5 -> 27 | D5: =Data!D5 -> 28 | E5: =Data!E5 -> 28 | F5: =Data!F5 -> 27 | G5: =Data!G5 -> 25 | H5: =Data!H5 -> 29 | I5: =Data!I5 -> 29 | J5: =Data!J5 -> 30 | ... IR5: =Data!IR5 -> 30
B6: Fund Split:
B7: Fund A | C7: =Data!C7 -> 0.9 | D7: =Data!D7 -> 0.35 | E7: =Data!E7 -> 0.65 | F7: =Data!F7 -> 0.15 | G7: =Data!G7 -> 0.8 | H7: =Data!H7 -> 0.4 | I7: =Data!I7 -> 1 | J7: =Data!J7 -> 0.5 | ... IR7: =Data!IR7 -> 0.45
B8: Fund B | C8: =Data!C8 -> 0.1 | D8: =Data!D8 -> 0.65 | E8: =Data!E8 -> 0.35 | F8: =Data!F8 -> 0.85 | G8: =Data!G8 -> 0.2 | H8: =Data!H8 -> 0.6 | I8: =Data!I8 -> 0 | J8: =Data!J8 -> 0.5 | ... IR8: =Data!IR8 -> 0.55
B9: Issuance Year | C9: =Data!C9 -> 2015 | D9: =Data!D9 -> 2015 | E9: =Data!E9 -> 2013 | F9: =Data!F9 -> 2015 | G9: =Data!G9 -> 2015 | H9: =Data!H9 -> 2014 | I9: =Data!I9 -> 2011 | J9: =Data!J9 -> 2015 | ... IR9: =Data!IR9 -> 2012
B11: Projection Year/ Allocation Charge (% Premium)
B12: 2011 | C12: =IFERROR(VLOOKUP($B12+1-C$9,Allocation_Charge,2,1),0%) -> 0 | D12: =IFERROR(VLOOKUP($B12+1-D$9,Allocation_Charge,2,1),0%) -> 0 | E12: =IFERROR(VLOOKUP($B12+1-E$9,Allocation_Charge,2,1),0%) -> 0 | F12: =IFERROR(VLOOKUP($B12+1-F$9,Allocation_Charge,2,1),0%) -> 0 | G12: =IFERROR(VLOOKUP($B12+1-G$9,Allocation_Charge,2,1),0%) -> 0 | H12: =IFERROR(VLOOKUP($B12+1-H$9,Allocation_Charge,2,1),0%) -> 0 | I12: =IFERROR(VLOOKUP($B12+1-I$9,Allocation_Charge,2,1),0%) -> 0.1 | J12: =IFERROR(VLOOKUP($B12+1-J$9,Allocation_Charge,2,1),0%) -> 0 | ... IR12: =IFERROR(VLOOKUP($B12+1-IR$9,Allocation_Charge,2,1),0%) -> 0
B13: =B12+1 -> 2012 | C13: =IFERROR(VLOOKUP($B13+1-C$9,Allocation_Charge,2,1),0%) -> 0 | D13: =IFERROR(VLOOKUP($B13+1-D$9,Allocation_Charge,2,1),0%) -> 0 | E13: =IFERROR(VLOOKUP($B13+1-E$9,Allocation_Charge,2,1),0%) -> 0 | F13: =IFERROR(VLOOKUP($B13+1-F$9,Allocation_Charge,2,1),0%) -> 0 | G13: =IFERROR(VLOOKUP($B13+1-G$9,Allocation_Charge,2,1),0%) -> 0 | H13: =IFERROR(VLOOKUP($B13+1-H$9,Allocation_Charge,2,1),0%) -> 0 | I13: =IFERROR(VLOOKUP($B13+1-I$9,Allocation_Charge,2,1),0%) -> 0.075 | J13: =IFERROR(VLOOKUP($B13+1-J$9,Allocation_Charge,2,1),0%) -> 0 | ... IR13: =IFERROR(VLOOKUP($B13+1-IR$9,Allocation_Charge,2,1),0%) -> 0.1
B14: =B13+1 -> 2013 | C14: =IFERROR(VLOOKUP($B14+1-C$9,Allocation_Charge,2,1),0%) -> 0 | D14: =IFERROR(VLOOKUP($B14+1-D$9,Allocation_Charge,2,1),0%) -> 0 | E14: =IFERROR(VLOOKUP($B14+1-E$9,Allocation_Charge,2,1),0%) -> 0.1 | F14: =IFERROR(VLOOKUP($B14+1-F$9,Allocation_Charge,2,1),0%) -> 0 | G14: =IFERROR(VLOOKUP($B14+1-G$9,Allocation_Charge,2,1),0%) -> 0 | H14: =IFERROR(VLOOKUP($B14+1-H$9,Allocation_Charge,2,1),0%) -> 0 | I14: =IFERROR(VLOOKUP($B14+1-I$9,Allocation_Charge,2,1),0%) -> 0.05 | J14: =IFERROR(VLOOKUP($B14+1-J$9,Allocation_Charge,2,1),0%) -> 0 | ... IR14: =IFERROR(VLOOKUP($B14+1-IR$9,Allocation_Charge,2,1),0%) -> 0.075
B15: =B14+1 -> 2014 | C15: =IFERROR(VLOOKUP($B15+1-C$9,Allocation_Charge,2,1),0%) -> 0 | D15: =IFERROR(VLOOKUP($B15+1-D$9,Allocation_Charge,2,1),0%) -> 0 | E15: =IFERROR(VLOOKUP($B15+1-E$9,Allocation_Charge,2,1),0%) -> 0.075 | F15: =IFERROR(VLOOKUP($B15+1-F$9,Allocation_Charge,2,1),0%) -> 0 | G15: =IFERROR(VLOOKUP($B15+1-G$9,Allocation_Charge,2,1),0%) -> 0 | H15: =IFERROR(VLOOKUP($B15+1-H$9,Allocation_Charge,2,1),0%) -> 0.1 | I15: =IFERROR(VLOOKUP($B15+1-I$9,Allocation_Charge,2,1),0%) -> 0.05 | J15: =IFERROR(VLOOKUP($B15+1-J$9,Allocation_Charge,2,1),0%) -> 0 | ... IR15: =IFERROR(VLOOKUP($B15+1-IR$9,Allocation_Charge,2,1),0%) -> 0.05
B16: =B15+1 -> 2015 | C16: =IFERROR(VLOOKUP($B16+1-C$9,Allocation_Charge,2,1),0%) -> 0.1 | D16: =IFERROR(VLOOKUP($B16+1-D$9,Allocation_Charge,2,1),0%) -> 0.1 | E16: =IFERROR(VLOOKUP($B16+1-E$9,Allocation_Charge,2,1),0%) -> 0.05 | F16: =IFERROR(VLOOKUP($B16+1-F$9,Allocation_Charge,2,1),0%) -> 0.1 | G16: =IFERROR(VLOOKUP($B16+1-G$9,Allocation_Charge,2,1),0%) -> 0.1 | H16: =IFERROR(VLOOKUP($B16+1-H$9,Allocation_Charge,2,1),0%) -> 0.075 | I16: =IFERROR(VLOOKUP($B16+1-I$9,Allocation_Charge,2,1),0%) -> 0 | J16: =IFERROR(VLOOKUP($B16+1-J$9,Allocation_Charge,2,1),0%) -> 0.1 | ... IR16: =IFERROR(VLOOKUP($B16+1-IR$9,Allocation_Charge,2,1),0%) -> 0.05
B17: =B16+1 -> 2016 | C17: =IFERROR(VLOOKUP($B17+1-C$9,Allocation_Charge,2,1),0%) -> 0.075 | D17: =IFERROR(VLOOKUP($B17+1-D$9,Allocation_Charge,2,1),0%) -> 0.075 | E17: =IFERROR(VLOOKUP($B17+1-E$9,Allocation_Charge,2,1),0%) -> 0.05 | F17: =IFERROR(VLOOKUP($B17+1-F$9,Allocation_Charge,2,1),0%) -> 0.075 | G17: =IFERROR(VLOOKUP($B17+1-G$9,Allocation_Charge,2,1),0%) -> 0.075 | H17: =IFERROR(VLOOKUP($B17+1-H$9,Allocation_Charge,2,1),0%) -> 0.05 | I17: =IFERROR(VLOOKUP($B17+1-I$9,Allocation_Charge,2,1),0%) -> 0 | J17: =IFERROR(VLOOKUP($B17+1-J$9,Allocation_Charge,2,1),0%) -> 0.075 | ... IR17: =IFERROR(VLOOKUP($B17+1-IR$9,Allocation_Charge,2,1),0%) -> 0
B18: =B17+1 -> 2017 | C18: =IFERROR(VLOOKUP($B18+1-C$9,Allocation_Charge,2,1),0%) -> 0.05 | D18: =IFERROR(VLOOKUP($B18+1-D$9,Allocation_Charge,2,1),0%) -> 0.05 | E18: =IFERROR(VLOOKUP($B18+1-E$9,Allocation_Charge,2,1),0%) -> 0 | F18: =IFERROR(VLOOKUP($B18+1-F$9,Allocation_Charge,2,1),0%) -> 0.05 | G18: =IFERROR(VLOOKUP($B18+1-G$9,Allocation_Charge,2,1),0%) -> 0.05 | H18: =IFERROR(VLOOKUP($B18+1-H$9,Allocation_Charge,2,1),0%) -> 0.05 | I18: =IFERROR(VLOOKUP($B18+1-I$9,Allocation_Charge,2,1),0%) -> 0 | J18: =IFERROR(VLOOKUP($B18+1-J$9,Allocation_Charge,2,1),0%) -> 0.05 | ... IR18: =IFERROR(VLOOKUP($B18+1-IR$9,Allocation_Charge,2,1),0%) -> 0
B19: =B18+1 -> 2018 | C19: =IFERROR(VLOOKUP($B19+1-C$9,Allocation_Charge,2,1),0%) -> 0.05 | D19: =IFERROR(VLOOKUP($B19+1-D$9,Allocation_Charge,2,1),0%) -> 0.05 | E19: =IFERROR(VLOOKUP($B19+1-E$9,Allocation_Charge,2,1),0%) -> 0 | F19: =IFERROR(VLOOKUP($B19+1-F$9,Allocation_Charge,2,1),0%) -> 0.05 | G19: =IFERROR(VLOOKUP($B19+1-G$9,Allocation_Charge,2,1),0%) -> 0.05 | H19: =IFERROR(VLOOKUP($B19+1-H$9,Allocation_Charge,2,1),0%) -> 0 | I19: =IFERROR(VLOOKUP($B19+1-I$9,Allocation_Charge,2,1),0%) -> 0 | J19: =IFERROR(VLOOKUP($B19+1-J$9,Allocation_Charge,2,1),0%) -> 0.05 | ... IR19: =IFERROR(VLOOKUP($B19+1-IR$9,Allocation_Charge,2,1),0%) -> 0
B20: =B19+1 -> 2019 | C20: =IFERROR(VLOOKUP($B20+1-C$9,Allocation_Charge,2,1),0%) -> 0 | D20: =IFERROR(VLOOKUP($B20+1-D$9,Allocation_Charge,2,1),0%) -> 0 | E20: =IFERROR(VLOOKUP($B20+1-E$9,Allocation_Charge,2,1),0%) -> 0 | F20: =IFERROR(VLOOKUP($B20+1-F$9,Allocation_Charge,2,1),0%) -> 0 | G20: =IFERROR(VLOOKUP($B20+1-G$9,Allocation_Charge,2,1),0%) -> 0 | H20: =IFERROR(VLOOKUP($B20+1-H$9,Allocation_Charge,2,1),0%) -> 0 | I20: =IFERROR(VLOOKUP($B20+1-I$9,Allocation_Charge,2,1),0%) -> 0 | J20: =IFERROR(VLOOKUP($B20+1-J$9,Allocation_Charge,2,1),0%) -> 0 | ... IR20: =IFERROR(VLOOKUP($B20+1-IR$9,Allocation_Charge,2,1),0%) -> 0
B21: =B20+1 -> 2020 | C21: =IFERROR(VLOOKUP($B21+1-C$9,Allocation_Charge,2,1),0%) -> 0 | D21: =IFERROR(VLOOKUP($B21+1-D$9,Allocation_Charge,2,1),0%) -> 0 | E21: =IFERROR(VLOOKUP($B21+1-E$9,Allocation_Charge,2,1),0%) -> 0 | F21: =IFERROR(VLOOKUP($B21+1-F$9,Allocation_Charge,2,1),0%) -> 0 | G21: =IFERROR(VLOOKUP($B21+1-G$9,Allocation_Charge,2,1),0%) -> 0 | H21: =IFERROR(VLOOKUP($B21+1-H$9,Allocation_Charge,2,1),0%) -> 0 | I21: =IFERROR(VLOOKUP($B21+1-I$9,Allocation_Charge,2,1),0%) -> 0 | J21: =IFERROR(VLOOKUP($B21+1-J$9,Allocation_Charge,2,1),0%) -> 0 | ... IR21: =IFERROR(VLOOKUP($B21+1-IR$9,Allocation_Charge,2,1),0%) -> 0
B22: =B21+1 -> 2021 | C22: =IFERROR(VLOOKUP($B22+1-C$9,Allocation_Charge,2,1),0%) -> 0 | D22: =IFERROR(VLOOKUP($B22+1-D$9,Allocation_Charge,2,1),0%) -> 0 | E22: =IFERROR(VLOOKUP($B22+1-E$9,Allocation_Charge,2,1),0%) -> 0 | F22: =IFERROR(VLOOKUP($B22+1-F$9,Allocation_Charge,2,1),0%) -> 0 | G22: =IFERROR(VLOOKUP($B22+1-G$9,Allocation_Charge,2,1),0%) -> 0 | H22: =IFERROR(VLOOKUP($B22+1-H$9,Allocation_Charge,2,1),0%) -> 0 | I22: =IFERROR(VLOOKUP($B22+1-I$9,Allocation_Charge,2,1),0%) -> 0 | J22: =IFERROR(VLOOKUP($B22+1-J$9,Allocation_Charge,2,1),0%) -> 0 | ... IR22: =IFERROR(VLOOKUP($B22+1-IR$9,Allocation_Charge,2,1),0%) -> 0
B23: =B22+1 -> 2022 | C23: =IFERROR(VLOOKUP($B23+1-C$9,Allocation_Charge,2,1),0%) -> 0 | D23: =IFERROR(VLOOKUP($B23+1-D$9,Allocation_Charge,2,1),0%) -> 0 | E23: =IFERROR(VLOOKUP($B23+1-E$9,Allocation_Charge,2,1),0%) -> 0 | F23: =IFERROR(VLOOKUP($B23+1-F$9,Allocation_Charge,2,1),0%) -> 0 | G23: =IFERROR(VLOOKUP($B23+1-G$9,Allocation_Charge,2,1),0%) -> 0 | H23: =IFERROR(VLOOKUP($B23+1-H$9,Allocation_Charge,2,1),0%) -> 0 | I23: =IFERROR(VLOOKUP($B23+1-I$9,Allocation_Charge,2,1),0%) -> 0 | J23: =IFERROR(VLOOKUP($B23+1-J$9,Allocation_Charge,2,1),0%) -> 0 | ... IR23: =IFERROR(VLOOKUP($B23+1-IR$9,Allocation_Charge,2,1),0%) -> 0
B24: =B23+1 -> 2023 | C24: =IFERROR(VLOOKUP($B24+1-C$9,Allocation_Charge,2,1),0%) -> 0 | D24: =IFERROR(VLOOKUP($B24+1-D$9,Allocation_Charge,2,1),0%) -> 0 | E24: =IFERROR(VLOOKUP($B24+1-E$9,Allocation_Charge,2,1),0%) -> 0 | F24: =IFERROR(VLOOKUP($B24+1-F$9,Allocation_Charge,2,1),0%) -> 0 | G24: =IFERROR(VLOOKUP($B24+1-G$9,Allocation_Charge,2,1),0%) -> 0 | H24: =IFERROR(VLOOKUP($B24+1-H$9,Allocation_Charge,2,1),0%) -> 0 | I24: =IFERROR(VLOOKUP($B24+1-I$9,Allocation_Charge,2,1),0%) -> 0 | J24: =IFERROR(VLOOKUP($B24+1-J$9,Allocation_Charge,2,1),0%) -> 0 | ... IR24: =IFERROR(VLOOKUP($B24+1-IR$9,Allocation_Charge,2,1),0%) -> 0
... B46: =B45+1 -> 2045 | C46: =IFERROR(VLOOKUP($B46+1-C$9,Allocation_Charge,2,1),0%) -> 0 | D46: =IFERROR(VLOOKUP($B46+1-D$9,Allocation_Charge,2,1),0%) -> 0 | E46: =IFERROR(VLOOKUP($B46+1-E$9,Allocation_Charge,2,1),0%) -> 0 | F46: =IFERROR(VLOOKUP($B46+1-F$9,Allocation_Charge,2,1),0%) -> 0 | G46: =IFERROR(VLOOKUP($B46+1-G$9,Allocation_Charge,2,1),0%) -> 0 | H46: =IFERROR(VLOOKUP($B46+1-H$9,Allocation_Charge,2,1),0%) -> 0 | I46: =IFERROR(VLOOKUP($B46+1-I$9,Allocation_Charge,2,1),0%) -> 0 | J46: =IFERROR(VLOOKUP($B46+1-J$9,Allocation_Charge,2,1),0%) -> 0 | ... IR46: =IFERROR(VLOOKUP($B46+1-IR$9,Allocation_Charge,2,1),0%) -> 0

Sheet Investment Returns
B2: Customer No. | C2: =Data!C2 -> 0001 | D2: =Data!D2 -> 0002 | E2: =Data!E2 -> 0003 | F2: =Data!F2 -> 0004 | G2: =Data!G2 -> 0005 | H2: =Data!H2 -> 0006 | I2: =Data!I2 -> 0007 | J2: =Data!J2 -> 0008 | ... IR2: =Data!IR2 -> 0250
B3: Annual Prem (INR) | C3: =Data!C3 -> 200000 | D3: =Data!D3 -> 350000 | E3: =Data!E3 -> 950000 | F3: =Data!F3 -> 250000 | G3: =Data!G3 -> 525000 | H3: =Data!H3 -> 825000 | I3: =Data!I3 -> 700000 | J3: =Data!J3 -> 475000 | ... IR3: =Data!IR3 -> 550000
B4: Premium Paying Term | C4: =Data!C4 -> 15 | D4: =Data!D4 -> 15 | E4: =Data!E4 -> 8 | F4: =Data!F4 -> 9 | G4: =Data!G4 -> 9 | H4: =Data!H4 -> 14 | I4: =Data!I4 -> 9 | J4: =Data!J4 -> 12 | ... IR4: =Data!IR4 -> 14
B5: Policy Term | C5: =Data!C5 -> 27 | D5: =Data!D5 -> 28 | E5: =Data!E5 -> 28 | F5: =Data!F5 -> 27 | G5: =Data!G5 -> 25 | H5: =Data!H5 -> 29 | I5: =Data!I5 -> 29 | J5: =Data!J5 -> 30 | ... IR5: =Data!IR5 -> 30
B6: Fund Split:
B7: Fund A | C7: =Data!C7 -> 0.9 | D7: =Data!D7 -> 0.35 | E7: =Data!E7 -> 0.65 | F7: =Data!F7 -> 0.15 | G7: =Data!G7 -> 0.8 | H7: =Data!H7 -> 0.4 | I7: =Data!I7 -> 1 | J7: =Data!J7 -> 0.5 | ... IR7: =Data!IR7 -> 0.45
B8: Fund B | C8: =Data!C8 -> 0.1 | D8: =Data!D8 -> 0.65 | E8: =Data!E8 -> 0.35 | F8: =Data!F8 -> 0.85 | G8: =Data!G8 -> 0.2 | H8: =Data!H8 -> 0.6 | I8: =Data!I8 -> 0 | J8: =Data!J8 -> 0.5 | ... IR8: =Data!IR8 -> 0.55
B9: Issuance Year | C9: =Data!C9 -> 2015 | D9: =Data!D9 -> 2015 | E9: =Data!E9 -> 2013 | F9: =Data!F9 -> 2015 | G9: =Data!G9 -> 2015 | H9: =Data!H9 -> 2014 | I9: =Data!I9 -> 2011 | J9: =Data!J9 -> 2015 | ... IR9: =Data!IR9 -> 2012
B11: Investment Return
B12: 2011 | C12: {=SUMPRODUCT(C$7:C$8,TRANSPOSE('Investment Inc.'!$C4:$D4))} -> 0.098 | D12: {=SUMPRODUCT(D$7:D$8,TRANSPOSE('Investment Inc.'!$C4:$D4))} -> 0.142 | E12: {=SUMPRODUCT(E$7:E$8,TRANSPOSE('Investment Inc.'!$C4:$D4))} -> 0.118 | F12: {=SUMPRODUCT(F$7:F$8,TRANSPOSE('Investment Inc.'!$C4:$D4))} -> 0.158 | G12: {=SUMPRODUCT(G$7:G$8,TRANSPOSE('Investment Inc.'!$C4:$D4))} -> 0.106 | H12: {=SUMPRODUCT(H$7:H$8,TRANSPOSE('Investment Inc.'!$C4:$D4))} -> 0.138 | I12: {=SUMPRODUCT(I$7:I$8,TRANSPOSE('Investment Inc.'!$C4:$D4))} -> 0.09 | J12: {=SUMPRODUCT(J$7:J$8,TRANSPOSE('Investment Inc.'!$C4:$D4))} -> 0.13 | ... IR12: {=SUMPRODUCT(IR$7:IR$8,TRANSPOSE('Investment Inc.'!$C4:$D4))} -> 0.134
B13: =B12+1 -> 2012 | C13: {=SUMPRODUCT(C$7:C$8,TRANSPOSE('Investment Inc.'!$C5:$D5))} -> 0.055 | D13: {=SUMPRODUCT(D$7:D$8,TRANSPOSE('Investment Inc.'!$C5:$D5))} -> 0.0825 | E13: {=SUMPRODUCT(E$7:E$8,TRANSPOSE('Investment Inc.'!$C5:$D5))} -> 0.0675 | F13: {=SUMPRODUCT(F$7:F$8,TRANSPOSE('Investment Inc.'!$C5:$D5))} -> 0.0925 | G13: {=SUMPRODUCT(G$7:G$8,TRANSPOSE('Investment Inc.'!$C5:$D5))} -> 0.06 | H13: {=SUMPRODUCT(H$7:H$8,TRANSPOSE('Investment Inc.'!$C5:$D5))} -> 0.08 | I13: {=SUMPRODUCT(I$7:I$8,TRANSPOSE('Investment Inc.'!$C5:$D5))} -> 0.05 | J13: {=SUMPRODUCT(J$7:J$8,TRANSPOSE('Investment Inc.'!$C5:$D5))} -> 0.075 | ... IR13: {=SUMPRODUCT(IR$7:IR$8,TRANSPOSE('Investment Inc.'!$C5:$D5))} -> 0.0775
B14: =B13+1 -> 2013 | C14: {=SUMPRODUCT(C$7:C$8,TRANSPOSE('Investment Inc.'!$C6:$D6))} -> 0.093 | D14: {=SUMPRODUCT(D$7:D$8,TRANSPOSE('Investment Inc.'!$C6:$D6))} -> 0.1095 | E14: {=SUMPRODUCT(E$7:E$8,TRANSPOSE('Investment Inc.'!$C6:$D6))} -> 0.1005 | F14: {=SUMPRODUCT(F$7:F$8,TRANSPOSE('Investment Inc.'!$C6:$D6))} -> 0.1155 | G14: {=SUMPRODUCT(G$7:G$8,TRANSPOSE('Investment Inc.'!$C6:$D6))} -> 0.096 | H14: {=SUMPRODUCT(H$7:H$8,TRANSPOSE('Investment Inc.'!$C6:$D6))} -> 0.108 | I14: {=SUMPRODUCT(I$7:I$8,TRANSPOSE('Investment Inc.'!$C6:$D6))} -> 0.09 | J14: {=SUMPRODUCT(J$7:J$8,TRANSPOSE('Investment Inc.'!$C6:$D6))} -> 0.105 | ... IR14: {=SUMPRODUCT(IR$7:IR$8,TRANSPOSE('Investment Inc.'!$C6:$D6))} -> 0.1065
B15: =B14+1 -> 2014 | C15: {=SUMPRODUCT(C$7:C$8,TRANSPOSE('Investment Inc.'!$C7:$D7))} -> 0.095 | D15: {=SUMPRODUCT(D$7:D$8,TRANSPOSE('Investment Inc.'!$C7:$D7))} -> 0.1225 | E15: {=SUMPRODUCT(E$7:E$8,TRANSPOSE('Investment Inc.'!$C7:$D7))} -> 0.1075 | F15: {=SUMPRODUCT(F$7:F$8,TRANSPOSE('Investment Inc.'!$C7:$D7))} -> 0.1325 | G15: {=SUMPRODUCT(G$7:G$8,TRANSPOSE('Investment Inc.'!$C7:$D7))} -> 0.1 | H15: {=SUMPRODUCT(H$7:H$8,TRANSPOSE('Investment Inc.'!$C7:$D7))} -> 0.12 | I15: {=SUMPRODUCT(I$7:I$8,TRANSPOSE('Investment Inc.'!$C7:$D7))} -> 0.09 | J15: {=SUMPRODUCT(J$7:J$8,TRANSPOSE('Investment Inc.'!$C7:$D7))} -> 0.115 | ... IR15: {=SUMPRODUCT(IR$7:IR$8,TRANSPOSE('Investment Inc.'!$C7:$D7))} -> 0.1175
B16: =B15+1 -> 2015 | C16: {=SUMPRODUCT(C$7:C$8,TRANSPOSE('Investment Inc.'!$C8:$D8))} -> 0.043 | D16: {=SUMPRODUCT(D$7:D$8,TRANSPOSE('Investment Inc.'!$C8:$D8))} -> 0.0045 | E16: {=SUMPRODUCT(E$7:E$8,TRANSPOSE('Investment Inc.'!$C8:$D8))} -> 0.0255 | F16: {=SUMPRODUCT(F$7:F$8,TRANSPOSE('Investment Inc.'!$C8:$D8))} -> -0.0095 | G16: {=SUMPRODUCT(G$7:G$8,TRANSPOSE('Investment Inc.'!$C8:$D8))} -> 0.036 | H16: {=SUMPRODUCT(H$7:H$8,TRANSPOSE('Investment Inc.'!$C8:$D8))} -> 0.008 | I16: {=SUMPRODUCT(I$7:I$8,TRANSPOSE('Investment Inc.'!$C8:$D8))} -> 0.05 | J16: {=SUMPRODUCT(J$7:J$8,TRANSPOSE('Investment Inc.'!$C8:$D8))} -> 0.015 | ... IR16: {=SUMPRODUCT(IR$7:IR$8,TRANSPOSE('Investment Inc.'!$C8:$D8))} -> 0.0115
B17: =B16+1 -> 2016 | C17: {=SUMPRODUCT(C$7:C$8,TRANSPOSE('Investment Inc.'!$C9:$D9))} -> 0.054 | D17: {=SUMPRODUCT(D$7:D$8,TRANSPOSE('Investment Inc.'!$C9:$D9))} -> 0.076 | E17: {=SUMPRODUCT(E$7:E$8,TRANSPOSE('Investment Inc.'!$C9:$D9))} -> 0.064 | F17: {=SUMPRODUCT(F$7:F$8,TRANSPOSE('Investment Inc.'!$C9:$D9))} -> 0.084 | G17: {=SUMPRODUCT(G$7:G$8,TRANSPOSE('Investment Inc.'!$C9:$D9))} -> 0.058 | H17: {=SUMPRODUCT(H$7:H$8,TRANSPOSE('Investment Inc.'!$C9:$D9))} -> 0.074 | I17: {=SUMPRODUCT(I$7:I$8,TRANSPOSE('Investment Inc.'!$C9:$D9))} -> 0.05 | J17: {=SUMPRODUCT(J$7:J$8,TRANSPOSE('Investment Inc.'!$C9:$D9))} -> 0.07 | ... IR17: {=SUMPRODUCT(IR$7:IR$8,TRANSPOSE('Investment Inc.'!$C9:$D9))} -> 0.072
B18: =B17+1 -> 2017 | C18: {=SUMPRODUCT(C$7:C$8,TRANSPOSE('Investment Inc.'!$C10:$D10))} -> 0.065 | D18: {=SUMPRODUCT(D$7:D$8,TRANSPOSE('Investment Inc.'!$C10:$D10))} -> 0.0925 | E18: {=SUMPRODUCT(E$7:E$8,TRANSPOSE('Investment Inc.'!$C10:$D10))} -> 0.0775 | F18: {=SUMPRODUCT(F$7:F$8,TRANSPOSE('Investment Inc.'!$C10:$D10))} -> 0.1025 | G18: {=SUMPRODUCT(G$7:G$8,TRANSPOSE('Investment Inc.'!$C10:$D10))} -> 0.07 | H18: {=SUMPRODUCT(H$7:H$8,TRANSPOSE('Investment Inc.'!$C10:$D10))} -> 0.09 | I18: {=SUMPRODUCT(I$7:I$8,TRANSPOSE('Investment Inc.'!$C10:$D10))} -> 0.06 | J18: {=SUMPRODUCT(J$7:J$8,TRANSPOSE('Investment Inc.'!$C10:$D10))} -> 0.085 | ... IR18: {=SUMPRODUCT(IR$7:IR$8,TRANSPOSE('Investment Inc.'!$C10:$D10))} -> 0.0875
