Workbook
Name AGE_AT_ENTRY: 'Q.1 (i)'!$AC$5
Name CORP_TAX_RATE: 'Q.1 (i)'!$AA$15
Name i: '[1]Q3 Profit Test Basis'!$F$20
Name ival: '[1]Q3 Valuation Basis'!$F$10
Name NONU_INV_RATE_M: 'Q.1 (i)'!$AB$7
Name POL_TERM_M: 'Q.1 (i)'!$AB$3
Name RDR: '[1]Q3 Profit Test Basis'!$F$24
Name RDR_M: 'Q.1 (i)'!$AB$11

Sheet Q1 Data
G1: Charging % | H1: 0.8
G2: Claim % | H2: 0.5
B3: Age | C3: qx | D3: Monthly Mortality Rate
B4: 2 | C4: 0.000915 | D4: =1-(1-C4)^(1/12) -> 7.6281996e-05
B5: 3 | C5: 0.00047 | D5: =1-(1-C5)^(1/12) -> 3.9175106e-05
B6: 4 | C6: 0.000271 | D6: =1-(1-C6)^(1/12) -> 2.2586139e-05
B7: 5 | C7: 0.000185 | D7: =1-(1-C7)^(1/12) -> 1.5417974e-05
B8: 6 | C8: 0.000152 | D8: =1-(1-C8)^(1/12) -> 1.2667549e-05
B9: 7 | C9: 0.000149 | D9: =1-(1-C9)^(1/12) -> 1.2417515e-05
B10: 8 | C10: 0.000167 | D10: =1-(1-C10)^(1/12) -> 1.3917732e-05
B11: 9 | C11: 0.000206 | D11: =1-(1-C11)^(1/12) -> 1.7168288e-05
B12: 10 | C12: 0.000265 | D12: =1-(1-C12)^(1/12) -> 2.2086016e-05
B13: 11 | C13: 0.000341 | D13: =1-(1-C13)^(1/12) -> 2.8421109e-05
B14: 12 | C14: 0.000429 | D14: =1-(1-C14)^(1/12) -> 3.5757031e-05
B15: 13 | C15: 0.000522 | D15: =1-(1-C15)^(1/12) -> 4.3510411e-05
... B117: 115 | C117: 1 | D117: =1-(1-C117)^(1/12) -> 1

Sheet Q.1 (i)
AB2: Month/ly | AC2: Years/Annual | AD2: Daily
Z3: Policy Term | AB3: 120 | AC3: =AB3/12 -> 10 | AF3: Policy year | AG3: Surrender Penalty | AH3: Surrender rates | AI3: Monthly
Z4: Premium Payment Term | AB4: 60 | AC4: =AB4/12 -> 5 | AF4: 2 | AG4: 0.1 | AH4: 0.1 | AI4: =1-(1-AH4)^(1/12) -> 0.008741611
Z5: Age at entry | AB5: =+AC5*12 -> 423 | AC5: 35.25 | AF5: 3 | AG5: 0.075 | AH5: 0.075 | AI5: =1-(1-AH5)^(1/12) -> 0.0064757366
R6: ANSWER: | T6: ANSWER: | U6: ANSWER: | W6: ANSWER: | Z6: Annual Premium | AC6: 100000 | AF6: 4 | AG6: 0.075 | AH6: 0.075 | AI6: =1-(1-AH6)^(1/12) -> 0.0064757366
R7: UNIT FUND PROJECTION | T7: DEATH BENEFIT | U7: MAT BENEFIT | W7: SURRENDER BENEFIT | Z7: Non Unit Fund growth rate | AB7: =+(1+AC7)^(1/12)-1 -> 0.006044919 | AC7: 0.075 | AF7: 5 | AG7: 0.05 | AH7: 0.05 | AI7: =1-(1-AH7)^(1/12) -> 0.0042653188
Z8: Unit Fund growth rate | AB8: =+(1+AC8)^(1/12)-1 -> 0.0064340301 | AC8: 0.08 | AF8: 6 | AG8: 0.05 | AH8: 0.15 | AI8: =1-(1-AH8)^(1/12) -> 0.013451947
A9: Marks | B9: 1 | D9: 1 | E9: 2 | G9: 2 | H9: 1 | I9: 2 | J9: 1 | M9: 1 | O9: 2 | Q9: 2 | R9: 2 | T9: 0.5 | U9: 0.5 | V9: 1 | W9: 1 | Z9: FMC | AB9: =+(1+AC9)^(1/12)-1 -> 0.00049863025 | AC9: 0.006 | AF9: 7 | AG9: 0 | AH9: 0.05 | AI9: =1-(1-AH9)^(1/12) -> 0.0042653188
I10: (1 = monthly mortality, 1 = application of 80%) | Z10: Unit Fund growth rate Net of FMC & GST | AB10: =(1+AC10)^(1/12)-1 -> 0.0059294239 | AC10: =(1+AD10)^365-1 -> 0.07352 | AD10: =((1+AC8)^(1/365)*(1-AC9)^(1/365))-1 -> 0.00019438319
B11: Month | C11: Policy Year | D11: Attained Age | E11: Premium (Rs.) | F11: Unit Fund at start of month | G11: Death Benefit | H11: Sum at Risk | I11: Mortality Rate | J11: Mortality Charges | L11: Unit Fund after Mortality charges | M11: Gross Investment Return | N11: Net Investment Return (after FMC & GST) | O11: FMC | Q11: Return of Mortality Charge | R11: Unit Fund at end of month | T11: Death Benefit | U11: Maturity benefit | V11: Surrender Penalty | W11: Surrender Value Rs. | Z11: Risk Discount Rate | AB11: =(1+AC11)^(1/12)-1 -> 0.0094887929 | AC11: 0.12
B12: 0 | C12: 0 | D12: =INT(AGE_AT_ENTRY+B12/12) -> 35 | E12: =IF(AND(MOD(B12,12)=0,B12<$AB$4),$AC$6,0) -> 100000
B13: =+IF(B12>=POL_TERM_M,"",B12+1) -> 1 | C13: =IF(MOD(B13,12)=1,C12+1,C12) -> 1 | D13: =INT(AGE_AT_ENTRY+B13/12) -> 35 | E13: =IF(AND(MOD(B13,12)=0,B13<$AB$4),$AC$6,0) -> 0 | F13: =E12 -> 100000 | G13: =+MAX($AC$6*10,105%*SUM(E$12:E12),F13) -> 1000000 | H13: =MAX(G13-F13,0) -> 900000 | I13: =VLOOKUP(D13,'Q1 Data'!B:D,3,0)*'Q1 Data'!$H$1 -> 8.0177514e-05 | J13: =H13*I13 -> 72.159763 | L13: =F13-J13 -> 99927.84 | M13: =L13*$AB$8 -> 642.93873 | N13: =L13*$AB$10 -> 592.51453 | O13: =(M13-N13) -> 50.424207 | Q13: =IF(B13=$AB$3,SUM(J$13:J13),0) -> 0 | R13: =F13-J13+M13-O13+Q13 -> 100520.35 | T13: =G13 -> 1000000 | U13: =IF(B13=120,R13,0) -> 0 | V13: =IF(C13>=2,VLOOKUP(C13,$AF$4:$AG$9,2,1),0)*R13 -> 0 | W13: =IF(C13>=2,R13-V13,0) -> 0 | Z13: Maintenance expenses | AC13: 500
B14: =+IF(B13>=POL_TERM_M,"",B13+1) -> 2 | C14: =IF(MOD(B14,12)=1,C13+1,C13) -> 1 | D14: =INT(AGE_AT_ENTRY+B14/12) -> 35 | E14: =IF(AND(MOD(B14,12)=0,B14<$AB$4),$AC$6,0) -> 0 | F14: =R13+E14 -> 100520.35 | G14: =+MAX($AC$6*10,105%*SUM(E$12:E13),F14) -> 1000000 | H14: =MAX(G14-F14,0) -> 899479.65 | I14: =VLOOKUP(D14,'Q1 Data'!B:D,3,0)*'Q1 Data'!$H$1 -> 8.0177514e-05 | J14: =H14*I14 -> 72.118042 | L14: =F14-J14 -> 100448.24 | M14: =L14*$AB$8 -> 646.28698 | N14: =L14*$AB$10 -> 595.60018 | O14: =(M14-N14) -> 50.686802 | Q14: =IF(B14=$AB$3,SUM(J$13:J14),0) -> 0 | R14: =F14-J14+M14-O14+Q14 -> 101043.84 | T14: =G14 -> 1000000 | U14: =IF(B14=120,R14,0) -> 0 | V14: =IF(C14>=2,VLOOKUP(C14,$AF$4:$AG$9,2,1),0)*R14 -> 0 | W14: =IF(C14>=2,R14-V14,0) -> 0 | Z14: Inflation | AC14: 0.06
B15: =+IF(B14>=POL_TERM_M,"",B14+1) -> 3 | C15: =IF(MOD(B15,12)=1,C14+1,C14) -> 1 | D15: =INT(AGE_AT_ENTRY+B15/12) -> 35 | E15: =IF(AND(MOD(B15,12)=0,B15<$AB$4),$AC$6,0) -> 0 | F15: =R14+E15 -> 101043.84 | G15: =+MAX($AC$6*10,105%*SUM(E$12:E14),F15) -> 1000000 | H15: =MAX(G15-F15,0) -> 898956.16 | I15: =VLOOKUP(D15,'Q1 Data'!B:D,3,0)*'Q1 Data'!$H$1 -> 8.0177514e-05 | J15: =H15*I15 -> 72.07607 | L15: =F15-J15 -> 100971.76 | M15: =L15*$AB$8 -> 649.65535 | N15: =L15*$AB$10 -> 598.70437 | O15: =(M15-N15) -> 50.950976 | Q15: =IF(B15=$AB$3,SUM(J$13:J15),0) -> 0 | R15: =F15-J15+M15-O15+Q15 -> 101570.47 | T15: =G15 -> 1000000 | U15: =IF(B15=120,R15,0) -> 0 | V15: =IF(C15>=2,VLOOKUP(C15,$AF$4:$AG$9,2,1),0)*R15 -> 0 | W15: =IF(C15>=2,R15-V15,0) -> 0 | Z15: Corporate Tax Rate | AA15: 0.1456
B16: =+IF(B15>=POL_TERM_M,"",B15+1) -> 4 | C16: =IF(MOD(B16,12)=1,C15+1,C15) -> 1 | D16: =INT(AGE_AT_ENTRY+B16/12) -> 35 | E16: =IF(AND(MOD(B16,12)=0,B16<$AB$4),$AC$6,0) -> 0 | F16: =R15+E16 -> 101570.47 | G16: =+MAX($AC$6*10,105%*SUM(E$12:E15),F16) -> 1000000 | H16: =MAX(G16-F16,0) -> 898429.53 | I16: =VLOOKUP(D16,'Q1 Data'!B:D,3,0)*'Q1 Data'!$H$1 -> 8.0177514e-05 | J16: =H16*I16 -> 72.033847 | L16: =F16-J16 -> 101498.43 | M16: =L16*$AB$8 -> 653.04396 | N16: =L16*$AB$10 -> 601.82723 | O16: =(M16-N16) -> 51.216737 | Q16: =IF(B16=$AB$3,SUM(J$13:J16),0) -> 0 | R16: =F16-J16+M16-O16+Q16 -> 102100.26 | T16: =G16 -> 1000000 | U16: =IF(B16=120,R16,0) -> 0 | V16: =IF(C16>=2,VLOOKUP(C16,$AF$4:$AG$9,2,1),0)*R16 -> 0 | W16: =IF(C16>=2,R16-V16,0) -> 0
B17: =+IF(B16>=POL_TERM_M,"",B16+1) -> 5 | C17: =IF(MOD(B17,12)=1,C16+1,C16) -> 1 | D17: =INT(AGE_AT_ENTRY+B17/12) -> 35 | E17: =IF(AND(MOD(B17,12)=0,B17<$AB$4),$AC$6,0) -> 0 | F17: =R16+E17 -> 102100.26 | G17: =+MAX($AC$6*10,105%*SUM(E$12:E16),F17) -> 1000000 | H17: =MAX(G17-F17,0) -> 897899.74 | I17: =VLOOKUP(D17,'Q1 Data'!B:D,3,0)*'Q1 Data'!$H$1 -> 8.0177514e-05 | J17: =H17*I17 -> 71.991369 | L17: =F17-J17 -> 102028.27 | M17: =L17*$AB$8 -> 656.45294 | N17: =L17*$AB$10 -> 604.96885 | O17: =(M17-N17) -> 51.484095 | Q17: =IF(B17=$AB$3,SUM(J$13:J17),0) -> 0 | R17: =F17-J17+M17-O17+Q17 -> 102633.24 | T17: =G17 -> 1000000 | U17: =IF(B17=120,R17,0) -> 0 | V17: =IF(C17>=2,VLOOKUP(C17,$AF$4:$AG$9,2,1),0)*R17 -> 0 | W17: =IF(C17>=2,R17-V17,0) -> 0
B18: =+IF(B17>=POL_TERM_M,"",B17+1) -> 6 | C18: =IF(MOD(B18,12)=1,C17+1,C17) -> 1 | D18: =INT(AGE_AT_ENTRY+B18/12) -> 35 | E18: =IF(AND(MOD(B18,12)=0,B18<$AB$4),$AC$6,0) -> 0 | F18: =R17+E18 -> 102633.24 | G18: =+MAX($AC$6*10,105%*SUM(E$12:E17),F18) -> 1000000 | H18: =MAX(G18-F18,0) -> 897366.76 | I18: =VLOOKUP(D18,'Q1 Data'!B:D,3,0)*'Q1 Data'!$H$1 -> 8.0177514e-05 | J18: =H18*I18 -> 71.948636 | L18: =F18-J18 -> 102561.29 | M18: =L18*$AB$8 -> 659.88241 | N18: =L18*$AB$10 -> 608.12935 | O18: =(M18-N18) -> 51.75306 | Q18: =IF(B18=$AB$3,SUM(J$13:J18),0) -> 0 | R18: =F18-J18+M18-O18+Q18 -> 103169.42 | T18: =G18 -> 1000000 | U18: =IF(B18=120,R18,0) -> 0 | V18: =IF(C18>=2,VLOOKUP(C18,$AF$4:$AG$9,2,1),0)*R18 -> 0 | W18: =IF(C18>=2,R18-V18,0) -> 0
B19: =+IF(B18>=POL_TERM_M,"",B18+1) -> 7 | C19: =IF(MOD(B19,12)=1,C18+1,C18) -> 1 | D19: =INT(AGE_AT_ENTRY+B19/12) -> 35 | E19: =IF(AND(MOD(B19,12)=0,B19<$AB$4),$AC$6,0) -> 0 | F19: =R18+E19 -> 103169.42 | G19: =+MAX($AC$6*10,105%*SUM(E$12:E18),F19) -> 1000000 | H19: =MAX(G19-F19,0) -> 896830.58 | I19: =VLOOKUP(D19,'Q1 Data'!B:D,3,0)*'Q1 Data'!$H$1 -> 8.0177514e-05 | J19: =H19*I19 -> 71.905647 | L19: =F19-J19 -> 103097.51 | M19: =L19*$AB$8 -> 663.33249 | N19: =L19*$AB$10 -> 611.30885 | O19: =(M19-N19) -> 52.023642 | Q19: =IF(B19=$AB$3,SUM(J$13:J19),0) -> 0 | R19: =F19-J19+M19-O19+Q19 -> 103708.82 | T19: =G19 -> 1000000 | U19: =IF(B19=120,R19,0) -> 0 | V19: =IF(C19>=2,VLOOKUP(C19,$AF$4:$AG$9,2,1),0)*R19 -> 0 | W19: =IF(C19>=2,R19-V19,0) -> 0
B20: =+IF(B19>=POL_TERM_M,"",B19+1) -> 8 | C20: =IF(MOD(B20,12)=1,C19+1,C19) -> 1 | D20: =INT(AGE_AT_ENTRY+B20/12) -> 35 | E20: =IF(AND(MOD(B20,12)=0,B20<$AB$4),$AC$6,0) -> 0 | F20: =R19+E20 -> 103708.82 | G20: =+MAX($AC$6*10,105%*SUM(E$12:E19),F20) -> 1000000 | H20: =MAX(G20-F20,0) -> 896291.18 | I20: =VLOOKUP(D20,'Q1 Data'!B:D,3,0)*'Q1 Data'!$H$1 -> 8.0177514e-05 | J20: =H20*I20 -> 71.862399 | L20: =F20-J20 -> 103636.96 | M20: =L20*$AB$8 -> 666.80331 | N20: =L20*$AB$10 -> 614.50746 | O20: =(M20-N20) -> 52.29585 | Q20: =IF(B20=$AB$3,SUM(J$13:J20),0) -> 0 | R20: =F20-J20+M20-O20+Q20 -> 104251.47 | T20: =G20 -> 1000000 | U20: =IF(B20=120,R20,0) -> 0 | V20: =IF(C20>=2,VLOOKUP(C20,$AF$4:$AG$9,2,1),0)*R20 -> 0 | W20: =IF(C20>=2,R20-V20,0) -> 0
B21: =+IF(B20>=POL_TERM_M,"",B20+1) -> 9 | C21: =IF(MOD(B21,12)=1,C20+1,C20) -> 1 | D21: =INT(AGE_AT_ENTRY+B21/12) -> 36 | E21: =IF(AND(MOD(B21,12)=0,B21<$AB$4),$AC$6,0) -> 0 | F21: =R20+E21 -> 104251.47 | G21: =+MAX($AC$6*10,105%*SUM(E$12:E20),F21) -> 1000000 | H21: =MAX(G21-F21,0) -> 895748.53 | I21: =VLOOKUP(D21,'Q1 Data'!B:D,3,0)*'Q1 Data'!$H$1 -> 8.5049712e-05 | J21: =H21*I21 -> 76.183155 | L21: =F21-J21 -> 104175.28 | M21: =L21*$AB$8 -> 670.2669 | N21: =L21*$AB$10 -> 617.69941 | O21: =(M21-N21) -> 52.567492 | Q21: =IF(B21=$AB$3,SUM(J$13:J21),0) -> 0 | R21: =F21-J21+M21-O21+Q21 -> 104792.98 | T21: =G21 -> 1000000 | U21: =IF(B21=120,R21,0) -> 0 | V21: =IF(C21>=2,VLOOKUP(C21,$AF$4:$AG$9,2,1),0)*R21 -> 0 | W21: =IF(C21>=2,R21-V21,0) -> 0
B22: =+IF(B21>=POL_TERM_M,"",B21+1) -> 10 | C22: =IF(MOD(B22,12)=1,C21+1,C21) -> 1 | D22: =INT(AGE_AT_ENTRY+B22/12) -> 36 | E22: =IF(AND(MOD(B22,12)=0,B22<$AB$4),$AC$6,0) -> 0 | F22: =R21+E22 -> 104792.98 | G22: =+MAX($AC$6*10,105%*SUM(E$12:E21),F22) -> 1000000 | H22: =MAX(G22-F22,0) -> 895207.02 | I22: =VLOOKUP(D22,'Q1 Data'!B:D,3,0)*'Q1 Data'!$H$1 -> 8.5049712e-05 | J22: =H22*I22 -> 76.137099 | L22: =F22-J22 -> 104716.84 | M22: =L22*$AB$8 -> 673.75133 | N22: =L22*$AB$10 -> 620.91056 | O22: =(M22-N22) -> 52.840768 | Q22: =IF(B22=$AB$3,SUM(J$13:J22),0) -> 0 | R22: =F22-J22+M22-O22+Q22 -> 105337.75 | T22: =G22 -> 1000000 | U22: =IF(B22=120,R22,0) -> 0 | V22: =IF(C22>=2,VLOOKUP(C22,$AF$4:$AG$9,2,1),0)*R22 -> 0 | W22: =IF(C22>=2,R22-V22,0) -> 0
B23: =+IF(B22>=POL_TERM_M,"",B22+1) -> 11 | C23: =IF(MOD(B23,12)=1,C22+1,C22) -> 1 | D23: =INT(AGE_AT_ENTRY+B23/12) -> 36 | E23: =IF(AND(MOD(B23,12)=0,B23<$AB$4),$AC$6,0) -> 0 | F23: =R22+E23 -> 105337.75 | G23: =+MAX($AC$6*10,105%*SUM(E$12:E22),F23) -> 1000000 | H23: =MAX(G23-F23,0) -> 894662.25 | I23: =VLOOKUP(D23,'Q1 Data'!B:D,3,0)*'Q1 Data'!$H$1 -> 8.5049712e-05 | J23: =H23*I23 -> 76.090767 | L23: =F23-J23 -> 105261.66 | M23: =L23*$AB$8 -> 677.25672 | N23: =L23*$AB$10 -> 624.14103 | O23: =(M23-N23) -> 53.115687 | Q23: =IF(B23=$AB$3,SUM(J$13:J23),0) -> 0 | R23: =F23-J23+M23-O23+Q23 -> 105885.81 | T23: =G23 -> 1000000 | U23: =IF(B23=120,R23,0) -> 0 | V23: =IF(C23>=2,VLOOKUP(C23,$AF$4:$AG$9,2,1),0)*R23 -> 0 | W23: =IF(C23>=2,R23-V23,0) -> 0
B24: =+IF(B23>=POL_TERM_M,"",B23+1) -> 12 | C24: =IF(MOD(B24,12)=1,C23+1,C23) -> 1 | D24: =INT(AGE_AT_ENTRY+B24/12) -> 36 | E24: =IF(AND(MOD(B24,12)=0,B24<$AB$4),$AC$6,0) -> 100000 | F24: =R23+E24 -> 205885.81 | G24: =+MAX($AC$6*10,105%*SUM(E$12:E23),F24) -> 1000000 | H24: =MAX(G24-F24,0) -> 794114.19 | I24: =VLOOKUP(D24,'Q1 Data'!B:D,3,0)*'Q1 Data'!$H$1 -> 8.5049712e-05 | J24: =H24*I24 -> 67.539184 | L24: =F24-J24 -> 205818.27 | M24: =L24*$AB$8 -> 1324.2409 | N24: =L24*$AB$10 -> 1220.3837 | O24: =(M24-N24) -> 103.85717 | Q24: =IF(B24=$AB$3,SUM(J$13:J24),0) -> 0 | R24: =F24-J24+M24-O24+Q24 -> 207038.65 | T24: =G24 -> 1000000 | U24: =IF(B24=120,R24,0) -> 0 | V24: =IF(C24>=2,VLOOKUP(C24,$AF$4:$AG$9,2,1),0)*R24 -> 0 | W24: =IF(C24>=2,R24-V24,0) -> 0
B25: =+IF(B24>=POL_TERM_M,"",B24+1) -> 13 | C25: =IF(MOD(B25,12)=1,C24+1,C24) -> 2 | D25: =INT(AGE_AT_ENTRY+B25/12) -> 36 | E25: =IF(AND(MOD(B25,12)=0,B25<$AB$4),$AC$6,0) -> 0 | F25: =R24+E25 -> 207038.65 | G25: =+MAX($AC$6*10,105%*SUM(E$12:E24),F25) -> 1000000 | H25: =MAX(G25-F25,0) -> 792961.35 | I25: =VLOOKUP(D25,'Q1 Data'!B:D,3,0)*'Q1 Data'!$H$1 -> 8.5049712e-05 | J25: =H25*I25 -> 67.441135 | L25: =F25-J25 -> 206971.21 | M25: =L25*$AB$8 -> 1331.659 | N25: =L25*$AB$10 -> 1227.22 | O25: =(M25-N25) -> 104.43895 | Q25: =IF(B25=$AB$3,SUM(J$13:J25),0) -> 0 | R25: =F25-J25+M25-O25+Q25 -> 208198.43 | T25: =G25 -> 1000000 | U25: =IF(B25=120,R25,0) -> 0 | V25: =IF(C25>=2,VLOOKUP(C25,$AF$4:$AG$9,2,1),0)*R25 -> 20819.843 | W25: =IF(C25>=2,R25-V25,0) -> 187378.59
B26: =+IF(B25>=POL_TERM_M,"",B25+1) -> 14 | C26: =IF(MOD(B26,12)=1,C25+1,C25) -> 2 | D26: =INT(AGE_AT_ENTRY+B26/12) -> 36 | E26: =IF(AND(MOD(B26,12)=0,B26<$AB$4),$AC$6,0) -> 0 | F26: =R25+E26 -> 208198.43 | G26: =+MAX($AC$6*10,105%*SUM(E$12:E25),F26) -> 1000000 | H26: =MAX(G26-F26,0) -> 791801.57 | I26: =VLOOKUP(D26,'Q1 Data'!B:D,3,0)*'Q1 Data'!$H$1 -> 8.5049712e-05 | J26: =H26*I26 -> 67.342496 | L26: =F26-J26 -> 208131.09 | M26: =L26*$AB$8 -> 1339.1217 | N26: =L26*$AB$10 -> 1234.0974 | O26: =(M26-N26) -> 105.02423 | Q26: =IF(B26=$AB$3,SUM(J$13:J26),0) -> 0 | R26: =F26-J26+M26-O26+Q26 -> 209365.18 | T26: =G26 -> 1000000 | U26: =IF(B26=120,R26,0) -> 0 | V26: =IF(C26>=2,VLOOKUP(C26,$AF$4:$AG$9,2,1),0)*R26 -> 20936.518 | W26: =IF(C26>=2,R26-V26,0) -> 188428.67
B27: =+IF(B26>=POL_TERM_M,"",B26+1) -> 15 | C27: =IF(MOD(B27,12)=1,C26+1,C26) -> 2 | D27: =INT(AGE_AT_ENTRY+B27/12) -> 36 | E27: =IF(AND(MOD(B27,12)=0,B27<$AB$4),$AC$6,0) -> 0 | F27: =R26+E27 -> 209365.18 | G27: =+MAX($AC$6*10,105%*SUM(E$12:E26),F27) -> 1000000 | H27: =MAX(G27-F27,0) -> 790634.82 | I27: =VLOOKUP(D27,'Q1 Data'!B:D,3,0)*'Q1 Data'!$H$1 -> 8.5049712e-05 | J27: =H27*I27 -> 67.243264 | L27: =F27-J27 -> 209297.94 | M27: =L27*$AB$8 -> 1346.6292 | N27: =L27*$AB$10 -> 1241.0162 | O27: =(M27-N27) -> 105.61304 | Q27: =IF(B27=$AB$3,SUM(J$13:J27),0) -> 0 | R27: =F27-J27+M27-O27+Q27 -> 210538.96 | T27: =G27 -> 1000000 | U27: =IF(B27=120,R27,0) -> 0 | V27: =IF(C27>=2,VLOOKUP(C27,$AF$4:$AG$9,2,1),0)*R27 -> 21053.896 | W27: =IF(C27>=2,R27-V27,0) -> 189485.06
... B132: =+IF(B131>=POL_TERM_M,"",B131+1) -> 120 | C132: =IF(MOD(B132,12)=1,C131+1,C131) -> 10 | D132: =INT(AGE_AT_ENTRY+B132/12) -> 45 | E132: =IF(AND(MOD(B132,12)=0,B132<$AB$4),$AC$6,0) -> 0 | F132: =R131+E132 -> 876547.14 | G132: =+MAX($AC$6*10,105%*SUM(E$12:E131),F132) -> 1000000 | H132: =MAX(G132-F132,0) -> 123452.86 | I132: =VLOOKUP(D132,'Q1 Data'!B:D,3,0)*'Q1 Data'!$H$1 -> 0.0001721369 | J132: =H132*I132 -> 21.250792 | L132: =F132-J132 -> 876525.89 | M132: =L132*$AB$8 -> 5639.594 | N132: =L132*$AB$10 -> 5197.2936 | O132: =(M132-N132) -> 442.30039 | Q132: =IF(B132=$AB$3,SUM(J$13:J132),0) -> 5613.7152 | R132: =F132-J132+M132-O132+Q132 -> 887336.9 | T132: =G132 -> 1000000 | U132: =IF(B132=120,R132,0) -> 887336.9 | V132: =IF(C132>=2,VLOOKUP(C132,$AF$4:$AG$9,2,1),0)*R132 -> 0 | W132: =IF(C132>=2,R132-V132,0) -> 887336.9
B133: =+IF(B132>=POL_TERM_M,"",B132+1)

Sheet Q.1 (ii)
A2: Marks | C2: 0.5 | D2: 0.5 | F2: 1 | I2: 2 | J2: (Use goal seek to determine IRR)
B3: Year | C3: Premium | D3: Maturity | E3: Net Cashflows | F3: Present Value Factors
B4: 0 | C4: =-OFFSET('Q.1 (i)'!$E$12,'Q.1 (ii)'!B4*12,0) -> -100000 | E4: =C4+D4 -> -100000 | F4: =(1+$I$4)^(-B4) -> 1 | H4: IRR | I4: 0.073657857
B5: =+B4+1 -> 1 | C5: =-OFFSET('Q.1 (i)'!$E$12,'Q.1 (ii)'!B5*12,0) -> -100000 | E5: =C5+D5 -> -100000 | F5: =(1+$I$4)^(-B5) -> 0.93139541 | H5: NPV | I5: =SUMPRODUCT(E4:E15,F4:F15) -> 7.788185e-08
B6: =+B5+1 -> 2 | C6: =-OFFSET('Q.1 (i)'!$E$12,'Q.1 (ii)'!B6*12,0) -> -100000 | E6: =C6+D6 -> -100000 | F6: =(1+$I$4)^(-B6) -> 0.86749741
B7: =+B6+1 -> 3 | C7: =-OFFSET('Q.1 (i)'!$E$12,'Q.1 (ii)'!B7*12,0) -> -100000 | E7: =C7+D7 -> -100000 | F7: =(1+$I$4)^(-B7) -> 0.80798311
B8: =+B7+1 -> 4 | C8: =-OFFSET('Q.1 (i)'!$E$12,'Q.1 (ii)'!B8*12,0) -> -100000 | E8: =C8+D8 -> -100000 | F8: =(1+$I$4)^(-B8) -> 0.75255176
B9: =+B8+1 -> 5 | C9: =-OFFSET('Q.1 (i)'!$E$12,'Q.1 (ii)'!B9*12,0) -> 0 | E9: =C9+D9 -> 0 | F9: =(1+$I$4)^(-B9) -> 0.70092325
B10: =+B9+1 -> 6 | C10: =-OFFSET('Q.1 (i)'!$E$12,'Q.1 (ii)'!B10*12,0) -> 0 | E10: =C10+D10 -> 0 | F10: =(1+$I$4)^(-B10) -> 0.6528367
B11: =+B10+1 -> 7 | C11: =-OFFSET('Q.1 (i)'!$E$12,'Q.1 (ii)'!B11*12,0) -> 0 | E11: =C11+D11 -> 0 | F11: =(1+$I$4)^(-B11) -> 0.60804911
B12: =+B11+1 -> 8 | C12: =-OFFSET('Q.1 (i)'!$E$12,'Q.1 (ii)'!B12*12,0) -> 0 | E12: =C12+D12 -> 0 | F12: =(1+$I$4)^(-B12) -> 0.56633415
B13: =+B12+1 -> 9 | C13: =-OFFSET('Q.1 (i)'!$E$12,'Q.1 (ii)'!B13*12,0) -> 0 | E13: =C13+D13 -> 0 | F13: =(1+$I$4)^(-B13) -> 0.52748103
B14: =+B13+1 -> 10 | C14: =-OFFSET('Q.1 (i)'!$E$12,'Q.1 (ii)'!B14*12,0) -> 0 | D14: ='Q.1 (i)'!R132 -> 887336.9 | E14: =C14+D14 -> 887336.9 | F14: =(1+$I$4)^(-B14) -> 0.49129341

Sheet Q.1 (iii)
A2: Marks | E2: 0.5 | F2: 0.5 | G2: 0.5 | H2: 0.5 | I2: 1 | J2: 1 | K2: 1 | N2: 1 | O2: 1 | P2: 1 | R2: 0.5 | S2: 0.5 | T2: 0.5 | U2: 0.5 | V2: 0.5 | W2: 0.5 | X2: 0.5 | Y2: 0.5 | Z2: 1 | AA2: 1 | AB2: 1
E3: Per Policy Cashflows | R3: Expected Cashflows
B4: Month | C4: Policy Year | D4: Attained Age | E4: Mortality Charges | F4: FMC | G4: Return of Mortality Charge | H4: Surrender Penalty | I4: Initial Expenses | J4: Maintenance | K4: Death Claim outgo | M4: No. of policies inforce at start of month | N4: Surrender | O4: Death | P4: No. of policies inforce at end of month | R4: Mortality Charges | S4: FMC | T4: Return of Mortality Charge | U4: Surrender Penalty | V4: Initial Expenses | W4: Maintenance | X4: Death Claim outgo | Y4: Investment Income | Z4: PBT | AA4: Tax | AB4: PAT
B5: ='Q.1 (i)'!B12 -> 0 | C5: ='Q.1 (i)'!C12 -> 0 | D5: ='Q.1 (i)'!D12 -> 35
B6: ='Q.1 (i)'!B13 -> 1 | C6: ='Q.1 (i)'!C13 -> 1 | D6: ='Q.1 (i)'!D13 -> 35 | E6: ='Q.1 (i)'!J13 -> 72.159763 | F6: ='Q.1 (i)'!O13 -> 50.424207 | G6: =-'Q.1 (i)'!Q13 -> 0 | H6: ='Q.1 (i)'!V13 -> 0 | I6: =-('Q.1 (i)'!G13*0.2/1000+'Q.1 (i)'!AC6*2%) -> -2200 | J6: =-'Q.1 (i)'!$AC$13*(1+'Q.1 (i)'!$AC$14)^('Q.1 (iii)'!C6-1)/12 -> -41.666667 | K6: =-E6/'Q1 Data'!$H$1*'Q1 Data'!$H$2 -> -45.099852 | M6: 1 | N6: =IF(C6>=2,VLOOKUP(C6,'Q.1 (i)'!$AF$3:$AI$9,4,1)*'Q.1 (iii)'!M6,0) -> 0 | O6: =VLOOKUP(D6,'Q1 Data'!B:D,3,0)*'Q1 Data'!$H$2*(M6-N6) -> 5.0110946e-05 | P6: =M6-SUM(N6:O6) -> 0.99994989 | R6: =E6*(M6-N6) -> 72.159763 | S6: =F6*(M6-N6) -> 50.424207 | T6: =P6*G6 -> 0 | U6: =H6*N6 -> 0 | V6: =I6*M6 -> -2200 | W6: =J6*P6 -> -41.664579 | X6: =O6*-'Q.1 (i)'!H13 -> -45.099852 | Y6: =SUM(R6+V6+U6)*NONU_INV_RATE_M+SUM('Q.1 (iii)'!S6,'Q.1 (iii)'!W6,'Q.1 (iii)'!X6)*NONU_INV_RATE_M/2 -> -12.972459 | Z6: =SUM(R6:Y6) -> -2177.1529 | AA6: =-Z6*CORP_TAX_RATE -> 316.99347 | AB6: =Z6+AA6 -> -1860.1595
B7: ='Q.1 (i)'!B14 -> 2 | C7: ='Q.1 (i)'!C14 -> 1 | D7: ='Q.1 (i)'!D14 -> 35 | E7: ='Q.1 (i)'!J14 -> 72.118042 | F7: ='Q.1 (i)'!O14 -> 50.686802 | G7: =-'Q.1 (i)'!Q14 -> 0 | H7: ='Q.1 (i)'!V14 -> 0 | J7: =-'Q.1 (i)'!$AC$13*(1+'Q.1 (i)'!$AC$14)^('Q.1 (iii)'!C7-1)/12 -> -41.666667 | K7: =-E7/'Q1 Data'!$H$1*'Q1 Data'!$H$2 -> -45.073776 | M7: =P6 -> 0.99994989 | N7: =IF(C7>=2,VLOOKUP(C7,'Q.1 (i)'!$AF$3:$AI$9,4,1)*'Q.1 (iii)'!M7,0) -> 0 | O7: =VLOOKUP(D7,'Q1 Data'!B:D,3,0)*'Q1 Data'!$H$2*(M7-N7) -> 5.0108435e-05 | P7: =M7-SUM(N7:O7) -> 0.99989978 | R7: =E7*(M7-N7) -> 72.114428 | S7: =F7*(M7-N7) -> 50.684262 | T7: =P7*G7 -> 0 | U7: =H7*N7 -> 0 | W7: =J7*P7 -> -41.662491 | X7: =O7*-'Q.1 (i)'!H14 -> -45.071517 | Y7: =SUM(R7+V7+U7)*NONU_INV_RATE_M+SUM('Q.1 (iii)'!S7,'Q.1 (iii)'!W7,'Q.1 (iii)'!X7)*NONU_INV_RATE_M/2 -> 0.32696698 | Z7: =SUM(R7:Y7) -> 36.391649 | AA7: =-Z7*CORP_TAX_RATE -> -5.298624 | AB7: =Z7+AA7 -> 31.093025
B8: ='Q.1 (i)'!B15 -> 3 | C8: ='Q.1 (i)'!C15 -> 1 | D8: ='Q.1 (i)'!D15 -> 35 | E8: ='Q.1 (i)'!J15 -> 72.07607 | F8: ='Q.1 (i)'!O15 -> 50.950976 | G8: =-'Q.1 (i)'!Q15 -> 0 | H8: ='Q.1 (i)'!V15 -> 0 | J8: =-'Q.1 (i)'!$AC$13*(1+'Q.1 (i)'!$AC$14)^('Q.1 (iii)'!C8-1)/12 -> -41.666667 | K8: =-E8/'Q1 Data'!$H$1*'Q1 Data'!$H$2 -> -45.047544 | M8: =P7 -> 0.99989978 | N8: =IF(C8>=2,VLOOKUP(C8,'Q.1 (i)'!$AF$3:$AI$9,4,1)*'Q.1 (iii)'!M8,0) -> 0 | O8: =VLOOKUP(D8,'Q1 Data'!B:D,3,0)*'Q1 Data'!$H$2*(M8-N8) -> 5.0105924e-05 | P8: =M8-SUM(N8:O8) -> 0.99984967 | R8: =E8*(M8-N8) -> 72.068847 | S8: =F8*(M8-N8) -> 50.945869 | T8: =P8*G8 -> 0 | U8: =H8*N8 -> 0 | W8: =J8*P8 -> -41.660403 | X8: =O8*-'Q.1 (i)'!H15 -> -45.043029 | Y8: =SUM(R8+V8+U8)*NONU_INV_RATE_M+SUM('Q.1 (iii)'!S8,'Q.1 (iii)'!W8,'Q.1 (iii)'!X8)*NONU_INV_RATE_M/2 -> 0.32757456 | Z8: =SUM(R8:Y8) -> 36.638858 | AA8: =-Z8*CORP_TAX_RATE -> -5.3346178 | AB8: =Z8+AA8 -> 31.304241
B9: ='Q.1 (i)'!B16 -> 4 | C9: ='Q.1 (i)'!C16 -> 1 | D9: ='Q.1 (i)'!D16 -> 35 | E9: ='Q.1 (i)'!J16 -> 72.033847 | F9: ='Q.1 (i)'!O16 -> 51.216737 | G9: =-'Q.1 (i)'!Q16 -> 0 | H9: ='Q.1 (i)'!V16 -> 0 | J9: =-'Q.1 (i)'!$AC$13*(1+'Q.1 (i)'!$AC$14)^('Q.1 (iii)'!C9-1)/12 -> -41.666667 | K9: =-E9/'Q1 Data'!$H$1*'Q1 Data'!$H$2 -> -45.021154 | M9: =P8 -> 0.99984967 | N9: =IF(C9>=2,VLOOKUP(C9,'Q.1 (i)'!$AF$3:$AI$9,4,1)*'Q.1 (iii)'!M9,0) -> 0 | O9: =VLOOKUP(D9,'Q1 Data'!B:D,3,0)*'Q1 Data'!$H$2*(M9-N9) -> 5.0103413e-05 | P9: =M9-SUM(N9:O9) -> 0.99979957 | R9: =E9*(M9-N9) -> 72.023018 | S9: =F9*(M9-N9) -> 51.209038 | T9: =P9*G9 -> 0 | U9: =H9*N9 -> 0 | W9: =J9*P9 -> -41.658315 | X9: =O9*-'Q.1 (i)'!H16 -> -45.014386 | Y9: =SUM(R9+V9+U9)*NONU_INV_RATE_M+SUM('Q.1 (iii)'!S9,'Q.1 (iii)'!W9,'Q.1 (iii)'!X9)*NONU_INV_RATE_M/2 -> 0.32818582 | Z9: =SUM(R9:Y9) -> 36.88754 | AA9: =-Z9*CORP_TAX_RATE -> -5.3708258 | AB9: =Z9+AA9 -> 31.516714
B10: ='Q.1 (i)'!B17 -> 5 | C10: ='Q.1 (i)'!C17 -> 1 | D10: ='Q.1 (i)'!D17 -> 35 | E10: ='Q.1 (i)'!J17 -> 71.991369 | F10: ='Q.1 (i)'!O17 -> 51.484095 | G10: =-'Q.1 (i)'!Q17 -> 0 | H10: ='Q.1 (i)'!V17 -> 0 | J10: =-'Q.1 (i)'!$AC$13*(1+'Q.1 (i)'!$AC$14)^('Q.1 (iii)'!C10-1)/12 -> -41.666667 | K10: =-E10/'Q1 Data'!$H$1*'Q1 Data'!$H$2 -> -44.994606 | M10: =P9 -> 0.99979957 | N10: =IF(C10>=2,VLOOKUP(C10,'Q.1 (i)'!$AF$3:$AI$9,4,1)*'Q.1 (iii)'!M10,0) -> 0 | O10: =VLOOKUP(D10,'Q1 Data'!B:D,3,0)*'Q1 Data'!$H$2*(M10-N10) -> 5.0100903e-05 | P10: =M10-SUM(N10:O10) -> 0.99974947 | R10: =E10*(M10-N10) -> 71.97694 | S10: =F10*(M10-N10) -> 51.473776 | T10: =P10*G10 -> 0 | U10: =H10*N10 -> 0 | W10: =J10*P10 -> -41.656228 | X10: =O10*-'Q.1 (i)'!H17 -> -44.985587 | Y10: =SUM(R10+V10+U10)*NONU_INV_RATE_M+SUM('Q.1 (iii)'!S10,'Q.1 (iii)'!W10,'Q.1 (iii)'!X10)*NONU_INV_RATE_M/2 -> 0.3288008 | Z10: =SUM(R10:Y10) -> 37.137702 | AA10: =-Z10*CORP_TAX_RATE -> -5.4072494 | AB10: =Z10+AA10 -> 31.730452
B11: ='Q.1 (i)'!B18 -> 6 | C11: ='Q.1 (i)'!C18 -> 1 | D11: ='Q.1 (i)'!D18 -> 35 | E11: ='Q.1 (i)'!J18 -> 71.948636 | F11: ='Q.1 (i)'!O18 -> 51.75306 | G11: =-'Q.1 (i)'!Q18 -> 0 | H11: ='Q.1 (i)'!V18 -> 0 | J11: =-'Q.1 (i)'!$AC$13*(1+'Q.1 (i)'!$AC$14)^('Q.1 (iii)'!C11-1)/12 -> -41.666667 | K11: =-E11/'Q1 Data'!$H$1*'Q1 Data'!$H$2 -> -44.967898 | M11: =P10 -> 0.99974947 | N11: =IF(C11>=2,VLOOKUP(C11,'Q.1 (i)'!$AF$3:$AI$9,4,1)*'Q.1 (iii)'!M11,0) -> 0 | O11: =VLOOKUP(D11,'Q1 Data'!B:D,3,0)*'Q1 Data'!$H$2*(M11-N11) -> 5.0098392e-05 | P11: =M11-SUM(N11:O11) -> 0.99969937 | R11: =E11*(M11-N11) -> 71.930611 | S11: =F11*(M11-N11) -> 51.740095 | T11: =P11*G11 -> 0 | U11: =H11*N11 -> 0 | W11: =J11*P11 -> -41.65414 | X11: =O11*-'Q.1 (i)'!H18 -> -44.956632 | Y11: =SUM(R11+V11+U11)*NONU_INV_RATE_M+SUM('Q.1 (iii)'!S11,'Q.1 (iii)'!W11,'Q.1 (iii)'!X11)*NONU_INV_RATE_M/2 -> 0.32941951 | Z11: =SUM(R11:Y11) -> 37.389353 | AA11: =-Z11*CORP_TAX_RATE -> -5.4438898 | AB11: =Z11+AA11 -> 31.945463
B12: ='Q.1 (i)'!B19 -> 7 | C12: ='Q.1 (i)'!C19 -> 1 | D12: ='Q.1 (i)'!D19 -> 35 | E12: ='Q.1 (i)'!J19 -> 71.905647 | F12: ='Q.1 (i)'!O19 -> 52.023642 | G12: =-'Q.1 (i)'!Q19 -> 0 | H12: ='Q.1 (i)'!V19 -> 0 | J12: =-'Q.1 (i)'!$AC$13*(1+'Q.1 (i)'!$AC$14)^('Q.1 (iii)'!C12-1)/12 -> -41.666667 | K12: =-E12/'Q1 Data'!$H$1*'Q1 Data'!$H$2 -> -44.941029 | M12: =P11 -> 0.99969937 | N12: =IF(C12>=2,VLOOKUP(C12,'Q.1 (i)'!$AF$3:$AI$9,4,1)*'Q.1 (iii)'!M12,0) -> 0 | O12: =VLOOKUP(D12,'Q1 Data'!B:D,3,0)*'Q1 Data'!$H$2*(M12-N12) -> 5.0095882e-05 | P12: =M12-SUM(N12:O12) -> 0.99964928 | R12: =E12*(M12-N12) -> 71.88403 | S12: =F12*(M12-N12) -> 52.008003 | T12: =P12*G12 -> 0 | U12: =H12*N12 -> 0 | W12: =J12*P12 -> -41.652053 | X12: =O12*-'Q.1 (i)'!H19 -> -44.927519 | Y12: =SUM(R12+V12+U12)*NONU_INV_RATE_M+SUM('Q.1 (iii)'!S12,'Q.1 (iii)'!W12,'Q.1 (iii)'!X12)*NONU_INV_RATE_M/2 -> 0.33004197 | Z12: =SUM(R12:Y12) -> 37.642503 | AA12: =-Z12*CORP_TAX_RATE -> -5.4807484 | AB12: =Z12+AA12 -> 32.161754
B13: ='Q.1 (i)'!B20 -> 8 | C13: ='Q.1 (i)'!C20 -> 1 | D13: ='Q.1 (i)'!D20 -> 35 | E13: ='Q.1 (i)'!J20 -> 71.862399 | F13: ='Q.1 (i)'!O20 -> 52.29585 | G13: =-'Q.1 (i)'!Q20 -> 0 | H13: ='Q.1 (i)'!V20 -> 0 | J13: =-'Q.1 (i)'!$AC$13*(1+'Q.1 (i)'!$AC$14)^('Q.1 (iii)'!C13-1)/12 -> -41.666667 | K13: =-E13/'Q1 Data'!$H$1*'Q1 Data'!$H$2 -> -44.913999 | M13: =P12 -> 0.99964928 | N13: =IF(C13>=2,VLOOKUP(C13,'Q.1 (i)'!$AF$3:$AI$9,4,1)*'Q.1 (iii)'!M13,0) -> 0 | O13: =VLOOKUP(D13,'Q1 Data'!B:D,3,0)*'Q1 Data'!$H$2*(M13-N13) -> 5.0093371e-05 | P13: =M13-SUM(N13:O13) -> 0.99959918 | R13: =E13*(M13-N13) -> 71.837195 | S13: =F13*(M13-N13) -> 52.277509 | T13: =P13*G13 -> 0 | U13: =H13*N13 -> 0 | W13: =J13*P13 -> -41.649966 | X13: =O13*-'Q.1 (i)'!H20 -> -44.898247 | Y13: =SUM(R13+V13+U13)*NONU_INV_RATE_M+SUM('Q.1 (iii)'!S13,'Q.1 (iii)'!W13,'Q.1 (iii)'!X13)*NONU_INV_RATE_M/2 -> 0.33066821 | Z13: =SUM(R13:Y13) -> 37.897159 | AA13: =-Z13*CORP_TAX_RATE -> -5.5178264 | AB13: =Z13+AA13 -> 32.379333
B14: ='Q.1 (i)'!B21 -> 9 | C14: ='Q.1 (i)'!C21 -> 1 | D14: ='Q.1 (i)'!D21 -> 36 | E14: ='Q.1 (i)'!J21 -> 76.183155 | F14: ='Q.1 (i)'!O21 -> 52.567492 | G14: =-'Q.1 (i)'!Q21 -> 0 | H14: ='Q.1 (i)'!V21 -> 0 | J14: =-'Q.1 (i)'!$AC$13*(1+'Q.1 (i)'!$AC$14)^('Q.1 (iii)'!C14-1)/12 -> -41.666667 | K14: =-E14/'Q1 Data'!$H$1*'Q1 Data'!$H$2 -> -47.614472 | M14: =P13 -> 0.99959918 | N14: =IF(C14>=2,VLOOKUP(C14,'Q.1 (i)'!$AF$3:$AI$9,4,1)*'Q.1 (iii)'!M14,0) -> 0 | O14: =VLOOKUP(D14,'Q1 Data'!B:D,3,0)*'Q1 Data'!$H$2*(M14-N14) -> 5.3134764e-05 | P14: =M14-SUM(N14:O14) -> 0.99954605 | R14: =E14*(M14-N14) -> 76.15262 | S14: =F14*(M14-N14) -> 52.546422 | T14: =P14*G14 -> 0 | U14: =H14*N14 -> 0 | W14: =J14*P14 -> -41.647752 | X14: =O14*-'Q.1 (i)'!H21 -> -47.595387 | Y14: =SUM(R14+V14+U14)*NONU_INV_RATE_M+SUM('Q.1 (iii)'!S14,'Q.1 (iii)'!W14,'Q.1 (iii)'!X14)*NONU_INV_RATE_M/2 -> 0.34942208 | Z14: =SUM(R14:Y14) -> 39.805325 | AA14: =-Z14*CORP_TAX_RATE -> -5.7956553 | AB14: =Z14+AA14 -> 34.009669
B15: ='Q.1 (i)'!B22 -> 10 | C15: ='Q.1 (i)'!C22 -> 1 | D15: ='Q.1 (i)'!D22 -> 36 | E15: ='Q.1 (i)'!J22 -> 76.137099 | F15: ='Q.1 (i)'!O22 -> 52.840768 | G15: =-'Q.1 (i)'!Q22 -> 0 | H15: ='Q.1 (i)'!V22 -> 0 | J15: =-'Q.1 (i)'!$AC$13*(1+'Q.1 (i)'!$AC$14)^('Q.1 (iii)'!C15-1)/12 -> -41.666667 | K15: =-E15/'Q1 Data'!$H$1*'Q1 Data'!$H$2 -> -47.585687 | M15: =P14 -> 0.99954605 | N15: =IF(C15>=2,VLOOKUP(C15,'Q.1 (i)'!$AF$3:$AI$9,4,1)*'Q.1 (iii)'!M15,0) -> 0 | O15: =VLOOKUP(D15,'Q1 Data'!B:D,3,0)*'Q1 Data'!$H$2*(M15-N15) -> 5.313194e-05 | P15: =M15-SUM(N15:O15) -> 0.99949292 | R15: =E15*(M15-N15) -> 76.102537 | S15: =F15*(M15-N15) -> 52.816781 | T15: =P15*G15 -> 0 | U15: =H15*N15 -> 0 | W15: =J15*P15 -> -41.645538 | X15: =O15*-'Q.1 (i)'!H22 -> -47.564086 | Y15: =SUM(R15+V15+U15)*NONU_INV_RATE_M+SUM('Q.1 (iii)'!S15,'Q.1 (iii)'!W15,'Q.1 (iii)'!X15)*NONU_INV_RATE_M/2 -> 0.35003778 | Z15: =SUM(R15:Y15) -> 40.059732 | AA15: =-Z15*CORP_TAX_RATE -> -5.8326969 | AB15: =Z15+AA15 -> 34.227035
B16: ='Q.1 (i)'!B23 -> 11 | C16: ='Q.1 (i)'!C23 -> 1 | D16: ='Q.1 (i)'!D23 -> 36 | E16: ='Q.1 (i)'!J23 -> 76.090767 | F16: ='Q.1 (i)'!O23 -> 53.115687 | G16: =-'Q.1 (i)'!Q23 -> 0 | H16: ='Q.1 (i)'!V23 -> 0 | J16: =-'Q.1 (i)'!$AC$13*(1+'Q.1 (i)'!$AC$14)^('Q.1 (iii)'!C16-1)/12 -> -41.666667 | K16: =-E16/'Q1 Data'!$H$1*'Q1 Data'!$H$2 -> -47.556729 | M16: =P15 -> 0.99949292 | N16: =IF(C16>=2,VLOOKUP(C16,'Q.1 (i)'!$AF$3:$AI$9,4,1)*'Q.1 (iii)'!M16,0) -> 0 | O16: =VLOOKUP(D16,'Q1 Data'!B:D,3,0)*'Q1 Data'!$H$2*(M16-N16) -> 5.3129116e-05 | P16: =M16-SUM(N16:O16) -> 0.99943979 | R16: =E16*(M16-N16) -> 76.052182 | S16: =F16*(M16-N16) -> 53.088753 | T16: =P16*G16 -> 0 | U16: =H16*N16 -> 0 | W16: =J16*P16 -> -41.643324 | X16: =O16*-'Q.1 (i)'!H23 -> -47.532614 | Y16: =SUM(R16+V16+U16)*NONU_INV_RATE_M+SUM('Q.1 (iii)'!S16,'Q.1 (iii)'!W16,'Q.1 (iii)'!X16)*NONU_INV_RATE_M/2 -> 0.35065723 | Z16: =SUM(R16:Y16) -> 40.315654 | AA16: =-Z16*CORP_TAX_RATE -> -5.8699593 | AB16: =Z16+AA16 -> 34.445695
B17: ='Q.1 (i)'!B24 -> 12 | C17: ='Q.1 (i)'!C24 -> 1 | D17: ='Q.1 (i)'!D24 -> 36 | E17: ='Q.1 (i)'!J24 -> 67.539184 | F17: ='Q.1 (i)'!O24 -> 103.85717 | G17: =-'Q.1 (i)'!Q24 -> 0 | H17: ='Q.1 (i)'!V24 -> 0 | J17: =-'Q.1 (i)'!$AC$13*(1+'Q.1 (i)'!$AC$14)^('Q.1 (iii)'!C17-1)/12 -> -41.666667 | K17: =-E17/'Q1 Data'!$H$1*'Q1 Data'!$H$2 -> -42.21199 | M17: =P16 -> 0.99943979 | N17: =IF(C17>=2,VLOOKUP(C17,'Q.1 (i)'!$AF$3:$AI$9,4,1)*'Q.1 (iii)'!M17,0) -> 0 | O17: =VLOOKUP(D17,'Q1 Data'!B:D,3,0)*'Q1 Data'!$H$2*(M17-N17) -> 5.3126292e-05 | P17: =M17-SUM(N17:O17) -> 0.99938666 | R17: =E17*(M17-N17) -> 67.501348 | S17: =F17*(M17-N17) -> 103.79899 | T17: =P17*G17 -> 0 | U17: =H17*N17 -> 0 | W17: =J17*P17 -> -41.641111 | X17: =O17*-'Q.1 (i)'!H24 -> -42.188342 | Y17: =SUM(R17+V17+U17)*NONU_INV_RATE_M+SUM('Q.1 (iii)'!S17,'Q.1 (iii)'!W17,'Q.1 (iii)'!X17)*NONU_INV_RATE_M/2 -> 0.46839729 | Z17: =SUM(R17:Y17) -> 87.939281 | AA17: =-Z17*CORP_TAX_RATE -> -12.803959 | AB17: =Z17+AA17 -> 75.135321
B18: ='Q.1 (i)'!B25 -> 13 | C18: ='Q.1 (i)'!C25 -> 2 | D18: ='Q.1 (i)'!D25 -> 36 | E18: ='Q.1 (i)'!J25 -> 67.441135 | F18: ='Q.1 (i)'!O25 -> 104.43895 | G18: =-'Q.1 (i)'!Q25 -> 0 | H18: ='Q.1 (i)'!V25 -> 20819.843 | J18: =-'Q.1 (i)'!$AC$13*(1+'Q.1 (i)'!$AC$14)^('Q.1 (iii)'!C18-1)/12 -> -44.166667 | K18: =-E18/'Q1 Data'!$H$1*'Q1 Data'!$H$2 -> -42.150709 | M18: =P17 -> 0.99938666 | N18: =IF(C18>=2,VLOOKUP(C18,'Q.1 (i)'!$AF$3:$AI$9,4,1)*'Q.1 (iii)'!M18,0) -> 0.0087362494 | O18: =VLOOKUP(D18,'Q1 Data'!B:D,3,0)*'Q1 Data'!$H$2*(M18-N18) -> 5.2659083e-05 | P18: =M18-SUM(N18:O18) -> 0.99059775 | R18: =E18*(M18-N18) -> 66.810588 | S18: =F18*(M18-N18) -> 103.46249 | T18: =P18*G18 -> 0 | U18: =H18*N18 -> 181.88734 | W18: =J18*P18 -> -43.751401 | X18: =O18*-'Q.1 (i)'!H25 -> -41.756617 | Y18: =SUM(R18+V18+U18)*NONU_INV_RATE_M+SUM('Q.1 (iii)'!S18,'Q.1 (iii)'!W18,'Q.1 (iii)'!X18)*NONU_INV_RATE_M/2 -> 1.5576255 | Z18: =SUM(R18:Y18) -> 268.21003 | AA18: =-Z18*CORP_TAX_RATE -> -39.05138 | AB18: =Z18+AA18 -> 229.15865
... B125: ='Q.1 (i)'!B132 -> 120 | C125: ='Q.1 (i)'!C132 -> 10 | D125: ='Q.1 (i)'!D132 -> 45 | E125: ='Q.1 (i)'!J132 -> 21.250792 | F125: ='Q.1 (i)'!O132 -> 442.30039 | G125: =-'Q.1 (i)'!Q132 -> -5613.7152 | H125: ='Q.1 (i)'!V132 -> 0 | J125: =-'Q.1 (i)'!$AC$13*(1+'Q.1 (i)'!$AC$14)^('Q.1 (iii)'!C125-1)/12 -> -70.394957 | K125: =-E125/'Q1 Data'!$H$1*'Q1 Data'!$H$2 -> -13.281745 | M125: =P124 -> 0.50433 | N125: =IF(C125>=2,VLOOKUP(C125,'Q.1 (i)'!$AF$3:$AI$9,4,1)*'Q.1 (iii)'!M125,0) -> 0.0021511282 | O125: =VLOOKUP(D125,'Q1 Data'!B:D,3,0)*'Q1 Data'!$H$2*(M125-N125) -> 5.4027196e-05 | P125: =M125-SUM(N125:O125) -> 0.50212484 | R125: =E125*(M125-N125) -> 10.671699 | S125: =F125*(M125-N125) -> 222.11391 | T125: =P125*G125 -> -2818.7858 | U125: =H125*N125 -> 0 | W125: =J125*P125 -> -35.347056 | X125: =O125*-'Q.1 (i)'!H132 -> -6.6698117 | Y125: =SUM(R125+V125+U125)*NONU_INV_RATE_M+SUM('Q.1 (iii)'!S125,'Q.1 (iii)'!W125,'Q.1 (iii)'!X125)*NONU_INV_RATE_M/2 -> 0.60884557 | Z125: =SUM(R125:Y125) -> -2627.4082 | AA125: =-Z125*CORP_TAX_RATE -> 382.55064 | AB125: =Z125+AA125 -> -2244.8576
B126: ='Q.1 (i)'!B133

Sheet Q.1 (iv)
B2: Marks | E2: 1 | F2: 1 | K2: 1
C3: Month | D3: Policy Year | E3: Profit Signature | F3: Present Value Factors | G3: EPV of Profit Signature | J3: NPV | K3: =SUM(G5:G124) -> 12156.08
C4: 0 | D4: 0
C5: =+IF(C4>=POL_TERM_M,"",C4+1) -> 1 | D5: =IF(MOD(C5,12)=1,D4+1,D4) -> 1 | E5: ='Q.1 (iii)'!AB6 -> -1860.1595 | F5: =(1+RDR_M)^(-C5) -> 0.9906004 | G5: =E5*F5 -> -1842.6747
C6: =+IF(C5>=POL_TERM_M,"",C5+1) -> 2 | D6: =IF(MOD(C6,12)=1,D5+1,D5) -> 1 | E6: ='Q.1 (iii)'!AB7 -> 31.093025 | F6: =(1+RDR_M)^(-C6) -> 0.98128915 | G6: =E6*F6 -> 30.511248
C7: =+IF(C6>=POL_TERM_M,"",C6+1) -> 3 | D7: =IF(MOD(C7,12)=1,D6+1,D6) -> 1 | E7: ='Q.1 (iii)'!AB8 -> 31.304241 | F7: =(1+RDR_M)^(-C7) -> 0.97206542 | G7: =E7*F7 -> 30.42977
C8: =+IF(C7>=POL_TERM_M,"",C7+1) -> 4 | D8: =IF(MOD(C8,12)=1,D7+1,D7) -> 1 | E8: ='Q.1 (iii)'!AB9 -> 31.516714 | F8: =(1+RDR_M)^(-C8) -> 0.96292839 | G8: =E8*F8 -> 30.348339
C9: =+IF(C8>=POL_TERM_M,"",C8+1) -> 5 | D9: =IF(MOD(C9,12)=1,D8+1,D8) -> 1 | E9: ='Q.1 (iii)'!AB10 -> 31.730452 | F9: =(1+RDR_M)^(-C9) -> 0.95387725 | G9: =E9*F9 -> 30.266957
C10: =+IF(C9>=POL_TERM_M,"",C9+1) -> 6 | D10: =IF(MOD(C10,12)=1,D9+1,D9) -> 1 | E10: ='Q.1 (iii)'!AB11 -> 31.945463 | F10: =(1+RDR_M)^(-C10) -> 0.94491118 | G10: =E10*F10 -> 30.185625
C11: =+IF(C10>=POL_TERM_M,"",C10+1) -> 7 | D11: =IF(MOD(C11,12)=1,D10+1,D10) -> 1 | E11: ='Q.1 (iii)'!AB12 -> 32.161754 | F11: =(1+RDR_M)^(-C11) -> 0.93602939 | G11: =E11*F11 -> 30.104347
C12: =+IF(C11>=POL_TERM_M,"",C11+1) -> 8 | D12: =IF(MOD(C12,12)=1,D11+1,D11) -> 1 | E12: ='Q.1 (iii)'!AB13 -> 32.379333 | F12: =(1+RDR_M)^(-C12) -> 0.92723109 | G12: =E12*F12 -> 30.023124
C13: =+IF(C12>=POL_TERM_M,"",C12+1) -> 9 | D13: =IF(MOD(C13,12)=1,D12+1,D12) -> 1 | E13: ='Q.1 (iii)'!AB14 -> 34.009669 | F13: =(1+RDR_M)^(-C13) -> 0.91851549 | G13: =E13*F13 -> 31.238408
C14: =+IF(C13>=POL_TERM_M,"",C13+1) -> 10 | D14: =IF(MOD(C14,12)=1,D13+1,D13) -> 1 | E14: ='Q.1 (iii)'!AB15 -> 34.227035 | F14: =(1+RDR_M)^(-C14) -> 0.90988181 | G14: =E14*F14 -> 31.142556
C15: =+IF(C14>=POL_TERM_M,"",C14+1) -> 11 | D15: =IF(MOD(C15,12)=1,D14+1,D14) -> 1 | E15: ='Q.1 (iii)'!AB16 -> 34.445695 | F15: =(1+RDR_M)^(-C15) -> 0.90132928 | G15: =E15*F15 -> 31.046913
C16: =+IF(C15>=POL_TERM_M,"",C15+1) -> 12 | D16: =IF(MOD(C16,12)=1,D15+1,D15) -> 1 | E16: ='Q.1 (iii)'!AB17 -> 75.135321 | F16: =(1+RDR_M)^(-C16) -> 0.89285714 | G16: =E16*F16 -> 67.085108
... C124: =+IF(C123>=POL_TERM_M,"",C123+1) -> 120 | D124: =IF(MOD(C124,12)=1,D123+1,D123) -> 10 | E124: ='Q.1 (iii)'!AB125 -> -2244.8576 | F124: =(1+RDR_M)^(-C124) -> 0.32197324 | G124: =E124*F124 -> -722.78407
C125: =+IF(C124>=POL_TERM_M,"",C124+1)

Sheet Q2 Data
A1: Life Table
A2: AM92
A3: Age x | B3: l[x] | C3: l[x-1]+1 | D3: lx | F3: d[x] | G3: d[x-1]+1 | H3: dx | I3: Age x
A4: 17 | B4: 99978.091 | D4: 100000 | F4: 42.691 | H4: 60 | I4: 17
A5: 18 | B5: 99918.904 | C5: 99935.4 | D5: 99940 | F5: 42.566 | G5: 54.76436 | H5: 59.36436 | I5: 18
A6: 19 | B6: 99860.351 | C6: 99876.338 | D6: 99880.636 | F6: 42.44 | G6: 54.332293 | H6: 58.629933 | I6: 19
A7: 20 | B7: 99802.432 | C7: 99817.911 | D7: 99822.006 | F7: 42.416 | G7: 54.0017 | H7: 58.096407 | I7: 20
A8: 21 | B8: 99745.046 | C8: 99760.016 | D8: 99763.909 | F8: 42.392 | G8: 53.670476 | H8: 57.563776 | I8: 21
A9: 22 | B9: 99688.391 | C9: 99702.654 | D9: 99706.346 | F9: 42.567 | G9: 53.340506 | H9: 57.03203 | I9: 22
A10: 23 | B10: 99631.967 | C10: 99645.824 | D10: 99649.313 | F10: 42.742 | G10: 53.210965 | H10: 56.700459 | I10: 23
A11: 24 | B11: 99575.775 | C11: 99589.225 | D11: 99592.613 | F11: 42.917 | G11: 53.080977 | H11: 56.469012 | I11: 24
A12: 25 | B12: 99519.913 | C12: 99532.858 | D12: 99536.144 | F12: 43.291 | G12: 53.051434 | H12: 56.337458 | I12: 25
A13: 26 | B13: 99463.982 | C13: 99476.622 | D13: 99479.807 | F13: 43.764 | G13: 53.220485 | H13: 56.40505 | I13: 26
A14: 27 | B14: 99407.984 | C14: 99420.218 | D14: 99423.402 | F14: 44.435 | G14: 53.487823 | H14: 56.671339 | I14: 27
A15: 28 | B15: 99351.818 | C15: 99363.549 | D15: 99366.73 | F15: 45.205 | G15: 53.855327 | H15: 57.036503 | I15: 28
A16: 29 | B16: 99295.088 | C16: 99306.613 | D16: 99309.694 | F16: 46.172 | G16: 54.518949 | H16: 57.599622 | I16: 29
... A35: 48 | B35: 97488.603 | C35: 97527.874 | D35: 97534.714 | F35: 156.665 | G35: 189.00941 | H35: 195.84971 | I35: 48
A36: 49 | B36: 97286.499 | C36: 97331.938 | D36: 97338.865 | F36: 172.975 | G36: 211.20981 | H36: 218.1364 | I36: 49 | J36: =B34-C35 -> 142.109
A37: 50 | B37: 97060.977 | C37: 97113.524 | D37: 97120.728 | F37: 191.308 | G37: 236.3746 | H37: 243.57879 | I37: 50
A38: 51 | B38: 96808.99 | C38: 96869.669 | D38: 96877.149 | F38: 211.915 | G38: 264.64751 | H38: 272.12791 | I38: 51
A39: 52 | B39: 96526.965 | C39: 96597.075 | D39: 96605.021 | F39: 234.85 | G39: 296.55254 | H39: 304.49903 | I39: 52
A40: 53 | B40: 96211.006 | C40: 96292.115 | D40: 96300.522 | F40: 260.443 | G40: 332.40008 | H40: 340.80755 | I40: 53
A41: 54 | B41: 95856.916 | C41: 95950.563 | D41: 95959.715 | F41: 288.913 | G41: 372.38391 | H41: 381.53583 | I41: 54
A42: 55 | B42: 95459.929 | C42: 95568.003 | D42: 95578.179 | F42: 320.554 | G42: 416.96279 | H42: 427.13888 | I42: 55
A43: 56 | B43: 95014.839 | C43: 95139.375 | D43: 95151.04 | F43: 355.546 | G43: 466.46877 | H43: 478.13398 | I43: 56
A44: 57 | B44: 94515.938 | C44: 94659.293 | D44: 94672.906 | F44: 394.226 | G44: 521.28869 | H44: 534.90192 | I44: 57
A45: 58 | B45: 93956.971 | C45: 94121.712 | D45: 94138.004 | F45: 436.806 | G45: 581.67229 | H45: 597.9646 | I45: 58
A46: 59 | B46: 93331.284 | C46: 93520.165 | D46: 93540.04 | F46: 483.643 | G46: 648.00118 | H46: 667.87588 | I46: 59
A47: 60 | B47: 92631.422 | C47: 92847.641 | D47: 92872.164 | F47: 534.854 | G47: 720.49768 | H47: 745.0205 | I47: 60
A48: 61 | B48: 91849.687 | C48: 92096.568 | D48: 92127.143 | F48: 590.869 | G48: 799.39811 | H48: 829.97343 | I48: 61
... A77: 90 | B77: 14070.55 | C77: 15359.801 | D77: 16585.545 | F77: 1463.196 | G77: 1597.8951 | H77: 2823.6393 | I77: 90
A78: 91 | C78: 12607.354 | D78: 13761.906 | G78: 1387.4648 | H78: 2542.0167 | I78: 91
A79: 92 | D79: 11219.889 | H79: 2244.8642 | I79: 92
A80: 93 | D80: 8975.025 | H80: 1941.7826 | I80: 93
A81: 94 | D81: 7033.2424 | H81: 1642.5997 | I81: 94
A82: 95 | D82: 5390.6427 | H82: 1356.6199 | I82: 95
A83: 96 | D83: 4034.0228 | H83: 1091.9616 | I83: 96
A84: 97 | D84: 2942.0612 | H84: 855.00124 | I84: 97
A85: 98 | D85: 2087.06 | H85: 649.9397 | I85: 98
A86: 99 | D86: 1437.1203 | H86: 478.64441 | I86: 99
...

Sheet Q.2 (i)
A1: T | B1: 15 | D1: SA | E1: 150000
A2: i | B2: 0.03 | D2: Age | E2: 47
A3: v | B3: =1/(1+B2) -> 0.97087379 | C3: 1
A5: Marks | B5: 2 | C5: 2 | D5: 1 | E5: 1
A7: t | B7: Amt payable | C7: qx | D7: vt | E7: EPV
A8: 1 | B8: =$E$1 -> 150000 | C8: ='Q2 Data'!F34/'Q2 Data'!B34 -> 0.0014549916 | D8: =$B$3^A8 -> 0.97087379 | E8: =B8*C8*D8 -> 211.89197
A9: 2 | B9: =B8*1.04 -> 156000 | C9: ='Q2 Data'!G35/'Q2 Data'!B34 -> 0.0019351843 | D9: =$B$3^A9 -> 0.94259591 | E9: =B9*C9*D9 -> 284.5591
A10: 3 | B10: =B9*1.04 -> 162240 | C10: ='Q2 Data'!H36/'Q2 Data'!B34 -> 0.0022334026 | D10: =$B$3^A10 -> 0.91514166 | E10: =B10*C10*D10 -> 331.59905
A11: 4 | B11: =B10*1.04 -> 168729.6 | C11: ='Q2 Data'!H37/'Q2 Data'!$B$34 -> 0.0024938961 | D11: =$B$3^A11 -> 0.88848705 | E11: =B11*C11*D11 -> 373.87009
A12: 5 | B12: =B11*1.04 -> 175478.78 | C12: ='Q2 Data'!H38/'Q2 Data'!$B$34 -> 0.002786198 | D12: =$B$3^A12 -> 0.86260878 | E12: =B12*C12*D12 -> 421.74551
A13: 6 | B13: =B12*1.04 -> 182497.94 | C13: ='Q2 Data'!H39/'Q2 Data'!$B$34 -> 0.0031176316 | D13: =$B$3^A13 -> 0.83748426 | E13: =B13*C13*D13 -> 476.49616
A14: 7 | B14: =B13*1.04 -> 189797.85 | C14: ='Q2 Data'!H40/'Q2 Data'!$B$34 -> 0.0034893786 | D14: =$B$3^A14 -> 0.81309151 | E14: =B14*C14*D14 -> 538.49145
A15: 8 | B15: =B14*1.04 -> 197389.77 | C15: ='Q2 Data'!H41/'Q2 Data'!$B$34 -> 0.0039063775 | D15: =$B$3^A15 -> 0.78940923 | E15: =B15*C15*D15 -> 608.69684
A16: 9 | B16: =B15*1.04 -> 205285.36 | C16: ='Q2 Data'!H42/'Q2 Data'!$B$34 -> 0.0043732872 | D16: =$B$3^A16 -> 0.76641673 | E16: =B16*C16*D16 -> 688.06734
A17: 10 | B17: =B16*1.04 -> 213496.77 | C17: ='Q2 Data'!H43/'Q2 Data'!$B$34 -> 0.0048954035 | D17: =$B$3^A17 -> 0.74409391 | E17: =B17*C17*D17 -> 777.69187
A18: 11 | B18: =B17*1.04 -> 222036.64 | C18: ='Q2 Data'!H44/'Q2 Data'!$B$34 -> 0.0054766255 | D18: =$B$3^A18 -> 0.72242128 | E18: =B18*C18*D18 -> 878.47261
A19: 12 | B19: =B18*1.04 -> 230918.11 | C19: ='Q2 Data'!H45/'Q2 Data'!$B$34 -> 0.0061222966 | D19: =$B$3^A19 -> 0.70137988 | E19: =B19*C19*D19 -> 991.57521
A20: 13 | B20: =B19*1.04 -> 240154.83 | C20: ='Q2 Data'!H46/'Q2 Data'!$B$34 -> 0.0068380874 | D20: =$B$3^A20 -> 0.68095134 | E20: =B20*C20*D20 -> 1118.2581
A21: 14 | B21: =B20*1.04 -> 249761.03 | C21: ='Q2 Data'!H47/'Q2 Data'!$B$34 -> 0.0076279372 | D21: =$B$3^A21 -> 0.66111781 | E21: =B21*C21*D21 -> 1259.5361
A22: 15 | B22: =B21*1.04 -> 259751.47 | C22: ='Q2 Data'!H48/'Q2 Data'!$B$34 -> 0.008497733 | D22: =$B$3^A22 -> 0.64186195 | E22: =B22*C22*D22 -> 1416.781
D24: Total EPV | E24: =SUM(E8:E22) -> 10377.732

Sheet Q.2 (ii)
A1: T | B1: 15 | D1: SA | E1: 150000 | I1: Mortgage interest | J1: 0.04
A2: i | B2: 0.03 | D2: Age | E2: 47
A3: v | B3: =1/(1+B2) -> 0.97087379 | C3: 0.5 | H3: Loan Repayment Schedule | K3: EMI | L3: 13491.165 | M3: 2
A5: Marks | B5: 1 | E5: 1 | I5: 1 | J5: 1 | K5: 1 | L5: 1 | M5: 1
A7: t | B7: Amt payable | C7: qx | D7: vt | E7: EPV | H7: t | I7: O/S at the start of year | J7: Interest | K7: EMI | L7: Principal repaid | M7: O/s at the end of year
A8: 1 | B8: =I8 -> 150000 | C8: ='Q2 Data'!F34/'Q2 Data'!B34 -> 0.0014549916 | D8: =$B$3^A8 -> 0.97087379 | E8: =B8*C8*D8 -> 211.89197 | H8: 1 | I8: 150000 | J8: =I8*$J$1 -> 6000 | K8: =$L$3 -> 13491.165 | L8: =K8-J8 -> 7491.1651 | M8: =I8-L8 -> 142508.83
A9: 2 | B9: =I9 -> 142508.83 | C9: ='Q2 Data'!G35/'Q2 Data'!B34 -> 0.0019351843 | D9: =$B$3^A9 -> 0.94259591 | E9: =B9*C9*D9 -> 259.9499 | H9: 2 | I9: =M8 -> 142508.83 | J9: =I9*$J$1 -> 5700.3534 | K9: =$L$3 -> 13491.165 | L9: =K9-J9 -> 7790.8117 | M9: =I9-L9 -> 134718.02
A10: 3 | B10: =I10 -> 134718.02 | C10: ='Q2 Data'!H36/'Q2 Data'!B34 -> 0.0022334026 | D10: =$B$3^A10 -> 0.91514166 | E10: =B10*C10*D10 -> 275.34744 | H10: 3 | I10: =M9 -> 134718.02 | J10: =I10*$J$1 -> 5388.7209 | K10: =$L$3 -> 13491.165 | L10: =K10-J10 -> 8102.4441 | M10: =I10-L10 -> 126615.58
A11: 4 | B11: =I11 -> 126615.58 | C11: ='Q2 Data'!H37/'Q2 Data'!$B$34 -> 0.0024938961 | D11: =$B$3^A11 -> 0.88848705 | E11: =B11*C11*D11 -> 280.55409 | H11: 4 | I11: =M10 -> 126615.58 | J11: =I11*$J$1 -> 5064.6232 | K11: =$L$3 -> 13491.165 | L11: =K11-J11 -> 8426.5419 | M11: =I11-L11 -> 118189.04
A12: 5 | B12: =I12 -> 118189.04 | C12: ='Q2 Data'!H38/'Q2 Data'!$B$34 -> 0.002786198 | D12: =$B$3^A12 -> 0.86260878 | E12: =B12*C12*D12 -> 284.0554 | H12: 5 | I12: =M11 -> 118189.04 | J12: =I12*$J$1 -> 4727.5615 | K12: =$L$3 -> 13491.165 | L12: =K12-J12 -> 8763.6036 | M12: =I12-L12 -> 109425.43
A13: 6 | B13: =I13 -> 109425.43 | C13: ='Q2 Data'!H39/'Q2 Data'!$B$34 -> 0.0031176316 | D13: =$B$3^A13 -> 0.83748426 | E13: =B13*C13*D13 -> 285.70624 | H13: 6 | I13: =M12 -> 109425.43 | J13: =I13*$J$1 -> 4377.0173 | K13: =$L$3 -> 13491.165 | L13: =K13-J13 -> 9114.1477 | M13: =I13-L13 -> 100311.29
A14: 7 | B14: =I14 -> 100311.29 | C14: ='Q2 Data'!H40/'Q2 Data'!$B$34 -> 0.0034893786 | D14: =$B$3^A14 -> 0.81309151 | E14: =B14*C14*D14 -> 284.60159 | H14: 7 | I14: =M13 -> 100311.29 | J14: =I14*$J$1 -> 4012.4514 | K14: =$L$3 -> 13491.165 | L14: =K14-J14 -> 9478.7136 | M14: =I14-L14 -> 90832.572
A15: 8 | B15: =I15 -> 90832.572 | C15: ='Q2 Data'!H41/'Q2 Data'!$B$34 -> 0.0039063775 | D15: =$B$3^A15 -> 0.78940923 | E15: =B15*C15*D15 -> 280.10317 | H15: 8 | I15: =M14 -> 90832.572 | J15: =I15*$J$1 -> 3633.3029 | K15: =$L$3 -> 13491.165 | L15: =K15-J15 -> 9857.8622 | M15: =I15-L15 -> 80974.71
A16: 9 | B16: =I16 -> 80974.71 | C16: ='Q2 Data'!H42/'Q2 Data'!$B$34 -> 0.0043732872 | D16: =$B$3^A16 -> 0.76641673 | E16: =B16*C16*D16 -> 271.40783 | H16: 9 | I16: =M15 -> 80974.71 | J16: =I16*$J$1 -> 3238.9884 | K16: =$L$3 -> 13491.165 | L16: =K16-J16 -> 10252.177 | M16: =I16-L16 -> 70722.534
A17: 10 | B17: =I17 -> 70722.534 | C17: ='Q2 Data'!H43/'Q2 Data'!$B$34 -> 0.0048954035 | D17: =$B$3^A17 -> 0.74409391 | E17: =B17*C17*D17 -> 257.61673 | H17: 10 | I17: =M16 -> 70722.534 | J17: =I17*$J$1 -> 2828.9013 | K17: =$L$3 -> 13491.165 | L17: =K17-J17 -> 10662.264 | M17: =I17-L17 -> 60060.27
A18: 11 | B18: =I18 -> 60060.27 | C18: ='Q2 Data'!H44/'Q2 Data'!$B$34 -> 0.0054766255 | D18: =$B$3^A18 -> 0.72242128 | E18: =B18*C18*D18 -> 237.6243 | H18: 11 | I18: =M17 -> 60060.27 | J18: =I18*$J$1 -> 2402.4108 | K18: =$L$3 -> 13491.165 | L18: =K18-J18 -> 11088.754 | M18: =I18-L18 -> 48971.516
A19: 12 | B19: =I19 -> 48971.516 | C19: ='Q2 Data'!H45/'Q2 Data'!$B$34 -> 0.0061222966 | D19: =$B$3^A19 -> 0.70137988 | E19: =B19*C19*D19 -> 210.28641 | H19: 12 | I19: =M18 -> 48971.516 | J19: =I19*$J$1 -> 1958.8606 | K19: =$L$3 -> 13491.165 | L19: =K19-J19 -> 11532.304 | M19: =I19-L19 -> 37439.211
A20: 13 | B20: =I20 -> 37439.211 | C20: ='Q2 Data'!H46/'Q2 Data'!$B$34 -> 0.0068380874 | D20: =$B$3^A20 -> 0.68095134 | E20: =B20*C20*D20 -> 174.33212 | H20: 13 | I20: =M19 -> 37439.211 | J20: =I20*$J$1 -> 1497.5684 | K20: =$L$3 -> 13491.165 | L20: =K20-J20 -> 11993.597 | M20: =I20-L20 -> 25445.615
A21: 14 | B21: =I21 -> 25445.615 | C21: ='Q2 Data'!H47/'Q2 Data'!$B$34 -> 0.0076279372 | D21: =$B$3^A21 -> 0.66111781 | E21: =B21*C21*D21 -> 128.32135 | H21: 14 | I21: =M20 -> 25445.615 | J21: =I21*$J$1 -> 1017.8246 | K21: =$L$3 -> 13491.165 | L21: =K21-J21 -> 12473.34 | M21: =I21-L21 -> 12972.274
A22: 15 | B22: =I22 -> 12972.274 | C22: ='Q2 Data'!H48/'Q2 Data'!$B$34 -> 0.008497733 | D22: =$B$3^A22 -> 0.64186195 | E22: =B22*C22*D22 -> 70.755601 | H22: 15 | I22: =M21 -> 12972.274 | J22: =I22*$J$1 -> 518.89096 | K22: =$L$3 -> 13491.165 | L22: =K22-J22 -> 12972.274 | M22: =I22-L22 -> 0
D24: Total EPV | E24: =SUM(E8:E22) -> 3512.5542

Sheet Q.2 (iii)
D1: Discount rate | E1: 0.03
C3: Marks | E3: 2 | F3: 1 | G3: 2
B4: Year | C4: Benefit amount | D4: Probability of payout | E4: Expected outgo | F4: Expected claim expenses | G4: Reserve
B5: 1 | C5: ='Q.2 (ii)'!B8 -> 150000 | D5: ='Q.2 (ii)'!C8 -> 0.0014549916 | E5: =C5*D5 -> 218.24873 | F5: =E5*1% -> 2.1824873 | G5: =(G6+E5+F5)/(1+$E$1) -> 3547.6797
B6: =B5+1 -> 2 | C6: ='Q.2 (ii)'!B9 -> 142508.83 | D6: ='Q.2 (ii)'!C9 -> 0.0019351843 | E6: =C6*D6 -> 275.78085 | F6: =E6*1% -> 2.7578085 | G6: =(G7+E6+F6)/(1+$E$1) -> 3433.6789
B7: =B6+1 -> 3 | C7: ='Q.2 (ii)'!B10 -> 134718.02 | D7: ='Q.2 (ii)'!C10 -> 0.0022334026 | E7: =C7*D7 -> 300.87959 | F7: =E7*1% -> 3.0087959 | G7: =(G8+E7+F7)/(1+$E$1) -> 3258.1506
B8: =B7+1 -> 4 | C8: ='Q.2 (ii)'!B11 -> 126615.58 | D8: ='Q.2 (ii)'!C11 -> 0.0024938961 | E8: =C8*D8 -> 315.76609 | F8: =E8*1% -> 3.1576609 | G8: =(G9+E8+F8)/(1+$E$1) -> 3052.0067
B9: =B8+1 -> 5 | C9: ='Q.2 (ii)'!B12 -> 118189.04 | D9: ='Q.2 (ii)'!C12 -> 0.002786198 | E9: =C9*D9 -> 329.29806 | F9: =E9*1% -> 3.2929806 | G9: =(G10+E9+F9)/(1+$E$1) -> 2824.6431
B10: =B9+1 -> 6 | C10: ='Q.2 (ii)'!B13 -> 109425.43 | D10: ='Q.2 (ii)'!C13 -> 0.0031176316 | E10: =C10*D10 -> 341.14819 | F10: =E10*1% -> 3.4114819 | G10: =(G11+E10+F10)/(1+$E$1) -> 2576.7914
B11: =B10+1 -> 7 | C11: ='Q.2 (ii)'!B14 -> 100311.29 | D11: ='Q.2 (ii)'!C14 -> 0.0034893786 | E11: =C11*D11 -> 350.02406 | F11: =E11*1% -> 3.5002406 | G11: =(G12+E11+F11)/(1+$E$1) -> 2309.5355
B12: =B11+1 -> 8 | C12: ='Q.2 (ii)'!B15 -> 90832.572 | D12: ='Q.2 (ii)'!C15 -> 0.0039063775 | E12: =C12*D12 -> 354.82632 | F12: =E12*1% -> 3.5482632 | G12: =(G13+E12+F12)/(1+$E$1) -> 2025.2972
B13: =B12+1 -> 9 | C13: ='Q.2 (ii)'!B16 -> 80974.71 | D13: ='Q.2 (ii)'!C16 -> 0.0043732872 | E13: =C13*D13 -> 354.12566 | F13: =E13*1% -> 3.5412566 | G13: =(G14+E13+F13)/(1+$E$1) -> 1727.6816
B14: =B13+1 -> 10 | C14: ='Q.2 (ii)'!B17 -> 70722.534 | D14: ='Q.2 (ii)'!C17 -> 0.0048954035 | E14: =C14*D14 -> 346.21534 | F14: =E14*1% -> 3.4621534 | G14: =(G15+E14+F14)/(1+$E$1) -> 1421.8451
B15: =B14+1 -> 11 | C15: ='Q.2 (ii)'!B18 -> 60060.27 | D15: ='Q.2 (ii)'!C18 -> 0.0054766255 | E15: =C15*D15 -> 328.92761 | F15: =E15*1% -> 3.2892761 | G15: =(G16+E15+F15)/(1+$E$1) -> 1114.823
B16: =B15+1 -> 12 | C16: ='Q.2 (ii)'!B19 -> 48971.516 | D16: ='Q.2 (ii)'!C19 -> 0.0061222966 | E16: =C16*D16 -> 299.81814 | F16: =E16*1% -> 2.9981814 | G16: =(G17+E16+F16)/(1+$E$1) -> 816.05077
B17: =B16+1 -> 13 | C17: ='Q.2 (ii)'!B20 -> 37439.211 | D17: ='Q.2 (ii)'!C20 -> 0.0068380874 | E17: =C17*D17 -> 256.0126 | F17: =E17*1% -> 2.560126 | G17: =(G18+E17+F17)/(1+$E$1) -> 537.71597
... B19: =B18+1 -> 15 | C19: ='Q.2 (ii)'!B22 -> 12972.274 | D19: ='Q.2 (ii)'!C22 -> 0.008497733 | E19: =C19*D19 -> 110.23492 | F19: =E19*1% -> 1.1023492 | G19: =(G20+E19+F19)/(1+$E$1) -> 108.09444

Sheet Q.2 (iv)
A1: Q
B3: If annual improvements are allowed, then the EPV of benefits will reduce as likelihood of claims reduces. | K3: 2 marks
B4: Therefore, the reserves will reduce

Sheet Q.3 (i)
A1: RDR | B1: 0.12
B2: 1 | C2: 1 | D2: 2 | E2: 2 | F2: 1 | G2: 1 | H2: 0.5 | I2: 0.5 | J2: 0.5 | K2: 0.5 | L2: 1 | M2: 1 | N2: 1 | O2: 1
A3: Start of month | B3: Premises cost (A) | C3: Refurbishment costs (B) | D3: Staff and maintenance costs (C) | E3: Pizzas sold | F3: Price in Rs. | G3: Income (D) | H3: Discount factor | I3: PV (A) | J3: PV (B) | K3: Adjustment for cont income ='d'/delta | L3: PV(C) | M3: PV (D) | N3: Present value of cash flow | O3: Total NPV
A5: Total | I5: =SUM(I7:I150) -> 5000000 | J5: =SUM(J7:J150) -> 13457998 | L5: =SUM(L7:L150) -> 6986134.4 | M5: =SUM(M7:M150) -> 2.7186612e+08 | N5: =SUM(N7:N150) -> 2.4642198e+08
A7: 44562 | B7: 5000000 | G7: =E7*F7 -> 0 | H7: =1 -> 1 | I7: =B7*$H7 -> 5000000 | J7: =C7*$H7 -> 0 | K7: =(((1+$B$1)^(1/12)-1)/(1+$B$1)^(1/12))/(LN(1+$B$1)/12) -> 0.9952928 | L7: =D7*$H7*$K7 -> 0 | M7: =G7*$H7*K7 -> 0 | N7: =M7-SUM(I7,J7,L7) -> -5000000 | O7: =SUM(N7:N150) -> 2.4642198e+08
A8: 44593 | G8: =E8*F8 -> 0 | H8: =H7*(1+$B$1)^(-1/12) -> 0.9906004 | I8: =B8*$H8 -> 0 | J8: =C8*$H8 -> 0 | K8: =(((1+$B$1)^(1/12)-1)/(1+$B$1)^(1/12))/(LN(1+$B$1)/12) -> 0.9952928 | L8: =D8*$H8*$K8 -> 0 | M8: =G8*$H8*K8 -> 0 | N8: =M8-SUM(I8,J8,L8) -> 0
A9: 44621 | G9: =E9*F9 -> 0 | H9: =H8*(1+$B$1)^(-1/12) -> 0.98128915 | I9: =B9*$H9 -> 0 | J9: =C9*$H9 -> 0 | K9: =(((1+$B$1)^(1/12)-1)/(1+$B$1)^(1/12))/(LN(1+$B$1)/12) -> 0.9952928 | L9: =D9*$H9*$K9 -> 0 | M9: =G9*$H9*K9 -> 0 | N9: =M9-SUM(I9,J9,L9) -> 0
A10: 44652 | G10: =E10*F10 -> 0 | H10: =H9*(1+$B$1)^(-1/12) -> 0.97206542 | I10: =B10*$H10 -> 0 | J10: =C10*$H10 -> 0 | K10: =(((1+$B$1)^(1/12)-1)/(1+$B$1)^(1/12))/(LN(1+$B$1)/12) -> 0.9952928 | L10: =D10*$H10*$K10 -> 0 | M10: =G10*$H10*K10 -> 0 | N10: =M10-SUM(I10,J10,L10) -> 0 | Q10: As NPV is > 0, the venture is profitable | U10: Marks 2
A11: 44682 | G11: =E11*F11 -> 0 | H11: =H10*(1+$B$1)^(-1/12) -> 0.96292839 | I11: =B11*$H11 -> 0 | J11: =C11*$H11 -> 0 | K11: =(((1+$B$1)^(1/12)-1)/(1+$B$1)^(1/12))/(LN(1+$B$1)/12) -> 0.9952928 | L11: =D11*$H11*$K11 -> 0 | M11: =G11*$H11*K11 -> 0 | N11: =M11-SUM(I11,J11,L11) -> 0
A12: 44713 | G12: =E12*F12 -> 0 | H12: =H11*(1+$B$1)^(-1/12) -> 0.95387725 | I12: =B12*$H12 -> 0 | J12: =C12*$H12 -> 0 | K12: =(((1+$B$1)^(1/12)-1)/(1+$B$1)^(1/12))/(LN(1+$B$1)/12) -> 0.9952928 | L12: =D12*$H12*$K12 -> 0 | M12: =G12*$H12*K12 -> 0 | N12: =M12-SUM(I12,J12,L12) -> 0
A13: 44743 | G13: =E13*F13 -> 0 | H13: =H12*(1+$B$1)^(-1/12) -> 0.94491118 | I13: =B13*$H13 -> 0 | J13: =C13*$H13 -> 0 | K13: =(((1+$B$1)^(1/12)-1)/(1+$B$1)^(1/12))/(LN(1+$B$1)/12) -> 0.9952928 | L13: =D13*$H13*$K13 -> 0 | M13: =G13*$H13*K13 -> 0 | N13: =M13-SUM(I13,J13,L13) -> 0
A14: 44774 | G14: =E14*F14 -> 0 | H14: =H13*(1+$B$1)^(-1/12) -> 0.93602939 | I14: =B14*$H14 -> 0 | J14: =C14*$H14 -> 0 | K14: =(((1+$B$1)^(1/12)-1)/(1+$B$1)^(1/12))/(LN(1+$B$1)/12) -> 0.9952928 | L14: =D14*$H14*$K14 -> 0 | M14: =G14*$H14*K14 -> 0 | N14: =M14-SUM(I14,J14,L14) -> 0
A15: 44805 | G15: =E15*F15 -> 0 | H15: =H14*(1+$B$1)^(-1/12) -> 0.92723109 | I15: =B15*$H15 -> 0 | J15: =C15*$H15 -> 0 | K15: =(((1+$B$1)^(1/12)-1)/(1+$B$1)^(1/12))/(LN(1+$B$1)/12) -> 0.9952928 | L15: =D15*$H15*$K15 -> 0 | M15: =G15*$H15*K15 -> 0 | N15: =M15-SUM(I15,J15,L15) -> 0
A16: 44835 | C16: =15000000/6 -> 2500000 | G16: =E16*F16 -> 0 | H16: =H15*(1+$B$1)^(-1/12) -> 0.91851549 | I16: =B16*$H16 -> 0 | J16: =C16*$H16 -> 2296288.7 | K16: =(((1+$B$1)^(1/12)-1)/(1+$B$1)^(1/12))/(LN(1+$B$1)/12) -> 0.9952928 | L16: =D16*$H16*$K16 -> 0 | M16: =G16*$H16*K16 -> 0 | N16: =M16-SUM(I16,J16,L16) -> -2296288.7
A17: 44866 | C17: =15000000/6 -> 2500000 | G17: =E17*F17 -> 0 | H17: =H16*(1+$B$1)^(-1/12) -> 0.90988181 | I17: =B17*$H17 -> 0 | J17: =C17*$H17 -> 2274704.5 | K17: =(((1+$B$1)^(1/12)-1)/(1+$B$1)^(1/12))/(LN(1+$B$1)/12) -> 0.9952928 | L17: =D17*$H17*$K17 -> 0 | M17: =G17*$H17*K17 -> 0 | N17: =M17-SUM(I17,J17,L17) -> -2274704.5
A18: 44896 | C18: =15000000/6 -> 2500000 | G18: =E18*F18 -> 0 | H18: =H17*(1+$B$1)^(-1/12) -> 0.90132928 | I18: =B18*$H18 -> 0 | J18: =C18*$H18 -> 2253323.2 | K18: =(((1+$B$1)^(1/12)-1)/(1+$B$1)^(1/12))/(LN(1+$B$1)/12) -> 0.9952928 | L18: =D18*$H18*$K18 -> 0 | M18: =G18*$H18*K18 -> 0 | N18: =M18-SUM(I18,J18,L18) -> -2253323.2
A19: 44927 | C19: =15000000/6 -> 2500000 | G19: =E19*F19 -> 0 | H19: =H18*(1+$B$1)^(-1/12) -> 0.89285714 | I19: =B19*$H19 -> 0 | J19: =C19*$H19 -> 2232142.9 | K19: =(((1+$B$1)^(1/12)-1)/(1+$B$1)^(1/12))/(LN(1+$B$1)/12) -> 0.9952928 | L19: =D19*$H19*$K19 -> 0 | M19: =G19*$H19*K19 -> 0 | N19: =M19-SUM(I19,J19,L19) -> -2232142.9
A20: 44958 | C20: =15000000/6 -> 2500000 | G20: =E20*F20 -> 0 | H20: =H19*(1+$B$1)^(-1/12) -> 0.88446464 | I20: =B20*$H20 -> 0 | J20: =C20*$H20 -> 2211161.6 | K20: =(((1+$B$1)^(1/12)-1)/(1+$B$1)^(1/12))/(LN(1+$B$1)/12) -> 0.9952928 | L20: =D20*$H20*$K20 -> 0 | M20: =G20*$H20*K20 -> 0 | N20: =M20-SUM(I20,J20,L20) -> -2211161.6
A21: 44986 | C21: =15000000/6 -> 2500000 | G21: =E21*F21 -> 0 | H21: =H20*(1+$B$1)^(-1/12) -> 0.87615103 | I21: =B21*$H21 -> 0 | J21: =C21*$H21 -> 2190377.6 | K21: =(((1+$B$1)^(1/12)-1)/(1+$B$1)^(1/12))/(LN(1+$B$1)/12) -> 0.9952928 | L21: =D21*$H21*$K21 -> 0 | M21: =G21*$H21*K21 -> 0 | N21: =M21-SUM(I21,J21,L21) -> -2190377.6
A22: 45017 | G22: =E22*F22 -> 0 | H22: =H21*(1+$B$1)^(-1/12) -> 0.86791555 | I22: =B22*$H22 -> 0 | J22: =C22*$H22 -> 0 | K22: =(((1+$B$1)^(1/12)-1)/(1+$B$1)^(1/12))/(LN(1+$B$1)/12) -> 0.9952928 | L22: =D22*$H22*$K22 -> 0 | M22: =G22*$H22*K22 -> 0 | N22: =M22-SUM(I22,J22,L22) -> 0
A23: 45047 | D23: 100000 | E23: =[2]Base_data!B2 -> 10000 | F23: 300 | G23: =E23*F23 -> 3000000 | H23: =H22*(1+$B$1)^(-1/12) -> 0.85975749 | I23: =B23*$H23 -> 0 | J23: =C23*$H23 -> 0 | K23: =(((1+$B$1)^(1/12)-1)/(1+$B$1)^(1/12))/(LN(1+$B$1)/12) -> 0.9952928 | L23: =D23*$H23*$K23 -> 85571.044 | M23: =G23*$H23*K23 -> 2567131.3 | N23: =M23-SUM(I23,J23,L23) -> 2481560.3
A24: 45078 | D24: =IF(MONTH(A24)=9,D23*(1+2%),D23) -> 100000 | E24: =MIN(15000,E23+MAX(E23*1%,200)) -> 10200 | F24: =F23 -> 300 | G24: =E24*F24 -> 3060000 | H24: =H23*(1+$B$1)^(-1/12) -> 0.85167612 | I24: =B24*$H24 -> 0 | J24: =C24*$H24 -> 0 | K24: =(((1+$B$1)^(1/12)-1)/(1+$B$1)^(1/12))/(LN(1+$B$1)/12) -> 0.9952928 | L24: =D24*$H24*$K24 -> 84766.711 | M24: =G24*$H24*K24 -> 2593861.3 | N24: =M24-SUM(I24,J24,L24) -> 2509094.6
A25: 45108 | D25: =IF(MONTH(A25)=9,D24*(1+2%),D24) -> 100000 | E25: =MIN(15000,E24+MAX(E24*1%,200)) -> 10400 | F25: =F24 -> 300 | G25: =E25*F25 -> 3120000 | H25: =H24*(1+$B$1)^(-1/12) -> 0.8436707 | I25: =B25*$H25 -> 0 | J25: =C25*$H25 -> 0 | K25: =(((1+$B$1)^(1/12)-1)/(1+$B$1)^(1/12))/(LN(1+$B$1)/12) -> 0.9952928 | L25: =D25*$H25*$K25 -> 83969.937 | M25: =G25*$H25*K25 -> 2619862 | N25: =M25-SUM(I25,J25,L25) -> 2535892.1
A26: 45139 | D26: =IF(MONTH(A26)=9,D25*(1+2%),D25) -> 100000 | E26: =MIN(15000,E25+MAX(E25*1%,200)) -> 10600 | F26: =F25 -> 300 | G26: =E26*F26 -> 3180000 | H26: =H25*(1+$B$1)^(-1/12) -> 0.83574053 | I26: =B26*$H26 -> 0 | J26: =C26*$H26 -> 0 | K26: =(((1+$B$1)^(1/12)-1)/(1+$B$1)^(1/12))/(LN(1+$B$1)/12) -> 0.9952928 | L26: =D26*$H26*$K26 -> 83180.653 | M26: =G26*$H26*K26 -> 2645144.8 | N26: =M26-SUM(I26,J26,L26) -> 2561964.1
A27: 45170 | D27: =IF(MONTH(A27)=9,D26*(1+2%),D26) -> 102000 | E27: =MIN(15000,E26+MAX(E26*1%,200)) -> 10800 | F27: =F26 -> 300 | G27: =E27*F27 -> 3240000 | H27: =H26*(1+$B$1)^(-1/12) -> 0.8278849 | I27: =B27*$H27 -> 0 | J27: =C27*$H27 -> 0 | K27: =(((1+$B$1)^(1/12)-1)/(1+$B$1)^(1/12))/(LN(1+$B$1)/12) -> 0.9952928 | L27: =D27*$H27*$K27 -> 84046.764 | M27: =G27*$H27*K27 -> 2669720.7 | N27: =M27-SUM(I27,J27,L27) -> 2585674
A28: 45200 | D28: =IF(MONTH(A28)=9,D27*(1+2%),D27) -> 102000 | E28: =MIN(15000,E27+MAX(E27*1%,200)) -> 11000 | F28: =F27 -> 300 | G28: =E28*F28 -> 3300000 | H28: =H27*(1+$B$1)^(-1/12) -> 0.82010311 | I28: =B28*$H28 -> 0 | J28: =C28*$H28 -> 0 | K28: =(((1+$B$1)^(1/12)-1)/(1+$B$1)^(1/12))/(LN(1+$B$1)/12) -> 0.9952928 | L28: =D28*$H28*$K28 -> 83256.758 | M28: =G28*$H28*K28 -> 2693601 | N28: =M28-SUM(I28,J28,L28) -> 2610344.2
A29: 45231 | D29: =IF(MONTH(A29)=9,D28*(1+2%),D28) -> 102000 | E29: =MIN(15000,E28+MAX(E28*1%,200)) -> 11200 | F29: =F28 -> 300 | G29: =E29*F29 -> 3360000 | H29: =H28*(1+$B$1)^(-1/12) -> 0.81239447 | I29: =B29*$H29 -> 0 | J29: =C29*$H29 -> 0 | K29: =(((1+$B$1)^(1/12)-1)/(1+$B$1)^(1/12))/(LN(1+$B$1)/12) -> 0.9952928 | L29: =D29*$H29*$K29 -> 82474.178 | M29: =G29*$H29*K29 -> 2716796.4 | N29: =M29-SUM(I29,J29,L29) -> 2634322.3 | P29: [4] | Q29: DPP is to start of this month= | T29: =ROW(T29)-ROW($T$3) -> 26 | U29: months
A30: 45261 | D30: =IF(MONTH(A30)=9,D29*(1+2%),D29) -> 102000 | E30: =MIN(15000,E29+MAX(E29*1%,200)) -> 11400 | F30: =F29 -> 300 | G30: =E30*F30 -> 3420000 | H30: =H29*(1+$B$1)^(-1/12) -> 0.80475829 | I30: =B30*$H30 -> 0 | J30: =C30*$H30 -> 0 | K30: =(((1+$B$1)^(1/12)-1)/(1+$B$1)^(1/12))/(LN(1+$B$1)/12) -> 0.9952928 | L30: =D30*$H30*$K30 -> 81698.953 | M30: =G30*$H30*K30 -> 2739317.8 | N30: =M30-SUM(I30,J30,L30) -> 2657618.9
A31: 45292 | D31: =IF(MONTH(A31)=9,D30*(1+2%),D30) -> 102000 | E31: =MIN(15000,E30+MAX(E30*1%,200)) -> 11600 | F31: =F30 -> 300 | G31: =E31*F31 -> 3480000 | H31: =H30*(1+$B$1)^(-1/12) -> 0.79719388 | I31: =B31*$H31 -> 0 | J31: =C31*$H31 -> 0 | K31: =(((1+$B$1)^(1/12)-1)/(1+$B$1)^(1/12))/(LN(1+$B$1)/12) -> 0.9952928 | L31: =D31*$H31*$K31 -> 80931.015 | M31: =G31*$H31*K31 -> 2761175.8 | N31: =M31-SUM(I31,J31,L31) -> 2680244.8
A32: 45323 | D32: =IF(MONTH(A32)=9,D31*(1+2%),D31) -> 102000 | E32: =MIN(15000,E31+MAX(E31*1%,200)) -> 11800 | F32: =F31 -> 300 | G32: =E32*F32 -> 3540000 | H32: =H31*(1+$B$1)^(-1/12) -> 0.78970057 | I32: =B32*$H32 -> 0 | J32: =C32*$H32 -> 0 | K32: =(((1+$B$1)^(1/12)-1)/(1+$B$1)^(1/12))/(LN(1+$B$1)/12) -> 0.9952928 | L32: =D32*$H32*$K32 -> 80170.296 | M32: =G32*$H32*K32 -> 2782380.9 | N32: =M32-SUM(I32,J32,L32) -> 2702210.6
A33: 45352 | D33: =IF(MONTH(A33)=9,D32*(1+2%),D32) -> 102000 | E33: =MIN(15000,E32+MAX(E32*1%,200)) -> 12000 | F33: =F32 -> 300 | G33: =E33*F33 -> 3600000 | H33: =H32*(1+$B$1)^(-1/12) -> 0.7822777 | I33: =B33*$H33 -> 0 | J33: =C33*$H33 -> 0 | K33: =(((1+$B$1)^(1/12)-1)/(1+$B$1)^(1/12))/(LN(1+$B$1)/12) -> 0.9952928 | L33: =D33*$H33*$K33 -> 79416.727 | M33: =G33*$H33*K33 -> 2802943.3 | N33: =M33-SUM(I33,J33,L33) -> 2723526.6
A34: 45383 | D34: =IF(MONTH(A34)=9,D33*(1+2%),D33) -> 102000 | E34: =MIN(15000,E33+MAX(E33*1%,200)) -> 12200 | F34: =F33 -> 300 | G34: =E34*F34 -> 3660000 | H34: =H33*(1+$B$1)^(-1/12) -> 0.7749246 | I34: =B34*$H34 -> 0 | J34: =C34*$H34 -> 0 | K34: =(((1+$B$1)^(1/12)-1)/(1+$B$1)^(1/12))/(LN(1+$B$1)/12) -> 0.9952928 | L34: =D34*$H34*$K34 -> 78670.242 | M34: =G34*$H34*K34 -> 2822873.4 | N34: =M34-SUM(I34,J34,L34) -> 2744203.1
