Workbook

Sheet Examiner Report
A1: Introduction The Examiners’ Report is written by the Examiners with the aim of helping candidates. The solutions given are only indicative. It is realized that there could be other points as valid answers and examiner have given credit for any alternative approach or interpretation which they consider to be reasonable. The report is written based on the legislative and regulatory context pertaining to the date that the examination was set. Candidates should take into account the possibility that circumstances may have changed if using these reports for revision.
A3: A. General comments on the aims of this subject The aim of this subject is to ensure that the successful candidate should be able to analyze the methods used and outputs generated from the model, and communicate to a senior actuary the approach, results and conclusions.
A5: B. Comments on candidates’ performance in this diet of the examination i. Read the question paper thoroughly ii. Take time to think through the points and present those points properly iii. Allocate appropriate time to Summary report. iv. Summary report should be a standalone document and shouldn’t make any reference to the spreadsheet. v. Have logical and technical reasoning in the Conclusions section vi. Format of the report should be presentable. vii. Perform spell-check.
A7: C. Pass Mark The Pass Mark for this exam was 50. 176 candidates appeared and 69 passed.
A9: Question | B9: Sub-question | C9: Comments
A10: Q2) Techniques + Checks + Charts | B10: Model techniques + checks | C10: Overall performance of the candidates was average. Generally, candidates were able to modify the model correctly for the additional scenarios. However, candidates did not prepare the summary table and failed to score good marks in this section.
B11: Charts | C11: Most of the candidates performed well in first chart required for base scenario. Few candidates failed to show the movement through waterfall chart accurately. Only few candidates scored good marks in second chart showing comparison of reserves projections. Most of the candidates picked incorrect input for the chart.
A12: Q4) Summary | B12: Approach | C12: The Summary document was, in general, structured consistently with a logical flow. Few candidates, created the summary document in the manner similar to ‘Audit trail’. Most of the candidates failed to properly summarize the calculation methodology.
B13: Results | C13: This section was poorly answered by most of the candidates. Candidates found it difficult to write specific commentary in different sections of the report i.e. interpretation of charts, results, and conclusions. The commentary was repetitive among different sections of the report.
C15: Well prepared candidates focused not only on the ‘what’ but also on the ‘why’ in the results section.
B16: Drafting | C16: Generally, candidates scored well in drafting of the Summary report. Very few candidates lost marks for poor drafting, grammatical mistakes and spelling errors in the Summary report.
B17: Conclusions / Next Steps | C17: Mostly candidates didn’t answer the “Conclusion” section well and lost marks. Candidates generally explained the outcome of the model without commenting on the technical reasoning for such outcomes.
C19: “Next steps” was well answered and highly scored section by most of the candidates.

Sheet Summary_Sol
A2: Purpose
A3: The regulator is proposing a new regulatory reporting regime which requires life insurance companies to value reserves on a fair value basis. The following changes are being introduced in the calculation of reserves compared to the old regime: • Removal of zeroization floor on negative reserves • Allowance for an explicit risk adjustment for risk arising from the insurance contracts compared to any prudence built through Margins for Adverse Deviation. • Estimated future cashflows to only include cashflows directly attributable to the contracts • Use of market consistent discount rate The CFO of the company is looking to understand the high-level impact of these changes on a portfolio of non-par saving product that the company sells under a range of scenarios. The following scenarios have been considered for the purpose of this project.
A15: Data
A16: Data has been provided for a portfolio of 1000 male policies aged 30 years issued together in Jan 2022. The following additional details are provided along with the data: • Policy Term = 20 Years • Per Policy Sum Assured = Rs. 100,000 • Per Policy Premium paid yearly at the beginning of the year = Rs. 3500 The best estimate and valuation mortality rates, expenses, expense inflation and valuation discount rate used by the company for the calculation of reserves under the old regime have been provided within the model.
A22: Valuation Discount Rate = 6% A chart of the male mortality rates show that these are smooth and increasing to 1 as we would expect, and valuation mortality rates are higher than the best estimate rates as expected.
A39: The risk-free rate has been provided as 4%.
A41: Assumptions
A42: • Data provided is valid for use • No Surrender or Lapses during the term of the product • Company can assess the applicability of each change introduced and use the assumption basis their portfolio. • The best estimate assumptions used for calculation of reserves under the old regime will not change under the new regime. • Risk free rate of 4% per annum is appropriate for the market conditions and for all terms • Discount Rate = Risk Free Rate + Any allowance for Liquidity Risk Premium is appropriate as a methodology for arriving at the market consistent valuation discount rate. • 5% of Best Estimate Liability appropriately captures the explicit adjustment required for non-financial risk.
A44: Methodology
A46: We have performed the reserve calculations by projecting the expected cashflows and calculating the net present value under the following scenarios: • Old Regime • Base Scenarios under the new regime • Scenario 1 under the new regime • Scenario 2 under the new regime
A48: Reserve calculation under old regime
A49: First, we start by capturing the policy details provided as part of the data. The in-force probabilities are then projected for each year for the term of the product. For the starting year of the projections, 2022, it is assumed that the in-force probability was 1. Each subsequent year this is reduced by the probability of mortality using the valuation mortality rates i.e. probability alive this year = probability alive last year * (1 – valuation mortality rate for age this year). The expected death benefit is calculated by taking the in-force probability at the beginning of the year, multiplying by the valuation mortality rate at that age and then multiplying death benefit amount. The net present value of the expected death benefit is calculated recursively as expected present value of Death Benefit at time t-1 = (expected present value of Death Benefit at time t +expected Death Benefit at time t-1) / (1+valuation discount rate) The expected maturity benefit is calculated taking the in-force probability at the end of the year, multiplying by the maturity benefit amount. The net present value of the expected maturity benefit is calculated recursively using the formula expected present value of Maturity Benefit at time t-1 = expected present value of Maturity Benefit at time t / (1+ valuation discount rate) The premiums for each year are projected as Premium* In-force probability at the beginning of the year
... A141: • Validate the data. • Perform similar analysis on other cohort of policies of line of businesses. • Stress test the assumptions like expenses, mortality, inflation, discount rate, attributable expenses, liquidity premium etc. • Validate the assumptions • Look for different approached for deriving the assumptions like top-down approach for discount rate, starting with portfolio rate and then removing adjustment for underlying risks for the market consistent discount rate • Expand the business mix to allow for different ages and female policies • Allow for different terms of the non-par savings portfolio. • Expand the model to allow for different premium paying terms like single premium. • Consider the different methodologies for the calculation of risk margin e.g. cost of capital approach etc. • Consider different scenarios for risk adjustment to understand the right level of prudence the company wishes to maintain in its reserves under the new regime. • expand the analysis to include other product portfolios of the company to understand the impact for each line of business. • Impact analysis at an aggregate company level will be required to understand the full impact of the regulation. • Assess the impact on the ALM requirements since market consistent rate will be used for valuations • Assess if there is any impact on the asset valuation methodology from the new regulation. • Consider if best estimate assumption would need to be updated with the new regulations • Allow for modelling of lapses and other decrements in the model. • A deeper expense study will be required to understand the directly attributable expenses for each portfolio of products. • Understand the guidance on treatment of non-attributable expenses under the new regime. • Expand model to allow for discount rates to vary over time to provide more realistic outputs of the scenarios. • Update the model and analysis as the regulations evolve. • Obtain more information from the industry on the analysis and approaches being used. • Get the model peer reviewed

Sheet Parameters
B3: Term | C3: 20
B4: Starting Year | C4: 2022
B5: Valuation Discount rate under the Old Regime | C5: 0.06
B7: Yearly Premium | C7: 3500 | D7: paid annually in advance
B8: Sum Assured | C8: 100000
B9: Maturity Benefit | C9: 100000
B11: Risk Free Rate | C11: 0.04
B12: Expense Inflation Rate (BE) | C12: 0.03
B13: Expense Inflation Rate (Padded) | C13: 0.035
B15: Acquisition Expense | C15: 30% of FY premium
B16: Maintenance Expense (BE) | C16: 500 | D16: Per Policy (Incurred annually at the beginning of the year)
B17: Maintenance Expense (Padded) | C17: 550 | D17: Per Policy (Incurred annually at the beginning of the year)
B20: Average Age | C20: 30
B21: Gender | C21: M
B22: Number of Policies | C22: 1000

Sheet Mortality rates
C2: Best Estimate | F2: Padded | G2: 0.1
C4: Base | F4: Padded
B5: Age | C5: BE Male mortality rate | D5: BE Female mortality rate | F5: Padded Male mortality rate | G5: Padded Female mortality rate
B6: 25 | C6: 0.000931 | D6: 0.000483 | F6: =MIN(C6*(1+$G$2),1) -> 0.0010241 | G6: =MIN(D6*(1+$G$2),1) -> 0.0005313
B7: 26 | C7: 0.000939 | D7: 0.00052 | F7: =MIN(C7*(1+$G$2),1) -> 0.0010329 | G7: =MIN(D7*(1+$G$2),1) -> 0.000572
B8: 27 | C8: 0.000948 | D8: 0.00056 | F8: =MIN(C8*(1+$G$2),1) -> 0.0010428 | G8: =MIN(D8*(1+$G$2),1) -> 0.000616
B9: 28 | C9: 0.000957 | D9: 0.000604 | F9: =MIN(C9*(1+$G$2),1) -> 0.0010527 | G9: =MIN(D9*(1+$G$2),1) -> 0.0006644
B10: 29 | C10: 0.000966 | D10: 0.000652 | F10: =MIN(C10*(1+$G$2),1) -> 0.0010626 | G10: =MIN(D10*(1+$G$2),1) -> 0.0007172
B11: 30 | C11: 0.000974 | D11: 0.000704 | F11: =MIN(C11*(1+$G$2),1) -> 0.0010714 | G11: =MIN(D11*(1+$G$2),1) -> 0.0007744
B12: 31 | C12: 0.000992 | D12: 0.000761 | F12: =MIN(C12*(1+$G$2),1) -> 0.0010912 | G12: =MIN(D12*(1+$G$2),1) -> 0.0008371
B13: 32 | C13: 0.00102 | D13: 0.000824 | F13: =MIN(C13*(1+$G$2),1) -> 0.001122 | G13: =MIN(D13*(1+$G$2),1) -> 0.0009064
B14: 33 | C14: 0.001049 | D14: 0.000892 | F14: =MIN(C14*(1+$G$2),1) -> 0.0011539 | G14: =MIN(D14*(1+$G$2),1) -> 0.0009812
B15: 34 | C15: 0.001079 | D15: 0.000967 | F15: =MIN(C15*(1+$G$2),1) -> 0.0011869 | G15: =MIN(D15*(1+$G$2),1) -> 0.0010637
B16: 35 | C16: 0.00111 | D16: 0.001049 | F16: =MIN(C16*(1+$G$2),1) -> 0.001221 | G16: =MIN(D16*(1+$G$2),1) -> 0.0011539
B17: 36 | C17: 0.001141 | D17: 0.001138 | F17: =MIN(C17*(1+$G$2),1) -> 0.0012551 | G17: =MIN(D17*(1+$G$2),1) -> 0.0012518
... B101: 120 | C101: 1 | D101: 1 | F101: =MIN(C101*(1+$G$2),1) -> 1 | G101: =MIN(D101*(1+$G$2),1) -> 1

Sheet Assumptions
B2: Method and Assumptions
B4: Options under the New Regime
B5: Diirectly Attrbutable Expenses | C5: 1
B6: Liquidity Premium | C6: 0
B7: Market Consistent Discount Rate | C7: =Parameters!C11+Assumptions!C6 -> 0.04
B8: Risk Margin | C8: 0.05 | D8: of BEL
B10: Additional Assumptions
A12: 1 | B12: No Surrender or Lapses during the term of the product
A13: 2 | B13: There is no change in the best estimate assumptions for mortality, expenses and expense inflation between the old and the new regime

Sheet Calculation_Old Regime
A1: Age | B1: =Parameters!C20 -> 30
A2: Gender | B2: =Parameters!C21 -> M
A3: Number of Policies | B3: =Parameters!C22 -> 1000 | G3: Interest Rate | H3: =Parameters!C5 -> 0.06
A5: Time | B5: Premium | C5: Sum Assured | D5: Maturity Benefit | E5: Px | F5: Qx | G5: Expected Death Benefit (EOP) | H5: EPV Death benefit | I5: Expected Maturity benefit (EOP) | J5: EPV Maturity Benefit | K5: Expected Premiums (BOP) | L5: EPV Premiums | M5: Maintenance Expense (BOP) | N5: Expected Maintenance Expense | O5: EPV Expenses | P5: Reserve
A6: 0 | E6: 1
A7: 1 | B7: =Parameters!$C$7 -> 3500 | C7: =Parameters!$C$8 -> 100000 | D7: =IF(A7=20,Parameters!$C$9,0) -> 0 | E7: =E6*(1-F7) -> 0.9989286 | F7: =IF($B$2="M",VLOOKUP($B$1+A6,'Mortality rates'!$B$6:$G$101,5,0),VLOOKUP($B$1+A6,'Mortality rates'!$B$6:$G$101,5,0)) -> 0.0010714 | G7: =C7*F7*E6 -> 107.14 | H7: =(G7+H8)/(1+$H$3) -> 1605.7225 | I7: =E7*D7 -> 0 | J7: =J8/(1+$H$3) -> 30233.048 | K7: =B7*E6 -> 3500 | L7: =K7+L8/(1+$H$3) -> 42146.36 | M7: =Parameters!C17 -> 550 | N7: =M7*E6 -> 550 | O7: =N7+(O8/(1+$H$3)) -> 8753.3311 | P7: =MAX((H7+J7+O7-L7),0)*$B$3 -> 0
A8: 2 | B8: =Parameters!$C$7 -> 3500 | C8: =Parameters!$C$8 -> 100000 | D8: =IF(A8=20,Parameters!$C$9,0) -> 0 | E8: =E7*(1-F8) -> 0.99783857 | F8: =IF($B$2="M",VLOOKUP($B$1+A7,'Mortality rates'!$B$6:$G$101,5,0),VLOOKUP($B$1+A7,'Mortality rates'!$B$6:$G$101,5,0)) -> 0.0010912 | G8: =C8*F8*E7 -> 109.00309 | H8: =(G8+H9)/(1+$H$3) -> 1594.9259 | I8: =E8*D8 -> 0 | J8: =J9/(1+$H$3) -> 32047.031 | K8: =B8*E7 -> 3496.2501 | L8: =K8+L9/(1+$H$3) -> 40965.142 | M8: =M7*(1+Parameters!$C$13) -> 569.25 | N8: =M8*E7 -> 568.64011 | O8: =N8+(O9/(1+$H$3)) -> 8695.5309 | P8: =MAX((H8+J8+O8-L8),0)*$B$3 -> 1372345.5
A9: 3 | B9: =Parameters!$C$7 -> 3500 | C9: =Parameters!$C$8 -> 100000 | D9: =IF(A9=20,Parameters!$C$9,0) -> 0 | E9: =E8*(1-F9) -> 0.99671899 | F9: =IF($B$2="M",VLOOKUP($B$1+A8,'Mortality rates'!$B$6:$G$101,5,0),VLOOKUP($B$1+A8,'Mortality rates'!$B$6:$G$101,5,0)) -> 0.001122 | G9: =C9*F9*E8 -> 111.95749 | H9: =(G9+H10)/(1+$H$3) -> 1581.6184 | I9: =E9*D9 -> 0 | J9: =J10/(1+$H$3) -> 33969.853 | K9: =B9*E8 -> 3492.435 | L9: =K9+L10/(1+$H$3) -> 39717.025 | M9: =M8*(1+Parameters!$C$13) -> 589.17375 | N9: =M9*E8 -> 587.90029 | O9: =N9+(O10/(1+$H$3)) -> 8614.5043 | P9: =MAX((H9+J9+O9-L9),0)*$B$3 -> 4448949.8
A10: 4 | B10: =Parameters!$C$7 -> 3500 | C10: =Parameters!$C$8 -> 100000 | D10: =IF(A10=20,Parameters!$C$9,0) -> 0 | E10: =E9*(1-F10) -> 0.99556888 | F10: =IF($B$2="M",VLOOKUP($B$1+A9,'Mortality rates'!$B$6:$G$101,5,0),VLOOKUP($B$1+A9,'Mortality rates'!$B$6:$G$101,5,0)) -> 0.0011539 | G10: =C10*F10*E9 -> 115.0114 | H10: =(G10+H11)/(1+$H$3) -> 1564.558 | I10: =E10*D10 -> 0 | J10: =J11/(1+$H$3) -> 36008.044 | K10: =B10*E9 -> 3488.5165 | L10: =K10+L11/(1+$H$3) -> 38398.066 | M10: =M9*(1+Parameters!$C$13) -> 609.79483 | N10: =M10*E9 -> 607.79409 | O10: =N10+(O11/(1+$H$3)) -> 8508.2002 | P10: =MAX((H10+J10+O10-L10),0)*$B$3 -> 7682736.1
A11: 5 | B11: =Parameters!$C$7 -> 3500 | C11: =Parameters!$C$8 -> 100000 | D11: =IF(A11=20,Parameters!$C$9,0) -> 0 | E11: =E10*(1-F11) -> 0.99438724 | F11: =IF($B$2="M",VLOOKUP($B$1+A10,'Mortality rates'!$B$6:$G$101,5,0),VLOOKUP($B$1+A10,'Mortality rates'!$B$6:$G$101,5,0)) -> 0.0011869 | G11: =C11*F11*E10 -> 118.16407 | H11: =(G11+H12)/(1+$H$3) -> 1543.42 | I11: =E11*D11 -> 0 | J11: =J12/(1+$H$3) -> 38168.526 | K11: =B11*E10 -> 3484.4911 | L11: =K11+L12/(1+$H$3) -> 37004.122 | M11: =M10*(1+Parameters!$C$13) -> 631.13765 | N11: =M11*E10 -> 628.341 | O11: =N11+(O12/(1+$H$3)) -> 8374.4305 | P11: =MAX((H11+J11+O11-L11),0)*$B$3 -> 11082255
A12: 6 | B12: =Parameters!$C$7 -> 3500 | C12: =Parameters!$C$8 -> 100000 | D12: =IF(A12=20,Parameters!$C$9,0) -> 0 | E12: =E11*(1-F12) -> 0.99317309 | F12: =IF($B$2="M",VLOOKUP($B$1+A11,'Mortality rates'!$B$6:$G$101,5,0),VLOOKUP($B$1+A11,'Mortality rates'!$B$6:$G$101,5,0)) -> 0.001221 | G12: =C12*F12*E11 -> 121.41468 | H12: =(G12+H13)/(1+$H$3) -> 1517.8612 | I12: =E12*D12 -> 0 | J12: =J13/(1+$H$3) -> 40458.638 | K12: =B12*E11 -> 3480.3553 | L12: =K12+L13/(1+$H$3) -> 35530.809 | M12: =M11*(1+Parameters!$C$13) -> 653.22747 | N12: =M12*E11 -> 649.56106 | O12: =N12+(O13/(1+$H$3)) -> 8210.8549 | P12: =MAX((H12+J12+O12-L12),0)*$B$3 -> 14656545
A13: 7 | B13: =Parameters!$C$7 -> 3500 | C13: =Parameters!$C$8 -> 100000 | D13: =IF(A13=20,Parameters!$C$9,0) -> 0 | E13: =E12*(1-F13) -> 0.99192656 | F13: =IF($B$2="M",VLOOKUP($B$1+A12,'Mortality rates'!$B$6:$G$101,5,0),VLOOKUP($B$1+A12,'Mortality rates'!$B$6:$G$101,5,0)) -> 0.0012551 | G13: =C13*F13*E12 -> 124.65315 | H13: =(G13+H14)/(1+$H$3) -> 1487.5182 | I13: =E13*D13 -> 0 | J13: =J14/(1+$H$3) -> 42886.156 | K13: =B13*E12 -> 3476.1058 | L13: =K13+L14/(1+$H$3) -> 33973.481 | M13: =M12*(1+Parameters!$C$13) -> 676.09043 | N13: =M13*E12 -> 671.47482 | O13: =N13+(O14/(1+$H$3)) -> 8014.9714 | P13: =MAX((H13+J13+O13-L13),0)*$B$3 -> 18415165
A14: 8 | B14: =Parameters!$C$7 -> 3500 | C14: =Parameters!$C$8 -> 100000 | D14: =IF(A14=20,Parameters!$C$9,0) -> 0 | E14: =E13*(1-F14) -> 0.99064559 | F14: =IF($B$2="M",VLOOKUP($B$1+A13,'Mortality rates'!$B$6:$G$101,5,0),VLOOKUP($B$1+A13,'Mortality rates'!$B$6:$G$101,5,0)) -> 0.0012914 | G14: =C14*F14*E13 -> 128.0974 | H14: =(G14+H15)/(1+$H$3) -> 1452.1161 | I14: =E14*D14 -> 0 | J14: =J15/(1+$H$3) -> 45459.326 | K14: =B14*E13 -> 3471.743 | L14: =K14+L15/(1+$H$3) -> 32327.218 | M14: =M13*(1+Parameters!$C$13) -> 699.75359 | N14: =M14*E13 -> 694.10418 | O14: =N14+(O15/(1+$H$3)) -> 7784.1064 | P14: =MAX((H14+J14+O14-L14),0)*$B$3 -> 22368330
A15: 9 | B15: =Parameters!$C$7 -> 3500 | C15: =Parameters!$C$8 -> 100000 | D15: =IF(A15=20,Parameters!$C$9,0) -> 0 | E15: =E14*(1-F15) -> 0.98933031 | F15: =IF($B$2="M",VLOOKUP($B$1+A14,'Mortality rates'!$B$6:$G$101,5,0),VLOOKUP($B$1+A14,'Mortality rates'!$B$6:$G$101,5,0)) -> 0.0013277 | G15: =C15*F15*E14 -> 131.52801 | H15: =(G15+H16)/(1+$H$3) -> 1411.1457 | I15: =E15*D15 -> 0 | J15: =J16/(1+$H$3) -> 48186.885 | K15: =B15*E14 -> 3467.2596 | L15: =K15+L16/(1+$H$3) -> 30586.803 | M15: =M14*(1+Parameters!$C$13) -> 724.24497 | N15: =M15*E14 -> 717.47008 | O15: =N15+(O16/(1+$H$3)) -> 7515.4024 | P15: =MAX((H15+J15+O15-L15),0)*$B$3 -> 26526630
A16: 10 | B16: =Parameters!$C$7 -> 3500 | C16: =Parameters!$C$8 -> 100000 | D16: =IF(A16=20,Parameters!$C$9,0) -> 0 | E16: =E15*(1-F16) -> 0.98796562 | F16: =IF($B$2="M",VLOOKUP($B$1+A15,'Mortality rates'!$B$6:$G$101,5,0),VLOOKUP($B$1+A15,'Mortality rates'!$B$6:$G$101,5,0)) -> 0.0013794 | G16: =C16*F16*E15 -> 136.46822 | H16: =(G16+H17)/(1+$H$3) -> 1364.2864 | I16: =E16*D16 -> 0 | J16: =J17/(1+$H$3) -> 51078.098 | K16: =B16*E15 -> 3462.6561 | L16: =K16+L17/(1+$H$3) -> 28746.716 | M16: =M15*(1+Parameters!$C$13) -> 749.59354 | N16: =M16*E15 -> 741.59561 | O16: =N16+(O17/(1+$H$3)) -> 7205.8082 | P16: =MAX((H16+J16+O16-L16),0)*$B$3 -> 30901477
A17: 11 | B17: =Parameters!$C$7 -> 3500 | C17: =Parameters!$C$8 -> 100000 | D17: =IF(A17=20,Parameters!$C$9,0) -> 0 | E17: =E16*(1-F17) -> 0.98655935 | F17: =IF($B$2="M",VLOOKUP($B$1+A16,'Mortality rates'!$B$6:$G$101,5,0),VLOOKUP($B$1+A16,'Mortality rates'!$B$6:$G$101,5,0)) -> 0.0014234 | G17: =C17*F17*E16 -> 140.62703 | H17: =(G17+H18)/(1+$H$3) -> 1309.6754 | I17: =E17*D17 -> 0 | J17: =J18/(1+$H$3) -> 54142.784 | K17: =B17*E16 -> 3457.8797 | L17: =K17+L18/(1+$H$3) -> 26801.104 | M17: =M16*(1+Parameters!$C$13) -> 775.82932 | N17: =M17*E16 -> 766.4927 | O17: =N17+(O18/(1+$H$3)) -> 6852.0654 | P17: =MAX((H17+J17+O17-L17),0)*$B$3 -> 35503421
A18: 12 | B18: =Parameters!$C$7 -> 3500 | C18: =Parameters!$C$8 -> 100000 | D18: =IF(A18=20,Parameters!$C$9,0) -> 0 | E18: =E17*(1-F18) -> 0.98509974 | F18: =IF($B$2="M",VLOOKUP($B$1+A17,'Mortality rates'!$B$6:$G$101,5,0),VLOOKUP($B$1+A17,'Mortality rates'!$B$6:$G$101,5,0)) -> 0.0014795 | G18: =C18*F18*E17 -> 145.96146 | H18: =(G18+H19)/(1+$H$3) -> 1247.6289 | I18: =E18*D18 -> 0 | J18: =J19/(1+$H$3) -> 57391.351 | K18: =B18*E17 -> 3452.9577 | L18: =K18+L19/(1+$H$3) -> 24743.818 | M18: =M17*(1+Parameters!$C$13) -> 802.98334 | N18: =M18*E17 -> 792.19073 | O18: =N18+(O19/(1+$H$3)) -> 6450.707 | P18: =MAX((H18+J18+O18-L18),0)*$B$3 -> 40345869
A19: 13 | B19: =Parameters!$C$7 -> 3500 | C19: =Parameters!$C$8 -> 100000 | D19: =IF(A19=20,Parameters!$C$9,0) -> 0 | E19: =E18*(1-F19) -> 0.98357293 | F19: =IF($B$2="M",VLOOKUP($B$1+A18,'Mortality rates'!$B$6:$G$101,5,0),VLOOKUP($B$1+A18,'Mortality rates'!$B$6:$G$101,5,0)) -> 0.0015499 | G19: =C19*F19*E18 -> 152.68061 | H19: =(G19+H20)/(1+$H$3) -> 1176.5251 | I19: =E19*D19 -> 0 | J19: =J20/(1+$H$3) -> 60834.832 | K19: =B19*E18 -> 3447.8491 | L19: =K19+L20/(1+$H$3) -> 22568.311 | M19: =M18*(1+Parameters!$C$13) -> 831.08776 | N19: =M19*E18 -> 818.70434 | O19: =N19+(O20/(1+$H$3)) -> 5998.0273 | P19: =MAX((H19+J19+O19-L19),0)*$B$3 -> 45441073
... A25: 19 | B25: =Parameters!$C$7 -> 3500 | C25: =Parameters!$C$8 -> 100000 | D25: =IF(A25=20,Parameters!$C$9,0) -> 0 | E25: =E24*(1-F25) -> 0.97209773 | F25: =IF($B$2="M",VLOOKUP($B$1+A24,'Mortality rates'!$B$6:$G$101,5,0),VLOOKUP($B$1+A24,'Mortality rates'!$B$6:$G$101,5,0)) -> 0.0023419 | G25: =C25*F25*E24 -> 228.18997 | H25: =(G25+H26)/(1+$H$3) -> 436.25362 | I25: =E25*D25 -> 0 | J25: =J26/(1+$H$3) -> 86295.372 | K25: =B25*E24 -> 3410.3287 | L25: =K25+L26/(1+$H$3) -> 6620.0854 | M25: =M24*(1+Parameters!$C$13) -> 1021.6191 | N25: =M25*E24 -> 995.4448 | O25: =N25+(O26/(1+$H$3)) -> 1965.1359 | P25: =MAX((H25+J25+O25-L25),0)*$B$3 -> 82076676
A26: 20 | B26: =Parameters!$C$7 -> 3500 | C26: =Parameters!$C$8 -> 100000 | D26: =IF(A26=20,Parameters!$C$9,0) -> 100000 | E26: =E25*(1-F26) -> 0.9696148 | F26: =IF($B$2="M",VLOOKUP($B$1+A25,'Mortality rates'!$B$6:$G$101,5,0),VLOOKUP($B$1+A25,'Mortality rates'!$B$6:$G$101,5,0)) -> 0.0025542 | G26: =C26*F26*E25 -> 248.2932 | H26: =(G26+H27)/(1+$H$3) -> 234.23887 | I26: =E26*D26 -> 96961.48 | J26: =I26/(1+$H$3) -> 91473.094 | K26: =B26*E25 -> 3402.3421 | L26: =K26+L27/(1+$H$3) -> 3402.3421 | M26: =M25*(1+Parameters!$C$13) -> 1057.3757 | N26: =M26*E25 -> 1027.8725 | O26: =N26+(O27/(1+$H$3)) -> 1027.8725 | P26: =MAX((H26+J26+O26-L26),0)*$B$3 -> 89332864

Sheet Calculation_New Regime
A1: Age | B1: 30
A2: Gender | B2: M
A3: Number of Policies | B3: 1000 | G3: Interest Rate | H3: =Assumptions!C7 -> 0.04
A5: Time | B5: Premiums | C5: Sum Assured | D5: Maturity Benefit | E5: Px | F5: Qx | G5: Expected Death Benefit (EOP) | H5: EPV Death benefit | I5: Expected Maturity benefit (EOP) | J5: EPV Maturity Benefit | K5: Expected Premiums (BOP) | L5: EPV Premiums | M5: Maintenance Expense (BOP) | N5: Expected Maintenance Expense | O5: EPV Expenses | P5: BEL | Q5: RA | R5: Reserves
A6: 0 | E6: 1
A7: 1 | B7: =Parameters!$C$7 -> 3500 | C7: =Parameters!$C$8 -> 100000 | D7: =IF(A7=20,Parameters!$C$9,0) -> 0 | E7: =E6*(1-F7) -> 0.999026 | F7: =IF($B$2="M",VLOOKUP($B$1+A6,'Mortality rates'!$B$6:$G$101,2,0),VLOOKUP($B$1+A6,'Mortality rates'!$B$6:$G$101,3,0)) -> 0.000974 | G7: =C7*F7*E6 -> 97.4 | H7: =(G7+H8)/(1+$H$3) -> 1777.0088 | I7: =E7*D7 -> 0 | J7: =J8/(1+$H$3) -> 44376.354 | K7: =B7*E6 -> 3500 | L7: =K7+L8/(1+$H$3) -> 49000.439 | M7: =Parameters!C16*Assumptions!$C$5 -> 500 | N7: =M7*E6 -> 500 | O7: =N7+(O8/(1+$H$3)) -> 9039.2645 | P7: =(H7+J7+O7-L7)*$B$3 -> 6192188.2 | Q7: =ABS(Assumptions!$C$8*'Calculation_New Regime'!P7) -> 309609.41 | R7: =P7+Q7 -> 6501797.6
A8: 2 | B8: =Parameters!$C$7 -> 3500 | C8: =Parameters!$C$8 -> 100000 | D8: =IF(A8=20,Parameters!$C$9,0) -> 0 | E8: =E7*(1-F8) -> 0.99803497 | F8: =IF($B$2="M",VLOOKUP($B$1+A7,'Mortality rates'!$B$6:$G$101,2,0),VLOOKUP($B$1+A7,'Mortality rates'!$B$6:$G$101,3,0)) -> 0.000992 | G8: =C8*F8*E7 -> 99.103379 | H8: =(G8+H9)/(1+$H$3) -> 1750.6892 | I8: =E8*D8 -> 0 | J8: =J9/(1+$H$3) -> 46151.409 | K8: =B8*E7 -> 3496.591 | L8: =K8+L9/(1+$H$3) -> 47320.457 | M8: =M7*(1+Parameters!$C$12)*Assumptions!$C$5 -> 515 | N8: =M8*E7 -> 514.49839 | O8: =N8+(O9/(1+$H$3)) -> 8880.8351 | P8: =(H8+J8+O8-L8)*$B$3 -> 9462475.7 | Q8: =ABS(Assumptions!$C$8*'Calculation_New Regime'!P8) -> 473123.79 | R8: =P8+Q8 -> 9935599.5
A9: 3 | B9: =Parameters!$C$7 -> 3500 | C9: =Parameters!$C$8 -> 100000 | D9: =IF(A9=20,Parameters!$C$9,0) -> 0 | E9: =E8*(1-F9) -> 0.99701697 | F9: =IF($B$2="M",VLOOKUP($B$1+A8,'Mortality rates'!$B$6:$G$101,2,0),VLOOKUP($B$1+A8,'Mortality rates'!$B$6:$G$101,3,0)) -> 0.00102 | G9: =C9*F9*E8 -> 101.79957 | H9: =(G9+H10)/(1+$H$3) -> 1721.6133 | I9: =E9*D9 -> 0 | J9: =J10/(1+$H$3) -> 47997.465 | K9: =B9*E8 -> 3493.1224 | L9: =K9+L10/(1+$H$3) -> 45576.821 | M9: =M8*(1+Parameters!$C$12)*Assumptions!$C$5 -> 530.45 | N9: =M9*E8 -> 529.40765 | O9: =N9+(O10/(1+$H$3)) -> 8700.9902 | P9: =(H9+J9+O9-L9)*$B$3 -> 12843248 | Q9: =ABS(Assumptions!$C$8*'Calculation_New Regime'!P9) -> 642162.38 | R9: =P9+Q9 -> 13485410
A10: 4 | B10: =Parameters!$C$7 -> 3500 | C10: =Parameters!$C$8 -> 100000 | D10: =IF(A10=20,Parameters!$C$9,0) -> 0 | E10: =E9*(1-F10) -> 0.9959711 | F10: =IF($B$2="M",VLOOKUP($B$1+A9,'Mortality rates'!$B$6:$G$101,2,0),VLOOKUP($B$1+A9,'Mortality rates'!$B$6:$G$101,3,0)) -> 0.001049 | G10: =C10*F10*E9 -> 104.58708 | H10: =(G10+H11)/(1+$H$3) -> 1688.6783 | I10: =E10*D10 -> 0 | J10: =J11/(1+$H$3) -> 49917.364 | K10: =B10*E9 -> 3489.5594 | L10: =K10+L11/(1+$H$3) -> 43767.046 | M10: =M9*(1+Parameters!$C$12)*Assumptions!$C$5 -> 546.3635 | N10: =M10*E9 -> 544.73368 | O10: =N10+(O11/(1+$H$3)) -> 8498.4458 | P10: =(H10+J10+O10-L10)*$B$3 -> 16337441 | Q10: =ABS(Assumptions!$C$8*'Calculation_New Regime'!P10) -> 816872.07 | R10: =P10+Q10 -> 17154313
A11: 5 | B11: =Parameters!$C$7 -> 3500 | C11: =Parameters!$C$8 -> 100000 | D11: =IF(A11=20,Parameters!$C$9,0) -> 0 | E11: =E10*(1-F11) -> 0.99489645 | F11: =IF($B$2="M",VLOOKUP($B$1+A10,'Mortality rates'!$B$6:$G$101,2,0),VLOOKUP($B$1+A10,'Mortality rates'!$B$6:$G$101,3,0)) -> 0.001079 | G11: =C11*F11*E10 -> 107.46528 | H11: =(G11+H12)/(1+$H$3) -> 1651.6384 | I11: =E11*D11 -> 0 | J11: =J12/(1+$H$3) -> 51914.058 | K11: =B11*E10 -> 3485.8988 | L11: =K11+L12/(1+$H$3) -> 41888.586 | M11: =M10*(1+Parameters!$C$12)*Assumptions!$C$5 -> 562.75441 | N11: =M11*E10 -> 560.48712 | O11: =N11+(O12/(1+$H$3)) -> 8271.8606 | P11: =(H11+J11+O11-L11)*$B$3 -> 19948971 | Q11: =ABS(Assumptions!$C$8*'Calculation_New Regime'!P11) -> 997448.53 | R11: =P11+Q11 -> 20946419
A12: 6 | B12: =Parameters!$C$7 -> 3500 | C12: =Parameters!$C$8 -> 100000 | D12: =IF(A12=20,Parameters!$C$9,0) -> 0 | E12: =E11*(1-F12) -> 0.99379211 | F12: =IF($B$2="M",VLOOKUP($B$1+A11,'Mortality rates'!$B$6:$G$101,2,0),VLOOKUP($B$1+A11,'Mortality rates'!$B$6:$G$101,3,0)) -> 0.00111 | G12: =C12*F12*E11 -> 110.43351 | H12: =(G12+H13)/(1+$H$3) -> 1610.2386 | I12: =E12*D12 -> 0 | J12: =J13/(1+$H$3) -> 53990.62 | K12: =B12*E11 -> 3482.1376 | L12: =K12+L13/(1+$H$3) -> 39938.795 | M12: =M11*(1+Parameters!$C$12)*Assumptions!$C$5 -> 579.63704 | N12: =M12*E11 -> 576.67883 | O12: =N12+(O13/(1+$H$3)) -> 8019.8284 | P12: =(H12+J12+O12-L12)*$B$3 -> 23681892 | Q12: =ABS(Assumptions!$C$8*'Calculation_New Regime'!P12) -> 1184094.6 | R12: =P12+Q12 -> 24865987
A13: 7 | B13: =Parameters!$C$7 -> 3500 | C13: =Parameters!$C$8 -> 100000 | D13: =IF(A13=20,Parameters!$C$9,0) -> 0 | E13: =E12*(1-F13) -> 0.9926582 | F13: =IF($B$2="M",VLOOKUP($B$1+A12,'Mortality rates'!$B$6:$G$101,2,0),VLOOKUP($B$1+A12,'Mortality rates'!$B$6:$G$101,3,0)) -> 0.001141 | G13: =C13*F13*E12 -> 113.39168 | H13: =(G13+H14)/(1+$H$3) -> 1564.2147 | I13: =E13*D13 -> 0 | J13: =J14/(1+$H$3) -> 56150.245 | K13: =B13*E12 -> 3478.2724 | L13: =K13+L14/(1+$H$3) -> 37914.924 | M13: =M12*(1+Parameters!$C$12)*Assumptions!$C$5 -> 597.02615 | N13: =M13*E12 -> 593.31988 | O13: =N13+(O14/(1+$H$3)) -> 7740.8756 | P13: =(H13+J13+O13-L13)*$B$3 -> 27540412 | Q13: =ABS(Assumptions!$C$8*'Calculation_New Regime'!P13) -> 1377020.6 | R13: =P13+Q13 -> 28917432
A14: 8 | B14: =Parameters!$C$7 -> 3500 | C14: =Parameters!$C$8 -> 100000 | D14: =IF(A14=20,Parameters!$C$9,0) -> 0 | E14: =E13*(1-F14) -> 0.99149281 | F14: =IF($B$2="M",VLOOKUP($B$1+A13,'Mortality rates'!$B$6:$G$101,2,0),VLOOKUP($B$1+A13,'Mortality rates'!$B$6:$G$101,3,0)) -> 0.001174 | G14: =C14*F14*E13 -> 116.53807 | H14: =(G14+H15)/(1+$H$3) -> 1513.3916 | I14: =E14*D14 -> 0 | J14: =J15/(1+$H$3) -> 58396.255 | K14: =B14*E13 -> 3474.3037 | L14: =K14+L15/(1+$H$3) -> 35814.117 | M14: =M13*(1+Parameters!$C$12)*Assumptions!$C$5 -> 614.93693 | N14: =M14*E13 -> 610.42219 | O14: =N14+(O15/(1+$H$3)) -> 7433.4579 | P14: =(H14+J14+O14-L14)*$B$3 -> 31528987 | Q14: =ABS(Assumptions!$C$8*'Calculation_New Regime'!P14) -> 1576449.4 | R14: =P14+Q14 -> 33105436
A15: 9 | B15: =Parameters!$C$7 -> 3500 | C15: =Parameters!$C$8 -> 100000 | D15: =IF(A15=20,Parameters!$C$9,0) -> 0 | E15: =E14*(1-F15) -> 0.99029608 | F15: =IF($B$2="M",VLOOKUP($B$1+A14,'Mortality rates'!$B$6:$G$101,2,0),VLOOKUP($B$1+A14,'Mortality rates'!$B$6:$G$101,3,0)) -> 0.001207 | G15: =C15*F15*E14 -> 119.67318 | H15: =(G15+H16)/(1+$H$3) -> 1457.3892 | I15: =E15*D15 -> 0 | J15: =J16/(1+$H$3) -> 60732.105 | K15: =B15*E14 -> 3470.2249 | L15: =K15+L16/(1+$H$3) -> 33633.406 | M15: =M14*(1+Parameters!$C$12)*Assumptions!$C$5 -> 633.38504 | N15: =M15*E14 -> 627.99672 | O15: =N15+(O16/(1+$H$3)) -> 7095.9572 | P15: =(H15+J15+O15-L15)*$B$3 -> 35652045 | Q15: =ABS(Assumptions!$C$8*'Calculation_New Regime'!P15) -> 1782602.3 | R15: =P15+Q15 -> 37434648
A16: 10 | B16: =Parameters!$C$7 -> 3500 | C16: =Parameters!$C$8 -> 100000 | D16: =IF(A16=20,Parameters!$C$9,0) -> 0 | E16: =E15*(1-F16) -> 0.98905425 | F16: =IF($B$2="M",VLOOKUP($B$1+A15,'Mortality rates'!$B$6:$G$101,2,0),VLOOKUP($B$1+A15,'Mortality rates'!$B$6:$G$101,3,0)) -> 0.001254 | G16: =C16*F16*E15 -> 124.18313 | H16: =(G16+H17)/(1+$H$3) -> 1396.0115 | I16: =E16*D16 -> 0 | J16: =J17/(1+$H$3) -> 63161.389 | K16: =B16*E15 -> 3466.0363 | L16: =K16+L17/(1+$H$3) -> 31369.709 | M16: =M15*(1+Parameters!$C$12)*Assumptions!$C$5 -> 652.38659 | N16: =M16*E15 -> 646.05589 | O16: =N16+(O17/(1+$H$3)) -> 6726.6789 | P16: =(H16+J16+O16-L16)*$B$3 -> 39914371 | Q16: =ABS(Assumptions!$C$8*'Calculation_New Regime'!P16) -> 1995718.6 | R16: =P16+Q16 -> 41910090
A17: 11 | B17: =Parameters!$C$7 -> 3500 | C17: =Parameters!$C$8 -> 100000 | D17: =IF(A17=20,Parameters!$C$9,0) -> 0 | E17: =E16*(1-F17) -> 0.98777442 | F17: =IF($B$2="M",VLOOKUP($B$1+A16,'Mortality rates'!$B$6:$G$101,2,0),VLOOKUP($B$1+A16,'Mortality rates'!$B$6:$G$101,3,0)) -> 0.001294 | G17: =C17*F17*E16 -> 127.98362 | H17: =(G17+H18)/(1+$H$3) -> 1327.6689 | I17: =E17*D17 -> 0 | J17: =J18/(1+$H$3) -> 65687.845 | K17: =B17*E16 -> 3461.6899 | L17: =K17+L18/(1+$H$3) -> 29019.819 | M17: =M16*(1+Parameters!$C$12)*Assumptions!$C$5 -> 671.95819 | N17: =M17*E16 -> 664.6031 | O17: =N17+(O18/(1+$H$3)) -> 6323.8479 | P17: =(H17+J17+O17-L17)*$B$3 -> 44319542 | Q17: =ABS(Assumptions!$C$8*'Calculation_New Regime'!P17) -> 2215977.1 | R17: =P17+Q17 -> 46535520
A18: 12 | B18: =Parameters!$C$7 -> 3500 | C18: =Parameters!$C$8 -> 100000 | D18: =IF(A18=20,Parameters!$C$9,0) -> 0 | E18: =E17*(1-F18) -> 0.98644586 | F18: =IF($B$2="M",VLOOKUP($B$1+A17,'Mortality rates'!$B$6:$G$101,2,0),VLOOKUP($B$1+A17,'Mortality rates'!$B$6:$G$101,3,0)) -> 0.001345 | G18: =C18*F18*E17 -> 132.85566 | H18: =(G18+H19)/(1+$H$3) -> 1252.792 | I18: =E18*D18 -> 0 | J18: =J19/(1+$H$3) -> 68315.359 | K18: =B18*E17 -> 3457.2105 | L18: =K18+L19/(1+$H$3) -> 26580.455 | M18: =M17*(1+Parameters!$C$12)*Assumptions!$C$5 -> 692.11694 | N18: =M18*E17 -> 683.6554 | O18: =N18+(O19/(1+$H$3)) -> 5885.6146 | P18: =(H18+J18+O18-L18)*$B$3 -> 48873311 | Q18: =ABS(Assumptions!$C$8*'Calculation_New Regime'!P18) -> 2443665.5 | R18: =P18+Q18 -> 51316976
A19: 13 | B19: =Parameters!$C$7 -> 3500 | C19: =Parameters!$C$8 -> 100000 | D19: =IF(A19=20,Parameters!$C$9,0) -> 0 | E19: =E18*(1-F19) -> 0.98505596 | F19: =IF($B$2="M",VLOOKUP($B$1+A18,'Mortality rates'!$B$6:$G$101,2,0),VLOOKUP($B$1+A18,'Mortality rates'!$B$6:$G$101,3,0)) -> 0.001409 | G19: =C19*F19*E18 -> 138.99022 | H19: =(G19+H20)/(1+$H$3) -> 1170.048 | I19: =E19*D19 -> 0 | J19: =J20/(1+$H$3) -> 71047.973 | K19: =B19*E18 -> 3452.5605 | L19: =K19+L20/(1+$H$3) -> 24048.174 | M19: =M18*(1+Parameters!$C$12)*Assumptions!$C$5 -> 712.88044 | N19: =M19*E18 -> 703.21796 | O19: =N19+(O20/(1+$H$3)) -> 5410.0376 | P19: =(H19+J19+O19-L19)*$B$3 -> 53579885 | Q19: =ABS(Assumptions!$C$8*'Calculation_New Regime'!P19) -> 2678994.2 | R19: =P19+Q19 -> 56258879
... A25: 19 | B25: =Parameters!$C$7 -> 3500 | C25: =Parameters!$C$8 -> 100000 | D25: =IF(A25=20,Parameters!$C$9,0) -> 0 | E25: =E24*(1-F25) -> 0.9746036 | F25: =IF($B$2="M",VLOOKUP($B$1+A24,'Mortality rates'!$B$6:$G$101,2,0),VLOOKUP($B$1+A24,'Mortality rates'!$B$6:$G$101,3,0)) -> 0.002129 | G25: =C25*F25*E24 -> 207.9358 | H25: =(G25+H26)/(1+$H$3) -> 409.16808 | I25: =E25*D25 -> 0 | J25: =J26/(1+$H$3) -> 89898.352 | K25: =B25*E24 -> 3418.3904 | L25: =K25+L26/(1+$H$3) -> 6698.3063 | M25: =M24*(1+Parameters!$C$12)*Assumptions!$C$5 -> 851.21653 | N25: =M25*E24 -> 831.36868 | O25: =N25+(O26/(1+$H$3)) -> 1652.9905 | P25: =(H25+J25+O25-L25)*$B$3 -> 85262204 | Q25: =ABS(Assumptions!$C$8*'Calculation_New Regime'!P25) -> 4263110.2 | R25: =P25+Q25 -> 89525314
A26: 20 | B26: =Parameters!$C$7 -> 3500 | C26: =Parameters!$C$8 -> 100000 | D26: =IF(A26=20,Parameters!$C$9,0) -> 100000 | E26: =E25*(1-F26) -> 0.97234057 | F26: =IF($B$2="M",VLOOKUP($B$1+A25,'Mortality rates'!$B$6:$G$101,2,0),VLOOKUP($B$1+A25,'Mortality rates'!$B$6:$G$101,3,0)) -> 0.002322 | G26: =C26*F26*E25 -> 226.30296 | H26: =(G26+H27)/(1+$H$3) -> 217.599 | I26: =E26*D26 -> 97234.057 | J26: =I26/(1+$H$3) -> 93494.286 | K26: =B26*E25 -> 3411.1126 | L26: =K26+L27/(1+$H$3) -> 3411.1126 | M26: =M25*(1+Parameters!$C$12)*Assumptions!$C$5 -> 876.75303 | N26: =M26*E25 -> 854.48666 | O26: =N26+(O27/(1+$H$3)) -> 854.48666 | P26: =(H26+J26+O26-L26)*$B$3 -> 91155259 | Q26: =ABS(Assumptions!$C$8*'Calculation_New Regime'!P26) -> 4557762.9 | R26: =P26+Q26 -> 95713022

Sheet Calculation_Scenario 1
A1: Age | B1: 30
A2: Gender | B2: M
A3: Number of Policies | B3: 1000 | G3: Interest Rate | H3: =Assumptions!C7 -> 0.04 | L3: Attributable Expenses | M3: 0.7
A5: Time | B5: Premiums | C5: Sum Assured | D5: Maturity Benefit | E5: Px | F5: Qx | G5: Expected Death Benefit (EOP) | H5: EPV Death benefit | I5: Expected Maturity benefit (EOP) | J5: EPV Maturity Benefit | K5: Expected Premiums (BOP) | L5: EPV Premiums | M5: Maintenance Expense (BOP) | N5: Expected Maintenance Expense | O5: EPV Expenses | P5: BEL | Q5: RA | R5: Reserves
A6: 0 | E6: 1
A7: 1 | B7: =Parameters!$C$7 -> 3500 | C7: =Parameters!$C$8 -> 100000 | D7: =IF(A7=20,Parameters!$C$9,0) -> 0 | E7: =E6*(1-F7) -> 0.999026 | F7: =IF($B$2="M",VLOOKUP($B$1+A6,'Mortality rates'!$B$6:$G$101,2,0),VLOOKUP($B$1+A6,'Mortality rates'!$B$6:$G$101,3,0)) -> 0.000974 | G7: =C7*F7*E6 -> 97.4 | H7: =(G7+H8)/(1+$H$3) -> 1777.0088 | I7: =E7*D7 -> 0 | J7: =J8/(1+$H$3) -> 44376.354 | K7: =B7*E6 -> 3500 | L7: =K7+L8/(1+$H$3) -> 49000.439 | M7: =Parameters!C16*$M$3 -> 350 | N7: =M7*E6 -> 350 | O7: =N7+(O8/(1+$H$3)) -> 6327.4852 | P7: =(H7+J7+O7-L7)*$B$3 -> 3480408.9 | Q7: =ABS(Assumptions!$C$8*'Calculation_Scenario 1'!P7) -> 174020.44 | R7: =P7+Q7 -> 3654429.3
A8: 2 | B8: =Parameters!$C$7 -> 3500 | C8: =Parameters!$C$8 -> 100000 | D8: =IF(A8=20,Parameters!$C$9,0) -> 0 | E8: =E7*(1-F8) -> 0.99803497 | F8: =IF($B$2="M",VLOOKUP($B$1+A7,'Mortality rates'!$B$6:$G$101,2,0),VLOOKUP($B$1+A7,'Mortality rates'!$B$6:$G$101,3,0)) -> 0.000992 | G8: =C8*F8*E7 -> 99.103379 | H8: =(G8+H9)/(1+$H$3) -> 1750.6892 | I8: =E8*D8 -> 0 | J8: =J9/(1+$H$3) -> 46151.409 | K8: =B8*E7 -> 3496.591 | L8: =K8+L9/(1+$H$3) -> 47320.457 | M8: =M7*(1+Parameters!$C$12) -> 360.5 | N8: =M8*E7 -> 360.14887 | O8: =N8+(O9/(1+$H$3)) -> 6216.5846 | P8: =(H8+J8+O8-L8)*$B$3 -> 6798225.2 | Q8: =ABS(Assumptions!$C$8*'Calculation_Scenario 1'!P8) -> 339911.26 | R8: =P8+Q8 -> 7138136.5
A9: 3 | B9: =Parameters!$C$7 -> 3500 | C9: =Parameters!$C$8 -> 100000 | D9: =IF(A9=20,Parameters!$C$9,0) -> 0 | E9: =E8*(1-F9) -> 0.99701697 | F9: =IF($B$2="M",VLOOKUP($B$1+A8,'Mortality rates'!$B$6:$G$101,2,0),VLOOKUP($B$1+A8,'Mortality rates'!$B$6:$G$101,3,0)) -> 0.00102 | G9: =C9*F9*E8 -> 101.79957 | H9: =(G9+H10)/(1+$H$3) -> 1721.6133 | I9: =E9*D9 -> 0 | J9: =J10/(1+$H$3) -> 47997.465 | K9: =B9*E8 -> 3493.1224 | L9: =K9+L10/(1+$H$3) -> 45576.821 | M9: =M8*(1+Parameters!$C$12) -> 371.315 | N9: =M9*E8 -> 370.58535 | O9: =N9+(O10/(1+$H$3)) -> 6090.6931 | P9: =(H9+J9+O9-L9)*$B$3 -> 10232951 | Q9: =ABS(Assumptions!$C$8*'Calculation_Scenario 1'!P9) -> 511647.53 | R9: =P9+Q9 -> 10744598
A10: 4 | B10: =Parameters!$C$7 -> 3500 | C10: =Parameters!$C$8 -> 100000 | D10: =IF(A10=20,Parameters!$C$9,0) -> 0 | E10: =E9*(1-F10) -> 0.9959711 | F10: =IF($B$2="M",VLOOKUP($B$1+A9,'Mortality rates'!$B$6:$G$101,2,0),VLOOKUP($B$1+A9,'Mortality rates'!$B$6:$G$101,3,0)) -> 0.001049 | G10: =C10*F10*E9 -> 104.58708 | H10: =(G10+H11)/(1+$H$3) -> 1688.6783 | I10: =E10*D10 -> 0 | J10: =J11/(1+$H$3) -> 49917.364 | K10: =B10*E9 -> 3489.5594 | L10: =K10+L11/(1+$H$3) -> 43767.046 | M10: =M9*(1+Parameters!$C$12) -> 382.45445 | N10: =M10*E9 -> 381.31358 | O10: =N10+(O11/(1+$H$3)) -> 5948.9121 | P10: =(H10+J10+O10-L10)*$B$3 -> 13787908 | Q10: =ABS(Assumptions!$C$8*'Calculation_Scenario 1'!P10) -> 689395.38 | R10: =P10+Q10 -> 14477303
A11: 5 | B11: =Parameters!$C$7 -> 3500 | C11: =Parameters!$C$8 -> 100000 | D11: =IF(A11=20,Parameters!$C$9,0) -> 0 | E11: =E10*(1-F11) -> 0.99489645 | F11: =IF($B$2="M",VLOOKUP($B$1+A10,'Mortality rates'!$B$6:$G$101,2,0),VLOOKUP($B$1+A10,'Mortality rates'!$B$6:$G$101,3,0)) -> 0.001079 | G11: =C11*F11*E10 -> 107.46528 | H11: =(G11+H12)/(1+$H$3) -> 1651.6384 | I11: =E11*D11 -> 0 | J11: =J12/(1+$H$3) -> 51914.058 | K11: =B11*E10 -> 3485.8988 | L11: =K11+L12/(1+$H$3) -> 41888.586 | M11: =M10*(1+Parameters!$C$12) -> 393.92808 | N11: =M11*E10 -> 392.34099 | O11: =N11+(O12/(1+$H$3)) -> 5790.3024 | P11: =(H11+J11+O11-L11)*$B$3 -> 17467412 | Q11: =ABS(Assumptions!$C$8*'Calculation_Scenario 1'!P11) -> 873370.62 | R11: =P11+Q11 -> 18340783
A12: 6 | B12: =Parameters!$C$7 -> 3500 | C12: =Parameters!$C$8 -> 100000 | D12: =IF(A12=20,Parameters!$C$9,0) -> 0 | E12: =E11*(1-F12) -> 0.99379211 | F12: =IF($B$2="M",VLOOKUP($B$1+A11,'Mortality rates'!$B$6:$G$101,2,0),VLOOKUP($B$1+A11,'Mortality rates'!$B$6:$G$101,3,0)) -> 0.00111 | G12: =C12*F12*E11 -> 110.43351 | H12: =(G12+H13)/(1+$H$3) -> 1610.2386 | I12: =E12*D12 -> 0 | J12: =J13/(1+$H$3) -> 53990.62 | K12: =B12*E11 -> 3482.1376 | L12: =K12+L13/(1+$H$3) -> 39938.795 | M12: =M11*(1+Parameters!$C$12) -> 405.74593 | N12: =M12*E11 -> 403.67518 | O12: =N12+(O13/(1+$H$3)) -> 5613.8799 | P12: =(H12+J12+O12-L12)*$B$3 -> 21275944 | Q12: =ABS(Assumptions!$C$8*'Calculation_Scenario 1'!P12) -> 1063797.2 | R12: =P12+Q12 -> 22339741
A13: 7 | B13: =Parameters!$C$7 -> 3500 | C13: =Parameters!$C$8 -> 100000 | D13: =IF(A13=20,Parameters!$C$9,0) -> 0 | E13: =E12*(1-F13) -> 0.9926582 | F13: =IF($B$2="M",VLOOKUP($B$1+A12,'Mortality rates'!$B$6:$G$101,2,0),VLOOKUP($B$1+A12,'Mortality rates'!$B$6:$G$101,3,0)) -> 0.001141 | G13: =C13*F13*E12 -> 113.39168 | H13: =(G13+H14)/(1+$H$3) -> 1564.2147 | I13: =E13*D13 -> 0 | J13: =J14/(1+$H$3) -> 56150.245 | K13: =B13*E12 -> 3478.2724 | L13: =K13+L14/(1+$H$3) -> 37914.924 | M13: =M12*(1+Parameters!$C$12) -> 417.9183 | N13: =M13*E12 -> 415.32391 | O13: =N13+(O14/(1+$H$3)) -> 5418.6129 | P13: =(H13+J13+O13-L13)*$B$3 -> 25218149 | Q13: =ABS(Assumptions!$C$8*'Calculation_Scenario 1'!P13) -> 1260907.5 | R13: =P13+Q13 -> 26479056
A14: 8 | B14: =Parameters!$C$7 -> 3500 | C14: =Parameters!$C$8 -> 100000 | D14: =IF(A14=20,Parameters!$C$9,0) -> 0 | E14: =E13*(1-F14) -> 0.99149281 | F14: =IF($B$2="M",VLOOKUP($B$1+A13,'Mortality rates'!$B$6:$G$101,2,0),VLOOKUP($B$1+A13,'Mortality rates'!$B$6:$G$101,3,0)) -> 0.001174 | G14: =C14*F14*E13 -> 116.53807 | H14: =(G14+H15)/(1+$H$3) -> 1513.3916 | I14: =E14*D14 -> 0 | J14: =J15/(1+$H$3) -> 58396.255 | K14: =B14*E13 -> 3474.3037 | L14: =K14+L15/(1+$H$3) -> 35814.117 | M14: =M13*(1+Parameters!$C$12) -> 430.45585 | N14: =M14*E13 -> 427.29553 | O14: =N14+(O15/(1+$H$3)) -> 5203.4206 | P14: =(H14+J14+O14-L14)*$B$3 -> 29298950 | Q14: =ABS(Assumptions!$C$8*'Calculation_Scenario 1'!P14) -> 1464947.5 | R14: =P14+Q14 -> 30763897
A15: 9 | B15: =Parameters!$C$7 -> 3500 | C15: =Parameters!$C$8 -> 100000 | D15: =IF(A15=20,Parameters!$C$9,0) -> 0 | E15: =E14*(1-F15) -> 0.99029608 | F15: =IF($B$2="M",VLOOKUP($B$1+A14,'Mortality rates'!$B$6:$G$101,2,0),VLOOKUP($B$1+A14,'Mortality rates'!$B$6:$G$101,3,0)) -> 0.001207 | G15: =C15*F15*E14 -> 119.67318 | H15: =(G15+H16)/(1+$H$3) -> 1457.3892 | I15: =E15*D15 -> 0 | J15: =J16/(1+$H$3) -> 60732.105 | K15: =B15*E14 -> 3470.2249 | L15: =K15+L16/(1+$H$3) -> 33633.406 | M15: =M14*(1+Parameters!$C$12) -> 443.36953 | N15: =M15*E14 -> 439.5977 | O15: =N15+(O16/(1+$H$3)) -> 4967.17 | P15: =(H15+J15+O15-L15)*$B$3 -> 33523258 | Q15: =ABS(Assumptions!$C$8*'Calculation_Scenario 1'!P15) -> 1676162.9 | R15: =P15+Q15 -> 35199421
A16: 10 | B16: =Parameters!$C$7 -> 3500 | C16: =Parameters!$C$8 -> 100000 | D16: =IF(A16=20,Parameters!$C$9,0) -> 0 | E16: =E15*(1-F16) -> 0.98905425 | F16: =IF($B$2="M",VLOOKUP($B$1+A15,'Mortality rates'!$B$6:$G$101,2,0),VLOOKUP($B$1+A15,'Mortality rates'!$B$6:$G$101,3,0)) -> 0.001254 | G16: =C16*F16*E15 -> 124.18313 | H16: =(G16+H17)/(1+$H$3) -> 1396.0115 | I16: =E16*D16 -> 0 | J16: =J17/(1+$H$3) -> 63161.389 | K16: =B16*E15 -> 3466.0363 | L16: =K16+L17/(1+$H$3) -> 31369.709 | M16: =M15*(1+Parameters!$C$12) -> 456.67061 | N16: =M16*E15 -> 452.23912 | O16: =N16+(O17/(1+$H$3)) -> 4708.6752 | P16: =(H16+J16+O16-L16)*$B$3 -> 37896367 | Q16: =ABS(Assumptions!$C$8*'Calculation_Scenario 1'!P16) -> 1894818.4 | R16: =P16+Q16 -> 39791186
A17: 11 | B17: =Parameters!$C$7 -> 3500 | C17: =Parameters!$C$8 -> 100000 | D17: =IF(A17=20,Parameters!$C$9,0) -> 0 | E17: =E16*(1-F17) -> 0.98777442 | F17: =IF($B$2="M",VLOOKUP($B$1+A16,'Mortality rates'!$B$6:$G$101,2,0),VLOOKUP($B$1+A16,'Mortality rates'!$B$6:$G$101,3,0)) -> 0.001294 | G17: =C17*F17*E16 -> 127.98362 | H17: =(G17+H18)/(1+$H$3) -> 1327.6689 | I17: =E17*D17 -> 0 | J17: =J18/(1+$H$3) -> 65687.845 | K17: =B17*E16 -> 3461.6899 | L17: =K17+L18/(1+$H$3) -> 29019.819 | M17: =M16*(1+Parameters!$C$12) -> 470.37073 | N17: =M17*E16 -> 465.22217 | O17: =N17+(O18/(1+$H$3)) -> 4426.6935 | P17: =(H17+J17+O17-L17)*$B$3 -> 42422388 | Q17: =ABS(Assumptions!$C$8*'Calculation_Scenario 1'!P17) -> 2121119.4 | R17: =P17+Q17 -> 44543508
A18: 12 | B18: =Parameters!$C$7 -> 3500 | C18: =Parameters!$C$8 -> 100000 | D18: =IF(A18=20,Parameters!$C$9,0) -> 0 | E18: =E17*(1-F18) -> 0.98644586 | F18: =IF($B$2="M",VLOOKUP($B$1+A17,'Mortality rates'!$B$6:$G$101,2,0),VLOOKUP($B$1+A17,'Mortality rates'!$B$6:$G$101,3,0)) -> 0.001345 | G18: =C18*F18*E17 -> 132.85566 | H18: =(G18+H19)/(1+$H$3) -> 1252.792 | I18: =E18*D18 -> 0 | J18: =J19/(1+$H$3) -> 68315.359 | K18: =B18*E17 -> 3457.2105 | L18: =K18+L19/(1+$H$3) -> 26580.455 | M18: =M17*(1+Parameters!$C$12) -> 484.48185 | N18: =M18*E17 -> 478.55878 | O18: =N18+(O19/(1+$H$3)) -> 4119.9302 | P18: =(H18+J18+O18-L18)*$B$3 -> 47107626 | Q18: =ABS(Assumptions!$C$8*'Calculation_Scenario 1'!P18) -> 2355381.3 | R18: =P18+Q18 -> 49463008
A19: 13 | B19: =Parameters!$C$7 -> 3500 | C19: =Parameters!$C$8 -> 100000 | D19: =IF(A19=20,Parameters!$C$9,0) -> 0 | E19: =E18*(1-F19) -> 0.98505596 | F19: =IF($B$2="M",VLOOKUP($B$1+A18,'Mortality rates'!$B$6:$G$101,2,0),VLOOKUP($B$1+A18,'Mortality rates'!$B$6:$G$101,3,0)) -> 0.001409 | G19: =C19*F19*E18 -> 138.99022 | H19: =(G19+H20)/(1+$H$3) -> 1170.048 | I19: =E19*D19 -> 0 | J19: =J20/(1+$H$3) -> 71047.973 | K19: =B19*E18 -> 3452.5605 | L19: =K19+L20/(1+$H$3) -> 24048.174 | M19: =M18*(1+Parameters!$C$12) -> 499.01631 | N19: =M19*E18 -> 492.25257 | O19: =N19+(O20/(1+$H$3)) -> 3787.0263 | P19: =(H19+J19+O19-L19)*$B$3 -> 51956874 | Q19: =ABS(Assumptions!$C$8*'Calculation_Scenario 1'!P19) -> 2597843.7 | R19: =P19+Q19 -> 54554717
... A25: 19 | B25: =Parameters!$C$7 -> 3500 | C25: =Parameters!$C$8 -> 100000 | D25: =IF(A25=20,Parameters!$C$9,0) -> 0 | E25: =E24*(1-F25) -> 0.9746036 | F25: =IF($B$2="M",VLOOKUP($B$1+A24,'Mortality rates'!$B$6:$G$101,2,0),VLOOKUP($B$1+A24,'Mortality rates'!$B$6:$G$101,3,0)) -> 0.002129 | G25: =C25*F25*E24 -> 207.9358 | H25: =(G25+H26)/(1+$H$3) -> 409.16808 | I25: =E25*D25 -> 0 | J25: =J26/(1+$H$3) -> 89898.352 | K25: =B25*E24 -> 3418.3904 | L25: =K25+L26/(1+$H$3) -> 6698.3063 | M25: =M24*(1+Parameters!$C$12) -> 595.85157 | N25: =M25*E24 -> 581.95808 | O25: =N25+(O26/(1+$H$3)) -> 1157.0933 | P25: =(H25+J25+O25-L25)*$B$3 -> 84766307 | Q25: =ABS(Assumptions!$C$8*'Calculation_Scenario 1'!P25) -> 4238315.3 | R25: =P25+Q25 -> 89004622
A26: 20 | B26: =Parameters!$C$7 -> 3500 | C26: =Parameters!$C$8 -> 100000 | D26: =IF(A26=20,Parameters!$C$9,0) -> 100000 | E26: =E25*(1-F26) -> 0.97234057 | F26: =IF($B$2="M",VLOOKUP($B$1+A25,'Mortality rates'!$B$6:$G$101,2,0),VLOOKUP($B$1+A25,'Mortality rates'!$B$6:$G$101,3,0)) -> 0.002322 | G26: =C26*F26*E25 -> 226.30296 | H26: =(G26+H27)/(1+$H$3) -> 217.599 | I26: =E26*D26 -> 97234.057 | J26: =I26/(1+$H$3) -> 93494.286 | K26: =B26*E25 -> 3411.1126 | L26: =K26+L27/(1+$H$3) -> 3411.1126 | M26: =M25*(1+Parameters!$C$12) -> 613.72712 | N26: =M26*E25 -> 598.14066 | O26: =N26+(O27/(1+$H$3)) -> 598.14066 | P26: =(H26+J26+O26-L26)*$B$3 -> 90898913 | Q26: =ABS(Assumptions!$C$8*'Calculation_Scenario 1'!P26) -> 4544945.6 | R26: =P26+Q26 -> 95443858

Sheet Calculation_Scenario 2
A1: Age | B1: 30
A2: Gender | B2: M
A3: Number of Policies | B3: 1000 | G3: Interest Rate | H3: =Assumptions!C7+1% -> 0.05
A5: Time | B5: Premiums | C5: Sum Assured | D5: Maturity Benefit | E5: Px | F5: Qx | G5: Expected Death Benefit (EOP) | H5: EPV Death benefit | I5: Expected Maturity benefit (EOP) | J5: EPV Maturity Benefit | K5: Expected Premiums (BOP) | L5: EPV Premiums | M5: Maintenance Expense (BOP) | N5: Expected Maintenance Expense | O5: EPV Expenses | P5: BEL | Q5: RA | R5: Reserves
A6: 0 | E6: 1
A7: 1 | B7: =Parameters!$C$7 -> 3500 | C7: =Parameters!$C$8 -> 100000 | D7: =IF(A7=20,Parameters!$C$9,0) -> 0 | E7: =E6*(1-F7) -> 0.999026 | F7: =IF($B$2="M",VLOOKUP($B$1+A6,'Mortality rates'!$B$6:$G$101,2,0),VLOOKUP($B$1+A6,'Mortality rates'!$B$6:$G$101,3,0)) -> 0.000974 | G7: =C7*F7*E6 -> 97.4 | H7: =(G7+H8)/(1+$H$3) -> 1608.1415 | I7: =E7*D7 -> 0 | J7: =J8/(1+$H$3) -> 36646.494 | K7: =B7*E6 -> 3500 | L7: =K7+L8/(1+$H$3) -> 45382.843 | M7: =Parameters!C16*Assumptions!$C$5 -> 500 | N7: =M7*E6 -> 500 | O7: =N7+(O8/(1+$H$3)) -> 8295.1489 | P7: =(H7+J7+O7-L7)*$B$3 -> 1166940.7 | Q7: =ABS(Assumptions!$C$8*'Calculation_Scenario 2'!P7) -> 58347.033 | R7: =P7+Q7 -> 1225287.7
A8: 2 | B8: =Parameters!$C$7 -> 3500 | C8: =Parameters!$C$8 -> 100000 | D8: =IF(A8=20,Parameters!$C$9,0) -> 0 | E8: =E7*(1-F8) -> 0.99803497 | F8: =IF($B$2="M",VLOOKUP($B$1+A7,'Mortality rates'!$B$6:$G$101,2,0),VLOOKUP($B$1+A7,'Mortality rates'!$B$6:$G$101,3,0)) -> 0.000992 | G8: =C8*F8*E7 -> 99.103379 | H8: =(G8+H9)/(1+$H$3) -> 1591.1486 | I8: =E8*D8 -> 0 | J8: =J9/(1+$H$3) -> 38478.818 | K8: =B8*E7 -> 3496.591 | L8: =K8+L9/(1+$H$3) -> 43976.985 | M8: =M7*(1+Parameters!$C$12)*Assumptions!$C$5 -> 515 | N8: =M8*E7 -> 514.49839 | O8: =N8+(O9/(1+$H$3)) -> 8184.9063 | P8: =(H8+J8+O8-L8)*$B$3 -> 4277887.7 | Q8: =ABS(Assumptions!$C$8*'Calculation_Scenario 2'!P8) -> 213894.38 | R8: =P8+Q8 -> 4491782.1
A9: 3 | B9: =Parameters!$C$7 -> 3500 | C9: =Parameters!$C$8 -> 100000 | D9: =IF(A9=20,Parameters!$C$9,0) -> 0 | E9: =E8*(1-F9) -> 0.99701697 | F9: =IF($B$2="M",VLOOKUP($B$1+A8,'Mortality rates'!$B$6:$G$101,2,0),VLOOKUP($B$1+A8,'Mortality rates'!$B$6:$G$101,3,0)) -> 0.00102 | G9: =C9*F9*E8 -> 101.79957 | H9: =(G9+H10)/(1+$H$3) -> 1571.6027 | I9: =E9*D9 -> 0 | J9: =J10/(1+$H$3) -> 40402.759 | K9: =B9*E8 -> 3493.1224 | L9: =K9+L10/(1+$H$3) -> 42504.414 | M9: =M8*(1+Parameters!$C$12)*Assumptions!$C$5 -> 530.45 | N9: =M9*E8 -> 529.40765 | O9: =N9+(O10/(1+$H$3)) -> 8053.9283 | P9: =(H9+J9+O9-L9)*$B$3 -> 7523875.9 | Q9: =ABS(Assumptions!$C$8*'Calculation_Scenario 2'!P9) -> 376193.8 | R9: =P9+Q9 -> 7900069.7
A10: 4 | B10: =Parameters!$C$7 -> 3500 | C10: =Parameters!$C$8 -> 100000 | D10: =IF(A10=20,Parameters!$C$9,0) -> 0 | E10: =E9*(1-F10) -> 0.9959711 | F10: =IF($B$2="M",VLOOKUP($B$1+A9,'Mortality rates'!$B$6:$G$101,2,0),VLOOKUP($B$1+A9,'Mortality rates'!$B$6:$G$101,3,0)) -> 0.001049 | G10: =C10*F10*E9 -> 104.58708 | H10: =(G10+H11)/(1+$H$3) -> 1548.3832 | I10: =E10*D10 -> 0 | J10: =J11/(1+$H$3) -> 42422.897 | K10: =B10*E9 -> 3489.5594 | L10: =K10+L11/(1+$H$3) -> 40961.856 | M10: =M9*(1+Parameters!$C$12)*Assumptions!$C$5 -> 546.3635 | N10: =M10*E9 -> 544.73368 | O10: =N10+(O11/(1+$H$3)) -> 7900.7467 | P10: =(H10+J10+O10-L10)*$B$3 -> 10910171 | Q10: =ABS(Assumptions!$C$8*'Calculation_Scenario 2'!P10) -> 545508.53 | R10: =P10+Q10 -> 11455679
A11: 5 | B11: =Parameters!$C$7 -> 3500 | C11: =Parameters!$C$8 -> 100000 | D11: =IF(A11=20,Parameters!$C$9,0) -> 0 | E11: =E10*(1-F11) -> 0.99489645 | F11: =IF($B$2="M",VLOOKUP($B$1+A10,'Mortality rates'!$B$6:$G$101,2,0),VLOOKUP($B$1+A10,'Mortality rates'!$B$6:$G$101,3,0)) -> 0.001079 | G11: =C11*F11*E10 -> 107.46528 | H11: =(G11+H12)/(1+$H$3) -> 1521.2153 | I11: =E11*D11 -> 0 | J11: =J12/(1+$H$3) -> 44544.042 | K11: =B11*E10 -> 3485.8988 | L11: =K11+L12/(1+$H$3) -> 39345.912 | M11: =M10*(1+Parameters!$C$12)*Assumptions!$C$5 -> 562.75441 | N11: =M11*E10 -> 560.48712 | O11: =N11+(O12/(1+$H$3)) -> 7723.8137 | P11: =(H11+J11+O11-L11)*$B$3 -> 14443159 | Q11: =ABS(Assumptions!$C$8*'Calculation_Scenario 2'!P11) -> 722157.95 | R11: =P11+Q11 -> 15165317
A12: 6 | B12: =Parameters!$C$7 -> 3500 | C12: =Parameters!$C$8 -> 100000 | D12: =IF(A12=20,Parameters!$C$9,0) -> 0 | E12: =E11*(1-F12) -> 0.99379211 | F12: =IF($B$2="M",VLOOKUP($B$1+A11,'Mortality rates'!$B$6:$G$101,2,0),VLOOKUP($B$1+A11,'Mortality rates'!$B$6:$G$101,3,0)) -> 0.00111 | G12: =C12*F12*E11 -> 110.43351 | H12: =(G12+H13)/(1+$H$3) -> 1489.8108 | I12: =E12*D12 -> 0 | J12: =J13/(1+$H$3) -> 46771.244 | K12: =B12*E11 -> 3482.1376 | L12: =K12+L13/(1+$H$3) -> 37653.014 | M12: =M11*(1+Parameters!$C$12)*Assumptions!$C$5 -> 579.63704 | N12: =M12*E11 -> 576.67883 | O12: =N12+(O13/(1+$H$3)) -> 7521.4929 | P12: =(H12+J12+O12-L12)*$B$3 -> 18129534 | Q12: =ABS(Assumptions!$C$8*'Calculation_Scenario 2'!P12) -> 906476.7 | R12: =P12+Q12 -> 19036011
A13: 7 | B13: =Parameters!$C$7 -> 3500 | C13: =Parameters!$C$8 -> 100000 | D13: =IF(A13=20,Parameters!$C$9,0) -> 0 | E13: =E12*(1-F13) -> 0.9926582 | F13: =IF($B$2="M",VLOOKUP($B$1+A12,'Mortality rates'!$B$6:$G$101,2,0),VLOOKUP($B$1+A12,'Mortality rates'!$B$6:$G$101,3,0)) -> 0.001141 | G13: =C13*F13*E12 -> 113.39168 | H13: =(G13+H14)/(1+$H$3) -> 1453.8678 | I13: =E13*D13 -> 0 | J13: =J14/(1+$H$3) -> 49109.806 | K13: =B13*E12 -> 3478.2724 | L13: =K13+L14/(1+$H$3) -> 35879.42 | M13: =M12*(1+Parameters!$C$12)*Assumptions!$C$5 -> 597.02615 | N13: =M13*E12 -> 593.31988 | O13: =N13+(O14/(1+$H$3)) -> 7292.0548 | P13: =(H13+J13+O13-L13)*$B$3 -> 21976309 | Q13: =ABS(Assumptions!$C$8*'Calculation_Scenario 2'!P13) -> 1098815.4 | R13: =P13+Q13 -> 23075124
A14: 8 | B14: =Parameters!$C$7 -> 3500 | C14: =Parameters!$C$8 -> 100000 | D14: =IF(A14=20,Parameters!$C$9,0) -> 0 | E14: =E13*(1-F14) -> 0.99149281 | F14: =IF($B$2="M",VLOOKUP($B$1+A13,'Mortality rates'!$B$6:$G$101,2,0),VLOOKUP($B$1+A13,'Mortality rates'!$B$6:$G$101,3,0)) -> 0.001174 | G14: =C14*F14*E13 -> 116.53807 | H14: =(G14+H15)/(1+$H$3) -> 1413.1695 | I14: =E14*D14 -> 0 | J14: =J15/(1+$H$3) -> 51565.296 | K14: =B14*E13 -> 3474.3037 | L14: =K14+L15/(1+$H$3) -> 34021.205 | M14: =M13*(1+Parameters!$C$12)*Assumptions!$C$5 -> 614.93693 | N14: =M14*E13 -> 610.42219 | O14: =N14+(O15/(1+$H$3)) -> 7033.6716 | P14: =(H14+J14+O14-L14)*$B$3 -> 25990933 | Q14: =ABS(Assumptions!$C$8*'Calculation_Scenario 2'!P14) -> 1299546.6 | R14: =P14+Q14 -> 27290480
A15: 9 | B15: =Parameters!$C$7 -> 3500 | C15: =Parameters!$C$8 -> 100000 | D15: =IF(A15=20,Parameters!$C$9,0) -> 0 | E15: =E14*(1-F15) -> 0.99029608 | F15: =IF($B$2="M",VLOOKUP($B$1+A14,'Mortality rates'!$B$6:$G$101,2,0),VLOOKUP($B$1+A14,'Mortality rates'!$B$6:$G$101,3,0)) -> 0.001207 | G15: =C15*F15*E14 -> 119.67318 | H15: =(G15+H16)/(1+$H$3) -> 1367.2899 | I15: =E15*D15 -> 0 | J15: =J16/(1+$H$3) -> 54143.561 | K15: =B15*E14 -> 3470.2249 | L15: =K15+L16/(1+$H$3) -> 32074.246 | M15: =M14*(1+Parameters!$C$12)*Assumptions!$C$5 -> 633.38504 | N15: =M15*E14 -> 627.99672 | O15: =N15+(O16/(1+$H$3)) -> 6744.4119 | P15: =(H15+J15+O15-L15)*$B$3 -> 30181017 | Q15: =ABS(Assumptions!$C$8*'Calculation_Scenario 2'!P15) -> 1509050.9 | R15: =P15+Q15 -> 31690068
A16: 10 | B16: =Parameters!$C$7 -> 3500 | C16: =Parameters!$C$8 -> 100000 | D16: =IF(A16=20,Parameters!$C$9,0) -> 0 | E16: =E15*(1-F16) -> 0.98905425 | F16: =IF($B$2="M",VLOOKUP($B$1+A15,'Mortality rates'!$B$6:$G$101,2,0),VLOOKUP($B$1+A15,'Mortality rates'!$B$6:$G$101,3,0)) -> 0.001254 | G16: =C16*F16*E15 -> 124.18313 | H16: =(G16+H17)/(1+$H$3) -> 1315.9812 | I16: =E16*D16 -> 0 | J16: =J17/(1+$H$3) -> 56850.739 | K16: =B16*E15 -> 3466.0363 | L16: =K16+L17/(1+$H$3) -> 30034.222 | M16: =M15*(1+Parameters!$C$12)*Assumptions!$C$5 -> 652.38659 | N16: =M16*E15 -> 646.05589 | O16: =N16+(O17/(1+$H$3)) -> 6422.236 | P16: =(H16+J16+O16-L16)*$B$3 -> 34554734 | Q16: =ABS(Assumptions!$C$8*'Calculation_Scenario 2'!P16) -> 1727736.7 | R16: =P16+Q16 -> 36282471
A17: 11 | B17: =Parameters!$C$7 -> 3500 | C17: =Parameters!$C$8 -> 100000 | D17: =IF(A17=20,Parameters!$C$9,0) -> 0 | E17: =E16*(1-F17) -> 0.98777442 | F17: =IF($B$2="M",VLOOKUP($B$1+A16,'Mortality rates'!$B$6:$G$101,2,0),VLOOKUP($B$1+A16,'Mortality rates'!$B$6:$G$101,3,0)) -> 0.001294 | G17: =C17*F17*E16 -> 127.98362 | H17: =(G17+H18)/(1+$H$3) -> 1257.5972 | I17: =E17*D17 -> 0 | J17: =J18/(1+$H$3) -> 59693.276 | K17: =B17*E16 -> 3461.6899 | L17: =K17+L18/(1+$H$3) -> 27896.595 | M17: =M16*(1+Parameters!$C$12)*Assumptions!$C$5 -> 671.95819 | N17: =M17*E16 -> 664.6031 | O17: =N17+(O18/(1+$H$3)) -> 6064.9891 | P17: =(H17+J17+O17-L17)*$B$3 -> 39119267 | Q17: =ABS(Assumptions!$C$8*'Calculation_Scenario 2'!P17) -> 1955963.4 | R17: =P17+Q17 -> 41075231
A18: 12 | B18: =Parameters!$C$7 -> 3500 | C18: =Parameters!$C$8 -> 100000 | D18: =IF(A18=20,Parameters!$C$9,0) -> 0 | E18: =E17*(1-F18) -> 0.98644586 | F18: =IF($B$2="M",VLOOKUP($B$1+A17,'Mortality rates'!$B$6:$G$101,2,0),VLOOKUP($B$1+A17,'Mortality rates'!$B$6:$G$101,3,0)) -> 0.001345 | G18: =C18*F18*E17 -> 132.85566 | H18: =(G18+H19)/(1+$H$3) -> 1192.4934 | I18: =E18*D18 -> 0 | J18: =J19/(1+$H$3) -> 62677.94 | K18: =B18*E17 -> 3457.2105 | L18: =K18+L19/(1+$H$3) -> 25656.651 | M18: =M17*(1+Parameters!$C$12)*Assumptions!$C$5 -> 692.11694 | N18: =M18*E17 -> 683.6554 | O18: =N18+(O19/(1+$H$3)) -> 5670.4053 | P18: =(H18+J18+O18-L18)*$B$3 -> 43884188 | Q18: =ABS(Assumptions!$C$8*'Calculation_Scenario 2'!P18) -> 2194209.4 | R18: =P18+Q18 -> 46078397
A19: 13 | B19: =Parameters!$C$7 -> 3500 | C19: =Parameters!$C$8 -> 100000 | D19: =IF(A19=20,Parameters!$C$9,0) -> 0 | E19: =E18*(1-F19) -> 0.98505596 | F19: =IF($B$2="M",VLOOKUP($B$1+A18,'Mortality rates'!$B$6:$G$101,2,0),VLOOKUP($B$1+A18,'Mortality rates'!$B$6:$G$101,3,0)) -> 0.001409 | G19: =C19*F19*E18 -> 138.99022 | H19: =(G19+H20)/(1+$H$3) -> 1119.2624 | I19: =E19*D19 -> 0 | J19: =J20/(1+$H$3) -> 65811.837 | K19: =B19*E18 -> 3452.5605 | L19: =K19+L20/(1+$H$3) -> 23309.412 | M19: =M18*(1+Parameters!$C$12)*Assumptions!$C$5 -> 712.88044 | N19: =M19*E18 -> 703.21796 | O19: =N19+(O20/(1+$H$3)) -> 5236.0874 | P19: =(H19+J19+O19-L19)*$B$3 -> 48857775 | Q19: =ABS(Assumptions!$C$8*'Calculation_Scenario 2'!P19) -> 2442888.7 | R19: =P19+Q19 -> 51300663
... A25: 19 | B25: =Parameters!$C$7 -> 3500 | C25: =Parameters!$C$8 -> 100000 | D25: =IF(A25=20,Parameters!$C$9,0) -> 0 | E25: =E24*(1-F25) -> 0.9746036 | F25: =IF($B$2="M",VLOOKUP($B$1+A24,'Mortality rates'!$B$6:$G$101,2,0),VLOOKUP($B$1+A24,'Mortality rates'!$B$6:$G$101,3,0)) -> 0.002129 | G25: =C25*F25*E24 -> 207.9358 | H25: =(G25+H26)/(1+$H$3) -> 403.29755 | I25: =E25*D25 -> 0 | J25: =J26/(1+$H$3) -> 88194.156 | K25: =B25*E24 -> 3418.3904 | L25: =K25+L26/(1+$H$3) -> 6667.069 | M25: =M24*(1+Parameters!$C$12)*Assumptions!$C$5 -> 851.21653 | N25: =M25*E24 -> 831.36868 | O25: =N25+(O26/(1+$H$3)) -> 1645.1655 | P25: =(H25+J25+O25-L25)*$B$3 -> 83575550 | Q25: =ABS(Assumptions!$C$8*'Calculation_Scenario 2'!P25) -> 4178777.5 | R25: =P25+Q25 -> 87754328
A26: 20 | B26: =Parameters!$C$7 -> 3500 | C26: =Parameters!$C$8 -> 100000 | D26: =IF(A26=20,Parameters!$C$9,0) -> 100000 | E26: =E25*(1-F26) -> 0.97234057 | F26: =IF($B$2="M",VLOOKUP($B$1+A25,'Mortality rates'!$B$6:$G$101,2,0),VLOOKUP($B$1+A25,'Mortality rates'!$B$6:$G$101,3,0)) -> 0.002322 | G26: =C26*F26*E25 -> 226.30296 | H26: =(G26+H27)/(1+$H$3) -> 215.52662 | I26: =E26*D26 -> 97234.057 | J26: =I26/(1+$H$3) -> 92603.864 | K26: =B26*E25 -> 3411.1126 | L26: =K26+L27/(1+$H$3) -> 3411.1126 | M26: =M25*(1+Parameters!$C$12)*Assumptions!$C$5 -> 876.75303 | N26: =M26*E25 -> 854.48666 | O26: =N26+(O27/(1+$H$3)) -> 854.48666 | P26: =(H26+J26+O26-L26)*$B$3 -> 90262765 | Q26: =ABS(Assumptions!$C$8*'Calculation_Scenario 2'!P26) -> 4513138.2 | R26: =P26+Q26 -> 94775903

Sheet Summary
C2: Reserve Movement Between Old and New Regime
C4: Base Scenario | D4: 2022
C5: Reserve (Old Regime) | D5: ='Calculation_Old Regime'!P7 -> 0
C6: Removal of Flooring | D6: ='Calculation_Remove Flooring'!P7-'Calculation_Old Regime'!P7 -> -1554258.9
C7: Change in Discount Rate | D7: ='Calculation_New Discount'!P7-'Calculation_Remove Flooring'!P7 -> 9190339.7
C8: Removal of Non Attributable Expenses | D8: 0
C9: Using RA instead of MADs | D9: ='Calculation_Replace MAD with RA'!R7-'Calculation_New Discount'!P7 -> -1134283.2
C10: Reserve (New Regime) | D10: =SUM(D5:D9) -> 6501797.6
B13: 1.a. (i) | C13: Scenario 1 - 70% attributable expenses | D13: 2022 | F13: Scenario 1 - 70% attributable expenses | G13: 2022
C14: Reserve (Old Regime) | D14: ='Calculation_Old Regime'!P7 -> 0 | F14: Reserve (Old Regime) | G14: ='Calculation_Old Regime'!P7 -> 0
C15: Removal of Flooring | D15: ='Calculation_Remove Flooring'!P7-'Calculation_Old Regime'!P7 -> -1554258.9 | F15: Removal of Flooring | G15: ='Calculation_Remove Flooring'!P7-'Calculation_Old Regime'!P7 -> -1554258.9
C16: Change in Discount Rate | D16: ='Calculation_New Discount'!P7-'Calculation_Remove Flooring'!P7 -> 9190339.7 | F16: Change in Discount Rate | G16: ='Calculation_New Discount'!P7-'Calculation_Remove Flooring'!P7 -> 9190339.7
C17: Removal of Non Attributable Expenses | D17: ='Calculation_70% Attributable'!P7-'Calculation_New Discount'!P7 -> -3115682.9 | F17: Using RA instead of MADs | G17: ='Calculation_Replace MAD with RA'!R7-'Calculation_New Discount'!P7 -> -1134283.2
C18: Using RA instead of MADs | D18: ='Calculation_Scenario 1'!R7-'Calculation_70% Attributable'!P7 -> -865968.59 | F18: Removal of Non Attributable Expenses | G18: ='Calculation_Scenario 1'!R7-'Calculation_Replace MAD with RA'!R7 -> -2847368.3
C19: Reserve (New Regime) | D19: =SUM(D14:D18) -> 3654429.3 | F19: Reserve (New Regime) | G19: =SUM(G14:G18) -> 3654429.3
B23: 1.a. (ii) | C23: Scenario 2 - 1% Liquidity premium | D23: 2022
C24: Reserve (Old Regime) | D24: ='Calculation_Old Regime'!P7 -> 0
C25: Removal of Flooring | D25: ='Calculation_Remove Flooring'!P7-'Calculation_Old Regime'!P7 -> -1554258.9
C26: Change in Discount Rate | D26: ='Calculation_Discount_LP_1%'!P7-'Calculation_Remove Flooring'!P7 -> 4039909.2
