Workbook
Name Acc_wealth_current: Parameters!$C$17
Name Annual_Spend: Parameters!$C$16
Name fees_Course_A: Parameters!$C$4
Name fees_Course_B: Parameters!$C$11
Name inflation: Parameters!$C$18
Name int_on_deposit: Parameters!$C$20
Name int_on_loan: Parameters!$C$19
Name Loan_repayment_perc_A: Parameters!$C$6
Name Loan_repayment_perc_B: Parameters!$C$13
Name Moratorium_Course_A: Parameters!$C$7
Name Moratorium_Course_B: Parameters!$C$14
Name proj_period: Parameters!#REF!
Name salary_Course_A: Parameters!$C$5
Name salary_Course_B: Parameters!$C$12
Name Scholarship: 'Projection_Course B_Scholarship'!$C$20
Name Term_Course_A: Parameters!$C$3
Name Term_Course_B: Parameters!$C$10

Sheet Examiner Report
A1: Introduction The Examiners’ Report is written by the Examiners with the aim of helping candidates. The solutions given are only indicative. It is realized that there could be other points as valid answers and examiner have given credit for any alternative approach or interpretation which they consider to be reasonable. The report is written based on the legislative and regulatory context pertaining to the date that the examination was set. Candidates should take into account the possibility that circumstances may have changed if using these reports for revision.
A3: A. General comments on the aims of this subject The aim of this subject is to ensure that the successful candidate can analyse the available data, develop the actuarial models and document the model in the form of an audit trail for a fellow student and senior actuary.
A5: B. Comments on candidates’ performance in this session of the examination Avoid hard-coding and use parameterization of inputs instead. Assign named ranges to parameters for easy reference. Perform Self-checks at every stage of modelling to assure that the derived values are correct. Attempt all sub-parts of the question paper and complete the audit write-up by allocating appropriate time to each section. Identify specific and relevant assumptions to the underlying methodology. Describe all steps of the methodology and the calculation approach. Format of the report should be presentable. Perform spell-check.
A7: B. Pass Mark The Pass Mark for this exam was 50. 176 candidates appeared and 69 passed.
A9: Question | B9: Sub-question | C9: Comments
A10: Q1) Techniques + Checks | B10: Model techniques | C10: The question was generic in nature and did not require specific knowledge of specialized actuarial subjects. Overall, the performance of the candidates was average. Most candidates identified the key model parameters in a separate worksheet. Few candidates used ‘named ranges’ in the Excel model to denote the parameters. The naming convention of the worksheets was logical by most of the candidates. Most of successful candidates created models in simple format, with all the calculations performed in separate tables and worksheets (for each of the different loan or self-funding options).
B11: Self-checks | C11: Almost all the candidates performed the basic checks on the salary data shared and made reasonable corrections in the data. Candidates performed other self-checks in the model but lacks proper justification and documentation of the same in Audit trail and hence lost marks.
B12: Results | C12: Almost all the candidates presented the result projections and graphical presentation as asked in the question paper. The presentation of the results was of varied quality. Only few candidates were able to produce chart with all details e.g., axis title, graph heading etc.
A13: Q2) Audit Trail | B13: Audit Approach | C13: The introductory explanation of the purpose of the exercise was generally reasonable.
C15: Identification of assumptions in the projection model was poorly done by few candidates. The common mistake witnessed was using the data provided as assumptions in the model.
C17: Graph descriptions were missing in most scripts.
B18: Audit Content | C18: Data corrections was well described by most candidates. The audit content was, in general, structured consistently with a logical flow specifying the background, data, methods and results.
C20: Candidates lost marks where specific part of the question was not attempted (for e.g., most commonly the scholarship / goal-seek test etc.). Better candidates explained their self-checks clearly and gave links to the details in the individual worksheets. Few candidates did not complete the audit trail altogether.

Sheet Audit trail
A1: Deciding on the graduation course
A3: Purpose:
A4: XYZ Actuarial Consultants is assisting their client, Mr. A, to decide which course to pursue at college X. The decision needs to be made between Course A and Course B, both of which differ in terms of duration and fee structure. Further, the client has advised that decision be made purely in terms of financial outcomes, specifically, his accumulated wealth 15 years after the date of decision making. This spreadsheet does the following: • Performs checks on the data provided • Estimates the accumulated wealth of Mr. A at end of 15 years, assuming he opts for Course A • Estimates the accumulated wealth of Mr. A at end of 15 years, assuming he opts for Course B • Calculates the financial outcomes for Mr. A if he pays for his education using his personal savings instead of taking a loan • Determine the scholarship amount that Mr. A should get such that his wealth at end of 15 years is independent of the course chosen
A6: Data:
A7: Following data set has been provided: • Annual salary of 100 students graduating from college X (50 from course A and 50 from course B) over last 3 years o This data has been taken from college website o The checks performed and amendments made are dealt with in the next section • Other inputs such as inflation rate, interest rate on bank deposits, tax slabs, etc. and information such as loan agreement clauses, duration of courses, etc. have been provided – these are all tabulated in the Parameters sheet.
A9: Data Checks:
A10: The salary data was copied from the “Salary Data” sheet to the “Data Checks” sheet For each of the past 3 years’ data, checks have been applied to ensure that data entries are not invalid. 1. Minimum Value: • Minimum values of respective years’ salaries have been calculated in cells I4:K4 using MIN function in excel. • Given this is salary data, any zero or negative value would be erroneous. • It is observed that minimum salary in Year X-2 is negative i.e. (-)67,000. This corresponds to salary of student number 55. To correct the same, corresponding positive value has been assumed. • Next, in Year X-1, minimum value is 0 and it corresponds to salary of student number 42, who pursued course A in Year X-1. As a correction, this has been replaced with average salary of other 49 candidates who pursued course A in Year X-1. This has been computed using AVERAGE function of excel. 2. Maximum Value: • Maximum values of respective years’ salaries have been calculated in cells I5:K5 using MAX function in excel. • Given this is salary data, any zero or negative value would be erroneous. • Since both the above expected outcomes are met, there is no reason to consider any changes based on this check. 3. Count check: • Count of data points of respective years’ salaries has been calculated in cells I6:K6 using COUNTA function in excel. • It is stated that data consists of salaries of 100 students each year, hence the value in each of the cells I6:K6 is expected to be 100. • The count of 99 in Year X indicates a missing value, which corresponds to missing entry of salary of student number 72. • As a correction, this blank value has been replaced with average salary of other 49 candidates who pursued same course (B) in Year X. The value has been computed using AVERAGE function of excel. The changes described above were implemented in columns R through T, and the changed data is highlighted in orange. All other cells are just referencing the data provided. The checks were copied across and applied to the amended data to ensure that there are no errors remaining.
A12: Assumptions:
A13: Following assumptions have been made to carry out the required projections: • Yearly cashflow model is good enough approximation for this exercise. • Apart from the data errors discovered, the data supplied is correct • Course begins immediately • For 2-year course, Mr. A takes loan in 2 tranches i.e., as and when payable • Loan is taken only to fund the course fees and all overheads are met from personal savings • The loan repayment structure will remain the same throughout the projection period, i.e., a percentage of salary before meeting the personal expenses • Salary is expected to be received at the end of year. • Loan repayment is made at end of the year post receipt of salary • In the year where the loan is repaid, the interest is applied on the remaining portion of the o/s loan • Personal expenses and annual salary are assumed to increase in line with inflation • Course fees and personal expenses are paid at the end of the year • None of the expenses are tax deductible & hence tax is paid on the entire salary before allowing for any expenses • Mr. A shall keep all his savings in bank account • 3-year average salary is a reasonable estimate of current year salary and does not require inflation/trend adjustment • In base scenario, 100% of the fees is funded from loan • Mr. A gets the job immediately on completion of the course • No tax is paid on investment income
A15: Projection_Course A
A16: This sheet projects yearly cash flows in scenario where Mr. A choses to pursue Course A and take loan on agreed terms. The outcome of these projections is estimation of the accumulated wealth of Mr. A at end of 15 years. Column C through F detail the yearly loan-schedule. The loan availed at start of each year of course is projected in column C. Loan outstanding at start of year (SOY) is computed in column D as loan outstanding at end of previous year (column F) plus any additional loan availed during the year. Column E estimates the loan repayment amount basis information provided i.e., specified percentage of gross salary earned during the year. The repayment amount is floored to the loan outstanding at beginning of year rolled up with interest accrued for the year. • To apply the floor, MIN function of excel has been used Loan outstanding at end of year (EOY) is calculated in column F using the following formula: Loan outstanding at SOY, rolled up with interest on outstanding loan, less repayment made during the year Columns H through N project the following cash flows: The yearly salary income of Mr. A, adjusted for annual inflation, is calculated in column H. The formula uses IF condition in excel to ensure that salary income flows in only after completion of the course. Tax on Salary is calculated in column I as gross salary earned during a year multiplied by appropriate salary-banded tax rate picked from Parameters sheet.. Column J projects the annual expenses that Mr. A is expected to incur over next 15 years. Expenses have been adjusted for yearly inflation. Loan repayment in column K is linked to respective component from loan schedule i.e., column E. Wealth of Mr. A at start of year (SOY) is computed in column L. For first year, wealth is equal to his current accumulated corpus as specified. Thereafter, wealth at SOY is equated to wealth at end of previous year (column N). Column M projects the investment income that Mr. A is expected to earn each year. This is computed as his wealth at SOY multiplied by the bank interest rate. Finally, wealth of Mr. A at end of year (EOY) is calculated in column N using following formula: Wealth at SOY + Salary Income - Tax on Salary – Annual Expense – Loan repayment done during the year + investment income earned during the year Reasonableness check: A check has been applied in column O to see if wealth at EOY increases each year given that salary Mr. A expects to earn is much higher than his cash out flows viz. taxes on salary, annual personal expenses and loan repayment installment. The check seems to be fine except in second year. This is expected because there is no salary income but Mr. A must bears his annual expenditure.
A18: Projection_Course B
... A43: This worksheet shows accumulation of wealth of Mr. A over 15 years in the following scenarios using a line chart: • Course A with loan • Course B with loan • Self-funded course A Reasonableness checks: 1. In projections for Course A, a dent to wealth is seen in year 2, whether Mr. A takes a loan or not. However, the projections for Course B are smooth. This is as expected because Course A has a duration of 2-years and Mr. A starts to earn his salary post that whereas in Course B, Mr. A starts to earn his salary from 2nd year itself. 2. Whenever the interest on loan is higher than the interest earned on bank account, the self-funding scenario will be better. The same can be witnessed in the graph. 3. Longer the duration of the course, later will be the inception of salary income, resulting in depletion of current wealth. This substantiates the initial strain observed in Course A vs Course B. Furthermore, if the salary in a particular scenario is expected to be higher, the eventual accumulation of wealth is expected to be higher over 15-year projection period. This trend of wealth progression under Course A and Course B is witnessed in the graph.

Sheet Salary Data
B2: Annual Salary over last 3 years (₹)
B3: Student No/ Year | C3: Course | D3: Year X-2 | E3: Year X-1 | F3: Year X
B4: 1 | C4: A | D4: 103000 | E4: 94000 | F4: 80000
B5: =B4+1 -> 2 | C5: A | D5: 85000 | E5: 82000 | F5: 97000
B6: =B5+1 -> 3 | C6: A | D6: 90000 | E6: 107000 | F6: 110000
B7: =B6+1 -> 4 | C7: A | D7: 105000 | E7: 83000 | F7: 83000
B8: =B7+1 -> 5 | C8: A | D8: 91000 | E8: 89000 | F8: 88000
B9: =B8+1 -> 6 | C9: A | D9: 81000 | E9: 81000 | F9: 85000
B10: =B9+1 -> 7 | C10: A | D10: 92000 | E10: 93000 | F10: 89000
B11: =B10+1 -> 8 | C11: A | D11: 81000 | E11: 103000 | F11: 93000
B12: =B11+1 -> 9 | C12: A | D12: 109000 | E12: 95000 | F12: 89000
B13: =B12+1 -> 10 | C13: A | D13: 96000 | E13: 107000 | F13: 96000
B14: =B13+1 -> 11 | C14: A | D14: 110000 | E14: 102000 | F14: 105000
B15: =B14+1 -> 12 | C15: A | D15: 102000 | E15: 89000 | F15: 103000
B16: =B15+1 -> 13 | C16: A | D16: 95000 | E16: 109000 | F16: 102000
... B74: =B73+1 -> 71 | C74: B | D74: 79000 | E74: 77000 | F74: 79000
B75: =B74+1 -> 72 | C75: B | D75: 69000 | E75: 72000
B76: =B75+1 -> 73 | C76: B | D76: 75000 | E76: 65000 | F76: 80000
B77: =B76+1 -> 74 | C77: B | D77: 61000 | E77: 63000 | F77: 71000
B78: =B77+1 -> 75 | C78: B | D78: 63000 | E78: 73000 | F78: 80000
B79: =B78+1 -> 76 | C79: B | D79: 70000 | E79: 61000 | F79: 75000
B80: =B79+1 -> 77 | C80: B | D80: 77000 | E80: 63000 | F80: 77000
B81: =B80+1 -> 78 | C81: B | D81: 70000 | E81: 67000 | F81: 79000
B82: =B81+1 -> 79 | C82: B | D82: 75000 | E82: 74000 | F82: 68000
B83: =B82+1 -> 80 | C83: B | D83: 60000 | E83: 77000 | F83: 73000
B84: =B83+1 -> 81 | C84: B | D84: 64000 | E84: 77000 | F84: 69000
B85: =B84+1 -> 82 | C85: B | D85: 80000 | E85: 63000 | F85: 70000
B86: =B85+1 -> 83 | C86: B | D86: 70000 | E86: 68000 | F86: 61000
B87: =B86+1 -> 84 | C87: B | D87: 65000 | E87: 62000 | F87: 79000
... B103: =B102+1 -> 100 | C103: B | D103: 63000 | E103: 74000 | F103: 60000

Sheet Data Checks
B2: Annual Salary over last 3 years (₹) | M2: Annual Salary over last 3 years (₹) - Revised
B3: Student No/ Year | C3: Course | D3: Year X-2 | E3: Year X-1 | F3: Year X | I3: Year X-2 | J3: Year X-1 | K3: Year X | M3: Student No/ Year | N3: Course | O3: Year X-2 | P3: Year X-1 | Q3: Year X | T3: Year X-2 | U3: Year X-1 | V3: Year X
B4: 1 | C4: A | D4: 103000 | E4: 94000 | F4: 80000 | H4: Min | I4: =MIN(D4:D103) -> -67000 | J4: =MIN(E4:E103) -> 0 | K4: =MIN(F4:F103) -> 60000 | M4: 1 | N4: A | O4: =D4 -> 103000 | P4: =E4 -> 94000 | Q4: =F4 -> 80000 | S4: Min | T4: =MIN(O4:O103) -> 60000 | U4: =MIN(P4:P103) -> 60000 | V4: =MIN(Q4:Q103) -> 60000
B5: =B4+1 -> 2 | C5: A | D5: 85000 | E5: 82000 | F5: 97000 | H5: Max | I5: =MAX(D4:D103) -> 110000 | J5: =MAX(E4:E103) -> 110000 | K5: =MAX(F4:F103) -> 110000 | M5: =M4+1 -> 2 | N5: A | O5: =D5 -> 85000 | P5: =E5 -> 82000 | Q5: =F5 -> 97000 | S5: Max | T5: =MAX(O4:O103) -> 110000 | U5: =MAX(P4:P103) -> 110000 | V5: =MAX(Q4:Q103) -> 110000
B6: =B5+1 -> 3 | C6: A | D6: 90000 | E6: 107000 | F6: 110000 | H6: Count | I6: =COUNTA(D4:D103) -> 100 | J6: =COUNTA(E4:E103) -> 100 | K6: =COUNTA(F4:F103) -> 99 | M6: =M5+1 -> 3 | N6: A | O6: =D6 -> 90000 | P6: =E6 -> 107000 | Q6: =F6 -> 110000 | S6: CountA | T6: =COUNTA(O4:O103) -> 100 | U6: =COUNTA(P4:P103) -> 100 | V6: =COUNTA(Q4:Q103) -> 100
B7: =B6+1 -> 4 | C7: A | D7: 105000 | E7: 83000 | F7: 83000 | M7: =M6+1 -> 4 | N7: A | O7: =D7 -> 105000 | P7: =E7 -> 83000 | Q7: =F7 -> 83000 | S7: Checks okay
B8: =B7+1 -> 5 | C8: A | D8: 91000 | E8: 89000 | F8: 88000 | M8: =M7+1 -> 5 | N8: A | O8: =D8 -> 91000 | P8: =E8 -> 89000 | Q8: =F8 -> 88000
B9: =B8+1 -> 6 | C9: A | D9: 81000 | E9: 81000 | F9: 85000 | M9: =M8+1 -> 6 | N9: A | O9: =D9 -> 81000 | P9: =E9 -> 81000 | Q9: =F9 -> 85000
B10: =B9+1 -> 7 | C10: A | D10: 92000 | E10: 93000 | F10: 89000 | M10: =M9+1 -> 7 | N10: A | O10: =D10 -> 92000 | P10: =E10 -> 93000 | Q10: =F10 -> 89000
B11: =B10+1 -> 8 | C11: A | D11: 81000 | E11: 103000 | F11: 93000 | M11: =M10+1 -> 8 | N11: A | O11: =D11 -> 81000 | P11: =E11 -> 103000 | Q11: =F11 -> 93000
B12: =B11+1 -> 9 | C12: A | D12: 109000 | E12: 95000 | F12: 89000 | M12: =M11+1 -> 9 | N12: A | O12: =D12 -> 109000 | P12: =E12 -> 95000 | Q12: =F12 -> 89000
B13: =B12+1 -> 10 | C13: A | D13: 96000 | E13: 107000 | F13: 96000 | M13: =M12+1 -> 10 | N13: A | O13: =D13 -> 96000 | P13: =E13 -> 107000 | Q13: =F13 -> 96000
B14: =B13+1 -> 11 | C14: A | D14: 110000 | E14: 102000 | F14: 105000 | M14: =M13+1 -> 11 | N14: A | O14: =D14 -> 110000 | P14: =E14 -> 102000 | Q14: =F14 -> 105000
B15: =B14+1 -> 12 | C15: A | D15: 102000 | E15: 89000 | F15: 103000 | M15: =M14+1 -> 12 | N15: A | O15: =D15 -> 102000 | P15: =E15 -> 89000 | Q15: =F15 -> 103000
B16: =B15+1 -> 13 | C16: A | D16: 95000 | E16: 109000 | F16: 102000 | M16: =M15+1 -> 13 | N16: A | O16: =D16 -> 95000 | P16: =E16 -> 109000 | Q16: =F16 -> 102000
B17: =B16+1 -> 14 | C17: A | D17: 98000 | E17: 95000 | F17: 85000 | M17: =M16+1 -> 14 | N17: A | O17: =D17 -> 98000 | P17: =E17 -> 95000 | Q17: =F17 -> 85000
B18: =B17+1 -> 15 | C18: A | D18: 89000 | E18: 99000 | F18: 93000 | M18: =M17+1 -> 15 | N18: A | O18: =D18 -> 89000 | P18: =E18 -> 99000 | Q18: =F18 -> 93000
B19: =B18+1 -> 16 | C19: A | D19: 100000 | E19: 104000 | F19: 93000 | M19: =M18+1 -> 16 | N19: A | O19: =D19 -> 100000 | P19: =E19 -> 104000 | Q19: =F19 -> 93000
... B44: =B43+1 -> 41 | C44: A | D44: 84000 | E44: 93000 | F44: 110000 | M44: =M43+1 -> 41 | N44: A | O44: =D44 -> 84000 | P44: =E44 -> 93000 | Q44: =F44 -> 110000
B45: =B44+1 -> 42 | C45: A | D45: 101000 | E45: 0 | F45: 105000 | M45: =M44+1 -> 42 | N45: A | O45: =D45 -> 101000 | P45: =AVERAGE(P4:P44,P46:P53) -> 95408.163 | Q45: =F45 -> 105000
B46: =B45+1 -> 43 | C46: A | D46: 102000 | E46: 94000 | F46: 98000 | M46: =M45+1 -> 43 | N46: A | O46: =D46 -> 102000 | P46: =E46 -> 94000 | Q46: =F46 -> 98000
B47: =B46+1 -> 44 | C47: A | D47: 93000 | E47: 94000 | F47: 84000 | M47: =M46+1 -> 44 | N47: A | O47: =D47 -> 93000 | P47: =E47 -> 94000 | Q47: =F47 -> 84000
B48: =B47+1 -> 45 | C48: A | D48: 88000 | E48: 90000 | F48: 98000 | M48: =M47+1 -> 45 | N48: A | O48: =D48 -> 88000 | P48: =E48 -> 90000 | Q48: =F48 -> 98000
B49: =B48+1 -> 46 | C49: A | D49: 83000 | E49: 88000 | F49: 100000 | M49: =M48+1 -> 46 | N49: A | O49: =D49 -> 83000 | P49: =E49 -> 88000 | Q49: =F49 -> 100000
B50: =B49+1 -> 47 | C50: A | D50: 81000 | E50: 108000 | F50: 106000 | M50: =M49+1 -> 47 | N50: A | O50: =D50 -> 81000 | P50: =E50 -> 108000 | Q50: =F50 -> 106000
B51: =B50+1 -> 48 | C51: A | D51: 83000 | E51: 92000 | F51: 81000 | M51: =M50+1 -> 48 | N51: A | O51: =D51 -> 83000 | P51: =E51 -> 92000 | Q51: =F51 -> 81000
B52: =B51+1 -> 49 | C52: A | D52: 81000 | E52: 95000 | F52: 80000 | M52: =M51+1 -> 49 | N52: A | O52: =D52 -> 81000 | P52: =E52 -> 95000 | Q52: =F52 -> 80000
B53: =B52+1 -> 50 | C53: A | D53: 81000 | E53: 100000 | F53: 89000 | M53: =M52+1 -> 50 | N53: A | O53: =D53 -> 81000 | P53: =E53 -> 100000 | Q53: =F53 -> 89000
B54: =B53+1 -> 51 | C54: B | D54: 68000 | E54: 72000 | F54: 67000 | M54: =M53+1 -> 51 | N54: B | O54: =D54 -> 68000 | P54: =E54 -> 72000 | Q54: =F54 -> 67000
B55: =B54+1 -> 52 | C55: B | D55: 65000 | E55: 62000 | F55: 79000 | M55: =M54+1 -> 52 | N55: B | O55: =D55 -> 65000 | P55: =E55 -> 62000 | Q55: =F55 -> 79000
B56: =B55+1 -> 53 | C56: B | D56: 69000 | E56: 66000 | F56: 73000 | M56: =M55+1 -> 53 | N56: B | O56: =D56 -> 69000 | P56: =E56 -> 66000 | Q56: =F56 -> 73000
B57: =B56+1 -> 54 | C57: B | D57: 70000 | E57: 71000 | F57: 70000 | M57: =M56+1 -> 54 | N57: B | O57: =D57 -> 70000 | P57: =E57 -> 71000 | Q57: =F57 -> 70000
B58: =B57+1 -> 55 | C58: B | D58: -67000 | E58: 68000 | F58: 78000 | M58: =M57+1 -> 55 | N58: B | O58: =D58*-1 -> 67000 | P58: =E58 -> 68000 | Q58: =F58 -> 78000
B59: =B58+1 -> 56 | C59: B | D59: 69000 | E59: 70000 | F59: 62000 | M59: =M58+1 -> 56 | N59: B | O59: =D59 -> 69000 | P59: =E59 -> 70000 | Q59: =F59 -> 62000
B60: =B59+1 -> 57 | C60: B | D60: 70000 | E60: 63000 | F60: 62000 | M60: =M59+1 -> 57 | N60: B | O60: =D60 -> 70000 | P60: =E60 -> 63000 | Q60: =F60 -> 62000
B61: =B60+1 -> 58 | C61: B | D61: 68000 | E61: 66000 | F61: 66000 | M61: =M60+1 -> 58 | N61: B | O61: =D61 -> 68000 | P61: =E61 -> 66000 | Q61: =F61 -> 66000
B62: =B61+1 -> 59 | C62: B | D62: 73000 | E62: 73000 | F62: 70000 | M62: =M61+1 -> 59 | N62: B | O62: =D62 -> 73000 | P62: =E62 -> 73000 | Q62: =F62 -> 70000
B63: =B62+1 -> 60 | C63: B | D63: 70000 | E63: 76000 | F63: 74000 | M63: =M62+1 -> 60 | N63: B | O63: =D63 -> 70000 | P63: =E63 -> 76000 | Q63: =F63 -> 74000
B64: =B63+1 -> 61 | C64: B | D64: 71000 | E64: 67000 | F64: 70000 | M64: =M63+1 -> 61 | N64: B | O64: =D64 -> 71000 | P64: =E64 -> 67000 | Q64: =F64 -> 70000
B65: =B64+1 -> 62 | C65: B | D65: 78000 | E65: 60000 | F65: 62000 | M65: =M64+1 -> 62 | N65: B | O65: =D65 -> 78000 | P65: =E65 -> 60000 | Q65: =F65 -> 62000
...

Sheet Parameters
B2: Course A
B3: Term (Years) | C3: 2 | D3: Term_Course_A
B4: Annual fees (₹) | C4: 60000 | D4: fees_Course_A
B5: Salary post completion of course | C5: =AVERAGEIF('Data Checks'!$N$4:$N$103,"A",'Data Checks'!O4:Q103) -> 95240 | D5: salary_Course A
B6: Loan Instalment as % gross salary | C6: 0.2 | D6: Loan_repayment_perc_A
B7: Loan moratorium period | C7: =Term_Course_A -> 2 | D7: Moratorium_Course_A
B9: Course B
B10: Term | C10: 1 | D10: Term_Course_B
B11: Annual fees | C11: 70000 | D11: fees_Course_B
B12: Salary post completion of course | C12: =AVERAGEIF('Data Checks'!$N$4:$N$103,"B",'Data Checks'!O4:Q103) -> 68800 | D12: salary_Course_B
B13: Loan Instalment as % gross salary | C13: 0.15 | D13: Loan_repayment_perc_B
B14: Loan moratorium period | C14: =Term_Course_B -> 1 | D14: Moratorium_Course_B
B16: Annual Expenses (₹) : Current Year | C16: 20000 | D16: Annual_Spend
B17: Current Accumulated Wealth (₹) | C17: 150000 | D17: Acc_wealth_current
B18: Inflation Rate (p.a.) | C18: 0.05 | D18: inflation
B19: Interest on loan (p.a.) | C19: 0.1 | D19: int_on_loan
B20: Interest Rate on Bank Deposits (p.a.) | C20: 0.06 | D20: int_on_deposit
B22: Salary Band | C22: Tax rates
B23: less than or equal to ₹100,000 | C23: 0.2
B24: higher than ₹100,000 | C24: 0.3

Sheet Projection_Course A
C2: Loan Schedule | H2: Cashflows
B3: Year | C3: Loan Awailed | D3: Loan at BOY | E3: Repayment | F3: Loan at EOY | H3: Salary (EOY) | I3: Tax on Salary | J3: Expenses | K3: Loan/Fee Payment | L3: Wealth at SOY | M3: Interest Income | N3: Wealth at EOY
B4: 1 | C4: =IF(B4<=Term_Course_A,fees_Course_A,0) -> 60000 | D4: =IF(B4=1,C4,C4+F3) -> 60000 | E4: =IF(B4<=Moratorium_Course_A,0,MIN(Loan_repayment_perc_A*H4,D4*(1+int_on_loan))) -> 0 | F4: =IF(D4=E4,0,(D4*(1+int_on_loan)-E4)) -> 66000 | H4: =IF(B4<=Term_Course_A,0,salary_Course_A*(1+inflation)^(B4)) -> 0 | I4: =IF(H4<=100000,Parameters!$C$23,Parameters!$C$24)*H4 -> 0 | J4: =Annual_Spend*(1+inflation)^(B4) -> 21000 | K4: =E4 -> 0 | L4: =IF(B4=1,Acc_wealth_current,N3) -> 150000 | M4: =L4*int_on_deposit -> 9000 | N4: =L4+H4-SUM(I4:K4)+M4 -> 138000
B5: =B4+1 -> 2 | C5: =IF(B5<=Term_Course_A,fees_Course_A,0) -> 60000 | D5: =IF(B5=1,C5,C5+F4) -> 126000 | E5: =IF(B5<=Moratorium_Course_A,0,MIN(Loan_repayment_perc_A*H5,D5*(1+int_on_loan))) -> 0 | F5: =IF(D5=E5,0,(D5*(1+int_on_loan)-E5)) -> 138600 | H5: =IF(B5<=Term_Course_A,0,salary_Course_A*(1+inflation)^(B5)) -> 0 | I5: =IF(H5<=100000,Parameters!$C$23,Parameters!$C$24)*H5 -> 0 | J5: =Annual_Spend*(1+inflation)^(B5) -> 22050 | K5: =E5 -> 0 | L5: =IF(B5=1,Acc_wealth_current,N4) -> 138000 | M5: =L5*int_on_deposit -> 8280 | N5: =L5+H5-SUM(I5:K5)+M5 -> 124230 | O5: =N5>N4 -> FALSE
B6: =B5+1 -> 3 | C6: =IF(B6<=Term_Course_A,fees_Course_A,0) -> 0 | D6: =IF(B6=1,C6,C6+F5) -> 138600 | E6: =IF(B6<=Moratorium_Course_A,0,MIN(Loan_repayment_perc_A*H6,D6*(1+int_on_loan))) -> 22050.441 | F6: =IF(D6=E6,0,(D6*(1+int_on_loan)-E6)) -> 130409.56 | H6: =IF(B6<=Term_Course_A,0,salary_Course_A*(1+inflation)^(B6)) -> 110252.21 | I6: =IF(H6<=100000,Parameters!$C$23,Parameters!$C$24)*H6 -> 33075.662 | J6: =Annual_Spend*(1+inflation)^(B6) -> 23152.5 | K6: =E6 -> 22050.441 | L6: =IF(B6=1,Acc_wealth_current,N5) -> 124230 | M6: =L6*int_on_deposit -> 7453.8 | N6: =L6+H6-SUM(I6:K6)+M6 -> 163657.4 | O6: =N6>N5 -> TRUE
B7: =B6+1 -> 4 | C7: =IF(B7<=Term_Course_A,fees_Course_A,0) -> 0 | D7: =IF(B7=1,C7,C7+F6) -> 130409.56 | E7: =IF(B7<=Moratorium_Course_A,0,MIN(Loan_repayment_perc_A*H7,D7*(1+int_on_loan))) -> 23152.963 | F7: =IF(D7=E7,0,(D7*(1+int_on_loan)-E7)) -> 120297.55 | H7: =IF(B7<=Term_Course_A,0,salary_Course_A*(1+inflation)^(B7)) -> 115764.82 | I7: =IF(H7<=100000,Parameters!$C$23,Parameters!$C$24)*H7 -> 34729.445 | J7: =Annual_Spend*(1+inflation)^(B7) -> 24310.125 | K7: =E7 -> 23152.963 | L7: =IF(B7=1,Acc_wealth_current,N6) -> 163657.4 | M7: =L7*int_on_deposit -> 9819.4441 | N7: =L7+H7-SUM(I7:K7)+M7 -> 207049.13 | O7: =N7>N6 -> TRUE
B8: =B7+1 -> 5 | C8: =IF(B8<=Term_Course_A,fees_Course_A,0) -> 0 | D8: =IF(B8=1,C8,C8+F7) -> 120297.55 | E8: =IF(B8<=Moratorium_Course_A,0,MIN(Loan_repayment_perc_A*H8,D8*(1+int_on_loan))) -> 24310.611 | F8: =IF(D8=E8,0,(D8*(1+int_on_loan)-E8)) -> 108016.7 | H8: =IF(B8<=Term_Course_A,0,salary_Course_A*(1+inflation)^(B8)) -> 121553.06 | I8: =IF(H8<=100000,Parameters!$C$23,Parameters!$C$24)*H8 -> 36465.917 | J8: =Annual_Spend*(1+inflation)^(B8) -> 25525.631 | K8: =E8 -> 24310.611 | L8: =IF(B8=1,Acc_wealth_current,N7) -> 207049.13 | M8: =L8*int_on_deposit -> 12422.948 | N8: =L8+H8-SUM(I8:K8)+M8 -> 254722.97 | O8: =N8>N7 -> TRUE
B9: =B8+1 -> 6 | C9: =IF(B9<=Term_Course_A,fees_Course_A,0) -> 0 | D9: =IF(B9=1,C9,C9+F8) -> 108016.7 | E9: =IF(B9<=Moratorium_Course_A,0,MIN(Loan_repayment_perc_A*H9,D9*(1+int_on_loan))) -> 25526.142 | F9: =IF(D9=E9,0,(D9*(1+int_on_loan)-E9)) -> 93292.224 | H9: =IF(B9<=Term_Course_A,0,salary_Course_A*(1+inflation)^(B9)) -> 127630.71 | I9: =IF(H9<=100000,Parameters!$C$23,Parameters!$C$24)*H9 -> 38289.213 | J9: =Annual_Spend*(1+inflation)^(B9) -> 26801.913 | K9: =E9 -> 25526.142 | L9: =IF(B9=1,Acc_wealth_current,N8) -> 254722.97 | M9: =L9*int_on_deposit -> 15283.378 | N9: =L9+H9-SUM(I9:K9)+M9 -> 307019.79 | O9: =N9>N8 -> TRUE
B10: =B9+1 -> 7 | C10: =IF(B10<=Term_Course_A,fees_Course_A,0) -> 0 | D10: =IF(B10=1,C10,C10+F9) -> 93292.224 | E10: =IF(B10<=Moratorium_Course_A,0,MIN(Loan_repayment_perc_A*H10,D10*(1+int_on_loan))) -> 26802.449 | F10: =IF(D10=E10,0,(D10*(1+int_on_loan)-E10)) -> 75818.997 | H10: =IF(B10<=Term_Course_A,0,salary_Course_A*(1+inflation)^(B10)) -> 134012.24 | I10: =IF(H10<=100000,Parameters!$C$23,Parameters!$C$24)*H10 -> 40203.673 | J10: =Annual_Spend*(1+inflation)^(B10) -> 28142.008 | K10: =E10 -> 26802.449 | L10: =IF(B10=1,Acc_wealth_current,N9) -> 307019.79 | M10: =L10*int_on_deposit -> 18421.188 | N10: =L10+H10-SUM(I10:K10)+M10 -> 364305.1 | O10: =N10>N9 -> TRUE
B11: =B10+1 -> 8 | C11: =IF(B11<=Term_Course_A,fees_Course_A,0) -> 0 | D11: =IF(B11=1,C11,C11+F10) -> 75818.997 | E11: =IF(B11<=Moratorium_Course_A,0,MIN(Loan_repayment_perc_A*H11,D11*(1+int_on_loan))) -> 28142.571 | F11: =IF(D11=E11,0,(D11*(1+int_on_loan)-E11)) -> 55258.326 | H11: =IF(B11<=Term_Course_A,0,salary_Course_A*(1+inflation)^(B11)) -> 140712.86 | I11: =IF(H11<=100000,Parameters!$C$23,Parameters!$C$24)*H11 -> 42213.857 | J11: =Annual_Spend*(1+inflation)^(B11) -> 29549.109 | K11: =E11 -> 28142.571 | L11: =IF(B11=1,Acc_wealth_current,N10) -> 364305.1 | M11: =L11*int_on_deposit -> 21858.306 | N11: =L11+H11-SUM(I11:K11)+M11 -> 426970.72 | O11: =N11>N10 -> TRUE
B12: =B11+1 -> 9 | C12: =IF(B12<=Term_Course_A,fees_Course_A,0) -> 0 | D12: =IF(B12=1,C12,C12+F11) -> 55258.326 | E12: =IF(B12<=Moratorium_Course_A,0,MIN(Loan_repayment_perc_A*H12,D12*(1+int_on_loan))) -> 29549.7 | F12: =IF(D12=E12,0,(D12*(1+int_on_loan)-E12)) -> 31234.458 | H12: =IF(B12<=Term_Course_A,0,salary_Course_A*(1+inflation)^(B12)) -> 147748.5 | I12: =IF(H12<=100000,Parameters!$C$23,Parameters!$C$24)*H12 -> 44324.55 | J12: =Annual_Spend*(1+inflation)^(B12) -> 31026.564 | K12: =E12 -> 29549.7 | L12: =IF(B12=1,Acc_wealth_current,N11) -> 426970.72 | M12: =L12*int_on_deposit -> 25618.243 | N12: =L12+H12-SUM(I12:K12)+M12 -> 495436.65 | O12: =N12>N11 -> TRUE
B13: =B12+1 -> 10 | C13: =IF(B13<=Term_Course_A,fees_Course_A,0) -> 0 | D13: =IF(B13=1,C13,C13+F12) -> 31234.458 | E13: =IF(B13<=Moratorium_Course_A,0,MIN(Loan_repayment_perc_A*H13,D13*(1+int_on_loan))) -> 31027.185 | F13: =IF(D13=E13,0,(D13*(1+int_on_loan)-E13)) -> 3330.7193 | H13: =IF(B13<=Term_Course_A,0,salary_Course_A*(1+inflation)^(B13)) -> 155135.92 | I13: =IF(H13<=100000,Parameters!$C$23,Parameters!$C$24)*H13 -> 46540.777 | J13: =Annual_Spend*(1+inflation)^(B13) -> 32577.893 | K13: =E13 -> 31027.185 | L13: =IF(B13=1,Acc_wealth_current,N12) -> 495436.65 | M13: =L13*int_on_deposit -> 29726.199 | N13: =L13+H13-SUM(I13:K13)+M13 -> 570152.92 | O13: =N13>N12 -> TRUE
B14: =B13+1 -> 11 | C14: =IF(B14<=Term_Course_A,fees_Course_A,0) -> 0 | D14: =IF(B14=1,C14,C14+F13) -> 3330.7193 | E14: =IF(B14<=Moratorium_Course_A,0,MIN(Loan_repayment_perc_A*H14,D14*(1+int_on_loan))) -> 3663.7912 | F14: =IF(D14=E14,0,(D14*(1+int_on_loan)-E14)) -> 0 | H14: =IF(B14<=Term_Course_A,0,salary_Course_A*(1+inflation)^(B14)) -> 162892.72 | I14: =IF(H14<=100000,Parameters!$C$23,Parameters!$C$24)*H14 -> 48867.816 | J14: =Annual_Spend*(1+inflation)^(B14) -> 34206.787 | K14: =E14 -> 3663.7912 | L14: =IF(B14=1,Acc_wealth_current,N13) -> 570152.92 | M14: =L14*int_on_deposit -> 34209.175 | N14: =L14+H14-SUM(I14:K14)+M14 -> 680516.42 | O14: =N14>N13 -> TRUE
B15: =B14+1 -> 12 | C15: =IF(B15<=Term_Course_A,fees_Course_A,0) -> 0 | D15: =IF(B15=1,C15,C15+F14) -> 0 | E15: =IF(B15<=Moratorium_Course_A,0,MIN(Loan_repayment_perc_A*H15,D15*(1+int_on_loan))) -> 0 | F15: =IF(D15=E15,0,(D15*(1+int_on_loan)-E15)) -> 0 | H15: =IF(B15<=Term_Course_A,0,salary_Course_A*(1+inflation)^(B15)) -> 171037.36 | I15: =IF(H15<=100000,Parameters!$C$23,Parameters!$C$24)*H15 -> 51311.207 | J15: =Annual_Spend*(1+inflation)^(B15) -> 35917.127 | K15: =E15 -> 0 | L15: =IF(B15=1,Acc_wealth_current,N14) -> 680516.42 | M15: =L15*int_on_deposit -> 40830.985 | N15: =L15+H15-SUM(I15:K15)+M15 -> 805156.43 | O15: =N15>N14 -> TRUE
B16: =B15+1 -> 13 | C16: =IF(B16<=Term_Course_A,fees_Course_A,0) -> 0 | D16: =IF(B16=1,C16,C16+F15) -> 0 | E16: =IF(B16<=Moratorium_Course_A,0,MIN(Loan_repayment_perc_A*H16,D16*(1+int_on_loan))) -> 0 | F16: =IF(D16=E16,0,(D16*(1+int_on_loan)-E16)) -> 0 | H16: =IF(B16<=Term_Course_A,0,salary_Course_A*(1+inflation)^(B16)) -> 179589.22 | I16: =IF(H16<=100000,Parameters!$C$23,Parameters!$C$24)*H16 -> 53876.767 | J16: =Annual_Spend*(1+inflation)^(B16) -> 37712.983 | K16: =E16 -> 0 | L16: =IF(B16=1,Acc_wealth_current,N15) -> 805156.43 | M16: =L16*int_on_deposit -> 48309.386 | N16: =L16+H16-SUM(I16:K16)+M16 -> 941465.29 | O16: =N16>N15 -> TRUE
... B18: =B17+1 -> 15 | C18: =IF(B18<=Term_Course_A,fees_Course_A,0) -> 0 | D18: =IF(B18=1,C18,C18+F17) -> 0 | E18: =IF(B18<=Moratorium_Course_A,0,MIN(Loan_repayment_perc_A*H18,D18*(1+int_on_loan))) -> 0 | F18: =IF(D18=E18,0,(D18*(1+int_on_loan)-E18)) -> 0 | H18: =IF(B18<=Term_Course_A,0,salary_Course_A*(1+inflation)^(B18)) -> 197997.12 | I18: =IF(H18<=100000,Parameters!$C$23,Parameters!$C$24)*H18 -> 59399.136 | J18: =Annual_Spend*(1+inflation)^(B18) -> 41578.564 | K18: =E18 -> 0 | L18: =IF(B18=1,Acc_wealth_current,N17) -> 1090352.7 | M18: =L18*int_on_deposit -> 65421.159 | N18: =L18+H18-SUM(I18:K18)+M18 -> 1252793.2 | O18: =N18>N17 -> TRUE

Sheet Projection_Self Funding_CourseA
C2: Loan Schedule | H2: Cashflows
B3: Year | C3: Loan Awailed | D3: Loan at BOY | E3: Repayment | F3: Loan at EOY | H3: Salary (EOY) | I3: Tax on Salary | J3: Expenses | K3: Loan/Fee Payment | L3: Wealth at SOY | M3: Interest Income | N3: Wealth at EOY
B4: 1 | C4: 0 | D4: =IF(B4=1,C4,C4+F3) -> 0 | E4: =IF(B4<=Moratorium_Course_A,0,MIN(Loan_repayment_perc_A*H4,D4)) -> 0 | F4: =IF(D4=E4,0,(D4*(1+int_on_loan)-E4)) -> 0 | H4: =IF(B4<=Term_Course_A,0,salary_Course_A*(1+inflation)^(B4)) -> 0 | I4: =IF(H4<=100000,Parameters!$C$23,Parameters!$C$24)*H4 -> 0 | J4: =Annual_Spend*(1+inflation)^(B4) -> 21000 | K4: =IF(B4<=Term_Course_A,fees_Course_A,0) -> 60000 | L4: =IF(B4=1,Acc_wealth_current,N3) -> 150000 | M4: =L4*int_on_deposit -> 9000 | N4: =L4+H4-SUM(I4:K4)+M4 -> 78000
B5: =B4+1 -> 2 | C5: 0 | D5: =IF(B5=1,C5,C5+F4) -> 0 | E5: =IF(B5<=Moratorium_Course_A,0,MIN(Loan_repayment_perc_A*H5,D5)) -> 0 | F5: =IF(D5=E5,0,(D5*(1+int_on_loan)-E5)) -> 0 | H5: =IF(B5<=Term_Course_A,0,salary_Course_A*(1+inflation)^(B5)) -> 0 | I5: =IF(H5<=100000,Parameters!$C$23,Parameters!$C$24)*H5 -> 0 | J5: =Annual_Spend*(1+inflation)^(B5) -> 22050 | K5: =IF(B5<=Term_Course_A,fees_Course_A,0) -> 60000 | L5: =IF(B5=1,Acc_wealth_current,N4) -> 78000 | M5: =L5*int_on_deposit -> 4680 | N5: =L5+H5-SUM(I5:K5)+M5 -> 630 | O5: =N5>N4 -> FALSE
B6: =B5+1 -> 3 | C6: 0 | D6: =IF(B6=1,C6,C6+F5) -> 0 | E6: =IF(B6<=Moratorium_Course_A,0,MIN(Loan_repayment_perc_A*H6,D6)) -> 0 | F6: =IF(D6=E6,0,(D6*(1+int_on_loan)-E6)) -> 0 | H6: =IF(B6<=Term_Course_A,0,salary_Course_A*(1+inflation)^(B6)) -> 110252.21 | I6: =IF(H6<=100000,Parameters!$C$23,Parameters!$C$24)*H6 -> 33075.662 | J6: =Annual_Spend*(1+inflation)^(B6) -> 23152.5 | K6: =IF(B6<=Term_Course_A,fees_Course_A,0) -> 0 | L6: =IF(B6=1,Acc_wealth_current,N5) -> 630 | M6: =L6*int_on_deposit -> 37.8 | N6: =L6+H6-SUM(I6:K6)+M6 -> 54691.844 | O6: =N6>N5 -> TRUE
B7: =B6+1 -> 4 | C7: 0 | D7: =IF(B7=1,C7,C7+F6) -> 0 | E7: =IF(B7<=Moratorium_Course_A,0,MIN(Loan_repayment_perc_A*H7,D7)) -> 0 | F7: =IF(D7=E7,0,(D7*(1+int_on_loan)-E7)) -> 0 | H7: =IF(B7<=Term_Course_A,0,salary_Course_A*(1+inflation)^(B7)) -> 115764.82 | I7: =IF(H7<=100000,Parameters!$C$23,Parameters!$C$24)*H7 -> 34729.445 | J7: =Annual_Spend*(1+inflation)^(B7) -> 24310.125 | K7: =IF(B7<=Term_Course_A,fees_Course_A,0) -> 0 | L7: =IF(B7=1,Acc_wealth_current,N6) -> 54691.844 | M7: =L7*int_on_deposit -> 3281.5106 | N7: =L7+H7-SUM(I7:K7)+M7 -> 114698.6 | O7: =N7>N6 -> TRUE
B8: =B7+1 -> 5 | C8: 0 | D8: =IF(B8=1,C8,C8+F7) -> 0 | E8: =IF(B8<=Moratorium_Course_A,0,MIN(Loan_repayment_perc_A*H8,D8)) -> 0 | F8: =IF(D8=E8,0,(D8*(1+int_on_loan)-E8)) -> 0 | H8: =IF(B8<=Term_Course_A,0,salary_Course_A*(1+inflation)^(B8)) -> 121553.06 | I8: =IF(H8<=100000,Parameters!$C$23,Parameters!$C$24)*H8 -> 36465.917 | J8: =Annual_Spend*(1+inflation)^(B8) -> 25525.631 | K8: =IF(B8<=Term_Course_A,fees_Course_A,0) -> 0 | L8: =IF(B8=1,Acc_wealth_current,N7) -> 114698.6 | M8: =L8*int_on_deposit -> 6881.916 | N8: =L8+H8-SUM(I8:K8)+M8 -> 181142.02 | O8: =N8>N7 -> TRUE
B9: =B8+1 -> 6 | C9: 0 | D9: =IF(B9=1,C9,C9+F8) -> 0 | E9: =IF(B9<=Moratorium_Course_A,0,MIN(Loan_repayment_perc_A*H9,D9)) -> 0 | F9: =IF(D9=E9,0,(D9*(1+int_on_loan)-E9)) -> 0 | H9: =IF(B9<=Term_Course_A,0,salary_Course_A*(1+inflation)^(B9)) -> 127630.71 | I9: =IF(H9<=100000,Parameters!$C$23,Parameters!$C$24)*H9 -> 38289.213 | J9: =Annual_Spend*(1+inflation)^(B9) -> 26801.913 | K9: =IF(B9<=Term_Course_A,fees_Course_A,0) -> 0 | L9: =IF(B9=1,Acc_wealth_current,N8) -> 181142.02 | M9: =L9*int_on_deposit -> 10868.521 | N9: =L9+H9-SUM(I9:K9)+M9 -> 254550.13 | O9: =N9>N8 -> TRUE
B10: =B9+1 -> 7 | C10: 0 | D10: =IF(B10=1,C10,C10+F9) -> 0 | E10: =IF(B10<=Moratorium_Course_A,0,MIN(Loan_repayment_perc_A*H10,D10)) -> 0 | F10: =IF(D10=E10,0,(D10*(1+int_on_loan)-E10)) -> 0 | H10: =IF(B10<=Term_Course_A,0,salary_Course_A*(1+inflation)^(B10)) -> 134012.24 | I10: =IF(H10<=100000,Parameters!$C$23,Parameters!$C$24)*H10 -> 40203.673 | J10: =Annual_Spend*(1+inflation)^(B10) -> 28142.008 | K10: =IF(B10<=Term_Course_A,fees_Course_A,0) -> 0 | L10: =IF(B10=1,Acc_wealth_current,N9) -> 254550.13 | M10: =L10*int_on_deposit -> 15273.008 | N10: =L10+H10-SUM(I10:K10)+M10 -> 335489.7 | O10: =N10>N9 -> TRUE
B11: =B10+1 -> 8 | C11: 0 | D11: =IF(B11=1,C11,C11+F10) -> 0 | E11: =IF(B11<=Moratorium_Course_A,0,MIN(Loan_repayment_perc_A*H11,D11)) -> 0 | F11: =IF(D11=E11,0,(D11*(1+int_on_loan)-E11)) -> 0 | H11: =IF(B11<=Term_Course_A,0,salary_Course_A*(1+inflation)^(B11)) -> 140712.86 | I11: =IF(H11<=100000,Parameters!$C$23,Parameters!$C$24)*H11 -> 42213.857 | J11: =Annual_Spend*(1+inflation)^(B11) -> 29549.109 | K11: =IF(B11<=Term_Course_A,fees_Course_A,0) -> 0 | L11: =IF(B11=1,Acc_wealth_current,N10) -> 335489.7 | M11: =L11*int_on_deposit -> 20129.382 | N11: =L11+H11-SUM(I11:K11)+M11 -> 424568.97 | O11: =N11>N10 -> TRUE
B12: =B11+1 -> 9 | C12: 0 | D12: =IF(B12=1,C12,C12+F11) -> 0 | E12: =IF(B12<=Moratorium_Course_A,0,MIN(Loan_repayment_perc_A*H12,D12)) -> 0 | F12: =IF(D12=E12,0,(D12*(1+int_on_loan)-E12)) -> 0 | H12: =IF(B12<=Term_Course_A,0,salary_Course_A*(1+inflation)^(B12)) -> 147748.5 | I12: =IF(H12<=100000,Parameters!$C$23,Parameters!$C$24)*H12 -> 44324.55 | J12: =Annual_Spend*(1+inflation)^(B12) -> 31026.564 | K12: =IF(B12<=Term_Course_A,fees_Course_A,0) -> 0 | L12: =IF(B12=1,Acc_wealth_current,N11) -> 424568.97 | M12: =L12*int_on_deposit -> 25474.138 | N12: =L12+H12-SUM(I12:K12)+M12 -> 522440.49 | O12: =N12>N11 -> TRUE
B13: =B12+1 -> 10 | C13: 0 | D13: =IF(B13=1,C13,C13+F12) -> 0 | E13: =IF(B13<=Moratorium_Course_A,0,MIN(Loan_repayment_perc_A*H13,D13)) -> 0 | F13: =IF(D13=E13,0,(D13*(1+int_on_loan)-E13)) -> 0 | H13: =IF(B13<=Term_Course_A,0,salary_Course_A*(1+inflation)^(B13)) -> 155135.92 | I13: =IF(H13<=100000,Parameters!$C$23,Parameters!$C$24)*H13 -> 46540.777 | J13: =Annual_Spend*(1+inflation)^(B13) -> 32577.893 | K13: =IF(B13<=Term_Course_A,fees_Course_A,0) -> 0 | L13: =IF(B13=1,Acc_wealth_current,N12) -> 522440.49 | M13: =L13*int_on_deposit -> 31346.43 | N13: =L13+H13-SUM(I13:K13)+M13 -> 629804.18 | O13: =N13>N12 -> TRUE
B14: =B13+1 -> 11 | C14: 0 | D14: =IF(B14=1,C14,C14+F13) -> 0 | E14: =IF(B14<=Moratorium_Course_A,0,MIN(Loan_repayment_perc_A*H14,D14)) -> 0 | F14: =IF(D14=E14,0,(D14*(1+int_on_loan)-E14)) -> 0 | H14: =IF(B14<=Term_Course_A,0,salary_Course_A*(1+inflation)^(B14)) -> 162892.72 | I14: =IF(H14<=100000,Parameters!$C$23,Parameters!$C$24)*H14 -> 48867.816 | J14: =Annual_Spend*(1+inflation)^(B14) -> 34206.787 | K14: =IF(B14<=Term_Course_A,fees_Course_A,0) -> 0 | L14: =IF(B14=1,Acc_wealth_current,N13) -> 629804.18 | M14: =L14*int_on_deposit -> 37788.251 | N14: =L14+H14-SUM(I14:K14)+M14 -> 747410.55 | O14: =N14>N13 -> TRUE
B15: =B14+1 -> 12 | C15: 0 | D15: =IF(B15=1,C15,C15+F14) -> 0 | E15: =IF(B15<=Moratorium_Course_A,0,MIN(Loan_repayment_perc_A*H15,D15)) -> 0 | F15: =IF(D15=E15,0,(D15*(1+int_on_loan)-E15)) -> 0 | H15: =IF(B15<=Term_Course_A,0,salary_Course_A*(1+inflation)^(B15)) -> 171037.36 | I15: =IF(H15<=100000,Parameters!$C$23,Parameters!$C$24)*H15 -> 51311.207 | J15: =Annual_Spend*(1+inflation)^(B15) -> 35917.127 | K15: =IF(B15<=Term_Course_A,fees_Course_A,0) -> 0 | L15: =IF(B15=1,Acc_wealth_current,N14) -> 747410.55 | M15: =L15*int_on_deposit -> 44844.633 | N15: =L15+H15-SUM(I15:K15)+M15 -> 876064.2 | O15: =N15>N14 -> TRUE
B16: =B15+1 -> 13 | C16: 0 | D16: =IF(B16=1,C16,C16+F15) -> 0 | E16: =IF(B16<=Moratorium_Course_A,0,MIN(Loan_repayment_perc_A*H16,D16)) -> 0 | F16: =IF(D16=E16,0,(D16*(1+int_on_loan)-E16)) -> 0 | H16: =IF(B16<=Term_Course_A,0,salary_Course_A*(1+inflation)^(B16)) -> 179589.22 | I16: =IF(H16<=100000,Parameters!$C$23,Parameters!$C$24)*H16 -> 53876.767 | J16: =Annual_Spend*(1+inflation)^(B16) -> 37712.983 | K16: =IF(B16<=Term_Course_A,fees_Course_A,0) -> 0 | L16: =IF(B16=1,Acc_wealth_current,N15) -> 876064.2 | M16: =L16*int_on_deposit -> 52563.852 | N16: =L16+H16-SUM(I16:K16)+M16 -> 1016627.5 | O16: =N16>N15 -> TRUE
... B18: =B17+1 -> 15 | C18: 0 | D18: =IF(B18=1,C18,C18+F17) -> 0 | E18: =IF(B18<=Moratorium_Course_A,0,MIN(Loan_repayment_perc_A*H18,D18)) -> 0 | F18: =IF(D18=E18,0,(D18*(1+int_on_loan)-E18)) -> 0 | H18: =IF(B18<=Term_Course_A,0,salary_Course_A*(1+inflation)^(B18)) -> 197997.12 | I18: =IF(H18<=100000,Parameters!$C$23,Parameters!$C$24)*H18 -> 59399.136 | J18: =Annual_Spend*(1+inflation)^(B18) -> 41578.564 | K18: =IF(B18<=Term_Course_A,fees_Course_A,0) -> 0 | L18: =IF(B18=1,Acc_wealth_current,N17) -> 1170024.6 | M18: =L18*int_on_deposit -> 70201.478 | N18: =L18+H18-SUM(I18:K18)+M18 -> 1337245.5 | O18: =N18>N17 -> TRUE

Sheet Projection_Course B
C2: Loan Schedule | H2: Cashflows
B3: Year | C3: Loan Awailed | D3: Loan at BOY | E3: Repayment | F3: Loan at EOY | H3: Salary (EOY) | I3: Tax on Salary | J3: Expenses | K3: Loan/Fee Payment | L3: Wealth at SOY | M3: Interest Income | N3: Wealth at EOY
B4: 1 | C4: =IF(B4<=Term_Course_B,fees_Course_B,0) -> 70000 | D4: =IF(B4=1,C4,C4+F3) -> 70000 | E4: =IF(B4<=Moratorium_Course_B,0,MIN(Loan_repayment_perc_B*H4,D4*(1+int_on_loan))) -> 0 | F4: =IF(D4=E4,0,(D4*(1+int_on_loan)-E4)) -> 77000 | H4: =IF(B4<=Term_Course_B,0,salary_Course_B*(1+inflation)^(B4)) -> 0 | I4: =IF(H4<=100000,Parameters!$C$23,Parameters!$C$24)*H4 -> 0 | J4: =Annual_Spend*(1+inflation)^(B4) -> 21000 | K4: =E4 -> 0 | L4: =IF(B4=1,Acc_wealth_current,N3) -> 150000 | M4: =L4*int_on_deposit -> 9000 | N4: =L4+H4-SUM(I4:K4)+M4 -> 138000
B5: =B4+1 -> 2 | C5: =IF(B5<=Term_Course_B,fees_Course_B,0) -> 0 | D5: =IF(B5=1,C5,C5+F4) -> 77000 | E5: =IF(B5<=Moratorium_Course_B,0,MIN(Loan_repayment_perc_B*H5,D5*(1+int_on_loan))) -> 11377.8 | F5: =IF(D5=E5,0,(D5*(1+int_on_loan)-E5)) -> 73322.2 | H5: =IF(B5<=Term_Course_B,0,salary_Course_B*(1+inflation)^(B5)) -> 75852 | I5: =IF(H5<=100000,Parameters!$C$23,Parameters!$C$24)*H5 -> 15170.4 | J5: =Annual_Spend*(1+inflation)^(B5) -> 22050 | K5: =E5 -> 11377.8 | L5: =IF(B5=1,Acc_wealth_current,N4) -> 138000 | M5: =L5*int_on_deposit -> 8280 | N5: =L5+H5-SUM(I5:K5)+M5 -> 173533.8 | O5: =N5>N4 -> TRUE
B6: =B5+1 -> 3 | C6: =IF(B6<=Term_Course_B,fees_Course_B,0) -> 0 | D6: =IF(B6=1,C6,C6+F5) -> 73322.2 | E6: =IF(B6<=Moratorium_Course_B,0,MIN(Loan_repayment_perc_B*H6,D6*(1+int_on_loan))) -> 11946.69 | F6: =IF(D6=E6,0,(D6*(1+int_on_loan)-E6)) -> 68707.73 | H6: =IF(B6<=Term_Course_B,0,salary_Course_B*(1+inflation)^(B6)) -> 79644.6 | I6: =IF(H6<=100000,Parameters!$C$23,Parameters!$C$24)*H6 -> 15928.92 | J6: =Annual_Spend*(1+inflation)^(B6) -> 23152.5 | K6: =E6 -> 11946.69 | L6: =IF(B6=1,Acc_wealth_current,N5) -> 173533.8 | M6: =L6*int_on_deposit -> 10412.028 | N6: =L6+H6-SUM(I6:K6)+M6 -> 212562.32 | O6: =N6>N5 -> TRUE
B7: =B6+1 -> 4 | C7: =IF(B7<=Term_Course_B,fees_Course_B,0) -> 0 | D7: =IF(B7=1,C7,C7+F6) -> 68707.73 | E7: =IF(B7<=Moratorium_Course_B,0,MIN(Loan_repayment_perc_B*H7,D7*(1+int_on_loan))) -> 12544.024 | F7: =IF(D7=E7,0,(D7*(1+int_on_loan)-E7)) -> 63034.478 | H7: =IF(B7<=Term_Course_B,0,salary_Course_B*(1+inflation)^(B7)) -> 83626.83 | I7: =IF(H7<=100000,Parameters!$C$23,Parameters!$C$24)*H7 -> 16725.366 | J7: =Annual_Spend*(1+inflation)^(B7) -> 24310.125 | K7: =E7 -> 12544.024 | L7: =IF(B7=1,Acc_wealth_current,N6) -> 212562.32 | M7: =L7*int_on_deposit -> 12753.739 | N7: =L7+H7-SUM(I7:K7)+M7 -> 255363.37 | O7: =N7>N6 -> TRUE
B8: =B7+1 -> 5 | C8: =IF(B8<=Term_Course_B,fees_Course_B,0) -> 0 | D8: =IF(B8=1,C8,C8+F7) -> 63034.478 | E8: =IF(B8<=Moratorium_Course_B,0,MIN(Loan_repayment_perc_B*H8,D8*(1+int_on_loan))) -> 13171.226 | F8: =IF(D8=E8,0,(D8*(1+int_on_loan)-E8)) -> 56166.701 | H8: =IF(B8<=Term_Course_B,0,salary_Course_B*(1+inflation)^(B8)) -> 87808.172 | I8: =IF(H8<=100000,Parameters!$C$23,Parameters!$C$24)*H8 -> 17561.634 | J8: =Annual_Spend*(1+inflation)^(B8) -> 25525.631 | K8: =E8 -> 13171.226 | L8: =IF(B8=1,Acc_wealth_current,N7) -> 255363.37 | M8: =L8*int_on_deposit -> 15321.802 | N8: =L8+H8-SUM(I8:K8)+M8 -> 302234.85 | O8: =N8>N7 -> TRUE
B9: =B8+1 -> 6 | C9: =IF(B9<=Term_Course_B,fees_Course_B,0) -> 0 | D9: =IF(B9=1,C9,C9+F8) -> 56166.701 | E9: =IF(B9<=Moratorium_Course_B,0,MIN(Loan_repayment_perc_B*H9,D9*(1+int_on_loan))) -> 13829.787 | F9: =IF(D9=E9,0,(D9*(1+int_on_loan)-E9)) -> 47953.584 | H9: =IF(B9<=Term_Course_B,0,salary_Course_B*(1+inflation)^(B9)) -> 92198.58 | I9: =IF(H9<=100000,Parameters!$C$23,Parameters!$C$24)*H9 -> 18439.716 | J9: =Annual_Spend*(1+inflation)^(B9) -> 26801.913 | K9: =E9 -> 13829.787 | L9: =IF(B9=1,Acc_wealth_current,N8) -> 302234.85 | M9: =L9*int_on_deposit -> 18134.091 | N9: =L9+H9-SUM(I9:K9)+M9 -> 353496.11 | O9: =N9>N8 -> TRUE
B10: =B9+1 -> 7 | C10: =IF(B10<=Term_Course_B,fees_Course_B,0) -> 0 | D10: =IF(B10=1,C10,C10+F9) -> 47953.584 | E10: =IF(B10<=Moratorium_Course_B,0,MIN(Loan_repayment_perc_B*H10,D10*(1+int_on_loan))) -> 14521.276 | F10: =IF(D10=E10,0,(D10*(1+int_on_loan)-E10)) -> 38227.666 | H10: =IF(B10<=Term_Course_B,0,salary_Course_B*(1+inflation)^(B10)) -> 96808.509 | I10: =IF(H10<=100000,Parameters!$C$23,Parameters!$C$24)*H10 -> 19361.702 | J10: =Annual_Spend*(1+inflation)^(B10) -> 28142.008 | K10: =E10 -> 14521.276 | L10: =IF(B10=1,Acc_wealth_current,N9) -> 353496.11 | M10: =L10*int_on_deposit -> 21209.767 | N10: =L10+H10-SUM(I10:K10)+M10 -> 409489.4 | O10: =N10>N9 -> TRUE
B11: =B10+1 -> 8 | C11: =IF(B11<=Term_Course_B,fees_Course_B,0) -> 0 | D11: =IF(B11=1,C11,C11+F10) -> 38227.666 | E11: =IF(B11<=Moratorium_Course_B,0,MIN(Loan_repayment_perc_B*H11,D11*(1+int_on_loan))) -> 15247.34 | F11: =IF(D11=E11,0,(D11*(1+int_on_loan)-E11)) -> 26803.092 | H11: =IF(B11<=Term_Course_B,0,salary_Course_B*(1+inflation)^(B11)) -> 101648.93 | I11: =IF(H11<=100000,Parameters!$C$23,Parameters!$C$24)*H11 -> 30494.68 | J11: =Annual_Spend*(1+inflation)^(B11) -> 29549.109 | K11: =E11 -> 15247.34 | L11: =IF(B11=1,Acc_wealth_current,N10) -> 409489.4 | M11: =L11*int_on_deposit -> 24569.364 | N11: =L11+H11-SUM(I11:K11)+M11 -> 460416.57 | O11: =N11>N10 -> TRUE
B12: =B11+1 -> 9 | C12: =IF(B12<=Term_Course_B,fees_Course_B,0) -> 0 | D12: =IF(B12=1,C12,C12+F11) -> 26803.092 | E12: =IF(B12<=Moratorium_Course_B,0,MIN(Loan_repayment_perc_B*H12,D12*(1+int_on_loan))) -> 16009.707 | F12: =IF(D12=E12,0,(D12*(1+int_on_loan)-E12)) -> 13473.694 | H12: =IF(B12<=Term_Course_B,0,salary_Course_B*(1+inflation)^(B12)) -> 106731.38 | I12: =IF(H12<=100000,Parameters!$C$23,Parameters!$C$24)*H12 -> 32019.414 | J12: =Annual_Spend*(1+inflation)^(B12) -> 31026.564 | K12: =E12 -> 16009.707 | L12: =IF(B12=1,Acc_wealth_current,N11) -> 460416.57 | M12: =L12*int_on_deposit -> 27624.994 | N12: =L12+H12-SUM(I12:K12)+M12 -> 515717.26 | O12: =N12>N11 -> TRUE
B13: =B12+1 -> 10 | C13: =IF(B13<=Term_Course_B,fees_Course_B,0) -> 0 | D13: =IF(B13=1,C13,C13+F12) -> 13473.694 | E13: =IF(B13<=Moratorium_Course_B,0,MIN(Loan_repayment_perc_B*H13,D13*(1+int_on_loan))) -> 14821.063 | F13: =IF(D13=E13,0,(D13*(1+int_on_loan)-E13)) -> 0 | H13: =IF(B13<=Term_Course_B,0,salary_Course_B*(1+inflation)^(B13)) -> 112067.95 | I13: =IF(H13<=100000,Parameters!$C$23,Parameters!$C$24)*H13 -> 33620.385 | J13: =Annual_Spend*(1+inflation)^(B13) -> 32577.893 | K13: =E13 -> 14821.063 | L13: =IF(B13=1,Acc_wealth_current,N12) -> 515717.26 | M13: =L13*int_on_deposit -> 30943.035 | N13: =L13+H13-SUM(I13:K13)+M13 -> 577708.9 | O13: =N13>N12 -> TRUE
B14: =B13+1 -> 11 | C14: =IF(B14<=Term_Course_B,fees_Course_B,0) -> 0 | D14: =IF(B14=1,C14,C14+F13) -> 0 | E14: =IF(B14<=Moratorium_Course_B,0,MIN(Loan_repayment_perc_B*H14,D14*(1+int_on_loan))) -> 0 | F14: =IF(D14=E14,0,(D14*(1+int_on_loan)-E14)) -> 0 | H14: =IF(B14<=Term_Course_B,0,salary_Course_B*(1+inflation)^(B14)) -> 117671.35 | I14: =IF(H14<=100000,Parameters!$C$23,Parameters!$C$24)*H14 -> 35301.404 | J14: =Annual_Spend*(1+inflation)^(B14) -> 34206.787 | K14: =E14 -> 0 | L14: =IF(B14=1,Acc_wealth_current,N13) -> 577708.9 | M14: =L14*int_on_deposit -> 34662.534 | N14: =L14+H14-SUM(I14:K14)+M14 -> 660534.59 | O14: =N14>N13 -> TRUE
B15: =B14+1 -> 12 | C15: =IF(B15<=Term_Course_B,fees_Course_B,0) -> 0 | D15: =IF(B15=1,C15,C15+F14) -> 0 | E15: =IF(B15<=Moratorium_Course_B,0,MIN(Loan_repayment_perc_B*H15,D15*(1+int_on_loan))) -> 0 | F15: =IF(D15=E15,0,(D15*(1+int_on_loan)-E15)) -> 0 | H15: =IF(B15<=Term_Course_B,0,salary_Course_B*(1+inflation)^(B15)) -> 123554.92 | I15: =IF(H15<=100000,Parameters!$C$23,Parameters!$C$24)*H15 -> 37066.475 | J15: =Annual_Spend*(1+inflation)^(B15) -> 35917.127 | K15: =E15 -> 0 | L15: =IF(B15=1,Acc_wealth_current,N14) -> 660534.59 | M15: =L15*int_on_deposit -> 39632.076 | N15: =L15+H15-SUM(I15:K15)+M15 -> 750737.98 | O15: =N15>N14 -> TRUE
B16: =B15+1 -> 13 | C16: =IF(B16<=Term_Course_B,fees_Course_B,0) -> 0 | D16: =IF(B16=1,C16,C16+F15) -> 0 | E16: =IF(B16<=Moratorium_Course_B,0,MIN(Loan_repayment_perc_B*H16,D16*(1+int_on_loan))) -> 0 | F16: =IF(D16=E16,0,(D16*(1+int_on_loan)-E16)) -> 0 | H16: =IF(B16<=Term_Course_B,0,salary_Course_B*(1+inflation)^(B16)) -> 129732.66 | I16: =IF(H16<=100000,Parameters!$C$23,Parameters!$C$24)*H16 -> 38919.798 | J16: =Annual_Spend*(1+inflation)^(B16) -> 37712.983 | K16: =E16 -> 0 | L16: =IF(B16=1,Acc_wealth_current,N15) -> 750737.98 | M16: =L16*int_on_deposit -> 45044.279 | N16: =L16+H16-SUM(I16:K16)+M16 -> 848882.14 | O16: =N16>N15 -> TRUE
... B18: =B17+1 -> 15 | C18: =IF(B18<=Term_Course_B,fees_Course_B,0) -> 0 | D18: =IF(B18=1,C18,C18+F17) -> 0 | E18: =IF(B18<=Moratorium_Course_B,0,MIN(Loan_repayment_perc_B*H18,D18*(1+int_on_loan))) -> 0 | F18: =IF(D18=E18,0,(D18*(1+int_on_loan)-E18)) -> 0 | H18: =IF(B18<=Term_Course_B,0,salary_Course_B*(1+inflation)^(B18)) -> 143030.26 | I18: =IF(H18<=100000,Parameters!$C$23,Parameters!$C$24)*H18 -> 42909.078 | J18: =Annual_Spend*(1+inflation)^(B18) -> 41578.564 | K18: =E18 -> 0 | L18: =IF(B18=1,Acc_wealth_current,N17) -> 955569.94 | M18: =L18*int_on_deposit -> 57334.197 | N18: =L18+H18-SUM(I18:K18)+M18 -> 1071446.8 | O18: =N18>N17 -> TRUE

Sheet Projection_Course B_Scholarship
C2: Loan Schedule | H2: Cashflows
B3: Year | C3: Loan Awailed | D3: Loan at BOY | E3: Repayment | F3: Loan at EOY | H3: Salary (EOY) | I3: Tax on Salary | J3: Expenses | K3: Loan/Fee Payment | L3: Wealth at SOY | M3: Interest Income | N3: Wealth at EOY
B4: 1 | C4: =IF(B4<=Term_Course_B,fees_Course_B-Scholarship,0) -> 10177.077 | D4: =IF(B4=1,C4,C4+F3) -> 10177.077 | E4: =IF(B4<=Moratorium_Course_B,0,MIN(Loan_repayment_perc_B*H4,D4*(1+int_on_loan))) -> 0 | F4: =IF(D4=E4,0,(D4*(1+int_on_loan)-E4)) -> 11194.785 | H4: =IF(B4<=Term_Course_B,0,salary_Course_B*(1+inflation)^(B4)) -> 0 | I4: =IF(H4<=100000,Parameters!$C$23,Parameters!$C$24)*H4 -> 0 | J4: =Annual_Spend*(1+inflation)^(B4) -> 21000 | K4: =E4 -> 0 | L4: =IF(B4=1,Acc_wealth_current,N3) -> 150000 | M4: =L4*int_on_deposit -> 9000 | N4: =L4+H4-SUM(I4:K4)+M4 -> 138000
B5: =B4+1 -> 2 | C5: =IF(B5<=Term_Course_B,fees_Course_B,0) -> 0 | D5: =IF(B5=1,C5,C5+F4) -> 11194.785 | E5: =IF(B5<=Moratorium_Course_B,0,MIN(Loan_repayment_perc_B*H5,D5*(1+int_on_loan))) -> 11377.8 | F5: =IF(D5=E5,0,(D5*(1+int_on_loan)-E5)) -> 936.46343 | H5: =IF(B5<=Term_Course_B,0,salary_Course_B*(1+inflation)^(B5)) -> 75852 | I5: =IF(H5<=100000,Parameters!$C$23,Parameters!$C$24)*H5 -> 15170.4 | J5: =Annual_Spend*(1+inflation)^(B5) -> 22050 | K5: =E5 -> 11377.8 | L5: =IF(B5=1,Acc_wealth_current,N4) -> 138000 | M5: =L5*int_on_deposit -> 8280 | N5: =L5+H5-SUM(I5:K5)+M5 -> 173533.8 | O5: =N5>N4 -> TRUE
B6: =B5+1 -> 3 | C6: =IF(B6<=Term_Course_B,fees_Course_B,0) -> 0 | D6: =IF(B6=1,C6,C6+F5) -> 936.46343 | E6: =IF(B6<=Moratorium_Course_B,0,MIN(Loan_repayment_perc_B*H6,D6*(1+int_on_loan))) -> 1030.1098 | F6: =IF(D6=E6,0,(D6*(1+int_on_loan)-E6)) -> 0 | H6: =IF(B6<=Term_Course_B,0,salary_Course_B*(1+inflation)^(B6)) -> 79644.6 | I6: =IF(H6<=100000,Parameters!$C$23,Parameters!$C$24)*H6 -> 15928.92 | J6: =Annual_Spend*(1+inflation)^(B6) -> 23152.5 | K6: =E6 -> 1030.1098 | L6: =IF(B6=1,Acc_wealth_current,N5) -> 173533.8 | M6: =L6*int_on_deposit -> 10412.028 | N6: =L6+H6-SUM(I6:K6)+M6 -> 223478.9 | O6: =N6>N5 -> TRUE
B7: =B6+1 -> 4 | C7: =IF(B7<=Term_Course_B,fees_Course_B,0) -> 0 | D7: =IF(B7=1,C7,C7+F6) -> 0 | E7: =IF(B7<=Moratorium_Course_B,0,MIN(Loan_repayment_perc_B*H7,D7*(1+int_on_loan))) -> 0 | F7: =IF(D7=E7,0,(D7*(1+int_on_loan)-E7)) -> 0 | H7: =IF(B7<=Term_Course_B,0,salary_Course_B*(1+inflation)^(B7)) -> 83626.83 | I7: =IF(H7<=100000,Parameters!$C$23,Parameters!$C$24)*H7 -> 16725.366 | J7: =Annual_Spend*(1+inflation)^(B7) -> 24310.125 | K7: =E7 -> 0 | L7: =IF(B7=1,Acc_wealth_current,N6) -> 223478.9 | M7: =L7*int_on_deposit -> 13408.734 | N7: =L7+H7-SUM(I7:K7)+M7 -> 279478.97 | O7: =N7>N6 -> TRUE
B8: =B7+1 -> 5 | C8: =IF(B8<=Term_Course_B,fees_Course_B,0) -> 0 | D8: =IF(B8=1,C8,C8+F7) -> 0 | E8: =IF(B8<=Moratorium_Course_B,0,MIN(Loan_repayment_perc_B*H8,D8*(1+int_on_loan))) -> 0 | F8: =IF(D8=E8,0,(D8*(1+int_on_loan)-E8)) -> 0 | H8: =IF(B8<=Term_Course_B,0,salary_Course_B*(1+inflation)^(B8)) -> 87808.172 | I8: =IF(H8<=100000,Parameters!$C$23,Parameters!$C$24)*H8 -> 17561.634 | J8: =Annual_Spend*(1+inflation)^(B8) -> 25525.631 | K8: =E8 -> 0 | L8: =IF(B8=1,Acc_wealth_current,N7) -> 279478.97 | M8: =L8*int_on_deposit -> 16768.738 | N8: =L8+H8-SUM(I8:K8)+M8 -> 340968.62 | O8: =N8>N7 -> TRUE
B9: =B8+1 -> 6 | C9: =IF(B9<=Term_Course_B,fees_Course_B,0) -> 0 | D9: =IF(B9=1,C9,C9+F8) -> 0 | E9: =IF(B9<=Moratorium_Course_B,0,MIN(Loan_repayment_perc_B*H9,D9*(1+int_on_loan))) -> 0 | F9: =IF(D9=E9,0,(D9*(1+int_on_loan)-E9)) -> 0 | H9: =IF(B9<=Term_Course_B,0,salary_Course_B*(1+inflation)^(B9)) -> 92198.58 | I9: =IF(H9<=100000,Parameters!$C$23,Parameters!$C$24)*H9 -> 18439.716 | J9: =Annual_Spend*(1+inflation)^(B9) -> 26801.913 | K9: =E9 -> 0 | L9: =IF(B9=1,Acc_wealth_current,N8) -> 340968.62 | M9: =L9*int_on_deposit -> 20458.117 | N9: =L9+H9-SUM(I9:K9)+M9 -> 408383.68 | O9: =N9>N8 -> TRUE
B10: =B9+1 -> 7 | C10: =IF(B10<=Term_Course_B,fees_Course_B,0) -> 0 | D10: =IF(B10=1,C10,C10+F9) -> 0 | E10: =IF(B10<=Moratorium_Course_B,0,MIN(Loan_repayment_perc_B*H10,D10*(1+int_on_loan))) -> 0 | F10: =IF(D10=E10,0,(D10*(1+int_on_loan)-E10)) -> 0 | H10: =IF(B10<=Term_Course_B,0,salary_Course_B*(1+inflation)^(B10)) -> 96808.509 | I10: =IF(H10<=100000,Parameters!$C$23,Parameters!$C$24)*H10 -> 19361.702 | J10: =Annual_Spend*(1+inflation)^(B10) -> 28142.008 | K10: =E10 -> 0 | L10: =IF(B10=1,Acc_wealth_current,N9) -> 408383.68 | M10: =L10*int_on_deposit -> 24503.021 | N10: =L10+H10-SUM(I10:K10)+M10 -> 482191.5 | O10: =N10>N9 -> TRUE
B11: =B10+1 -> 8 | C11: =IF(B11<=Term_Course_B,fees_Course_B,0) -> 0 | D11: =IF(B11=1,C11,C11+F10) -> 0 | E11: =IF(B11<=Moratorium_Course_B,0,MIN(Loan_repayment_perc_B*H11,D11*(1+int_on_loan))) -> 0 | F11: =IF(D11=E11,0,(D11*(1+int_on_loan)-E11)) -> 0 | H11: =IF(B11<=Term_Course_B,0,salary_Course_B*(1+inflation)^(B11)) -> 101648.93 | I11: =IF(H11<=100000,Parameters!$C$23,Parameters!$C$24)*H11 -> 30494.68 | J11: =Annual_Spend*(1+inflation)^(B11) -> 29549.109 | K11: =E11 -> 0 | L11: =IF(B11=1,Acc_wealth_current,N10) -> 482191.5 | M11: =L11*int_on_deposit -> 28931.49 | N11: =L11+H11-SUM(I11:K11)+M11 -> 552728.14 | O11: =N11>N10 -> TRUE
B12: =B11+1 -> 9 | C12: =IF(B12<=Term_Course_B,fees_Course_B,0) -> 0 | D12: =IF(B12=1,C12,C12+F11) -> 0 | E12: =IF(B12<=Moratorium_Course_B,0,MIN(Loan_repayment_perc_B*H12,D12*(1+int_on_loan))) -> 0 | F12: =IF(D12=E12,0,(D12*(1+int_on_loan)-E12)) -> 0 | H12: =IF(B12<=Term_Course_B,0,salary_Course_B*(1+inflation)^(B12)) -> 106731.38 | I12: =IF(H12<=100000,Parameters!$C$23,Parameters!$C$24)*H12 -> 32019.414 | J12: =Annual_Spend*(1+inflation)^(B12) -> 31026.564 | K12: =E12 -> 0 | L12: =IF(B12=1,Acc_wealth_current,N11) -> 552728.14 | M12: =L12*int_on_deposit -> 33163.688 | N12: =L12+H12-SUM(I12:K12)+M12 -> 629577.23 | O12: =N12>N11 -> TRUE
B13: =B12+1 -> 10 | C13: =IF(B13<=Term_Course_B,fees_Course_B,0) -> 0 | D13: =IF(B13=1,C13,C13+F12) -> 0 | E13: =IF(B13<=Moratorium_Course_B,0,MIN(Loan_repayment_perc_B*H13,D13*(1+int_on_loan))) -> 0 | F13: =IF(D13=E13,0,(D13*(1+int_on_loan)-E13)) -> 0 | H13: =IF(B13<=Term_Course_B,0,salary_Course_B*(1+inflation)^(B13)) -> 112067.95 | I13: =IF(H13<=100000,Parameters!$C$23,Parameters!$C$24)*H13 -> 33620.385 | J13: =Annual_Spend*(1+inflation)^(B13) -> 32577.893 | K13: =E13 -> 0 | L13: =IF(B13=1,Acc_wealth_current,N12) -> 629577.23 | M13: =L13*int_on_deposit -> 37774.634 | N13: =L13+H13-SUM(I13:K13)+M13 -> 713221.54 | O13: =N13>N12 -> TRUE
B14: =B13+1 -> 11 | C14: =IF(B14<=Term_Course_B,fees_Course_B,0) -> 0 | D14: =IF(B14=1,C14,C14+F13) -> 0 | E14: =IF(B14<=Moratorium_Course_B,0,MIN(Loan_repayment_perc_B*H14,D14*(1+int_on_loan))) -> 0 | F14: =IF(D14=E14,0,(D14*(1+int_on_loan)-E14)) -> 0 | H14: =IF(B14<=Term_Course_B,0,salary_Course_B*(1+inflation)^(B14)) -> 117671.35 | I14: =IF(H14<=100000,Parameters!$C$23,Parameters!$C$24)*H14 -> 35301.404 | J14: =Annual_Spend*(1+inflation)^(B14) -> 34206.787 | K14: =E14 -> 0 | L14: =IF(B14=1,Acc_wealth_current,N13) -> 713221.54 | M14: =L14*int_on_deposit -> 42793.292 | N14: =L14+H14-SUM(I14:K14)+M14 -> 804177.98 | O14: =N14>N13 -> TRUE
B15: =B14+1 -> 12 | C15: =IF(B15<=Term_Course_B,fees_Course_B,0) -> 0 | D15: =IF(B15=1,C15,C15+F14) -> 0 | E15: =IF(B15<=Moratorium_Course_B,0,MIN(Loan_repayment_perc_B*H15,D15*(1+int_on_loan))) -> 0 | F15: =IF(D15=E15,0,(D15*(1+int_on_loan)-E15)) -> 0 | H15: =IF(B15<=Term_Course_B,0,salary_Course_B*(1+inflation)^(B15)) -> 123554.92 | I15: =IF(H15<=100000,Parameters!$C$23,Parameters!$C$24)*H15 -> 37066.475 | J15: =Annual_Spend*(1+inflation)^(B15) -> 35917.127 | K15: =E15 -> 0 | L15: =IF(B15=1,Acc_wealth_current,N14) -> 804177.98 | M15: =L15*int_on_deposit -> 48250.679 | N15: =L15+H15-SUM(I15:K15)+M15 -> 902999.98 | O15: =N15>N14 -> TRUE
B16: =B15+1 -> 13 | C16: =IF(B16<=Term_Course_B,fees_Course_B,0) -> 0 | D16: =IF(B16=1,C16,C16+F15) -> 0 | E16: =IF(B16<=Moratorium_Course_B,0,MIN(Loan_repayment_perc_B*H16,D16*(1+int_on_loan))) -> 0 | F16: =IF(D16=E16,0,(D16*(1+int_on_loan)-E16)) -> 0 | H16: =IF(B16<=Term_Course_B,0,salary_Course_B*(1+inflation)^(B16)) -> 129732.66 | I16: =IF(H16<=100000,Parameters!$C$23,Parameters!$C$24)*H16 -> 38919.798 | J16: =Annual_Spend*(1+inflation)^(B16) -> 37712.983 | K16: =E16 -> 0 | L16: =IF(B16=1,Acc_wealth_current,N15) -> 902999.98 | M16: =L16*int_on_deposit -> 54179.999 | N16: =L16+H16-SUM(I16:K16)+M16 -> 1010279.9 | O16: =N16>N15 -> TRUE
... B18: =B17+1 -> 15 | C18: =IF(B18<=Term_Course_B,fees_Course_B,0) -> 0 | D18: =IF(B18=1,C18,C18+F17) -> 0 | E18: =IF(B18<=Moratorium_Course_B,0,MIN(Loan_repayment_perc_B*H18,D18*(1+int_on_loan))) -> 0 | F18: =IF(D18=E18,0,(D18*(1+int_on_loan)-E18)) -> 0 | H18: =IF(B18<=Term_Course_B,0,salary_Course_B*(1+inflation)^(B18)) -> 143030.26 | I18: =IF(H18<=100000,Parameters!$C$23,Parameters!$C$24)*H18 -> 42909.078 | J18: =Annual_Spend*(1+inflation)^(B18) -> 41578.564 | K18: =E18 -> 0 | L18: =IF(B18=1,Acc_wealth_current,N17) -> 1126651.5 | M18: =L18*int_on_deposit -> 67599.091 | N18: =L18+H18-SUM(I18:K18)+M18 -> 1252793.2 | O18: =N18>N17 -> TRUE
B20: Scholarship (₹) | C20: 59822.923 | D20: Scholarship
B22: Accumulated Wealth (₹)
B23: Course A | C23: ='Projection_Course A'!N18 -> 1252793.2
