Workbook
Name investment: 'Q.2 data'!$E$2

Sheet Q.1 Input 
D1: data for part (i)
C3: Financial Year ending March | D3: Forward rates applicable for the next one year
C5: 2022 | D5: 0.044
C6: =C5+1 -> 2023 | D6: =D5+0.005 -> 0.049
C7: =C6+1 -> 2024 | D7: =D6+0.005 -> 0.054
C8: =C7+1 -> 2025 | D8: =D7+0.005 -> 0.059
C9: =C8+1 -> 2026 | D9: =D8+0.005 -> 0.064
C10: =C9+1 -> 2027
D16: data for part (v)
D19: A | E19: B | F19: C | G19: D
C20: A | D20: 0.88 | E20: 0.05 | F20: 0.04 | G20: 0.03
C21: B | D21: 0.02 | E21: 0.85 | F21: 0.09 | G21: 0.04
C22: C | D22: 0.01 | E22: 0.04 | F22: 0.8 | G22: 0.15
C23: D | D23: 0 | E23: 0 | F23: 0 | G23: 1

Sheet Q.1 (i)
D4: ='Q.1 Input '!C3 -> Financial Year ending March | E4: ='Q.1 Input '!D3 -> Forward rates applicable for the next one year | F4: intermediate_calculation_1 | G4: intermediate_calculation_2 | H4: single risk free rate applicable for the next 5 years
D6: ='Q.1 Input '!C5 -> 2022 | E6: ='Q.1 Input '!D5 -> 0.044 | F6: =(1+E6) -> 1.044
D7: ='Q.1 Input '!C6 -> 2023 | E7: ='Q.1 Input '!D6 -> 0.049 | F7: =(1+E7) -> 1.049 | G7: =F6 -> 1.044
D8: ='Q.1 Input '!C7 -> 2024 | E8: ='Q.1 Input '!D7 -> 0.054 | F8: =(1+E8) -> 1.054 | G8: =F7*G7 -> 1.095156
D9: ='Q.1 Input '!C8 -> 2025 | E9: ='Q.1 Input '!D8 -> 0.059 | F9: =(1+E9) -> 1.059 | G9: =F8*G8 -> 1.1542944
D10: ='Q.1 Input '!C9 -> 2026 | E10: ='Q.1 Input '!D9 -> 0.064 | F10: =(1+E10) -> 1.064 | G10: =F9*G9 -> 1.2223978
D11: ='Q.1 Input '!C10 -> 2027 | G11: =F10*G10 -> 1.3006313 | H11: =G11^(1/(D11-$D$6))-1 -> 0.05397628

Sheet Q.1 (ii)
C1: risk free | D1: ='Q.1 (i)'!H11 -> 0.05397628
C2: risk neutral probability of default | D2: 0.25
C3: Equity value | D3: 2271
C4: nominal loan amount | D4: 10000
C5: duration ( in years) | D5: 5
C6: volatility of equity value | D6: 0.4466 | E6: p.a
D11: sigma _A | E11: = | F11: sigma _E * Equity value at time 0 | I11: divided by | J11: Equity value at time 0 + nominal debt amount * exp(- rt) * prob of not defaulting
D15: prob of not defaulting | F15: =1-D2 -> 0.75
D17: discount value | F17: =EXP(D5*D1*-1) -> 0.76347004
D20: sigma _A | F20: =(D6*D3)/(D3+D4*F17*F15) -> 0.12682573

Sheet Q.1 (iii)
C1: risk free | D1: ='Q.1 (i)'!H11 -> 0.05397628
C2: risk neutral probability of default | D2: ='Q.1 (ii)'!D2 -> 0.25
C3: Equity value | D3: ='Q.1 (ii)'!D3 -> 2271 | H3: method 1
C4: nominal loan amount | D4: ='Q.1 (ii)'!D4 -> 10000
C5: duration ( in years) | D5: ='Q.1 (ii)'!D5 -> 5
C6: volatility of Equity | D6: ='Q.1 (ii)'!D6 -> 0.4466
C7: volatility of Asset | D7: =ROUND('Q.1 (ii)'!F20,4) -> 0.1268
D10: sigma * root t | E10: =(D7*SQRT(D5)) -> 0.28353342
D11: d2 | E11: =NORMSINV(1-D2) -> 0.67448975 | F11: =NORMSDIST(E11) -> 0.75
D12: d1 | E12: =E10+E11 -> 0.95802317 | F12: =NORMSDIST(E12) -> 0.83097446
E14: =D4*EXP(-1*D1*D5)*F11 -> 5726.0253
E16: =D3+E14 -> 7997.0253
C18: iii a | D18: Asset value at t = 0 | E18: =E16/F12 -> 9623.6715
C20: iii b | D20: Dt a t = 0. | E20: =E18-D3 -> 7352.6715
H25: method 2
E32: =E10*E11 -> 0.19124039 | G32: =E12*E10 -> 0.27163159
E36: =(D1-0.5*D7^2)*D5 -> 0.2296858 | G36: =(D1+0.5*D7^2)*D5 -> 0.310077
E40: =E32-E36 -> -0.038445416 | G40: =G32-G36 -> -0.038445416
C43: iii a | D43: Asset value at t = 0 | E43: =EXP(E40)*D4 -> 9622.8423 | G43: =EXP(G40)*D4 -> 9622.8423
C45: iii b | D45: Dt a t = 0. | E45: =E43-D3 -> 7351.8423 | G45: =G43-D3 -> 7351.8423
H52: method 3
F56: 1014.2286
F58: =F12*D7 -> 0.10536756
C60: iii a | E60: Asset value at t = 0 | F60: =F56/F58 -> 9625.6246
C62: iii b | E62: Dt a t = 0. | F62: =F60-D3 -> 7354.6246

Sheet Q.1 (iv)
J6: A | K6: B | L6: C | M6: D | P6: A | Q6: B | R6: C | S6: D | V6: A | W6: B | X6: C | Y6: D | AB6: A | AC6: B | AD6: C | AE6: D
I7: A | J7: =D13 -> 0.88 | K7: =E13 -> 0.05 | L7: =F13 -> 0.04 | M7: =G13 -> 0.03 | O7: A | P7: =J7 -> 0.88 | Q7: =K7 -> 0.05 | R7: =L7 -> 0.04 | S7: =M7 -> 0.03 | U7: A | V7: =P7 -> 0.88 | W7: =Q7 -> 0.05 | X7: =R7 -> 0.04 | Y7: =S7 -> 0.03 | AA7: A | AB7: =V7 -> 0.88 | AC7: =W7 -> 0.05 | AD7: =X7 -> 0.04 | AE7: =Y7 -> 0.03
I8: B | J8: =D14 -> 0.02 | K8: =E14 -> 0.85 | L8: =F14 -> 0.09 | M8: =G14 -> 0.04 | O8: B | P8: =J8 -> 0.02 | Q8: =K8 -> 0.85 | R8: =L8 -> 0.09 | S8: =M8 -> 0.04 | U8: B | V8: =P8 -> 0.02 | W8: =Q8 -> 0.85 | X8: =R8 -> 0.09 | Y8: =S8 -> 0.04 | AA8: B | AB8: =V8 -> 0.02 | AC8: =W8 -> 0.85 | AD8: =X8 -> 0.09 | AE8: =Y8 -> 0.04
D9: transition probabilities for 1 year | I9: C | J9: =D15 -> 0.01 | K9: =E15 -> 0.04 | L9: =F15 -> 0.8 | M9: =G15 -> 0.15 | O9: C | P9: =J9 -> 0.01 | Q9: =K9 -> 0.04 | R9: =L9 -> 0.8 | S9: =M9 -> 0.15 | U9: C | V9: =P9 -> 0.01 | W9: =Q9 -> 0.04 | X9: =R9 -> 0.8 | Y9: =S9 -> 0.15 | AA9: C | AB9: =V9 -> 0.01 | AC9: =W9 -> 0.04 | AD9: =X9 -> 0.8 | AE9: =Y9 -> 0.15
I10: D | J10: =D16 -> 0 | K10: =E16 -> 0 | L10: =F16 -> 0 | M10: =G16 -> 1 | O10: D | P10: =J10 -> 0 | Q10: =K10 -> 0 | R10: =L10 -> 0 | S10: =M10 -> 1 | U10: D | V10: =P10 -> 0 | W10: =Q10 -> 0 | X10: =R10 -> 0 | Y10: =S10 -> 1 | AA10: D | AB10: =V10 -> 0 | AC10: =W10 -> 0 | AD10: =X10 -> 0 | AE10: =Y10 -> 1
D12: A | E12: B | F12: C | G12: D
C13: A | D13: ='Q.1 Input '!D20 -> 0.88 | E13: ='Q.1 Input '!E20 -> 0.05 | F13: ='Q.1 Input '!F20 -> 0.04 | G13: ='Q.1 Input '!G20 -> 0.03 | J13: {=MMULT(D13:G16,J7:M10)} -> 0.7758 | K13: 0.0881 | L13: 0.0717 | M13: 0.0644 | P13: {=MMULT(J13:M16,P7:S10)} -> 0.685183 | Q13: 0.116543 | R13: 0.096321 | S13: 0.101953 | V13: {=MMULT(P13:S16,V7:Y10)} -> 0.60625511 | W13: 0.13717354 | X13: 0.11495299 | Y13: 0.14161836 | AB13: {=MMULT(V13:Y16,AB7:AE10)} -> 0.5373975 | AC13: 0.15150838 | AD13: 0.12855822 | AE13: 0.1825359
C14: B | D14: ='Q.1 Input '!D21 -> 0.02 | E14: ='Q.1 Input '!E21 -> 0.85 | F14: ='Q.1 Input '!F21 -> 0.09 | G14: ='Q.1 Input '!G21 -> 0.04 | J14: 0.0355 | K14: 0.7271 | L14: 0.1493 | M14: 0.0881 | P14: 0.047275 | Q14: 0.625782 | R14: 0.186299 | S14: 0.140644 | V14: 0.05598063 | W14: 0.54173041 | X14: 0.20725058 | Y14: 0.19503838 | AB14: 0.062170068 | AC14: 0.4715599 | AD14: 0.21679543 | AE14: 0.2494746
C15: C | D15: ='Q.1 Input '!D22 -> 0.01 | E15: ='Q.1 Input '!E22 -> 0.04 | F15: ='Q.1 Input '!F22 -> 0.8 | G15: ='Q.1 Input '!G22 -> 0.15 | J15: 0.0176 | K15: 0.0665 | L15: 0.644 | M15: 0.2719 | P15: 0.023258 | Q15: 0.083165 | R15: 0.521889 | S15: 0.371688 | V15: 0.02734923 | W15: 0.09272871 | X15: 0.42592637 | Y15: 0.45399569 | AB15: 0.03018116 | AC15: 0.09722392 | AD15: 0.35018065 | AE15: 0.52241427
C16: D | D16: ='Q.1 Input '!D23 -> 0 | E16: ='Q.1 Input '!E23 -> 0 | F16: ='Q.1 Input '!F23 -> 0 | G16: ='Q.1 Input '!G23 -> 1 | J16: 0 | K16: 0 | L16: 0 | M16: 1 | P16: 0 | Q16: 0 | R16: 0 | S16: 1 | V16: 0 | W16: 0 | X16: 0 | Y16: 1 | AB16: 0 | AC16: 0 | AD16: 0 | AE16: 1
R25: =AE14 -> 0.2494746 | V25: 1
N28: Comments: | P28: Rating is validated as the result is close to 25% | V28: 1
O30: or
G31: matrix multiplication can also be done by:
J33: =$D13*J$7+$E13*J$8+$F13*J$9+$G13*J$10 -> 0.7758 | K33: =$D13*K$7+$E13*K$8+$F13*K$9+$G13*K$10 -> 0.0881 | L33: =$D13*L$7+$E13*L$8+$F13*L$9+$G13*L$10 -> 0.0717 | M33: =$D13*M$7+$E13*M$8+$F13*M$9+$G13*M$10 -> 0.0644 | P33: =$J13*P$7+$K13*P$8+$L13*P$9+$M13*P$10 -> 0.685183 | Q33: =$J13*Q$7+$K13*Q$8+$L13*Q$9+$M13*Q$10 -> 0.116543 | R33: =$J13*R$7+$K13*R$8+$L13*R$9+$M13*R$10 -> 0.096321 | S33: =$J13*S$7+$K13*S$8+$L13*S$9+$M13*S$10 -> 0.101953 | V33: =$P13*V$7+$Q13*V$8+$R13*V$9+$S13*V$10 -> 0.60625511 | W33: =$P13*W$7+$Q13*W$8+$R13*W$9+$S13*W$10 -> 0.13717354 | X33: =$P13*X$7+$Q13*X$8+$R13*X$9+$S13*X$10 -> 0.11495299 | Y33: =$P13*Y$7+$Q13*Y$8+$R13*Y$9+$S13*Y$10 -> 0.14161836 | AB33: =$V13*AB$7+$W13*AB$8+$X13*AB$9+$Y13*AB$10 -> 0.5373975 | AC33: =$V13*AC$7+$W13*AC$8+$X13*AC$9+$Y13*AC$10 -> 0.15150838 | AD33: =$V13*AD$7+$W13*AD$8+$X13*AD$9+$Y13*AD$10 -> 0.12855822 | AE33: =$V13*AE$7+$W13*AE$8+$X13*AE$9+$Y13*AE$10 -> 0.1825359
J34: =$D14*J$7+$E14*J$8+$F14*J$9+$G14*J$10 -> 0.0355 | K34: =$D14*K$7+$E14*K$8+$F14*K$9+$G14*K$10 -> 0.7271 | L34: =$D14*L$7+$E14*L$8+$F14*L$9+$G14*L$10 -> 0.1493 | M34: =$D14*M$7+$E14*M$8+$F14*M$9+$G14*M$10 -> 0.0881 | P34: =$J14*P$7+$K14*P$8+$L14*P$9+$M14*P$10 -> 0.047275 | Q34: =$J14*Q$7+$K14*Q$8+$L14*Q$9+$M14*Q$10 -> 0.625782 | R34: =$J14*R$7+$K14*R$8+$L14*R$9+$M14*R$10 -> 0.186299 | S34: =$J14*S$7+$K14*S$8+$L14*S$9+$M14*S$10 -> 0.140644 | V34: =$P14*V$7+$Q14*V$8+$R14*V$9+$S14*V$10 -> 0.05598063 | W34: =$P14*W$7+$Q14*W$8+$R14*W$9+$S14*W$10 -> 0.54173041 | X34: =$P14*X$7+$Q14*X$8+$R14*X$9+$S14*X$10 -> 0.20725058 | Y34: =$P14*Y$7+$Q14*Y$8+$R14*Y$9+$S14*Y$10 -> 0.19503838 | AB34: =$V14*AB$7+$W14*AB$8+$X14*AB$9+$Y14*AB$10 -> 0.062170068 | AC34: =$V14*AC$7+$W14*AC$8+$X14*AC$9+$Y14*AC$10 -> 0.4715599 | AD34: =$V14*AD$7+$W14*AD$8+$X14*AD$9+$Y14*AD$10 -> 0.21679543 | AE34: =$V14*AE$7+$W14*AE$8+$X14*AE$9+$Y14*AE$10 -> 0.2494746
J35: =$D15*J$7+$E15*J$8+$F15*J$9+$G15*J$10 -> 0.0176 | K35: =$D15*K$7+$E15*K$8+$F15*K$9+$G15*K$10 -> 0.0665 | L35: =$D15*L$7+$E15*L$8+$F15*L$9+$G15*L$10 -> 0.644 | M35: =$D15*M$7+$E15*M$8+$F15*M$9+$G15*M$10 -> 0.2719 | P35: =$J15*P$7+$K15*P$8+$L15*P$9+$M15*P$10 -> 0.023258 | Q35: =$J15*Q$7+$K15*Q$8+$L15*Q$9+$M15*Q$10 -> 0.083165 | R35: =$J15*R$7+$K15*R$8+$L15*R$9+$M15*R$10 -> 0.521889 | S35: =$J15*S$7+$K15*S$8+$L15*S$9+$M15*S$10 -> 0.371688 | V35: =$P15*V$7+$Q15*V$8+$R15*V$9+$S15*V$10 -> 0.02734923 | W35: =$P15*W$7+$Q15*W$8+$R15*W$9+$S15*W$10 -> 0.09272871 | X35: =$P15*X$7+$Q15*X$8+$R15*X$9+$S15*X$10 -> 0.42592637 | Y35: =$P15*Y$7+$Q15*Y$8+$R15*Y$9+$S15*Y$10 -> 0.45399569 | AB35: =$V15*AB$7+$W15*AB$8+$X15*AB$9+$Y15*AB$10 -> 0.03018116 | AC35: =$V15*AC$7+$W15*AC$8+$X15*AC$9+$Y15*AC$10 -> 0.09722392 | AD35: =$V15*AD$7+$W15*AD$8+$X15*AD$9+$Y15*AD$10 -> 0.35018065 | AE35: =$V15*AE$7+$W15*AE$8+$X15*AE$9+$Y15*AE$10 -> 0.52241427
J36: =$D16*J$7+$E16*J$8+$F16*J$9+$G16*J$10 -> 0 | K36: =$D16*K$7+$E16*K$8+$F16*K$9+$G16*K$10 -> 0 | L36: =$D16*L$7+$E16*L$8+$F16*L$9+$G16*L$10 -> 0 | M36: =$D16*M$7+$E16*M$8+$F16*M$9+$G16*M$10 -> 1 | P36: =$J16*P$7+$K16*P$8+$L16*P$9+$M16*P$10 -> 0 | Q36: =$J16*Q$7+$K16*Q$8+$L16*Q$9+$M16*Q$10 -> 0 | R36: =$J16*R$7+$K16*R$8+$L16*R$9+$M16*R$10 -> 0 | S36: =$J16*S$7+$K16*S$8+$L16*S$9+$M16*S$10 -> 1 | V36: =$P16*V$7+$Q16*V$8+$R16*V$9+$S16*V$10 -> 0 | W36: =$P16*W$7+$Q16*W$8+$R16*W$9+$S16*W$10 -> 0 | X36: =$P16*X$7+$Q16*X$8+$R16*X$9+$S16*X$10 -> 0 | Y36: =$P16*Y$7+$Q16*Y$8+$R16*Y$9+$S16*Y$10 -> 1 | AB36: =$V16*AB$7+$W16*AB$8+$X16*AB$9+$Y16*AB$10 -> 0 | AC36: =$V16*AC$7+$W16*AC$8+$X16*AC$9+$Y16*AC$10 -> 0 | AD36: =$V16*AD$7+$W16*AD$8+$X16*AD$9+$Y16*AD$10 -> 0 | AE36: =$V16*AE$7+$W16*AE$8+$X16*AE$9+$Y16*AE$10 -> 1

Sheet Q.2 data
A1: Probability distribution
A2: Equity index return | B2: Probability | D2: Initital investment | E2: 100000
A3: -0.25 | B3: 0.0001
A4: =A3+1% -> -0.24 | B4: 0.0002
A5: =A4+1% -> -0.23 | B5: 0.0003
A6: =A5+1% -> -0.22 | B6: 0.0004
A7: =A6+1% -> -0.21 | B7: 0.0006
A8: =A7+1% -> -0.2 | B8: 0.001
A9: =A8+1% -> -0.19 | B9: 0.0014
A10: =A9+1% -> -0.18 | B10: 0.0021
A11: =A10+1% -> -0.17 | B11: 0.003
A12: =A11+1% -> -0.16 | B12: 0.0042
A13: =A12+1% -> -0.15 | B13: 0.0057
A14: =A13+1% -> -0.14 | B14: 0.0077
A15: =A14+1% -> -0.13 | B15: 0.0102
... A53: =A52+1% -> 0.25 | B53: 0.0001

Sheet Q.2 (i)
A1: Probability distribution
A2: Equity index return | B2: Probability | C2: Return*prob | D2: Value at t=1 | E2: Utility | F2: Utility*prob | H2: Fusion return | I2: Return*prob | J2: Value at t=1 | K2: Utility | L2: Utility*prob | O2: Mean | P2: Expected utility
A3: ='Q.2 data'!A3 -> -0.25 | B3: ='Q.2 data'!B3 -> 0.0001 | C3: =A3*B3 -> -2.5e-05 | D3: =investment*(1+A3) -> 75000 | E3: =D3-0.000002*D3^2 -> 63750 | F3: =B3*E3 -> 6.375 | H3: =MAX(0.025,0.025+0.75*(A3-0.025)) -> 0.025 | I3: =H3*B3 -> 2.5e-06 | J3: =investment*(1+H3) -> 102500 | K3: =J3-0.000002*J3^2 -> 81487.5 | L3: =B3*K3 -> 8.14875 | N3: Fixed Deposit | O3: =investment*1.04 -> 104000 | P3: =O3-0.000002*O3^2 -> 82368
A4: ='Q.2 data'!A4 -> -0.24 | B4: ='Q.2 data'!B4 -> 0.0002 | C4: =A4*B4 -> -4.8e-05 | D4: =investment*(1+A4) -> 76000 | E4: =D4-0.000002*D4^2 -> 64448 | F4: =B4*E4 -> 12.8896 | H4: =MAX(0.025,0.025+0.75*(A4-0.025)) -> 0.025 | I4: =H4*B4 -> 5e-06 | J4: =investment*(1+H4) -> 102500 | K4: =J4-0.000002*J4^2 -> 81487.5 | L4: =B4*K4 -> 16.2975 | N4: Equity tracker | O4: =investment*(1+SUM(C3:C53)) -> 100000 | P4: =SUM(F3:F53) -> 79902.237
A5: ='Q.2 data'!A5 -> -0.23 | B5: ='Q.2 data'!B5 -> 0.0003 | C5: =A5*B5 -> -6.9e-05 | D5: =investment*(1+A5) -> 77000 | E5: =D5-0.000002*D5^2 -> 65142 | F5: =B5*E5 -> 19.5426 | H5: =MAX(0.025,0.025+0.75*(A5-0.025)) -> 0.025 | I5: =H5*B5 -> 7.5e-06 | J5: =investment*(1+H5) -> 102500 | K5: =J5-0.000002*J5^2 -> 81487.5 | L5: =B5*K5 -> 24.44625 | N5: Fusion | O5: =investment*(1+SUM(I3:I53)) -> 103789.55 | P5: =SUM(L3:L53) -> 82233.354
A6: ='Q.2 data'!A6 -> -0.22 | B6: ='Q.2 data'!B6 -> 0.0004 | C6: =A6*B6 -> -8.8e-05 | D6: =investment*(1+A6) -> 78000 | E6: =D6-0.000002*D6^2 -> 65832 | F6: =B6*E6 -> 26.3328 | H6: =MAX(0.025,0.025+0.75*(A6-0.025)) -> 0.025 | I6: =H6*B6 -> 1e-05 | J6: =investment*(1+H6) -> 102500 | K6: =J6-0.000002*J6^2 -> 81487.5 | L6: =B6*K6 -> 32.595
A7: ='Q.2 data'!A7 -> -0.21 | B7: ='Q.2 data'!B7 -> 0.0006 | C7: =A7*B7 -> -0.000126 | D7: =investment*(1+A7) -> 79000 | E7: =D7-0.000002*D7^2 -> 66518 | F7: =B7*E7 -> 39.9108 | H7: =MAX(0.025,0.025+0.75*(A7-0.025)) -> 0.025 | I7: =H7*B7 -> 1.5e-05 | J7: =investment*(1+H7) -> 102500 | K7: =J7-0.000002*J7^2 -> 81487.5 | L7: =B7*K7 -> 48.8925
A8: ='Q.2 data'!A8 -> -0.2 | B8: ='Q.2 data'!B8 -> 0.001 | C8: =A8*B8 -> -0.0002 | D8: =investment*(1+A8) -> 80000 | E8: =D8-0.000002*D8^2 -> 67200 | F8: =B8*E8 -> 67.2 | H8: =MAX(0.025,0.025+0.75*(A8-0.025)) -> 0.025 | I8: =H8*B8 -> 2.5e-05 | J8: =investment*(1+H8) -> 102500 | K8: =J8-0.000002*J8^2 -> 81487.5 | L8: =B8*K8 -> 81.4875
A9: ='Q.2 data'!A9 -> -0.19 | B9: ='Q.2 data'!B9 -> 0.0014 | C9: =A9*B9 -> -0.000266 | D9: =investment*(1+A9) -> 81000 | E9: =D9-0.000002*D9^2 -> 67878 | F9: =B9*E9 -> 95.0292 | H9: =MAX(0.025,0.025+0.75*(A9-0.025)) -> 0.025 | I9: =H9*B9 -> 3.5e-05 | J9: =investment*(1+H9) -> 102500 | K9: =J9-0.000002*J9^2 -> 81487.5 | L9: =B9*K9 -> 114.0825
A10: ='Q.2 data'!A10 -> -0.18 | B10: ='Q.2 data'!B10 -> 0.0021 | C10: =A10*B10 -> -0.000378 | D10: =investment*(1+A10) -> 82000 | E10: =D10-0.000002*D10^2 -> 68552 | F10: =B10*E10 -> 143.9592 | H10: =MAX(0.025,0.025+0.75*(A10-0.025)) -> 0.025 | I10: =H10*B10 -> 5.25e-05 | J10: =investment*(1+H10) -> 102500 | K10: =J10-0.000002*J10^2 -> 81487.5 | L10: =B10*K10 -> 171.12375
A11: ='Q.2 data'!A11 -> -0.17 | B11: ='Q.2 data'!B11 -> 0.003 | C11: =A11*B11 -> -0.00051 | D11: =investment*(1+A11) -> 83000 | E11: =D11-0.000002*D11^2 -> 69222 | F11: =B11*E11 -> 207.666 | H11: =MAX(0.025,0.025+0.75*(A11-0.025)) -> 0.025 | I11: =H11*B11 -> 7.5e-05 | J11: =investment*(1+H11) -> 102500 | K11: =J11-0.000002*J11^2 -> 81487.5 | L11: =B11*K11 -> 244.4625
A12: ='Q.2 data'!A12 -> -0.16 | B12: ='Q.2 data'!B12 -> 0.0042 | C12: =A12*B12 -> -0.000672 | D12: =investment*(1+A12) -> 84000 | E12: =D12-0.000002*D12^2 -> 69888 | F12: =B12*E12 -> 293.5296 | H12: =MAX(0.025,0.025+0.75*(A12-0.025)) -> 0.025 | I12: =H12*B12 -> 0.000105 | J12: =investment*(1+H12) -> 102500 | K12: =J12-0.000002*J12^2 -> 81487.5 | L12: =B12*K12 -> 342.2475
A13: ='Q.2 data'!A13 -> -0.15 | B13: ='Q.2 data'!B13 -> 0.0057 | C13: =A13*B13 -> -0.000855 | D13: =investment*(1+A13) -> 85000 | E13: =D13-0.000002*D13^2 -> 70550 | F13: =B13*E13 -> 402.135 | H13: =MAX(0.025,0.025+0.75*(A13-0.025)) -> 0.025 | I13: =H13*B13 -> 0.0001425 | J13: =investment*(1+H13) -> 102500 | K13: =J13-0.000002*J13^2 -> 81487.5 | L13: =B13*K13 -> 464.47875
A14: ='Q.2 data'!A14 -> -0.14 | B14: ='Q.2 data'!B14 -> 0.0077 | C14: =A14*B14 -> -0.001078 | D14: =investment*(1+A14) -> 86000 | E14: =D14-0.000002*D14^2 -> 71208 | F14: =B14*E14 -> 548.3016 | H14: =MAX(0.025,0.025+0.75*(A14-0.025)) -> 0.025 | I14: =H14*B14 -> 0.0001925 | J14: =investment*(1+H14) -> 102500 | K14: =J14-0.000002*J14^2 -> 81487.5 | L14: =B14*K14 -> 627.45375
A15: ='Q.2 data'!A15 -> -0.13 | B15: ='Q.2 data'!B15 -> 0.0102 | C15: =A15*B15 -> -0.001326 | D15: =investment*(1+A15) -> 87000 | E15: =D15-0.000002*D15^2 -> 71862 | F15: =B15*E15 -> 732.9924 | H15: =MAX(0.025,0.025+0.75*(A15-0.025)) -> 0.025 | I15: =H15*B15 -> 0.000255 | J15: =investment*(1+H15) -> 102500 | K15: =J15-0.000002*J15^2 -> 81487.5 | L15: =B15*K15 -> 831.1725
A16: ='Q.2 data'!A16 -> -0.12 | B16: ='Q.2 data'!B16 -> 0.0131 | C16: =A16*B16 -> -0.001572 | D16: =investment*(1+A16) -> 88000 | E16: =D16-0.000002*D16^2 -> 72512 | F16: =B16*E16 -> 949.9072 | H16: =MAX(0.025,0.025+0.75*(A16-0.025)) -> 0.025 | I16: =H16*B16 -> 0.0003275 | J16: =investment*(1+H16) -> 102500 | K16: =J16-0.000002*J16^2 -> 81487.5 | L16: =B16*K16 -> 1067.4863
A17: ='Q.2 data'!A17 -> -0.11 | B17: ='Q.2 data'!B17 -> 0.0166 | C17: =A17*B17 -> -0.001826 | D17: =investment*(1+A17) -> 89000 | E17: =D17-0.000002*D17^2 -> 73158 | F17: =B17*E17 -> 1214.4228 | H17: =MAX(0.025,0.025+0.75*(A17-0.025)) -> 0.025 | I17: =H17*B17 -> 0.000415 | J17: =investment*(1+H17) -> 102500 | K17: =J17-0.000002*J17^2 -> 81487.5 | L17: =B17*K17 -> 1352.6925
... A53: ='Q.2 data'!A53 -> 0.25 | B53: ='Q.2 data'!B53 -> 0.0001 | C53: =A53*B53 -> 2.5e-05 | D53: =investment*(1+A53) -> 125000 | E53: =D53-0.000002*D53^2 -> 93750 | F53: =B53*E53 -> 9.375 | H53: =MAX(0.025,0.025+0.75*(A53-0.025)) -> 0.19375 | I53: =H53*B53 -> 1.9375e-05 | J53: =investment*(1+H53) -> 119375 | K53: =J53-0.000002*J53^2 -> 90874.219 | L53: =B53*K53 -> 9.0874219

Sheet Q.2 (ii)
A1: Probability distribution
A2: Equity index return | B2: Utility | D2: Chart:
A3: ='Q.2 data'!A3 -> -0.25 | B3: ='Q.2 (i)'!E3 -> 63750
A4: ='Q.2 data'!A4 -> -0.24 | B4: ='Q.2 (i)'!E4 -> 64448
A5: ='Q.2 data'!A5 -> -0.23 | B5: ='Q.2 (i)'!E5 -> 65142
A6: ='Q.2 data'!A6 -> -0.22 | B6: ='Q.2 (i)'!E6 -> 65832
A7: ='Q.2 data'!A7 -> -0.21 | B7: ='Q.2 (i)'!E7 -> 66518
A8: ='Q.2 data'!A8 -> -0.2 | B8: ='Q.2 (i)'!E8 -> 67200
A9: ='Q.2 data'!A9 -> -0.19 | B9: ='Q.2 (i)'!E9 -> 67878
A10: ='Q.2 data'!A10 -> -0.18 | B10: ='Q.2 (i)'!E10 -> 68552
A11: ='Q.2 data'!A11 -> -0.17 | B11: ='Q.2 (i)'!E11 -> 69222
A12: ='Q.2 data'!A12 -> -0.16 | B12: ='Q.2 (i)'!E12 -> 69888
A13: ='Q.2 data'!A13 -> -0.15 | B13: ='Q.2 (i)'!E13 -> 70550
A14: ='Q.2 data'!A14 -> -0.14 | B14: ='Q.2 (i)'!E14 -> 71208
... A53: ='Q.2 data'!A53 -> 0.25 | B53: ='Q.2 (i)'!E53 -> 93750

Sheet Q.2 (iii)
A2: Comments for (a):
A3: Constant relative risk aversion would give a curved line on the chart
A4: With the gradient reducing as wealth increases
A5: Although this the shape we see in (v)…
A6: ...the utility function we have plotted is quadratic…
A7: …which exhibits increasing relative risk aversion
A8: So a line with constant relative risk aversion would be less curved than the line we have plotted
A14: Comments for (b):
A15: A risk-neutral utility function has U''(w) = 0
A16: The chart might show a straight line…
A17: …but this depends on the utility function chosen…
A18: ...because it depends on U’’’(w) which isn’t easily observable

Sheet Q.2 (iv)
A1: Probability distribution
A2: Equity index return | B2: Probability | C2: Return*prob | D2: Value at t=1 | E2: Utility | F2: Utility*prob | H2: Fusion return | I2: Return*prob | J2: Value at t=1 | K2: Utility | L2: Utility*prob | O2: Mean | P2: Expected utility
A3: ='Q.2 data'!A3 -> -0.25 | B3: ='Q.2 data'!B3 -> 0.0001 | C3: =A3*B3 -> -2.5e-05 | D3: =2*investment*(1+A3) -> 150000 | E3: =5000*LN(D3) -> 59591.953 | F3: =B3*E3 -> 5.9591953 | H3: =MAX(0.025,0.025+0.75*(A3-0.025)) -> 0.025 | I3: =H3*B3 -> 2.5e-06 | J3: =2*investment*(1+H3) -> 205000 | K3: =5000*LN(J3) -> 61153.826 | L3: =B3*K3 -> 6.1153826 | N3: Fixed Deposit | O3: =2*investment*1.04 -> 208000 | P3: =5000*LN(O3) -> 61226.467
A4: ='Q.2 data'!A4 -> -0.24 | B4: ='Q.2 data'!B4 -> 0.0002 | C4: =A4*B4 -> -4.8e-05 | D4: =2*investment*(1+A4) -> 152000 | E4: =5000*LN(D4) -> 59658.179 | F4: =B4*E4 -> 11.931636 | H4: =MAX(0.025,0.025+0.75*(A4-0.025)) -> 0.025 | I4: =H4*B4 -> 5e-06 | J4: =2*investment*(1+H4) -> 205000 | K4: =5000*LN(J4) -> 61153.826 | L4: =B4*K4 -> 12.230765 | N4: Equity tracker | O4: =2*investment*(1+SUM(C3:C53)) -> 200000 | P4: =5000*LN(O4) -> 61030.363
A5: ='Q.2 data'!A5 -> -0.23 | B5: ='Q.2 data'!B5 -> 0.0003 | C5: =A5*B5 -> -6.9e-05 | D5: =2*investment*(1+A5) -> 154000 | E5: =5000*LN(D5) -> 59723.539 | F5: =B5*E5 -> 17.917062 | H5: =MAX(0.025,0.025+0.75*(A5-0.025)) -> 0.025 | I5: =H5*B5 -> 7.5e-06 | J5: =2*investment*(1+H5) -> 205000 | K5: =5000*LN(J5) -> 61153.826 | L5: =B5*K5 -> 18.346148 | N5: Fusion | O5: =2*investment*(1+SUM(I3:I53)) -> 207579.1 | P5: =5000*LN(O5) -> 61216.339
A6: ='Q.2 data'!A6 -> -0.22 | B6: ='Q.2 data'!B6 -> 0.0004 | C6: =A6*B6 -> -8.8e-05 | D6: =2*investment*(1+A6) -> 156000 | E6: =5000*LN(D6) -> 59788.056 | F6: =B6*E6 -> 23.915223 | H6: =MAX(0.025,0.025+0.75*(A6-0.025)) -> 0.025 | I6: =H6*B6 -> 1e-05 | J6: =2*investment*(1+H6) -> 205000 | K6: =5000*LN(J6) -> 61153.826 | L6: =B6*K6 -> 24.461531
A7: ='Q.2 data'!A7 -> -0.21 | B7: ='Q.2 data'!B7 -> 0.0006 | C7: =A7*B7 -> -0.000126 | D7: =2*investment*(1+A7) -> 158000 | E7: =5000*LN(D7) -> 59851.752 | F7: =B7*E7 -> 35.911051 | H7: =MAX(0.025,0.025+0.75*(A7-0.025)) -> 0.025 | I7: =H7*B7 -> 1.5e-05 | J7: =2*investment*(1+H7) -> 205000 | K7: =5000*LN(J7) -> 61153.826 | L7: =B7*K7 -> 36.692296
A8: ='Q.2 data'!A8 -> -0.2 | B8: ='Q.2 data'!B8 -> 0.001 | C8: =A8*B8 -> -0.0002 | D8: =2*investment*(1+A8) -> 160000 | E8: =5000*LN(D8) -> 59914.645 | F8: =B8*E8 -> 59.914645 | H8: =MAX(0.025,0.025+0.75*(A8-0.025)) -> 0.025 | I8: =H8*B8 -> 2.5e-05 | J8: =2*investment*(1+H8) -> 205000 | K8: =5000*LN(J8) -> 61153.826 | L8: =B8*K8 -> 61.153826
A9: ='Q.2 data'!A9 -> -0.19 | B9: ='Q.2 data'!B9 -> 0.0014 | C9: =A9*B9 -> -0.000266 | D9: =2*investment*(1+A9) -> 162000 | E9: =5000*LN(D9) -> 59976.758 | F9: =B9*E9 -> 83.967461 | H9: =MAX(0.025,0.025+0.75*(A9-0.025)) -> 0.025 | I9: =H9*B9 -> 3.5e-05 | J9: =2*investment*(1+H9) -> 205000 | K9: =5000*LN(J9) -> 61153.826 | L9: =B9*K9 -> 85.615357
A10: ='Q.2 data'!A10 -> -0.18 | B10: ='Q.2 data'!B10 -> 0.0021 | C10: =A10*B10 -> -0.000378 | D10: =2*investment*(1+A10) -> 164000 | E10: =5000*LN(D10) -> 60038.109 | F10: =B10*E10 -> 126.08003 | H10: =MAX(0.025,0.025+0.75*(A10-0.025)) -> 0.025 | I10: =H10*B10 -> 5.25e-05 | J10: =2*investment*(1+H10) -> 205000 | K10: =5000*LN(J10) -> 61153.826 | L10: =B10*K10 -> 128.42304
A11: ='Q.2 data'!A11 -> -0.17 | B11: ='Q.2 data'!B11 -> 0.003 | C11: =A11*B11 -> -0.00051 | D11: =2*investment*(1+A11) -> 166000 | E11: =5000*LN(D11) -> 60098.715 | F11: =B11*E11 -> 180.29615 | H11: =MAX(0.025,0.025+0.75*(A11-0.025)) -> 0.025 | I11: =H11*B11 -> 7.5e-05 | J11: =2*investment*(1+H11) -> 205000 | K11: =5000*LN(J11) -> 61153.826 | L11: =B11*K11 -> 183.46148
A12: ='Q.2 data'!A12 -> -0.16 | B12: ='Q.2 data'!B12 -> 0.0042 | C12: =A12*B12 -> -0.000672 | D12: =2*investment*(1+A12) -> 168000 | E12: =5000*LN(D12) -> 60158.596 | F12: =B12*E12 -> 252.6661 | H12: =MAX(0.025,0.025+0.75*(A12-0.025)) -> 0.025 | I12: =H12*B12 -> 0.000105 | J12: =2*investment*(1+H12) -> 205000 | K12: =5000*LN(J12) -> 61153.826 | L12: =B12*K12 -> 256.84607
A13: ='Q.2 data'!A13 -> -0.15 | B13: ='Q.2 data'!B13 -> 0.0057 | C13: =A13*B13 -> -0.000855 | D13: =2*investment*(1+A13) -> 170000 | E13: =5000*LN(D13) -> 60217.769 | F13: =B13*E13 -> 343.24128 | H13: =MAX(0.025,0.025+0.75*(A13-0.025)) -> 0.025 | I13: =H13*B13 -> 0.0001425 | J13: =2*investment*(1+H13) -> 205000 | K13: =5000*LN(J13) -> 61153.826 | L13: =B13*K13 -> 348.57681
A14: ='Q.2 data'!A14 -> -0.14 | B14: ='Q.2 data'!B14 -> 0.0077 | C14: =A14*B14 -> -0.001078 | D14: =2*investment*(1+A14) -> 172000 | E14: =5000*LN(D14) -> 60276.249 | F14: =B14*E14 -> 464.12712 | H14: =MAX(0.025,0.025+0.75*(A14-0.025)) -> 0.025 | I14: =H14*B14 -> 0.0001925 | J14: =2*investment*(1+H14) -> 205000 | K14: =5000*LN(J14) -> 61153.826 | L14: =B14*K14 -> 470.88446
A15: ='Q.2 data'!A15 -> -0.13 | B15: ='Q.2 data'!B15 -> 0.0102 | C15: =A15*B15 -> -0.001326 | D15: =2*investment*(1+A15) -> 174000 | E15: =5000*LN(D15) -> 60334.053 | F15: =B15*E15 -> 615.40734 | H15: =MAX(0.025,0.025+0.75*(A15-0.025)) -> 0.025 | I15: =H15*B15 -> 0.000255 | J15: =2*investment*(1+H15) -> 205000 | K15: =5000*LN(J15) -> 61153.826 | L15: =B15*K15 -> 623.76903
A16: ='Q.2 data'!A16 -> -0.12 | B16: ='Q.2 data'!B16 -> 0.0131 | C16: =A16*B16 -> -0.001572 | D16: =2*investment*(1+A16) -> 176000 | E16: =5000*LN(D16) -> 60391.196 | F16: =B16*E16 -> 791.12467 | H16: =MAX(0.025,0.025+0.75*(A16-0.025)) -> 0.025 | I16: =H16*B16 -> 0.0003275 | J16: =2*investment*(1+H16) -> 205000 | K16: =5000*LN(J16) -> 61153.826 | L16: =B16*K16 -> 801.11512
A17: ='Q.2 data'!A17 -> -0.11 | B17: ='Q.2 data'!B17 -> 0.0166 | C17: =A17*B17 -> -0.001826 | D17: =2*investment*(1+A17) -> 178000 | E17: =5000*LN(D17) -> 60447.694 | F17: =B17*E17 -> 1003.4317 | H17: =MAX(0.025,0.025+0.75*(A17-0.025)) -> 0.025 | I17: =H17*B17 -> 0.000415 | J17: =2*investment*(1+H17) -> 205000 | K17: =5000*LN(J17) -> 61153.826 | L17: =B17*K17 -> 1015.1535
... A53: ='Q.2 data'!A53 -> 0.25 | B53: ='Q.2 data'!B53 -> 0.0001 | C53: =A53*B53 -> 2.5e-05 | D53: =2*investment*(1+A53) -> 250000 | E53: =5000*LN(D53) -> 62146.081 | F53: =B53*E53 -> 6.2146081 | H53: =MAX(0.025,0.025+0.75*(A53-0.025)) -> 0.19375 | I53: =H53*B53 -> 1.9375e-05 | J53: =2*investment*(1+H53) -> 238750 | K53: =5000*LN(J53) -> 61915.861 | L53: =B53*K53 -> 6.1915861

Sheet Q.2 (v)
A1: Probability distribution
A2: Equity index return | B2: Utility | D2: Chart:
A3: ='Q.2 data'!A3 -> -0.25 | B3: ='Q.2 (iv)'!K3 -> 61153.826
A4: ='Q.2 data'!A4 -> -0.24 | B4: ='Q.2 (iv)'!K4 -> 61153.826
A5: ='Q.2 data'!A5 -> -0.23 | B5: ='Q.2 (iv)'!K5 -> 61153.826
A6: ='Q.2 data'!A6 -> -0.22 | B6: ='Q.2 (iv)'!K6 -> 61153.826
A7: ='Q.2 data'!A7 -> -0.21 | B7: ='Q.2 (iv)'!K7 -> 61153.826
A8: ='Q.2 data'!A8 -> -0.2 | B8: ='Q.2 (iv)'!K8 -> 61153.826
A9: ='Q.2 data'!A9 -> -0.19 | B9: ='Q.2 (iv)'!K9 -> 61153.826
A10: ='Q.2 data'!A10 -> -0.18 | B10: ='Q.2 (iv)'!K10 -> 61153.826
A11: ='Q.2 data'!A11 -> -0.17 | B11: ='Q.2 (iv)'!K11 -> 61153.826
A12: ='Q.2 data'!A12 -> -0.16 | B12: ='Q.2 (iv)'!K12 -> 61153.826
A13: ='Q.2 data'!A13 -> -0.15 | B13: ='Q.2 (iv)'!K13 -> 61153.826
A14: ='Q.2 data'!A14 -> -0.14 | B14: ='Q.2 (iv)'!K14 -> 61153.826
... A53: ='Q.2 data'!A53 -> 0.25 | B53: ='Q.2 (iv)'!K53 -> 61915.861

Sheet Q.2 (vi)
A2: Comments
A3: The log utility function exhibits declining absolute risk reversion.
A4: It also exhibits constant relative risk reversion
A5: This is consistent with an investor who keeps constant proportion of wealth invested in
A6: riskier assets as they grow richer
A7: The investor's utility maximisation choice is independent of future periods

Sheet Q.3 (i)
A1: St | B1: 52
A2: σ | B2: 0.15
A3: K | B3: 47.5
A5: Value of Zero Coupon Bond | B5: 93.7
A6: risk free rate of interest | B6: =-LN(B5/100) -> 0.065071997
A8: d1 | B8: =(LN(B1/B3)+(B6+(B2^2/2)))/B2 -> 1.11224
A9: d2 | B9: =B8-B2 -> 0.96224003
A11: N(d1) | B11: =_xlfn.NORM.DIST(B8,0,1,TRUE) -> 0.86698252
A12: N(d2) | B12: =_xlfn.NORM.DIST(B9,0,1,TRUE) -> 0.83203548
A14: Price of Put Option | B14: =B3*EXP(-B6)*(1-B12) - B1*(1-B11) -> 0.55877201
A16: Number of Options that can be purchased | B16: =QUOTIENT(1000,B14) -> 1789
A17: remaining money | B17: =1000- (B14*B16) -> 0.35686861

Sheet Q.3 (ii)
A1: Current Share Price | B1: 10
B3: Values | C3: Probability
A4: Zt | B4: 1.2 | C4: 0.55
B5: 0.8 | C5: 0.45
A7: r | B7: 0.05
A9: Strike Price | B9: 11.5
A11: Payoff if Share Price Goes up | B11: =(B1*B4)-B9 -> 0.5
A12: Payoff if Share Price Goes Down | B12: =MAX((B1*B5)-B9,0) -> 0
A14: Expected Payoff | B14: =B11*C4+B12*C5 -> 0.275

Sheet Q.3 (iii)
A2: Current Share Price | B2: 600
A3: u | B3: 1.02
A4: d | B4: =1-0.01 -> 0.99
A5: r | B5: 0.001
A7: q | B7: =(EXP(B5)-B4)/(B3-B4) -> 0.36668334
A9: Daily Movement of Share price
A10: Day | B10: 0 | C10: 1 | D10: 2 | E10: 3 | F10: 4 | G10: 5 | H10: 6 | I10: 7 | J10: 8 | K10: 9 | L10: 10 | M10: 11 | N10: 12 | O10: 13 | P10: 14 | Q10: 15 | R10: 16 | S10: 17 | T10: 18 | U10: 19 | V10: 20 | W10: 21 | X10: 22 | Y10: 23 | Z10: 24 | AA10: 25 | AB10: 26 | AC10: 27 | AD10: 28 | AE10: 29 | AF10: 30
A12: Share Price Movement | B12: =B2 -> 600 | C12: =IF(B11="",IF(B12="","",B12*$B$3),B11*$B$4) -> 612 | D12: =IF(C11="",IF(C12="","",C12*$B$3),C11*$B$4) -> 624.24 | E12: =IF(D11="",IF(D12="","",D12*$B$3),D11*$B$4) -> 636.7248 | F12: =IF(E11="",IF(E12="","",E12*$B$3),E11*$B$4) -> 649.4593 | G12: =IF(F11="",IF(F12="","",F12*$B$3),F11*$B$4) -> 662.44848 | H12: =IF(G11="",IF(G12="","",G12*$B$3),G11*$B$4) -> 675.69745 | I12: =IF(H11="",IF(H12="","",H12*$B$3),H11*$B$4) -> 689.2114 | J12: =IF(I11="",IF(I12="","",I12*$B$3),I11*$B$4) -> 702.99563 | ... AF12: =IF(AE11="",IF(AE12="","",AE12*$B$3),AE11*$B$4) -> 1086.817
C13: =IF(B12="",IF(B13="","",B13*$B$3),B12*$B$4) -> 594 | D13: =IF(C12="",IF(C13="","",C13*$B$3),C12*$B$4) -> 605.88 | E13: =IF(D12="",IF(D13="","",D13*$B$3),D12*$B$4) -> 617.9976 | F13: =IF(E12="",IF(E13="","",E13*$B$3),E12*$B$4) -> 630.35755 | G13: =IF(F12="",IF(F13="","",F13*$B$3),F12*$B$4) -> 642.9647 | H13: =IF(G12="",IF(G13="","",G13*$B$3),G12*$B$4) -> 655.824 | I13: =IF(H12="",IF(H13="","",H13*$B$3),H12*$B$4) -> 668.94048 | J13: =IF(I12="",IF(I13="","",I13*$B$3),I12*$B$4) -> 682.31929 | ... AF13: =IF(AE12="",IF(AE13="","",AE13*$B$3),AE12*$B$4) -> 1054.8517
C14: =IF(B13="",IF(B14="","",B14*$B$3),B13*$B$4) | D14: =IF(C13="",IF(C14="","",C14*$B$3),C13*$B$4) -> 588.06 | E14: =IF(D13="",IF(D14="","",D14*$B$3),D13*$B$4) -> 599.8212 | F14: =IF(E13="",IF(E14="","",E14*$B$3),E13*$B$4) -> 611.81762 | G14: =IF(F13="",IF(F14="","",F14*$B$3),F13*$B$4) -> 624.05398 | H14: =IF(G13="",IF(G14="","",G14*$B$3),G13*$B$4) -> 636.53506 | I14: =IF(H13="",IF(H14="","",H14*$B$3),H13*$B$4) -> 649.26576 | J14: =IF(I13="",IF(I14="","",I14*$B$3),I13*$B$4) -> 662.25107 | ... AF14: =IF(AE13="",IF(AE14="","",AE14*$B$3),AE13*$B$4) -> 1023.8267
C15: =IF(B14="",IF(A14="","",A14*$B$3),B14*$B$4) | D15: =IF(C14="",IF(C15="","",C15*$B$3),C14*$B$4) | E15: =IF(D14="",IF(D15="","",D15*$B$3),D14*$B$4) -> 582.1794 | F15: =IF(E14="",IF(E15="","",E15*$B$3),E14*$B$4) -> 593.82299 | G15: =IF(F14="",IF(F15="","",F15*$B$3),F14*$B$4) -> 605.69945 | H15: =IF(G14="",IF(G15="","",G15*$B$3),G14*$B$4) -> 617.81344 | I15: =IF(H14="",IF(H15="","",H15*$B$3),H14*$B$4) -> 630.16971 | J15: =IF(I14="",IF(I15="","",I15*$B$3),I14*$B$4) -> 642.7731 | K15: =IF(J14="",IF(J15="","",J15*$B$3),J14*$B$4) -> 655.62856 | ... AF15: =IF(AE14="",IF(AE15="","",AE15*$B$3),AE14*$B$4) -> 993.71414
C16: =IF(A14="",IF(B16="","",B16*$B$3),A14*$B$4) | D16: =IF(C15="",IF(C16="","",C16*$B$3),C15*$B$4) | E16: =IF(D15="",IF(D16="","",D16*$B$3),D15*$B$4) | F16: =IF(E15="",IF(E16="","",E16*$B$3),E15*$B$4) -> 576.35761 | G16: =IF(F15="",IF(F16="","",F16*$B$3),F15*$B$4) -> 587.88476 | H16: =IF(G15="",IF(G16="","",G16*$B$3),G15*$B$4) -> 599.64245 | I16: =IF(H15="",IF(H16="","",H16*$B$3),H15*$B$4) -> 611.6353 | J16: =IF(I15="",IF(I16="","",I16*$B$3),I15*$B$4) -> 623.86801 | K16: =IF(J15="",IF(J16="","",J16*$B$3),J15*$B$4) -> 636.34537 | ... AF16: =IF(AE15="",IF(AE16="","",AE16*$B$3),AE15*$B$4) -> 964.48726
C17: =IF(B16="",IF(B17="","",B17*$B$3),B16*$B$4) | D17: =IF(C16="",IF(C17="","",C17*$B$3),C16*$B$4) | E17: =IF(D16="",IF(D17="","",D17*$B$3),D16*$B$4) | F17: =IF(E16="",IF(E17="","",E17*$B$3),E16*$B$4) | G17: =IF(F16="",IF(F17="","",F17*$B$3),F16*$B$4) -> 570.59403 | H17: =IF(G16="",IF(G17="","",G17*$B$3),G16*$B$4) -> 582.00591 | I17: =IF(H16="",IF(H17="","",H17*$B$3),H16*$B$4) -> 593.64603 | J17: =IF(I16="",IF(I17="","",I17*$B$3),I16*$B$4) -> 605.51895 | ... AF17: =IF(AE16="",IF(AE17="","",AE17*$B$3),AE16*$B$4) -> 936.11999
C18: =IF(B17="",IF(B18="","",B18*$B$3),B17*$B$4) | D18: =IF(C17="",IF(C18="","",C18*$B$3),C17*$B$4) | E18: =IF(D17="",IF(D18="","",D18*$B$3),D17*$B$4) | F18: =IF(E17="",IF(E18="","",E18*$B$3),E17*$B$4) | G18: =IF(F17="",IF(F18="","",F18*$B$3),F17*$B$4) | H18: =IF(G17="",IF(G18="","",G18*$B$3),G17*$B$4) -> 564.88809 | I18: =IF(H17="",IF(H18="","",H18*$B$3),H17*$B$4) -> 576.18585 | J18: =IF(I17="",IF(I18="","",I18*$B$3),I17*$B$4) -> 587.70957 | ... AF18: =IF(AE17="",IF(AE18="","",AE18*$B$3),AE17*$B$4) -> 908.58705
C19: =IF(B18="",IF(B19="","",B19*$B$3),B18*$B$4) | D19: =IF(C18="",IF(C19="","",C19*$B$3),C18*$B$4) | E19: =IF(D18="",IF(D19="","",D19*$B$3),D18*$B$4) | F19: =IF(E18="",IF(E19="","",E19*$B$3),E18*$B$4) | G19: =IF(F18="",IF(F19="","",F19*$B$3),F18*$B$4) | H19: =IF(G18="",IF(G19="","",G19*$B$3),G18*$B$4) | I19: =IF(H18="",IF(H19="","",H19*$B$3),H18*$B$4) -> 559.23921 | J19: =IF(I18="",IF(I19="","",I19*$B$3),I18*$B$4) -> 570.42399 | ... AF19: =IF(AE18="",IF(AE19="","",AE19*$B$3),AE18*$B$4) -> 881.8639
C20: =IF(B19="",IF(B20="","",B20*$B$3),B19*$B$4) | D20: =IF(C19="",IF(C20="","",C20*$B$3),C19*$B$4) | E20: =IF(D19="",IF(D20="","",D20*$B$3),D19*$B$4) | F20: =IF(E19="",IF(E20="","",E20*$B$3),E19*$B$4) | G20: =IF(F19="",IF(F20="","",F20*$B$3),F19*$B$4) | H20: =IF(G19="",IF(G20="","",G20*$B$3),G19*$B$4) | I20: =IF(H19="",IF(H20="","",H20*$B$3),H19*$B$4) | J20: =IF(I19="",IF(I20="","",I20*$B$3),I19*$B$4) -> 553.64682 | ... AF20: =IF(AE19="",IF(AE20="","",AE20*$B$3),AE19*$B$4) -> 855.92672
C21: =IF(B20="",IF(B21="","",B21*$B$3),B20*$B$4) | D21: =IF(C20="",IF(C21="","",C21*$B$3),C20*$B$4) | E21: =IF(D20="",IF(D21="","",D21*$B$3),D20*$B$4) | F21: =IF(E20="",IF(E21="","",E21*$B$3),E20*$B$4) | G21: =IF(F20="",IF(F21="","",F21*$B$3),F20*$B$4) | H21: =IF(G20="",IF(G21="","",G21*$B$3),G20*$B$4) | I21: =IF(H20="",IF(H21="","",H21*$B$3),H20*$B$4) | J21: =IF(I20="",IF(I21="","",I21*$B$3),I20*$B$4) | ... AF21: =IF(AE20="",IF(AE21="","",AE21*$B$3),AE20*$B$4) -> 830.75241
C22: =IF(B21="",IF(B22="","",B22*$B$3),B21*$B$4) | D22: =IF(C21="",IF(C22="","",C22*$B$3),C21*$B$4) | E22: =IF(D21="",IF(D22="","",D22*$B$3),D21*$B$4) | F22: =IF(E21="",IF(E22="","",E22*$B$3),E21*$B$4) | G22: =IF(F21="",IF(F22="","",F22*$B$3),F21*$B$4) | H22: =IF(G21="",IF(G22="","",G22*$B$3),G21*$B$4) | I22: =IF(H21="",IF(H22="","",H22*$B$3),H21*$B$4) | J22: =IF(I21="",IF(I22="","",I22*$B$3),I21*$B$4) | ... AF22: =IF(AE21="",IF(AE22="","",AE22*$B$3),AE21*$B$4) -> 806.31851
C23: =IF(B22="",IF(B23="","",B23*$B$3),B22*$B$4) | D23: =IF(C22="",IF(C23="","",C23*$B$3),C22*$B$4) | E23: =IF(D22="",IF(D23="","",D23*$B$3),D22*$B$4) | F23: =IF(E22="",IF(E23="","",E23*$B$3),E22*$B$4) | G23: =IF(F22="",IF(F23="","",F23*$B$3),F22*$B$4) | H23: =IF(G22="",IF(G23="","",G23*$B$3),G22*$B$4) | I23: =IF(H22="",IF(H23="","",H23*$B$3),H22*$B$4) | J23: =IF(I22="",IF(I23="","",I23*$B$3),I22*$B$4) | ... AF23: =IF(AE22="",IF(AE23="","",AE23*$B$3),AE22*$B$4) -> 782.60326
C24: =IF(B23="",IF(B24="","",B24*$B$3),B23*$B$4) | D24: =IF(C23="",IF(C24="","",C24*$B$3),C23*$B$4) | E24: =IF(D23="",IF(D24="","",D24*$B$3),D23*$B$4) | F24: =IF(E23="",IF(E24="","",E24*$B$3),E23*$B$4) | G24: =IF(F23="",IF(F24="","",F24*$B$3),F23*$B$4) | H24: =IF(G23="",IF(G24="","",G24*$B$3),G23*$B$4) | I24: =IF(H23="",IF(H24="","",H24*$B$3),H23*$B$4) | J24: =IF(I23="",IF(I24="","",I24*$B$3),I23*$B$4) | ... AF24: =IF(AE23="",IF(AE24="","",AE24*$B$3),AE23*$B$4) -> 759.58552
C25: =IF(B24="",IF(B25="","",B25*$B$3),B24*$B$4) | D25: =IF(C24="",IF(C25="","",C25*$B$3),C24*$B$4) | E25: =IF(D24="",IF(D25="","",D25*$B$3),D24*$B$4) | F25: =IF(E24="",IF(E25="","",E25*$B$3),E24*$B$4) | G25: =IF(F24="",IF(F25="","",F25*$B$3),F24*$B$4) | H25: =IF(G24="",IF(G25="","",G25*$B$3),G24*$B$4) | I25: =IF(H24="",IF(H25="","",H25*$B$3),H24*$B$4) | J25: =IF(I24="",IF(I25="","",I25*$B$3),I24*$B$4) | ... AF25: =IF(AE24="",IF(AE25="","",AE25*$B$3),AE24*$B$4) -> 737.24477
C26: =IF(B25="",IF(B26="","",B26*$B$3),B25*$B$4) | D26: =IF(C25="",IF(C26="","",C26*$B$3),C25*$B$4) | E26: =IF(D25="",IF(D26="","",D26*$B$3),D25*$B$4) | F26: =IF(E25="",IF(E26="","",E26*$B$3),E25*$B$4) | G26: =IF(F25="",IF(F26="","",F26*$B$3),F25*$B$4) | H26: =IF(G25="",IF(G26="","",G26*$B$3),G25*$B$4) | I26: =IF(H25="",IF(H26="","",H26*$B$3),H25*$B$4) | J26: =IF(I25="",IF(I26="","",I26*$B$3),I25*$B$4) | ... AF26: =IF(AE25="",IF(AE26="","",AE26*$B$3),AE25*$B$4) -> 715.5611
C27: =IF(B26="",IF(B27="","",B27*$B$3),B26*$B$4) | D27: =IF(C26="",IF(C27="","",C27*$B$3),C26*$B$4) | E27: =IF(D26="",IF(D27="","",D27*$B$3),D26*$B$4) | F27: =IF(E26="",IF(E27="","",E27*$B$3),E26*$B$4) | G27: =IF(F26="",IF(F27="","",F27*$B$3),F26*$B$4) | H27: =IF(G26="",IF(G27="","",G27*$B$3),G26*$B$4) | I27: =IF(H26="",IF(H27="","",H27*$B$3),H26*$B$4) | J27: =IF(I26="",IF(I27="","",I27*$B$3),I26*$B$4) | ... AF27: =IF(AE26="",IF(AE27="","",AE27*$B$3),AE26*$B$4) -> 694.51519
C28: =IF(B27="",IF(B28="","",B28*$B$3),B27*$B$4) | D28: =IF(C27="",IF(C28="","",C28*$B$3),C27*$B$4) | E28: =IF(D27="",IF(D28="","",D28*$B$3),D27*$B$4) | F28: =IF(E27="",IF(E28="","",E28*$B$3),E27*$B$4) | G28: =IF(F27="",IF(F28="","",F28*$B$3),F27*$B$4) | H28: =IF(G27="",IF(G28="","",G28*$B$3),G27*$B$4) | I28: =IF(H27="",IF(H28="","",H28*$B$3),H27*$B$4) | J28: =IF(I27="",IF(I28="","",I28*$B$3),I27*$B$4) | ... AF28: =IF(AE27="",IF(AE28="","",AE28*$B$3),AE27*$B$4) -> 674.08827
... C42: =IF(B41="",IF(B42="","",B42*$B$3),B41*$B$4) | D42: =IF(C41="",IF(C42="","",C42*$B$3),C41*$B$4) | E42: =IF(D41="",IF(D42="","",D42*$B$3),D41*$B$4) | F42: =IF(E41="",IF(E42="","",E42*$B$3),E41*$B$4) | G42: =IF(F41="",IF(F42="","",F42*$B$3),F41*$B$4) | H42: =IF(G41="",IF(G42="","",G42*$B$3),G41*$B$4) | I42: =IF(H41="",IF(H42="","",H42*$B$3),H41*$B$4) | J42: =IF(I41="",IF(I42="","",I42*$B$3),I41*$B$4) | ... AF42: =IF(AE41="",IF(AE42="","",AE42*$B$3),AE41*$B$4) -> 443.82022

Sheet Q.3 (iv)
A2: Current Share Price | B2: 600 | D2: Strike Price | E2: 595
A3: u | B3: 1.02 | D3: European Put Value | E3: =B48 -> 9.2642285
A4: d | B4: =1-0.01 -> 0.99
A5: r | B5: 0.001
A7: q | B7: =(EXP(B5)-B4)/(B3-B4) -> 0.36668334
A9: Daily Movement of Share price
A10: Day | B10: 0 | C10: 1 | D10: 2 | E10: 3 | F10: 4 | G10: 5 | H10: 6 | I10: 7 | J10: 8 | K10: 9 | L10: 10 | M10: 11 | N10: 12 | O10: 13 | P10: 14 | Q10: 15 | R10: 16 | S10: 17 | T10: 18 | U10: 19 | V10: 20 | W10: 21 | X10: 22 | Y10: 23 | Z10: 24 | AA10: 25 | AB10: 26 | AC10: 27 | AD10: 28 | AE10: 29 | AF10: 30
A12: Share Price Movement | B12: =B2 -> 600 | C12: =IF(B11="",IF(B12="","",B12*$B$3),B11*$B$4) -> 612 | D12: =IF(C11="",IF(C12="","",C12*$B$3),C11*$B$4) -> 624.24 | E12: =IF(D11="",IF(D12="","",D12*$B$3),D11*$B$4) -> 636.7248 | F12: =IF(E11="",IF(E12="","",E12*$B$3),E11*$B$4) -> 649.4593 | G12: =IF(F11="",IF(F12="","",F12*$B$3),F11*$B$4) -> 662.44848 | H12: =IF(G11="",IF(G12="","",G12*$B$3),G11*$B$4) -> 675.69745 | I12: =IF(H11="",IF(H12="","",H12*$B$3),H11*$B$4) -> 689.2114 | J12: =IF(I11="",IF(I12="","",I12*$B$3),I11*$B$4) -> 702.99563 | ... AF12: =IF(AE11="",IF(AE12="","",AE12*$B$3),AE11*$B$4) -> 1086.817
C13: =IF(B12="",IF(B13="","",B13*$B$3),B12*$B$4) -> 594 | D13: =IF(C12="",IF(C13="","",C13*$B$3),C12*$B$4) -> 605.88 | E13: =IF(D12="",IF(D13="","",D13*$B$3),D12*$B$4) -> 617.9976 | F13: =IF(E12="",IF(E13="","",E13*$B$3),E12*$B$4) -> 630.35755 | G13: =IF(F12="",IF(F13="","",F13*$B$3),F12*$B$4) -> 642.9647 | H13: =IF(G12="",IF(G13="","",G13*$B$3),G12*$B$4) -> 655.824 | I13: =IF(H12="",IF(H13="","",H13*$B$3),H12*$B$4) -> 668.94048 | J13: =IF(I12="",IF(I13="","",I13*$B$3),I12*$B$4) -> 682.31929 | ... AF13: =IF(AE12="",IF(AE13="","",AE13*$B$3),AE12*$B$4) -> 1054.8517
C14: =IF(B13="",IF(B14="","",B14*$B$3),B13*$B$4) | D14: =IF(C13="",IF(C14="","",C14*$B$3),C13*$B$4) -> 588.06 | E14: =IF(D13="",IF(D14="","",D14*$B$3),D13*$B$4) -> 599.8212 | F14: =IF(E13="",IF(E14="","",E14*$B$3),E13*$B$4) -> 611.81762 | G14: =IF(F13="",IF(F14="","",F14*$B$3),F13*$B$4) -> 624.05398 | H14: =IF(G13="",IF(G14="","",G14*$B$3),G13*$B$4) -> 636.53506 | I14: =IF(H13="",IF(H14="","",H14*$B$3),H13*$B$4) -> 649.26576 | J14: =IF(I13="",IF(I14="","",I14*$B$3),I13*$B$4) -> 662.25107 | ... AF14: =IF(AE13="",IF(AE14="","",AE14*$B$3),AE13*$B$4) -> 1023.8267
C15: =IF(B14="",IF(B15="","",B15*$B$3),B14*$B$4) | D15: =IF(C14="",IF(C15="","",C15*$B$3),C14*$B$4) | E15: =IF(D14="",IF(D15="","",D15*$B$3),D14*$B$4) -> 582.1794 | F15: =IF(E14="",IF(E15="","",E15*$B$3),E14*$B$4) -> 593.82299 | G15: =IF(F14="",IF(F15="","",F15*$B$3),F14*$B$4) -> 605.69945 | H15: =IF(G14="",IF(G15="","",G15*$B$3),G14*$B$4) -> 617.81344 | I15: =IF(H14="",IF(H15="","",H15*$B$3),H14*$B$4) -> 630.16971 | J15: =IF(I14="",IF(I15="","",I15*$B$3),I14*$B$4) -> 642.7731 | ... AF15: =IF(AE14="",IF(AE15="","",AE15*$B$3),AE14*$B$4) -> 993.71414
C16: =IF(B15="",IF(B16="","",B16*$B$3),B15*$B$4) | D16: =IF(C15="",IF(C16="","",C16*$B$3),C15*$B$4) | E16: =IF(D15="",IF(D16="","",D16*$B$3),D15*$B$4) | F16: =IF(E15="",IF(E16="","",E16*$B$3),E15*$B$4) -> 576.35761 | G16: =IF(F15="",IF(F16="","",F16*$B$3),F15*$B$4) -> 587.88476 | H16: =IF(G15="",IF(G16="","",G16*$B$3),G15*$B$4) -> 599.64245 | I16: =IF(H15="",IF(H16="","",H16*$B$3),H15*$B$4) -> 611.6353 | J16: =IF(I15="",IF(I16="","",I16*$B$3),I15*$B$4) -> 623.86801 | ... AF16: =IF(AE15="",IF(AE16="","",AE16*$B$3),AE15*$B$4) -> 964.48726
C17: =IF(B16="",IF(B17="","",B17*$B$3),B16*$B$4) | D17: =IF(C16="",IF(C17="","",C17*$B$3),C16*$B$4) | E17: =IF(D16="",IF(D17="","",D17*$B$3),D16*$B$4) | F17: =IF(E16="",IF(E17="","",E17*$B$3),E16*$B$4) | G17: =IF(F16="",IF(F17="","",F17*$B$3),F16*$B$4) -> 570.59403 | H17: =IF(G16="",IF(G17="","",G17*$B$3),G16*$B$4) -> 582.00591 | I17: =IF(H16="",IF(H17="","",H17*$B$3),H16*$B$4) -> 593.64603 | J17: =IF(I16="",IF(I17="","",I17*$B$3),I16*$B$4) -> 605.51895 | ... AF17: =IF(AE16="",IF(AE17="","",AE17*$B$3),AE16*$B$4) -> 936.11999
C18: =IF(B17="",IF(B18="","",B18*$B$3),B17*$B$4) | D18: =IF(C17="",IF(C18="","",C18*$B$3),C17*$B$4) | E18: =IF(D17="",IF(D18="","",D18*$B$3),D17*$B$4) | F18: =IF(E17="",IF(E18="","",E18*$B$3),E17*$B$4) | G18: =IF(F17="",IF(F18="","",F18*$B$3),F17*$B$4) | H18: =IF(G17="",IF(G18="","",G18*$B$3),G17*$B$4) -> 564.88809 | I18: =IF(H17="",IF(H18="","",H18*$B$3),H17*$B$4) -> 576.18585 | J18: =IF(I17="",IF(I18="","",I18*$B$3),I17*$B$4) -> 587.70957 | ... AF18: =IF(AE17="",IF(AE18="","",AE18*$B$3),AE17*$B$4) -> 908.58705
C19: =IF(B18="",IF(B19="","",B19*$B$3),B18*$B$4) | D19: =IF(C18="",IF(C19="","",C19*$B$3),C18*$B$4) | E19: =IF(D18="",IF(D19="","",D19*$B$3),D18*$B$4) | F19: =IF(E18="",IF(E19="","",E19*$B$3),E18*$B$4) | G19: =IF(F18="",IF(F19="","",F19*$B$3),F18*$B$4) | H19: =IF(G18="",IF(G19="","",G19*$B$3),G18*$B$4) | I19: =IF(H18="",IF(H19="","",H19*$B$3),H18*$B$4) -> 559.23921 | J19: =IF(I18="",IF(I19="","",I19*$B$3),I18*$B$4) -> 570.42399 | ... AF19: =IF(AE18="",IF(AE19="","",AE19*$B$3),AE18*$B$4) -> 881.8639
C20: =IF(B19="",IF(B20="","",B20*$B$3),B19*$B$4) | D20: =IF(C19="",IF(C20="","",C20*$B$3),C19*$B$4) | E20: =IF(D19="",IF(D20="","",D20*$B$3),D19*$B$4) | F20: =IF(E19="",IF(E20="","",E20*$B$3),E19*$B$4) | G20: =IF(F19="",IF(F20="","",F20*$B$3),F19*$B$4) | H20: =IF(G19="",IF(G20="","",G20*$B$3),G19*$B$4) | I20: =IF(H19="",IF(H20="","",H20*$B$3),H19*$B$4) | J20: =IF(I19="",IF(I20="","",I20*$B$3),I19*$B$4) -> 553.64682 | ... AF20: =IF(AE19="",IF(AE20="","",AE20*$B$3),AE19*$B$4) -> 855.92672
C21: =IF(B20="",IF(B21="","",B21*$B$3),B20*$B$4) | D21: =IF(C20="",IF(C21="","",C21*$B$3),C20*$B$4) | E21: =IF(D20="",IF(D21="","",D21*$B$3),D20*$B$4) | F21: =IF(E20="",IF(E21="","",E21*$B$3),E20*$B$4) | G21: =IF(F20="",IF(F21="","",F21*$B$3),F20*$B$4) | H21: =IF(G20="",IF(G21="","",G21*$B$3),G20*$B$4) | I21: =IF(H20="",IF(H21="","",H21*$B$3),H20*$B$4) | J21: =IF(I20="",IF(I21="","",I21*$B$3),I20*$B$4) | ... AF21: =IF(AE20="",IF(AE21="","",AE21*$B$3),AE20*$B$4) -> 830.75241
C22: =IF(B21="",IF(B22="","",B22*$B$3),B21*$B$4) | D22: =IF(C21="",IF(C22="","",C22*$B$3),C21*$B$4) | E22: =IF(D21="",IF(D22="","",D22*$B$3),D21*$B$4) | F22: =IF(E21="",IF(E22="","",E22*$B$3),E21*$B$4) | G22: =IF(F21="",IF(F22="","",F22*$B$3),F21*$B$4) | H22: =IF(G21="",IF(G22="","",G22*$B$3),G21*$B$4) | I22: =IF(H21="",IF(H22="","",H22*$B$3),H21*$B$4) | J22: =IF(I21="",IF(I22="","",I22*$B$3),I21*$B$4) | ... AF22: =IF(AE21="",IF(AE22="","",AE22*$B$3),AE21*$B$4) -> 806.31851
C23: =IF(B22="",IF(B23="","",B23*$B$3),B22*$B$4) | D23: =IF(C22="",IF(C23="","",C23*$B$3),C22*$B$4) | E23: =IF(D22="",IF(D23="","",D23*$B$3),D22*$B$4) | F23: =IF(E22="",IF(E23="","",E23*$B$3),E22*$B$4) | G23: =IF(F22="",IF(F23="","",F23*$B$3),F22*$B$4) | H23: =IF(G22="",IF(G23="","",G23*$B$3),G22*$B$4) | I23: =IF(H22="",IF(H23="","",H23*$B$3),H22*$B$4) | J23: =IF(I22="",IF(I23="","",I23*$B$3),I22*$B$4) | ... AF23: =IF(AE22="",IF(AE23="","",AE23*$B$3),AE22*$B$4) -> 782.60326
C24: =IF(B23="",IF(B24="","",B24*$B$3),B23*$B$4) | D24: =IF(C23="",IF(C24="","",C24*$B$3),C23*$B$4) | E24: =IF(D23="",IF(D24="","",D24*$B$3),D23*$B$4) | F24: =IF(E23="",IF(E24="","",E24*$B$3),E23*$B$4) | G24: =IF(F23="",IF(F24="","",F24*$B$3),F23*$B$4) | H24: =IF(G23="",IF(G24="","",G24*$B$3),G23*$B$4) | I24: =IF(H23="",IF(H24="","",H24*$B$3),H23*$B$4) | J24: =IF(I23="",IF(I24="","",I24*$B$3),I23*$B$4) | ... AF24: =IF(AE23="",IF(AE24="","",AE24*$B$3),AE23*$B$4) -> 759.58552
... C42: =IF(B41="",IF(B42="","",B42*$B$3),B41*$B$4) | D42: =IF(C41="",IF(C42="","",C42*$B$3),C41*$B$4) | E42: =IF(D41="",IF(D42="","",D42*$B$3),D41*$B$4) | F42: =IF(E41="",IF(E42="","",E42*$B$3),E41*$B$4) | G42: =IF(F41="",IF(F42="","",F42*$B$3),F41*$B$4) | H42: =IF(G41="",IF(G42="","",G42*$B$3),G41*$B$4) | I42: =IF(H41="",IF(H42="","",H42*$B$3),H41*$B$4) | J42: =IF(I41="",IF(I42="","",I42*$B$3),I41*$B$4) | ... AF42: =IF(AE41="",IF(AE42="","",AE42*$B$3),AE41*$B$4) -> 443.82022
A48: European Put Option Value | B48: =IF(C49="","",(($B$7*C48+((1-$B$7)*C49))*EXP(-$B$5))) -> 9.2642285 | C48: =IF(D49="","",(($B$7*D48+((1-$B$7)*D49))*EXP(-$B$5))) -> 6.009013 | D48: =IF(E49="","",(($B$7*E48+((1-$B$7)*E49))*EXP(-$B$5))) -> 3.6258093 | E48: =IF(F49="","",(($B$7*F48+((1-$B$7)*F49))*EXP(-$B$5))) -> 2.0045083 | F48: =IF(G49="","",(($B$7*G48+((1-$B$7)*G49))*EXP(-$B$5))) -> 0.99523029 | G48: =IF(H49="","",(($B$7*H48+((1-$B$7)*H49))*EXP(-$B$5))) -> 0.4317451 | H48: =IF(I49="","",(($B$7*I48+((1-$B$7)*I49))*EXP(-$B$5))) -> 0.15723623 | I48: =IF(J49="","",(($B$7*J48+((1-$B$7)*J49))*EXP(-$B$5))) -> 0.045112173 | ... AE48: =IF(AF49="","",(($B$7*AF48+((1-$B$7)*AF49))*EXP(-$B$5))) -> 0 | AF48: =MAX($E$2-AF12,0) -> 0 | AG48: [2] - for the formula
B49: [3] - for the formula | C49: =IF(D50="","",(($B$7*D49+((1-$B$7)*D50))*EXP(-$B$5))) -> 11.163598 | D49: =IF(E50="","",(($B$7*E49+((1-$B$7)*E50))*EXP(-$B$5))) -> 7.3983544 | E49: =IF(F50="","",(($B$7*F49+((1-$B$7)*F50))*EXP(-$B$5))) -> 4.5702526 | F49: =IF(G50="","",(($B$7*G49+((1-$B$7)*G50))*EXP(-$B$5))) -> 2.5920358 | G49: =IF(H50="","",(($B$7*H49+((1-$B$7)*H50))*EXP(-$B$5))) -> 1.3230542 | H49: =IF(I50="","",(($B$7*I49+((1-$B$7)*I50))*EXP(-$B$5))) -> 0.59136477 | I49: =IF(J50="","",(($B$7*J49+((1-$B$7)*J50))*EXP(-$B$5))) -> 0.22240322 | J49: =IF(K50="","",(($B$7*K49+((1-$B$7)*K50))*EXP(-$B$5))) -> 0.066049227 | ... AE49: =IF(AF50="","",(($B$7*AF49+((1-$B$7)*AF50))*EXP(-$B$5))) -> 0 | AF49: =MAX($E$2-AF13,0) -> 0
C50: =IF(D51="","",(($B$7*D50+((1-$B$7)*D51))*EXP(-$B$5))) | D50: =IF(E51="","",(($B$7*E50+((1-$B$7)*E51))*EXP(-$B$5))) -> 13.361268 | E50: =IF(F51="","",(($B$7*F50+((1-$B$7)*F51))*EXP(-$B$5))) -> 9.0474818 | F50: =IF(G51="","",(($B$7*G50+((1-$B$7)*G51))*EXP(-$B$5))) -> 5.7228382 | G50: =IF(H51="","",(($B$7*H50+((1-$B$7)*H51))*EXP(-$B$5))) -> 3.330857 | H50: =IF(I51="","",(($B$7*I50+((1-$B$7)*I51))*EXP(-$B$5))) -> 1.7487845 | I50: =IF(J51="","",(($B$7*J50+((1-$B$7)*J51))*EXP(-$B$5))) -> 0.80592365 | J50: =IF(K51="","",(($B$7*K50+((1-$B$7)*K51))*EXP(-$B$5))) -> 0.3132818 | ... AE50: =IF(AF51="","",(($B$7*AF50+((1-$B$7)*AF51))*EXP(-$B$5))) -> 0 | AF50: =MAX($E$2-AF14,0) -> 0
C51: =IF(D52="","",(($B$7*D51+((1-$B$7)*D52))*EXP(-$B$5))) | D51: =IF(E52="","",(($B$7*E51+((1-$B$7)*E52))*EXP(-$B$5))) | E51: =IF(F52="","",(($B$7*F51+((1-$B$7)*F52))*EXP(-$B$5))) -> 15.88001 | F51: =IF(G52="","",(($B$7*G51+((1-$B$7)*G52))*EXP(-$B$5))) -> 10.986707 | G51: =IF(H52="","",(($B$7*H51+((1-$B$7)*H52))*EXP(-$B$5))) -> 7.1168097 | H51: =IF(I52="","",(($B$7*I51+((1-$B$7)*I52))*EXP(-$B$5))) -> 4.2521215 | I51: =IF(J52="","",(($B$7*J51+((1-$B$7)*J52))*EXP(-$B$5))) -> 2.2974531 | J51: =IF(K52="","",(($B$7*K51+((1-$B$7)*K52))*EXP(-$B$5))) -> 1.092431 | ... AE51: =IF(AF52="","",(($B$7*AF51+((1-$B$7)*AF52))*EXP(-$B$5))) -> 0 | AF51: =MAX($E$2-AF15,0) -> 0
B52: =IF(C53="","",(($B$7*C52+((1-$B$7)*C53))*EXP(-$B$5))) | C52: =IF(D53="","",(($B$7*D52+((1-$B$7)*D53))*EXP(-$B$5))) | D52: =IF(E53="","",(($B$7*E52+((1-$B$7)*E53))*EXP(-$B$5))) | E52: =IF(F53="","",(($B$7*F52+((1-$B$7)*F53))*EXP(-$B$5))) | F52: =IF(G53="","",(($B$7*G52+((1-$B$7)*G53))*EXP(-$B$5))) -> 18.738266 | G52: =IF(H53="","",(($B$7*H52+((1-$B$7)*H53))*EXP(-$B$5))) -> 13.244691 | H52: =IF(I53="","",(($B$7*I52+((1-$B$7)*I53))*EXP(-$B$5))) -> 8.7866755 | I52: =IF(J53="","",(($B$7*J52+((1-$B$7)*J53))*EXP(-$B$5))) -> 5.3905703 | ... AE52: =IF(AF53="","",(($B$7*AF52+((1-$B$7)*AF53))*EXP(-$B$5))) -> 0 | AF52: =MAX($E$2-AF16,0) -> 0
B53: =IF(C54="","",(($B$7*C53+((1-$B$7)*C54))*EXP(-$B$5))) | C53: =IF(D54="","",(($B$7*D53+((1-$B$7)*D54))*EXP(-$B$5))) | D53: =IF(E54="","",(($B$7*E53+((1-$B$7)*E54))*EXP(-$B$5))) | E53: =IF(F54="","",(($B$7*F53+((1-$B$7)*F54))*EXP(-$B$5))) | F53: =IF(G54="","",(($B$7*G53+((1-$B$7)*G54))*EXP(-$B$5))) | G53: =IF(H54="","",(($B$7*H53+((1-$B$7)*H54))*EXP(-$B$5))) -> 21.948587 | H53: =IF(I54="","",(($B$7*I53+((1-$B$7)*I54))*EXP(-$B$5))) -> 15.846756 | I53: =IF(J54="","",(($B$7*J53+((1-$B$7)*J54))*EXP(-$B$5))) -> 10.766864 | ... AE53: =IF(AF54="","",(($B$7*AF53+((1-$B$7)*AF54))*EXP(-$B$5))) -> 0 | AF53: =MAX($E$2-AF17,0) -> 0
B54: =IF(C55="","",(($B$7*C54+((1-$B$7)*C55))*EXP(-$B$5))) | C54: =IF(D55="","",(($B$7*D54+((1-$B$7)*D55))*EXP(-$B$5))) | D54: =IF(E55="","",(($B$7*E54+((1-$B$7)*E55))*EXP(-$B$5))) | E54: =IF(F55="","",(($B$7*F54+((1-$B$7)*F55))*EXP(-$B$5))) | F54: =IF(G55="","",(($B$7*G54+((1-$B$7)*G55))*EXP(-$B$5))) | G54: =IF(H55="","",(($B$7*H54+((1-$B$7)*H55))*EXP(-$B$5))) | H54: =IF(I55="","",(($B$7*I54+((1-$B$7)*I55))*EXP(-$B$5))) -> 25.516154 | I54: =IF(J55="","",(($B$7*J54+((1-$B$7)*J55))*EXP(-$B$5))) -> 18.812992 | ... AE54: =IF(AF55="","",(($B$7*AF54+((1-$B$7)*AF55))*EXP(-$B$5))) -> 0 | AF54: =MAX($E$2-AF18,0) -> 0
B55: =IF(C56="","",(($B$7*C55+((1-$B$7)*C56))*EXP(-$B$5))) | C55: =IF(D56="","",(($B$7*D55+((1-$B$7)*D56))*EXP(-$B$5))) | D55: =IF(E56="","",(($B$7*E55+((1-$B$7)*E56))*EXP(-$B$5))) | E55: =IF(F56="","",(($B$7*F55+((1-$B$7)*F56))*EXP(-$B$5))) | F55: =IF(G56="","",(($B$7*G55+((1-$B$7)*G56))*EXP(-$B$5))) | G55: =IF(H56="","",(($B$7*H55+((1-$B$7)*H56))*EXP(-$B$5))) | H55: =IF(I56="","",(($B$7*I55+((1-$B$7)*I56))*EXP(-$B$5))) | I55: =IF(J56="","",(($B$7*J55+((1-$B$7)*J56))*EXP(-$B$5))) -> 29.43752 | ... AE55: =IF(AF56="","",(($B$7*AF55+((1-$B$7)*AF56))*EXP(-$B$5))) -> 0 | AF55: =MAX($E$2-AF19,0) -> 0
B56: =IF(C57="","",(($B$7*C56+((1-$B$7)*C57))*EXP(-$B$5))) | C56: =IF(D57="","",(($B$7*D56+((1-$B$7)*D57))*EXP(-$B$5))) | D56: =IF(E57="","",(($B$7*E56+((1-$B$7)*E57))*EXP(-$B$5))) | E56: =IF(F57="","",(($B$7*F56+((1-$B$7)*F57))*EXP(-$B$5))) | F56: =IF(G57="","",(($B$7*G56+((1-$B$7)*G57))*EXP(-$B$5))) | G56: =IF(H57="","",(($B$7*H56+((1-$B$7)*H57))*EXP(-$B$5))) | H56: =IF(I57="","",(($B$7*I56+((1-$B$7)*I57))*EXP(-$B$5))) | I56: =IF(J57="","",(($B$7*J56+((1-$B$7)*J57))*EXP(-$B$5))) | ... AE56: =IF(AF57="","",(($B$7*AF56+((1-$B$7)*AF57))*EXP(-$B$5))) -> 0 | AF56: =MAX($E$2-AF20,0) -> 0
B57: =IF(C58="","",(($B$7*C57+((1-$B$7)*C58))*EXP(-$B$5))) | C57: =IF(D58="","",(($B$7*D57+((1-$B$7)*D58))*EXP(-$B$5))) | D57: =IF(E58="","",(($B$7*E57+((1-$B$7)*E58))*EXP(-$B$5))) | E57: =IF(F58="","",(($B$7*F57+((1-$B$7)*F58))*EXP(-$B$5))) | F57: =IF(G58="","",(($B$7*G57+((1-$B$7)*G58))*EXP(-$B$5))) | G57: =IF(H58="","",(($B$7*H57+((1-$B$7)*H58))*EXP(-$B$5))) | H57: =IF(I58="","",(($B$7*I57+((1-$B$7)*I58))*EXP(-$B$5))) | I57: =IF(J58="","",(($B$7*J57+((1-$B$7)*J58))*EXP(-$B$5))) | ... AE57: =IF(AF58="","",(($B$7*AF57+((1-$B$7)*AF58))*EXP(-$B$5))) -> 0 | AF57: =MAX($E$2-AF21,0) -> 0
B58: =IF(C59="","",(($B$7*C58+((1-$B$7)*C59))*EXP(-$B$5))) | C58: =IF(D59="","",(($B$7*D58+((1-$B$7)*D59))*EXP(-$B$5))) | D58: =IF(E59="","",(($B$7*E58+((1-$B$7)*E59))*EXP(-$B$5))) | E58: =IF(F59="","",(($B$7*F58+((1-$B$7)*F59))*EXP(-$B$5))) | F58: =IF(G59="","",(($B$7*G58+((1-$B$7)*G59))*EXP(-$B$5))) | G58: =IF(H59="","",(($B$7*H58+((1-$B$7)*H59))*EXP(-$B$5))) | H58: =IF(I59="","",(($B$7*I58+((1-$B$7)*I59))*EXP(-$B$5))) | I58: =IF(J59="","",(($B$7*J58+((1-$B$7)*J59))*EXP(-$B$5))) | ... AE58: =IF(AF59="","",(($B$7*AF58+((1-$B$7)*AF59))*EXP(-$B$5))) -> 0 | AF58: =MAX($E$2-AF22,0) -> 0
B59: =IF(C60="","",(($B$7*C59+((1-$B$7)*C60))*EXP(-$B$5))) | C59: =IF(D60="","",(($B$7*D59+((1-$B$7)*D60))*EXP(-$B$5))) | D59: =IF(E60="","",(($B$7*E59+((1-$B$7)*E60))*EXP(-$B$5))) | E59: =IF(F60="","",(($B$7*F59+((1-$B$7)*F60))*EXP(-$B$5))) | F59: =IF(G60="","",(($B$7*G59+((1-$B$7)*G60))*EXP(-$B$5))) | G59: =IF(H60="","",(($B$7*H59+((1-$B$7)*H60))*EXP(-$B$5))) | H59: =IF(I60="","",(($B$7*I59+((1-$B$7)*I60))*EXP(-$B$5))) | I59: =IF(J60="","",(($B$7*J59+((1-$B$7)*J60))*EXP(-$B$5))) | ... AE59: =IF(AF60="","",(($B$7*AF59+((1-$B$7)*AF60))*EXP(-$B$5))) -> 0 | AF59: =MAX($E$2-AF23,0) -> 0
B60: =IF(C61="","",(($B$7*C60+((1-$B$7)*C61))*EXP(-$B$5))) | C60: =IF(D61="","",(($B$7*D60+((1-$B$7)*D61))*EXP(-$B$5))) | D60: =IF(E61="","",(($B$7*E60+((1-$B$7)*E61))*EXP(-$B$5))) | E60: =IF(F61="","",(($B$7*F60+((1-$B$7)*F61))*EXP(-$B$5))) | F60: =IF(G61="","",(($B$7*G60+((1-$B$7)*G61))*EXP(-$B$5))) | G60: =IF(H61="","",(($B$7*H60+((1-$B$7)*H61))*EXP(-$B$5))) | H60: =IF(I61="","",(($B$7*I60+((1-$B$7)*I61))*EXP(-$B$5))) | I60: =IF(J61="","",(($B$7*J60+((1-$B$7)*J61))*EXP(-$B$5))) | ... AE60: =IF(AF61="","",(($B$7*AF60+((1-$B$7)*AF61))*EXP(-$B$5))) -> 0 | AF60: =MAX($E$2-AF24,0) -> 0
B61: =IF(C62="","",(($B$7*C61+((1-$B$7)*C62))*EXP(-$B$5))) | C61: =IF(D62="","",(($B$7*D61+((1-$B$7)*D62))*EXP(-$B$5))) | D61: =IF(E62="","",(($B$7*E61+((1-$B$7)*E62))*EXP(-$B$5))) | E61: =IF(F62="","",(($B$7*F61+((1-$B$7)*F62))*EXP(-$B$5))) | F61: =IF(G62="","",(($B$7*G61+((1-$B$7)*G62))*EXP(-$B$5))) | G61: =IF(H62="","",(($B$7*H61+((1-$B$7)*H62))*EXP(-$B$5))) | H61: =IF(I62="","",(($B$7*I61+((1-$B$7)*I62))*EXP(-$B$5))) | I61: =IF(J62="","",(($B$7*J61+((1-$B$7)*J62))*EXP(-$B$5))) | ... AE61: =IF(AF62="","",(($B$7*AF61+((1-$B$7)*AF62))*EXP(-$B$5))) -> 0 | AF61: =MAX($E$2-AF25,0) -> 0
B62: =IF(C63="","",(($B$7*C62+((1-$B$7)*C63))*EXP(-$B$5))) | C62: =IF(D63="","",(($B$7*D62+((1-$B$7)*D63))*EXP(-$B$5))) | D62: =IF(E63="","",(($B$7*E62+((1-$B$7)*E63))*EXP(-$B$5))) | E62: =IF(F63="","",(($B$7*F62+((1-$B$7)*F63))*EXP(-$B$5))) | F62: =IF(G63="","",(($B$7*G62+((1-$B$7)*G63))*EXP(-$B$5))) | G62: =IF(H63="","",(($B$7*H62+((1-$B$7)*H63))*EXP(-$B$5))) | H62: =IF(I63="","",(($B$7*I62+((1-$B$7)*I63))*EXP(-$B$5))) | I62: =IF(J63="","",(($B$7*J62+((1-$B$7)*J63))*EXP(-$B$5))) | ... AE62: =IF(AF63="","",(($B$7*AF62+((1-$B$7)*AF63))*EXP(-$B$5))) -> 0 | AF62: =MAX($E$2-AF26,0) -> 0
B63: =IF(C64="","",(($B$7*C63+((1-$B$7)*C64))*EXP(-$B$5))) | C63: =IF(D64="","",(($B$7*D63+((1-$B$7)*D64))*EXP(-$B$5))) | D63: =IF(E64="","",(($B$7*E63+((1-$B$7)*E64))*EXP(-$B$5))) | E63: =IF(F64="","",(($B$7*F63+((1-$B$7)*F64))*EXP(-$B$5))) | F63: =IF(G64="","",(($B$7*G63+((1-$B$7)*G64))*EXP(-$B$5))) | G63: =IF(H64="","",(($B$7*H63+((1-$B$7)*H64))*EXP(-$B$5))) | H63: =IF(I64="","",(($B$7*I63+((1-$B$7)*I64))*EXP(-$B$5))) | I63: =IF(J64="","",(($B$7*J63+((1-$B$7)*J64))*EXP(-$B$5))) | ... AE63: =IF(AF64="","",(($B$7*AF63+((1-$B$7)*AF64))*EXP(-$B$5))) -> 0 | AF63: =MAX($E$2-AF27,0) -> 0
... B78: =IF(C79="","",(($B$7*C78+((1-$B$7)*C79))*EXP(-$B$5))) | C78: =IF(D79="","",(($B$7*D78+((1-$B$7)*D79))*EXP(-$B$5))) | D78: =IF(E79="","",(($B$7*E78+((1-$B$7)*E79))*EXP(-$B$5))) | E78: =IF(F79="","",(($B$7*F78+((1-$B$7)*F79))*EXP(-$B$5))) | F78: =IF(G79="","",(($B$7*G78+((1-$B$7)*G79))*EXP(-$B$5))) | G78: =IF(H79="","",(($B$7*H78+((1-$B$7)*H79))*EXP(-$B$5))) | H78: =IF(I79="","",(($B$7*I78+((1-$B$7)*I79))*EXP(-$B$5))) | I78: =IF(J79="","",(($B$7*J78+((1-$B$7)*J79))*EXP(-$B$5))) | ... AE78: =IF(AF79="","",(($B$7*AF78+((1-$B$7)*AF79))*EXP(-$B$5))) | AF78: =MAX($E$2-AF42,0) -> 151.17978

Sheet Q.3 (v)
A2: Current Share Price | B2: 600 | D2: Strike Price | E2: 595
A3: u | B3: 1.02 | D3: American Put Value Option | E3: =B48 -> 10.521244
A4: d | B4: =1-0.01 -> 0.99
A5: r | B5: 0.001
A7: q | B7: =(EXP(B5)-B4)/(B3-B4) -> 0.36668334
A9: Daily Movement of Share price
A10: Day | B10: 0 | C10: 1 | D10: 2 | E10: 3 | F10: 4 | G10: 5 | H10: 6 | I10: 7 | J10: 8 | K10: 9 | L10: 10 | M10: 11 | N10: 12 | O10: 13 | P10: 14 | Q10: 15 | R10: 16 | S10: 17 | T10: 18 | U10: 19 | V10: 20 | W10: 21 | X10: 22 | Y10: 23 | Z10: 24 | AA10: 25 | AB10: 26 | AC10: 27 | AD10: 28 | AE10: 29 | AF10: 30
A12: Share Price Movement | B12: =B2 -> 600 | C12: =IF(B11="",IF(B12="","",B12*$B$3),B11*$B$4) -> 612 | D12: =IF(C11="",IF(C12="","",C12*$B$3),C11*$B$4) -> 624.24 | E12: =IF(D11="",IF(D12="","",D12*$B$3),D11*$B$4) -> 636.7248 | F12: =IF(E11="",IF(E12="","",E12*$B$3),E11*$B$4) -> 649.4593 | G12: =IF(F11="",IF(F12="","",F12*$B$3),F11*$B$4) -> 662.44848 | H12: =IF(G11="",IF(G12="","",G12*$B$3),G11*$B$4) -> 675.69745 | I12: =IF(H11="",IF(H12="","",H12*$B$3),H11*$B$4) -> 689.2114 | J12: =IF(I11="",IF(I12="","",I12*$B$3),I11*$B$4) -> 702.99563 | ... AF12: =IF(AE11="",IF(AE12="","",AE12*$B$3),AE11*$B$4) -> 1086.817
C13: =IF(B12="",IF(B13="","",B13*$B$3),B12*$B$4) -> 594 | D13: =IF(C12="",IF(C13="","",C13*$B$3),C12*$B$4) -> 605.88 | E13: =IF(D12="",IF(D13="","",D13*$B$3),D12*$B$4) -> 617.9976 | F13: =IF(E12="",IF(E13="","",E13*$B$3),E12*$B$4) -> 630.35755 | G13: =IF(F12="",IF(F13="","",F13*$B$3),F12*$B$4) -> 642.9647 | H13: =IF(G12="",IF(G13="","",G13*$B$3),G12*$B$4) -> 655.824 | I13: =IF(H12="",IF(H13="","",H13*$B$3),H12*$B$4) -> 668.94048 | J13: =IF(I12="",IF(I13="","",I13*$B$3),I12*$B$4) -> 682.31929 | ... AF13: =IF(AE12="",IF(AE13="","",AE13*$B$3),AE12*$B$4) -> 1054.8517
C14: =IF(B13="",IF(B14="","",B14*$B$3),B13*$B$4) | D14: =IF(C13="",IF(C14="","",C14*$B$3),C13*$B$4) -> 588.06 | E14: =IF(D13="",IF(D14="","",D14*$B$3),D13*$B$4) -> 599.8212 | F14: =IF(E13="",IF(E14="","",E14*$B$3),E13*$B$4) -> 611.81762 | G14: =IF(F13="",IF(F14="","",F14*$B$3),F13*$B$4) -> 624.05398 | H14: =IF(G13="",IF(G14="","",G14*$B$3),G13*$B$4) -> 636.53506 | I14: =IF(H13="",IF(H14="","",H14*$B$3),H13*$B$4) -> 649.26576 | J14: =IF(I13="",IF(I14="","",I14*$B$3),I13*$B$4) -> 662.25107 | ... AF14: =IF(AE13="",IF(AE14="","",AE14*$B$3),AE13*$B$4) -> 1023.8267
C15: =IF(B14="",IF(B15="","",B15*$B$3),B14*$B$4) | D15: =IF(C14="",IF(C15="","",C15*$B$3),C14*$B$4) | E15: =IF(D14="",IF(D15="","",D15*$B$3),D14*$B$4) -> 582.1794 | F15: =IF(E14="",IF(E15="","",E15*$B$3),E14*$B$4) -> 593.82299 | G15: =IF(F14="",IF(F15="","",F15*$B$3),F14*$B$4) -> 605.69945 | H15: =IF(G14="",IF(G15="","",G15*$B$3),G14*$B$4) -> 617.81344 | I15: =IF(H14="",IF(H15="","",H15*$B$3),H14*$B$4) -> 630.16971 | J15: =IF(I14="",IF(I15="","",I15*$B$3),I14*$B$4) -> 642.7731 | ... AF15: =IF(AE14="",IF(AE15="","",AE15*$B$3),AE14*$B$4) -> 993.71414
C16: =IF(B15="",IF(B16="","",B16*$B$3),B15*$B$4) | D16: =IF(C15="",IF(C16="","",C16*$B$3),C15*$B$4) | E16: =IF(D15="",IF(D16="","",D16*$B$3),D15*$B$4) | F16: =IF(E15="",IF(E16="","",E16*$B$3),E15*$B$4) -> 576.35761 | G16: =IF(F15="",IF(F16="","",F16*$B$3),F15*$B$4) -> 587.88476 | H16: =IF(G15="",IF(G16="","",G16*$B$3),G15*$B$4) -> 599.64245 | I16: =IF(H15="",IF(H16="","",H16*$B$3),H15*$B$4) -> 611.6353 | J16: =IF(I15="",IF(I16="","",I16*$B$3),I15*$B$4) -> 623.86801 | ... AF16: =IF(AE15="",IF(AE16="","",AE16*$B$3),AE15*$B$4) -> 964.48726
C17: =IF(B16="",IF(B17="","",B17*$B$3),B16*$B$4) | D17: =IF(C16="",IF(C17="","",C17*$B$3),C16*$B$4) | E17: =IF(D16="",IF(D17="","",D17*$B$3),D16*$B$4) | F17: =IF(E16="",IF(E17="","",E17*$B$3),E16*$B$4) | G17: =IF(F16="",IF(F17="","",F17*$B$3),F16*$B$4) -> 570.59403 | H17: =IF(G16="",IF(G17="","",G17*$B$3),G16*$B$4) -> 582.00591 | I17: =IF(H16="",IF(H17="","",H17*$B$3),H16*$B$4) -> 593.64603 | J17: =IF(I16="",IF(I17="","",I17*$B$3),I16*$B$4) -> 605.51895 | ... AF17: =IF(AE16="",IF(AE17="","",AE17*$B$3),AE16*$B$4) -> 936.11999
