Workbook

Sheet Summary
A1: Purpose
A2: The purpose of the project is to profit test a new insurance scheme proposed by the government. The scheme is profit tested under two approaches; one based on reinsures data and the other under insurers own data. The project covers excess of loss reinsurance arrangement and calculates the expected value of loss ratios for the insurer and reinsurer using the exposure curve provided by a reinsurer and the one developed using internal data.
A4: Data
A5: 1. The Property Exposure curve provided by the reinsurer RI-Care with the probability of different loss ratios up to a maximum loss ratio of 225%. 2. Premium and claims amount data available with the insurer for the years 2010 to 2019. The data has 4,995 premium and claims records. 3. The premiums are adjusted for changes in premium rates over the years and the claims are adjusted for inflation. 4. Individual loss ratios and natural log (LN) of the loss ratios are calculated and a suitable lognormal distribution is fitted to the same to generate an Exposure curve based on internal data. 5. In addition, the sum insured per beneficiary, the premium charged, expected several beneficiaries, and total Expected Premium Income (EPI) is provided.
A7: Assumptions
A8: 1. The given exposure curve or the internal data is representative of the future claims experience 2. The data used for the preparation of the exposure curve is already de-trended. 3. No other inflation / other adjustments are required for the data. 4. The Lognormal distribution fitted to internal data suitably represents the tail of the claim distribution. 5. Premium for Catastrophe loss if any is already included. 6. The maximum gross loss of the portfolio is not expected to exceed 225% 7. The whole scheme is underwritten by one insurer and there is no coinsurance arrangement. 8. The insurer has no other reinsurance arrangement other than the proposed XL. 9. Claims management expenses are already included in claims. 10. The reinsurer has not entered into any retrocession arrangement. 11. There are no other deductibles/aggregate limits or loss caps 12. The insurer is likely to achieve the expected premium income. 13. The excess of loss premium is paid to the reinsurer in advance. 14. The premium is assumed to be 100% earned. 15. No Reinsurance commission is payable 16. Interest income and discounting effect have been ignored. 17. Any other reasonable assumption.
A10: Methodology
A11: Following steps are performed to complete the analysis: Estimation of Expected Premium Income (EPI): • For the proposed scheme, the sum insured per beneficiary is set at INR 5 lakhs, and the expected gross premium per beneficiary is 0.2% of the Sum Insured. • Assuming 10 crore beneficiaries, the total Expected Premium Income (EPI) for the insurer is estimated to be INR 10,000 crores (Number of beneficiaries * Sum Insured * Rate). Calculation of reinsurance rate for reinsurer RI-Care from Exposure curve: • The reinsurance rate for excess of loss 20% over 100% is calculated as the difference in probability of loss ratio of120% and 100%. • The probability of loss ratio is derived from the exposure curve provided by the reinsurer • The reinsurance rate is multiplied by the expected premium income of the insurer to arrive at the reinsurance premium payable. Calculation of probability of loss ratios using internal data: 1. Fitting of Lognormal distribution to the internal data: • About 5,000 internal data points of the last 10 years available with the insurer are used to build an alternate exposure curve. • Most of the loss ratios are found to be more than 60% except for a few outliers. Similarly, the maximum loss ratio is found to be 225%. • A lognormal distribution with the following parameters is fitted to the loss ratios. Mean of Ln(x) = -0.296881 and Standard deviation of Ln(x)= 0.3504859 where x is the loss ratio in % 2. The lognormal distribution is used to calculate the cumulative probability of the loss ratios. 3. incremental probability is calculated as the difference of two adjacent cumulative probabilities. 4. Exposure curve is a plotted with gross loss ratios (on X-axis) along with the cumulative probabilities (on Y-Axis)
A13: Estimation of financials: Approach-1: Based on the exposure curve provided by the reinsurer- RI-Care. • The reinsurance rate for the XL arrangement, 20% over 100% is calculated as mentioned above based on the given exposure curve. • The reinsurance band is the difference between the attachment point and the upper limit. • To ensure that excessive premium is not ceded to the reinsurer, the effective reinsurance rate is considered as the lower of the reinsurance rate calculated above from the exposure curve and the reinsured band. • For the 20% XL over 100% the reinsured band is 20%. The probability of 120% and 100% loss ratios is 79.4% and 50.4% respectively. The calculated reinsurance rate is 29%. However, the rate charged to the insurer is 20% i.e., lower of 29% and 20%. The financials are projected for a range of loss ratios from 60% to 225% with increments of 5%. The below mentioned values are calculated for each of the gross loss ratios mentioned above. • The XL premium payable by the insurer is calculated as the reinsurance rate multiplied by EPI • Net premium is calculated as the difference between EPI and the XL premium payable. • Gross claim payable by the insurer is the product of EPI and gross loss ratio. • For the XL arrangement, recovery is triggered only if the gross loss ratio is more than the attachment point. The recovery % is lower of loss ratio less attachment point and 20%. The XL recovery is recovery % times EPI. • Net claim payable by the insurer is the difference between a gross claim and XL recovery. And the net loss ratio is the ratio of net claim payable to the net premium. • The gross loss ratio for the reinsurer is the ratio of XL claims to the XL premium. • The expected gross loss ratio for the insurer is calculated as the sum of the product of gross loss ratio and corresponding probability. • The expected net loss ratio for the insurer is calculated as the sum of the product of the net loss ratio and corresponding probability. • The expected gross loss ratio for reinsurer is calculated as a sum of the product of the gross loss ratio for reinsurer times the corresponding probability of loss
A15: Approach-2 models the reinsurance arrangement using the exposure curve generated using internal data. The methodology under approach 2 is the same as under approach 1 with the following modifications • The probabilities of gross loss ratios from 60% to 225% are replaced with those from the exposure curve generated from the internal data. • The reinsurance rate for the XL arrangement 20% in excess of 100% is calculated from the new exposure curve. Calculation of other reinsurance rates Similar to the calculation of reinsurance rate for 20% Xs 100%, the rate for XL arrangement 20% Xs 120% is calculated as the difference in cumulative probabilities of 140% and 120% from the respective exposure curves.
A17: Data check and reasonableness check
A18: 1. Checked that the probability of each loss ratio for both the given exposure curve and that calculated using internal data are less than 1 and greater than or equal to 1. 2. Checked that the cumulative probabilities increase with increasing loss ratio. 3. The sum of incremental probabilities is equal to the cumulative probability. 4. Check whether Net loss ratio for the insurer is lower than the gross loss ratio. 5. Check reinsurance recovery is zero for gross loss ratio less than or equal to attachment point and equal to the reinsured band for gross loss ratio above the upper limit. 6. The Net loss ratio for the insurer is equal to or lower than the Gross Loss ratio when the RI rate is set to 0% 7. The Net and Goss loss ratios for the insurer are the same when the upper limit is set equal to the attachment point in both Approach-1 & 2
... A57: Reinsurance: 9. The reinsurance needs of each component in the package may be different. Hence explore the possibility of multiple modes of reinsurance than just excess of loss. 10. Explore other types of reinsurance like quota share to reduce exposure to a single government scheme. 11. Explore the possibility of fixing an upper cap on the loss ratio above which the government may pay the losses. 12. Obtain quotes from other domestic and foreign re-insurers than just relying on one reinsurer and internal data. Companywide impact of writing the scheme: 13. Carry out a proper risk assessment of the size of the scheme. 14. Proper management of the scheme is essential to any plug leakages given the scale of implementation and the pitfalls associated with government schemes. 15. Cross border reinsurers may be able to help in risk management and provide technical support to run a scheme of such a large scale. 16. The scheme being implemented countrywide, separate Catastrophe cover may be needed. 17. Assess the impact of the scheme on the solvency of the insurer. 18. Assess the possible delays associated with the receipt of premium that may affect the cash flows and associated investment income. 19. Carry out a capital modelling of the insurer with and without the said scheme and assess the need for any additional capital, availability, and associated costs. 20. In addition to the XL program, the insurer may explore a suitable Stop loss reinsurance to protect their Balance sheet. 21. Any other relevant point

Sheet Parameters
B3: Sum Insured (INR) | C3: 500000
B4: Premium Rate | C4: 0.002 | D4: of Sum Assured
B5: No. of beneficiaries | C5: 100000000 | D5: (10 Crores)
B7: Premium Amount | C7: =C3*C4 -> 1000 | D7: per member
B8: Total expected Premium | C8: =C7*C5 -> 100000000000 | D8: 10,000 Crores
B9: Premium In Crores | C9: =C8/10^7 -> 10000

Sheet Data-RI-Care
A1: Property Exposure curve | C1: Reinsurer: RI-Care
A2: Loss ratio % | B2: Probability | C2: Cumulative | D2: Check | E2: Check
A3: 0.6 | B3: 0.0413 | C3: 0.0413 | D3: =B3>0 -> TRUE
A4: 0.7 | B4: 0.051 | C4: =C3+B4 -> 0.0923 | D4: =B4>0 -> TRUE | E4: =C4>C3 -> TRUE
A5: 0.8 | B5: 0.1398 | C5: =C4+B5 -> 0.2321 | D5: =B5>0 -> TRUE | E5: =C5>C4 -> TRUE
A6: 0.9 | B6: 0.14 | C6: =C5+B6 -> 0.3721 | D6: =B6>0 -> TRUE | E6: =C6>C5 -> TRUE
A7: 1 | B7: 0.1322 | C7: =C6+B7 -> 0.5043 | D7: =B7>0 -> TRUE | E7: =C7>C6 -> TRUE
A8: 1.05 | B8: 0.0754 | C8: =C7+B8 -> 0.5797 | D8: =B8>0 -> TRUE | E8: =C8>C7 -> TRUE
A9: 1.1 | B9: 0.0808 | C9: =C8+B9 -> 0.6605 | D9: =B9>0 -> TRUE | E9: =C9>C8 -> TRUE
A10: 1.15 | B10: 0.0808 | C10: =C9+B10 -> 0.7413 | D10: =B10>0 -> TRUE | E10: =C10>C9 -> TRUE
A11: 1.2 | B11: 0.0527 | C11: =C10+B11 -> 0.794 | D11: =B11>0 -> TRUE | E11: =C11>C10 -> TRUE
A12: 1.25 | B12: 0.0518 | C12: =C11+B12 -> 0.8458 | D12: =B12>0 -> TRUE | E12: =C12>C11 -> TRUE
A13: 1.3 | B13: 0.051 | C13: =C12+B13 -> 0.8968 | D13: =B13>0 -> TRUE | E13: =C13>C12 -> TRUE
A14: 1.35 | B14: 0.0308 | C14: =C13+B14 -> 0.9276 | D14: =B14>0 -> TRUE | E14: =C14>C13 -> TRUE
A15: 1.4 | B15: 0.0114 | C15: =C14+B15 -> 0.939 | D15: =B15>0 -> TRUE | E15: =C15>C14 -> TRUE
... A32: 2.25 | B32: 0.0001 | C32: =C31+B32 -> 1.0001 | D32: =B32>0 -> TRUE | E32: =C32>C31 -> TRUE

Sheet Data-Internal
A1: Loss No | B1: Year | C1: Premium | D1: Claims | E1: Loss ratio Y | F1: LN(Y) | I1: Y | J1: LN(Y) | N1: Answer to Q1 (i)
A2: 1 | B2: 2010 | C2: 23130 | D2: 8131 | E2: =D2/C2 -> 0.3515348 | F2: =LN(E2) -> -1.0454466 | H2: Mean | I2: =AVERAGE(E:E) -> 0.79021831 | J2: =AVERAGE(F:F) -> -0.29688139 | L2: Loss Ratio | M2: Cumulative Probability | N2: Incremental Probability | O2: Check1 | P2: Check2
A3: 2 | B3: 2010 | C3: 23782 | D3: 9688 | E3: =D3/C3 -> 0.40736692 | F3: =LN(E3) -> -0.89804099 | H3: SD | I3: =STDEV(E:E) -> 0.28525225 | J3: =STDEV(F:F) -> 0.35048592 | L3: 0.6 | M3: =_xlfn.LOGNORM.DIST(L3,$I$6,$I$7,TRUE) -> 0.27079123 | N3: =M3 -> 0.27079123 | O3: =N3>0 -> TRUE | Q3: Formula in this cell is Not copied below
A4: 3 | B4: 2010 | C4: 21990 | D4: 9303 | E4: =D4/C4 -> 0.42305593 | F4: =LN(E4) -> -0.86025088 | L4: 0.7 | M4: =_xlfn.LOGNORM.DIST(L4,$I$6,$I$7,TRUE) -> 0.43226842 | N4: =M4-M3 -> 0.16147719 | O4: =N4>0 -> TRUE | P4: =M4>M3 -> TRUE
A5: 4 | B5: 2010 | C5: 24434 | D5: 10720 | E5: =D5/C5 -> 0.43873291 | F5: =LN(E5) -> -0.82386445 | H5: Fitted Distribution | I5: Log Normal | L5: 0.8 | M5: =_xlfn.LOGNORM.DIST(L5,$I$6,$I$7,TRUE) -> 0.58331736 | N5: =M5-M4 -> 0.15104894 | O5: =N5>0 -> TRUE | P5: =M5>M4 -> TRUE
A6: 5 | B6: 2010 | C6: 23293 | D6: 10422 | E6: =D6/C6 -> 0.44743056 | F6: =LN(E6) -> -0.80423393 | H6: Mean of Ln(x) | I6: =J2 -> -0.29688139 | L6: 0.9 | M6: =_xlfn.LOGNORM.DIST(L6,$I$6,$I$7,TRUE) -> 0.70761957 | N6: =M6-M5 -> 0.1243022 | O6: =N6>0 -> TRUE | P6: =M6>M5 -> TRUE
A7: 6 | B7: 2010 | C7: 17103 | D7: 7504 | E7: =D7/C7 -> 0.43875344 | F7: =LN(E7) -> -0.82381768 | H7: Standard deviation of Ln(x) | I7: =J3 -> 0.35048592 | L7: 1 | M7: =_xlfn.LOGNORM.DIST(L7,$I$6,$I$7,TRUE) -> 0.8015182 | N7: =M7-M6 -> 0.093898633 | O7: =N7>0 -> TRUE | P7: =M7>M6 -> TRUE
A8: 7 | B8: 2010 | C8: 18569 | D8: 8388 | E8: =D8/C8 -> 0.45172061 | F8: =LN(E8) -> -0.79469141 | L8: 1.05 | M8: =_xlfn.LOGNORM.DIST(L8,$I$6,$I$7,TRUE) -> 0.83799815 | N8: =M8-M7 -> 0.03647995 | O8: =N8>0 -> TRUE | P8: =M8>M7 -> TRUE
A9: 8 | B9: 2010 | C9: 24108 | D9: 11280 | E9: =D9/C9 -> 0.46789447 | F9: =LN(E9) -> -0.75951249 | L9: 1.1 | M9: =_xlfn.LOGNORM.DIST(L9,$I$6,$I$7,TRUE) -> 0.86842861 | N9: =M9-M8 -> 0.030430461 | O9: =N9>0 -> TRUE | P9: =M9>M8 -> TRUE
A10: 9 | B10: 2010 | C10: 22316 | D10: 10240 | E10: =D10/C10 -> 0.4588636 | F10: =LN(E10) -> -0.77900229 | L10: 1.15 | M10: =_xlfn.LOGNORM.DIST(L10,$I$6,$I$7,TRUE) -> 0.89358526 | N10: =M10-M9 -> 0.025156655 | O10: =N10>0 -> TRUE | P10: =M10>M9 -> TRUE
A11: 10 | B11: 2010 | C11: 23782 | D11: 11128 | E11: =D11/C11 -> 0.46791691 | F11: =LN(E11) -> -0.75946454 | L11: 1.2 | M11: =_xlfn.LOGNORM.DIST(L11,$I$6,$I$7,TRUE) -> 0.914227 | N11: =M11-M10 -> 0.020641738 | O11: =N11>0 -> TRUE | P11: =M11>M10 -> TRUE
A12: 11 | B12: 2010 | C12: 22316 | D12: 10442 | E12: =D12/C12 -> 0.4679154 | F12: =LN(E12) -> -0.75946777 | H12: Check | L12: 1.25 | M12: =_xlfn.LOGNORM.DIST(L12,$I$6,$I$7,TRUE) -> 0.93105914 | N12: =M12-M11 -> 0.016832137 | O12: =N12>0 -> TRUE | P12: =M12>M11 -> TRUE
A13: 12 | B13: 2010 | C13: 22153 | D13: 10619 | E13: =D13/C13 -> 0.47934817 | F13: =LN(E13) -> -0.73532808 | H13: sum of Incremental probability | J13: =SUM(N3:N32) -> 0.99921328 | L13: 1.3 | M13: =_xlfn.LOGNORM.DIST(L13,$I$6,$I$7,TRUE) -> 0.94471423 | N13: =M13-M12 -> 0.013655088 | O13: =N13>0 -> TRUE | P13: =M13>M12 -> TRUE
A14: 13 | B14: 2010 | C14: 22805 | D14: 10720 | E14: =D14/C14 -> 0.47007235 | F14: =LN(E14) -> -0.75486865 | H14: Cumulative probability of 225% | J14: =M32 -> 0.99921328 | L14: 1.35 | M14: =_xlfn.LOGNORM.DIST(L14,$I$6,$I$7,TRUE) -> 0.95574491 | N14: =M14-M13 -> 0.011030689 | O14: =N14>0 -> TRUE | P14: =M14>M13 -> TRUE
A15: 14 | B15: 2010 | C15: 18569 | D15: 8902 | E15: =D15/C15 -> 0.47940115 | F15: =LN(E15) -> -0.73521755 | H15: Difference=0 | J15: =J14-J13 -> 0 | L15: 1.4 | M15: =_xlfn.LOGNORM.DIST(L15,$I$6,$I$7,TRUE) -> 0.96462455 | N15: =M15-M14 -> 0.0088796331 | O15: =N15>0 -> TRUE | P15: =M15>M14 -> TRUE
A16: 15 | B16: 2010 | C16: 18081 | D16: 8667 | E16: =D16/C16 -> 0.47934296 | F16: =LN(E16) -> -0.73533895 | L16: 1.45 | M16: =_xlfn.LOGNORM.DIST(L16,$I$6,$I$7,TRUE) -> 0.97175232 | N16: =M16-M15 -> 0.0071277733 | O16: =N16>0 -> TRUE | P16: =M16>M15 -> TRUE
A17: 16 | B17: 2010 | C17: 18569 | D17: 9311 | E17: =D17/C17 -> 0.50142711 | F17: =LN(E17) -> -0.69029703 | L17: 1.5 | M17: =_xlfn.LOGNORM.DIST(L17,$I$6,$I$7,TRUE) -> 0.9774608 | N17: =M17-M16 -> 0.0057084789 | O17: =N17>0 -> TRUE | P17: =M17>M16 -> TRUE
A18: 17 | B18: 2010 | C18: 22316 | D18: 11410 | E18: =D18/C18 -> 0.51129235 | F18: =LN(E18) -> -0.67081375 | L18: 1.55 | M18: =_xlfn.LOGNORM.DIST(L18,$I$6,$I$7,TRUE) -> 0.98202434 | N18: =M18-M17 -> 0.0045635354 | O18: =N18>0 -> TRUE | P18: =M18>M17 -> TRUE
A19: 18 | B19: 2010 | C19: 21990 | D19: 11025 | E19: =D19/C19 -> 0.50136426 | F19: =LN(E19) -> -0.69042238 | L19: 1.6 | M19: =_xlfn.LOGNORM.DIST(L19,$I$6,$I$7,TRUE) -> 0.98566747 | N19: =M19-M18 -> 0.0036431315 | O19: =N19>0 -> TRUE | P19: =M19>M18 -> TRUE
A20: 19 | B20: 2010 | C20: 18895 | D20: 9662 | E20: =D20/C20 -> 0.51135221 | F20: =LN(E20) -> -0.67069667 | L20: 1.65 | M20: =_xlfn.LOGNORM.DIST(L20,$I$6,$I$7,TRUE) -> 0.98857279 | N20: =M20-M19 -> 0.0029053203 | O20: =N20>0 -> TRUE | P20: =M20>M19 -> TRUE
A21: 20 | B21: 2010 | C21: 22967 | D21: 11629 | E21: =D21/C21 -> 0.50633518 | F21: =LN(E21) -> -0.68055642 | L21: 1.7 | M21: =_xlfn.LOGNORM.DIST(L21,$I$6,$I$7,TRUE) -> 0.990888 | N21: =M21-M20 -> 0.0023152158 | O21: =N21>0 -> TRUE | P21: =M21>M20 -> TRUE
A22: 21 | B22: 2010 | C22: 20850 | D22: 11101 | E22: =D22/C22 -> 0.53242206 | F22: =LN(E22) -> -0.63031875 | L22: 1.75 | M22: =_xlfn.LOGNORM.DIST(L22,$I$6,$I$7,TRUE) -> 0.99273209 | N22: =M22-M21 -> 0.0018440893 | O22: =N22>0 -> TRUE | P22: =M22>M21 -> TRUE
A23: 22 | B23: 2010 | C23: 19058 | D23: 9854 | E23: =D23/C23 -> 0.51705321 | F23: =LN(E23) -> -0.6596095 | L23: 1.8 | M23: =_xlfn.LOGNORM.DIST(L23,$I$6,$I$7,TRUE) -> 0.99420056 | N23: =M23-M22 -> 0.0014684695 | O23: =N23>0 -> TRUE | P23: =M23>M22 -> TRUE
A24: 23 | B24: 2010 | C24: 17429 | D24: 9102 | E24: =D24/C24 -> 0.52223306 | F24: =LN(E24) -> -0.64964132 | L24: 1.85 | M24: =_xlfn.LOGNORM.DIST(L24,$I$6,$I$7,TRUE) -> 0.99536986 | N24: =M24-M23 -> 0.0011693023 | O24: =N24>0 -> TRUE | P24: =M24>M23 -> TRUE
A25: 24 | B25: 2010 | C25: 19384 | D25: 10428 | E25: =D25/C25 -> 0.53796946 | F25: =LN(E25) -> -0.61995349 | L25: 1.9 | M25: =_xlfn.LOGNORM.DIST(L25,$I$6,$I$7,TRUE) -> 0.99630106 | N25: =M25-M24 -> 0.00093119937 | O25: =N25>0 -> TRUE | P25: =M25>M24 -> TRUE
A26: 25 | B26: 2010 | C26: 22967 | D26: 12356 | E26: =D26/C26 -> 0.53798929 | F26: =LN(E26) -> -0.61991663 | L26: 1.95 | M26: =_xlfn.LOGNORM.DIST(L26,$I$6,$I$7,TRUE) -> 0.99704285 | N26: =M26-M25 -> 0.00074178467 | O26: =N26>0 -> TRUE | P26: =M26>M25 -> TRUE
A27: 26 | B27: 2010 | C27: 20850 | D27: 11438 | E27: =D27/C27 -> 0.54858513 | F27: =LN(E27) -> -0.6004128 | L27: 2 | M27: =_xlfn.LOGNORM.DIST(L27,$I$6,$I$7,TRUE) -> 0.99763399 | N27: =M27-M26 -> 0.0005911384 | O27: =N27>0 -> TRUE | P27: =M27>M26 -> TRUE
... A32: 31 | B32: 2010 | C32: 18569 | D32: 10485 | E32: =D32/C32 -> 0.56465076 | F32: =LN(E32) -> -0.57154786 | L32: 2.25 | M32: =_xlfn.LOGNORM.DIST(L32,$I$6,$I$7,TRUE) -> 0.99921328 | N32: =M32-M31 -> 0.00019182709 | O32: =N32>0 -> TRUE | P32: =M32>M31 -> TRUE
A33: 32 | B33: 2010 | C33: 24434 | D33: 13798 | E33: =D33/C33 -> 0.56470492 | F33: =LN(E33) -> -0.57145195
A34: 33 | B34: 2010 | C34: 19710 | D34: 10808 | E34: =D34/C34 -> 0.54835109 | F34: =LN(E34) -> -0.60083952
A35: 34 | B35: 2010 | C35: 20850 | D35: 11433 | E35: =D35/C35 -> 0.54834532 | F35: =LN(E35) -> -0.60085004
A36: 35 | B36: 2010 | C36: 21990 | D36: 12650 | E36: =D36/C36 -> 0.57526148 | F36: =LN(E36) -> -0.55293059
A37: 36 | B37: 2010 | C37: 17918 | D37: 10107 | E37: =D37/C37 -> 0.56406965 | F37: =LN(E37) -> -0.57257754
A38: 37 | B38: 2010 | C38: 21176 | D38: 12299 | E38: =D38/C38 -> 0.58079902 | F38: =LN(E38) -> -0.54335051
A39: 38 | B39: 2010 | C39: 21664 | D39: 12583 | E39: =D39/C39 -> 0.58082533 | F39: =LN(E39) -> -0.5433052
A40: 39 | B40: 2010 | C40: 19710 | D40: 11229 | E40: =D40/C40 -> 0.56971081 | F40: =LN(E40) -> -0.5626264
A41: 40 | B41: 2010 | C41: 23130 | D41: 13306 | E41: =D41/C41 -> 0.57527021 | F41: =LN(E41) -> -0.55291541
A42: 41 | B42: 2010 | C42: 20035 | D42: 11301 | E42: =D42/C42 -> 0.56406289 | F42: =LN(E42) -> -0.57258953
A43: 42 | B43: 2010 | C43: 23456 | D43: 13231 | E43: =D43/C43 -> 0.56407742 | F43: =LN(E43) -> -0.57256376
A44: 43 | B44: 2010 | C44: 22316 | D44: 12961 | E44: =D44/C44 -> 0.58079405 | F44: =LN(E44) -> -0.54335906
...

Sheet Approach-1
A1: Scenario-1 Expected loss ratio with Excess of Loss Insurance 20% Xs 100% | J1: All Amounts are in Crores
A2: Reinsurer: RI-Care Exposure curve
A4: Table -1 : XL arrangement
A5: Attachment Point | C5: 1
A6: Upper Limit | C6: 1.2
A7: Reinsured Band (A) | C7: =C6-C5 -> 0.2
A8: RI rate From Exposure curve (B) | C8: ='Data-RI-Care'!C11-'Data-RI-Care'!C7 -> 0.2897
A9: RI Rate (Min of A & B) | C9: =MIN(C7,C8) -> 0.2
A11: Gross Loss Ratio | B11: 0.6 | C11: 0.7 | D11: 0.8 | E11: 0.9 | F11: 1 | G11: 1.05 | H11: 1.1 | I11: 1.15 | J11: 1.2 | K11: 1.25 | L11: 1.3 | M11: 1.35 | N11: 1.4 | O11: 1.45 | P11: 1.5 | Q11: 1.55 | R11: 1.6 | S11: 1.65 | T11: 1.7 | U11: 1.75 | V11: 1.8 | W11: 1.85 | X11: 1.9 | Y11: 1.95 | Z11: 2 | AA11: 2.05 | AB11: 2.1 | AC11: 2.15 | AD11: 2.2 | AE11: 2.25 | AF11: Check
A12: Probability | B12: =VLOOKUP(B$11,'Data-RI-Care'!$A$3:$B$32,2,FALSE) -> 0.0413 | C12: =VLOOKUP(C$11,'Data-RI-Care'!$A$3:$B$32,2,FALSE) -> 0.051 | D12: =VLOOKUP(D$11,'Data-RI-Care'!$A$3:$B$32,2,FALSE) -> 0.1398 | E12: =VLOOKUP(E$11,'Data-RI-Care'!$A$3:$B$32,2,FALSE) -> 0.14 | F12: =VLOOKUP(F$11,'Data-RI-Care'!$A$3:$B$32,2,FALSE) -> 0.1322 | G12: =VLOOKUP(G$11,'Data-RI-Care'!$A$3:$B$32,2,FALSE) -> 0.0754 | H12: =VLOOKUP(H$11,'Data-RI-Care'!$A$3:$B$32,2,FALSE) -> 0.0808 | I12: =VLOOKUP(I$11,'Data-RI-Care'!$A$3:$B$32,2,FALSE) -> 0.0808 | ... AE12: =VLOOKUP(AE$11,'Data-RI-Care'!$A$3:$B$32,2,FALSE) -> 0.0001 | AF12: =SUM(B12:AE12) -> 1.0001
A14: INSURER
A15: EPI | B15: =Parameters!$C$9 -> 10000 | C15: =Parameters!$C$9 -> 10000 | D15: =Parameters!$C$9 -> 10000 | E15: =Parameters!$C$9 -> 10000 | F15: =Parameters!$C$9 -> 10000 | G15: =Parameters!$C$9 -> 10000 | H15: =Parameters!$C$9 -> 10000 | I15: =Parameters!$C$9 -> 10000 | ... AE15: =Parameters!$C$9 -> 10000
A16: XL premium payable | B16: =$C$9*B15 -> 2000 | C16: =$C$9*C15 -> 2000 | D16: =$C$9*D15 -> 2000 | E16: =$C$9*E15 -> 2000 | F16: =$C$9*F15 -> 2000 | G16: =$C$9*G15 -> 2000 | H16: =$C$9*H15 -> 2000 | I16: =$C$9*I15 -> 2000 | ... AE16: =$C$9*AE15 -> 2000
A17: NWP | B17: =B15-B16 -> 8000 | C17: =C15-C16 -> 8000 | D17: =D15-D16 -> 8000 | E17: =E15-E16 -> 8000 | F17: =F15-F16 -> 8000 | G17: =G15-G16 -> 8000 | H17: =H15-H16 -> 8000 | I17: =I15-I16 -> 8000 | ... AE17: =AE15-AE16 -> 8000
A18: Gross Claim | B18: =B11*B15 -> 6000 | C18: =C11*C15 -> 7000 | D18: =D11*D15 -> 8000 | E18: =E11*E15 -> 9000 | F18: =F11*F15 -> 10000 | G18: =G11*G15 -> 10500 | H18: =H11*H15 -> 11000 | I18: =I11*I15 -> 11500 | ... AE18: =AE11*AE15 -> 22500
A19: XL recovery | B19: =IF(B11>$C$5,IF(B11<=$C$6,B11-$C$5,$C$6-$C$5),0)*B15 -> 0 | C19: =IF(C11>$C$5,IF(C11<=$C$6,C11-$C$5,$C$6-$C$5),0)*C15 -> 0 | D19: =IF(D11>$C$5,IF(D11<=$C$6,D11-$C$5,$C$6-$C$5),0)*D15 -> 0 | E19: =IF(E11>$C$5,IF(E11<=$C$6,E11-$C$5,$C$6-$C$5),0)*E15 -> 0 | F19: =IF(F11>$C$5,IF(F11<=$C$6,F11-$C$5,$C$6-$C$5),0)*F15 -> 0 | G19: =IF(G11>$C$5,IF(G11<=$C$6,G11-$C$5,$C$6-$C$5),0)*G15 -> 500 | H19: =IF(H11>$C$5,IF(H11<=$C$6,H11-$C$5,$C$6-$C$5),0)*H15 -> 1000 | I19: =IF(I11>$C$5,IF(I11<=$C$6,I11-$C$5,$C$6-$C$5),0)*I15 -> 1500 | ... AE19: =IF(AE11>$C$5,IF(AE11<=$C$6,AE11-$C$5,$C$6-$C$5),0)*AE15 -> 2000
A20: Net Claim | B20: =B18-B19 -> 6000 | C20: =C18-C19 -> 7000 | D20: =D18-D19 -> 8000 | E20: =E18-E19 -> 9000 | F20: =F18-F19 -> 10000 | G20: =G18-G19 -> 10000 | H20: =H18-H19 -> 10000 | I20: =I18-I19 -> 10000 | ... AE20: =AE18-AE19 -> 20500
A21: Net Loss Ratio | B21: =B20/B17 -> 0.75 | C21: =C20/C17 -> 0.875 | D21: =D20/D17 -> 1 | E21: =E20/E17 -> 1.125 | F21: =F20/F17 -> 1.25 | G21: =G20/G17 -> 1.25 | H21: =H20/H17 -> 1.25 | I21: =I20/I17 -> 1.25 | ... AE21: =AE20/AE17 -> 2.5625
A22: Check | B22: =B11>B21 -> FALSE | C22: =C11>C21 -> FALSE | D22: =D11>D21 -> FALSE | E22: =E11>E21 -> FALSE | F22: =F11>F21 -> FALSE | G22: =G11>G21 -> FALSE | H22: =H11>H21 -> FALSE | I22: =I11>I21 -> FALSE | ... AE22: =AE11>AE21 -> FALSE
A23: REINSURER
A24: Premium received | B24: =B16 -> 2000 | C24: =C16 -> 2000 | D24: =D16 -> 2000 | E24: =E16 -> 2000 | F24: =F16 -> 2000 | G24: =G16 -> 2000 | H24: =H16 -> 2000 | I24: =I16 -> 2000 | ... AE24: =AE16 -> 2000
A25: Claim Payable | B25: =B19 -> 0 | C25: =C19 -> 0 | D25: =D19 -> 0 | E25: =E19 -> 0 | F25: =F19 -> 0 | G25: =G19 -> 500 | H25: =H19 -> 1000 | I25: =I19 -> 1500 | ... AE25: =AE19 -> 2000
A26: Gross Loss Ratio | B26: =B25/B24 -> 0 | C26: =C25/C24 -> 0 | D26: =D25/D24 -> 0 | E26: =E25/E24 -> 0 | F26: =F25/F24 -> 0 | G26: =G25/G24 -> 0.25 | H26: =H25/H24 -> 0.5 | I26: =I25/I24 -> 0.75 | ... AE26: =AE25/AE24 -> 1
A28: Table-2 : Expected Values | H28: Other Reasonableness Checks
A29: Gross Loss Ratio (Insurer) | C29: =SUMPRODUCT(B11:AE11,B12:AE12) -> 1.046565 | H29: 1 | I29: Net loss ratio with 0% RI rate
A30: Net Loss Ratio (Insurer) | C30: =SUMPRODUCT(B21:AE21,B12:AE12) -> 1.2135437 | H30: 2 | I30: Net Loss ratio with attachment point=upper limit
A31: Gross Loss Ratio (Reinsurer) | C31: =SUMPRODUCT(B26:AE26,B12:AE12) -> 0.37865
A34: Retention ratio | B34: =B17/B15 -> 0.8

Sheet Approach-2
A1: Scenario-1 Expected loss ratio with Excess of Loss Insurance 20% Xs 100% | J1: All Amounts are in Crores
A2: Reinsurer: Exposure curve using Internal data
A4: Table -1 : XL arrangement
A5: Attachment Point | C5: 1
A6: Upper Limit | C6: 1.2
A7: Reinsured Band (A) | C7: =C6-C5 -> 0.2
A8: RI rate From Exposure curve (B) | C8: ='Data-Internal'!M11-'Data-Internal'!M7 -> 0.1127088
A9: RI Rate (Min of A & B) | C9: =MIN(C7,C8) -> 0.1127088
A11: Gross Loss Ratio | B11: 0.6 | C11: 0.7 | D11: 0.8 | E11: 0.9 | F11: 1 | G11: 1.05 | H11: 1.1 | I11: 1.15 | J11: 1.2 | K11: 1.25 | L11: 1.3 | M11: 1.35 | N11: 1.4 | O11: 1.45 | P11: 1.5 | Q11: 1.55 | R11: 1.6 | S11: 1.65 | T11: 1.7 | U11: 1.75 | V11: 1.8 | W11: 1.85 | X11: 1.9 | Y11: 1.95 | Z11: 2 | AA11: 2.05 | AB11: 2.1 | AC11: 2.15 | AD11: 2.2 | AE11: 2.25 | AF11: Check
A12: Probability | B12: =VLOOKUP(B$11,'Data-Internal'!$L$3:$N$32,3,FALSE) -> 0.27079123 | C12: =VLOOKUP(C$11,'Data-Internal'!$L$3:$N$32,3,FALSE) -> 0.16147719 | D12: =VLOOKUP(D$11,'Data-Internal'!$L$3:$N$32,3,FALSE) -> 0.15104894 | E12: =VLOOKUP(E$11,'Data-Internal'!$L$3:$N$32,3,FALSE) -> 0.1243022 | F12: =VLOOKUP(F$11,'Data-Internal'!$L$3:$N$32,3,FALSE) -> 0.093898633 | G12: =VLOOKUP(G$11,'Data-Internal'!$L$3:$N$32,3,FALSE) -> 0.03647995 | H12: =VLOOKUP(H$11,'Data-Internal'!$L$3:$N$32,3,FALSE) -> 0.030430461 | I12: =VLOOKUP(I$11,'Data-Internal'!$L$3:$N$32,3,FALSE) -> 0.025156655 | ... AE12: =VLOOKUP(AE$11,'Data-Internal'!$L$3:$N$32,3,FALSE) -> 0.00019182709 | AF12: =SUM(B12:AE12) -> 0.99921328
A14: INSURER
A15: EPI | B15: =Parameters!$C$9 -> 10000 | C15: =Parameters!$C$9 -> 10000 | D15: =Parameters!$C$9 -> 10000 | E15: =Parameters!$C$9 -> 10000 | F15: =Parameters!$C$9 -> 10000 | G15: =Parameters!$C$9 -> 10000 | H15: =Parameters!$C$9 -> 10000 | I15: =Parameters!$C$9 -> 10000 | ... AE15: =Parameters!$C$9 -> 10000
A16: XL premium payable | B16: =$C$9*B15 -> 1127.088 | C16: =$C$9*C15 -> 1127.088 | D16: =$C$9*D15 -> 1127.088 | E16: =$C$9*E15 -> 1127.088 | F16: =$C$9*F15 -> 1127.088 | G16: =$C$9*G15 -> 1127.088 | H16: =$C$9*H15 -> 1127.088 | I16: =$C$9*I15 -> 1127.088 | ... AE16: =$C$9*AE15 -> 1127.088
A17: NWP | B17: =B15-B16 -> 8872.912 | C17: =C15-C16 -> 8872.912 | D17: =D15-D16 -> 8872.912 | E17: =E15-E16 -> 8872.912 | F17: =F15-F16 -> 8872.912 | G17: =G15-G16 -> 8872.912 | H17: =H15-H16 -> 8872.912 | I17: =I15-I16 -> 8872.912 | ... AE17: =AE15-AE16 -> 8872.912
A18: Gross Claim | B18: =B11*B15 -> 6000 | C18: =C11*C15 -> 7000 | D18: =D11*D15 -> 8000 | E18: =E11*E15 -> 9000 | F18: =F11*F15 -> 10000 | G18: =G11*G15 -> 10500 | H18: =H11*H15 -> 11000 | I18: =I11*I15 -> 11500 | ... AE18: =AE11*AE15 -> 22500
A19: XL recovery | B19: =IF(B11>$C$5,IF(B11<=$C$6,B11-$C$5,$C$6-$C$5),0)*B15 -> 0 | C19: =IF(C11>$C$5,IF(C11<=$C$6,C11-$C$5,$C$6-$C$5),0)*C15 -> 0 | D19: =IF(D11>$C$5,IF(D11<=$C$6,D11-$C$5,$C$6-$C$5),0)*D15 -> 0 | E19: =IF(E11>$C$5,IF(E11<=$C$6,E11-$C$5,$C$6-$C$5),0)*E15 -> 0 | F19: =IF(F11>$C$5,IF(F11<=$C$6,F11-$C$5,$C$6-$C$5),0)*F15 -> 0 | G19: =IF(G11>$C$5,IF(G11<=$C$6,G11-$C$5,$C$6-$C$5),0)*G15 -> 500 | H19: =IF(H11>$C$5,IF(H11<=$C$6,H11-$C$5,$C$6-$C$5),0)*H15 -> 1000 | I19: =IF(I11>$C$5,IF(I11<=$C$6,I11-$C$5,$C$6-$C$5),0)*I15 -> 1500 | ... AE19: =IF(AE11>$C$5,IF(AE11<=$C$6,AE11-$C$5,$C$6-$C$5),0)*AE15 -> 2000
A20: Net Claim | B20: =B18-B19 -> 6000 | C20: =C18-C19 -> 7000 | D20: =D18-D19 -> 8000 | E20: =E18-E19 -> 9000 | F20: =F18-F19 -> 10000 | G20: =G18-G19 -> 10000 | H20: =H18-H19 -> 10000 | I20: =I18-I19 -> 10000 | ... AE20: =AE18-AE19 -> 20500
A21: Net Loss Ratio | B21: =B20/B17 -> 0.67621543 | C21: =C20/C17 -> 0.788918 | D21: =D20/D17 -> 0.90162058 | E21: =E20/E17 -> 1.0143231 | F21: =F20/F17 -> 1.1270257 | G21: =G20/G17 -> 1.1270257 | H21: =H20/H17 -> 1.1270257 | I21: =I20/I17 -> 1.1270257 | ... AE21: =AE20/AE17 -> 2.3104027
A22: Check | B22: =B11>B21 -> FALSE | C22: =C11>C21 -> FALSE | D22: =D11>D21 -> FALSE | E22: =E11>E21 -> FALSE | F22: =F11>F21 -> FALSE | G22: =G11>G21 -> FALSE | H22: =H11>H21 -> FALSE | I22: =I11>I21 -> TRUE | ... AE22: =AE11>AE21 -> FALSE
A23: REINSURER
A24: Premium received | B24: =B16 -> 1127.088 | C24: =C16 -> 1127.088 | D24: =D16 -> 1127.088 | E24: =E16 -> 1127.088 | F24: =F16 -> 1127.088 | G24: =G16 -> 1127.088 | H24: =H16 -> 1127.088 | I24: =I16 -> 1127.088 | ... AE24: =AE16 -> 1127.088
A25: Claim Payable | B25: =B19 -> 0 | C25: =C19 -> 0 | D25: =D19 -> 0 | E25: =E19 -> 0 | F25: =F19 -> 0 | G25: =G19 -> 500 | H25: =H19 -> 1000 | I25: =I19 -> 1500 | ... AE25: =AE19 -> 2000
A26: Gross Loss Ratio | B26: =B25/B24 -> 0 | C26: =C25/C24 -> 0 | D26: =D25/D24 -> 0 | E26: =E25/E24 -> 0 | F26: =F25/F24 -> 0 | G26: =G25/G24 -> 0.44362107 | H26: =H25/H24 -> 0.88724214 | I26: =I25/I24 -> 1.3308632 | ... AE26: =AE25/AE24 -> 1.7744843
A28: Table-2 : Expected Values | H28: Other Reasonableness Checks
A29: Gross Loss Ratio (Insurer) | C29: =SUMPRODUCT(B11:AE11,B12:AE12) -> 0.85003344 | H29: 1 | I29: Net loss ratio with 0% RI rate
A30: Net Loss Ratio (Insurer) | C30: =SUMPRODUCT(B21:AE21,B12:AE12) -> 0.92446234 | H30: 2 | I30: Net Loss ratio with attachment point=upper limit
A31: Gross Loss Ratio (Reinsurer) | C31: =SUMPRODUCT(B26:AE26,B12:AE12) -> 0.26409779
A34: Retention ratio | B34: =B17/B15 -> 0.8872912

Sheet Result 
F1: Answer to Q1(ii)
F2: Reinsurance arrangement: | G2: 20% Xs 100%
A3: Answer to Q1(iii) | F3: Expected Values | G3: Approach-1 | H3: Approach-2
A4: Cumulative probability | F4: Gross Loss Ratio (Insurer) | G4: ='Approach-1'!C29 -> 1.046565 | H4: ='Approach-2'!C29 -> 0.85003344
A5: Loss ratio | B5: RI-Care | C5: Internal Data | F5: Net Loss Ratio (Insurer) | G5: ='Approach-1'!C30 -> 1.2135437 | H5: ='Approach-2'!C30 -> 0.92446234
A6: 1 | B6: ='Data-RI-Care'!C7 -> 0.5043 | C6: ='Data-Internal'!M7 -> 0.8015182 | F6: Gross Loss Ratio(Reinsurer) | G6: ='Approach-1'!C31 -> 0.37865 | H6: ='Approach-2'!C31 -> 0.26409779
A7: 1.2 | B7: ='Data-RI-Care'!C11 -> 0.794 | C7: ='Data-Internal'!M11 -> 0.914227
A8: 1.4 | B8: ='Data-RI-Care'!C15 -> 0.939 | C8: ='Data-Internal'!M15 -> 0.96462455
A10: RI Arrangement | B10: Approach-1 | C10: Approach-2 | E10: Answer to Q1(iv)
A11: 20% Xs 100% | B11: =B7-B6 -> 0.2897 | C11: =C7-C6 -> 0.1127088
A12: 20% Xs 120% | B12: =B8-B7 -> 0.145 | C12: =C8-C7 -> 0.050397546
