Workbook
Name i: #REF!

Sheet Q1 data
A7: AM92
A8: Age x | B8: qx | C8: lx | D8: dx
A9: 17 | B9: 0.0006 | C9: 100000 | D9: 60
A10: 18 | B10: 0.000594 | C10: 99940 | D10: 59.36436
A11: 19 | B11: 0.000587 | C11: 99880.636 | D11: 58.629933
A12: 20 | B12: 0.000582 | C12: 99822.006 | D12: 58.096407
A13: 21 | B13: 0.000577 | C13: 99763.909 | D13: 57.563776
A14: 22 | B14: 0.000572 | C14: 99706.346 | D14: 57.03203
A15: 23 | B15: 0.000569 | C15: 99649.313 | D15: 56.700459
A16: 24 | B16: 0.000567 | C16: 99592.613 | D16: 56.469012
A17: 25 | B17: 0.000566 | C17: 99536.144 | D17: 56.337458
A18: 26 | B18: 0.000567 | C18: 99479.807 | D18: 56.40505
A19: 27 | B19: 0.00057 | C19: 99423.402 | D19: 56.671339
A20: 28 | B20: 0.000574 | C20: 99366.73 | D20: 57.036503
... A112: 120 | B112: 1 | C112: 3.9960418e-06 | D112: 3.9960418e-06

Sheet 1 (i)
A1: SA
A2: A37:23 | F2: i | G2: 0.04 | H2: Interest | K2: p | L2: 2844 | M2: Annual premium
A3: a due37:23 | F3: v | G3: =1/(1+G2) -> 0.96153846 | I3: 1 | K3: IE | L3: 1000 | M3: Initial expense
A4: P | F4: S | G4: 100000 | H4: Sum assured | K4: re | L4: 50 | M4: Regular expense
A5: =B5*1.04^23 -> 0 | K5: ce | L5: 500 | M5: Claim expense
A7: AM92 | G7: 1 | H7: 4 | I7: 4 | J7: 2 | K7: 2 | L7: 1 | M7: 1 | N7: 1 | O7: 1 | P7: 2 | Q7: 1
A8: Age x | B8: qx | C8: lx | D8: dx | F8: t (end of period) | G8: px | H8: annuity due | I8: Term Assurance factor | J8: PV of premiums | K8: PV of SA+ claim expense | L8: PV of initial expenses | M8: PV of regular expense | N8: PV of Past expense | O8: PV of Income and outgo | P8: Accumulation factor | Q8: Retro reserve
A9: 17 | B9: 0.0006 | C9: 100000 | D9: 60 | F9: 1 | G9: =C30/$C$29 -> 0.999235 | H9: 1 | I9: =$G$3^F9*D29/$C$29 -> 0.00073557692 | J9: =$L$2*H9 -> 2844 | K9: =($G$4+$L$5)*I9 -> 73.925481 | L9: =$L$3 -> 1000 | M9: 0 | N9: =$L$9+M9 -> 1000 | O9: =J9-K9-N9 -> 1770.0745 | P9: =(1+$G$2)^F9/G9 -> 1.0407962 | Q9: =O9*P9 -> 1842.2868
A10: 18 | B10: 0.000594 | C10: 99940 | D10: 59.36436 | F10: 2 | G10: =C31/$C$29 -> 0.99842262 | H10: =H9+G9*$G$3^F9 -> 1.9608029 | I10: =I9+$G$3^F10*D30/$C$29 -> 0.0014866661 | J10: =$L$2*H10 -> 5576.5234 | K10: =($G$4+$L$5)*I10 -> 149.40994 | M10: =$L$4*(H10-1) -> 48.040144 | N10: =$L$9+M10 -> 1048.0401 | O10: =J10-K10-N10 -> 4379.0733 | P10: =(1+$G$2)^F10/G10 -> 1.0833088 | Q10: =O10*P10 -> 4743.8886
A11: 19 | B11: 0.000587 | C11: 99880.636 | D11: 58.629933 | F11: 3 | G11: =C32/$C$29 -> 0.99755399 | H11: =H10+G10*$G$3^F10 -> 2.8839007 | I11: =I10+$G$3^F11*D31/$C$29 -> 0.0022588729 | J11: =$L$2*H11 -> 8201.8137 | K11: =($G$4+$L$5)*I11 -> 227.01673 | M11: =$L$4*(H11-1) -> 94.195036 | N11: =$L$9+M11 -> 1094.195 | O11: =J11-K11-N11 -> 6880.6019 | P11: =(1+$G$2)^F11/G11 -> 1.1276222 | Q11: =O11*P11 -> 7758.7192
A12: 20 | B12: 0.000582 | C12: 99822.006 | D12: 58.096407 | F12: 4 | G12: =C33/$C$29 -> 0.99661929 | H12: =H11+G11*$G$3^F11 -> 3.7707226 | I12: =I11+$G$3^F12*D32/$C$29 -> 0.0030578653 | J12: =$L$2*H12 -> 10723.935 | K12: =($G$4+$L$5)*I12 -> 307.31547 | M12: =$L$4*(H12-1) -> 138.53613 | N12: =$L$9+M12 -> 1138.5361 | O12: =J12-K12-N12 -> 9278.0835 | P12: =(1+$G$2)^F12/G12 -> 1.1738269 | Q12: =O12*P12 -> 10890.864
A13: 21 | B13: 0.000577 | C13: 99763.909 | D13: 57.563776 | F13: 5 | G13: =C34/$C$29 -> 0.99560871 | H13: =H12+G12*$G$3^F12 -> 4.6226369 | I13: =I12+$G$3^F13*D33/$C$29 -> 0.0038884818 | J13: =$L$2*H13 -> 13146.779 | K13: =($G$4+$L$5)*I13 -> 390.79242 | M13: =$L$4*(H13-1) -> 181.13185 | N13: =$L$9+M13 -> 1181.1318 | O13: =J13-K13-N13 -> 11574.855 | P13: =(1+$G$2)^F13/G13 -> 1.2220191 | Q13: =O13*P13 -> 14144.695
A14: 22 | B14: 0.000572 | C14: 99706.346 | D14: 57.03203 | F14: 6 | G14: =C35/$C$29 -> 0.99450956 | H14: =H13+G13*$G$3^F13 -> 5.4409547 | I14: =I13+$G$3^F14*D34/$C$29 -> 0.0047571576 | J14: =$L$2*H14 -> 15474.075 | K14: =($G$4+$L$5)*I14 -> 478.09434 | M14: =$L$4*(H14-1) -> 222.04774 | N14: =$L$9+M14 -> 1222.0477 | O14: =J14-K14-N14 -> 13773.933 | P14: =(1+$G$2)^F14/G14 -> 1.2723045 | Q14: =O14*P14 -> 17524.638
A15: 23 | B15: 0.000569 | C15: 99649.313 | D15: 56.700459 | F15: 7 | G15: =C36/$C$29 -> 0.99330819 | H15: =H14+G14*$G$3^F14 -> 6.2269301 | I15: =I14+$G$3^F15*D35/$C$29 -> 0.0056700982 | J15: =$L$2*H15 -> 17709.389 | K15: =($G$4+$L$5)*I15 -> 569.84487 | M15: =$L$4*(H15-1) -> 261.3465 | N15: =$L$9+M15 -> 1261.3465 | O15: =J15-K15-N15 -> 15878.198 | P15: =(1+$G$2)^F15/G15 -> 1.3247971 | Q15: =O15*P15 -> 21035.39
A16: 24 | B16: 0.000567 | C16: 99592.613 | D16: 56.469012 | F16: 8 | G16: =C37/$C$29 -> 0.99199007 | H16: =H15+G15*$G$3^F15 -> 6.9817627 | I16: =I15+$G$3^F16*D36/$C$29 -> 0.0066332356 | J16: =$L$2*H16 -> 19856.133 | K16: =($G$4+$L$5)*I16 -> 666.64018 | M16: =$L$4*(H16-1) -> 299.08813 | N16: =$L$9+M16 -> 1299.0881 | O16: =J16-K16-N16 -> 17890.405 | P16: =(1+$G$2)^F16/G16 -> 1.3796197 | Q16: =O16*P16 -> 24681.955
A17: 25 | B17: 0.000566 | C17: 99536.144 | D17: 56.337458 | F17: 9 | G17: =C38/$C$29 -> 0.99053681 | H17: =H16+G16*$G$3^F16 -> 7.7066001 | I17: =I16+$G$3^F17*D37/$C$29 -> 0.0076542806 | J17: =$L$2*H17 -> 21917.571 | K17: =($G$4+$L$5)*I17 -> 769.2552 | M17: =$L$4*(H17-1) -> 335.33 | N17: =$L$9+M17 -> 1335.33 | O17: =J17-K17-N17 -> 19812.985 | P17: =(1+$G$2)^F17/G17 -> 1.4369096 | Q17: =O17*P17 -> 28469.468
A18: 26 | B18: 0.000567 | C18: 99479.807 | D18: 56.40505 | F18: 10 | G18: =C39/$C$29 -> 0.98893016 | H18: =H17+G17*$G$3^F17 -> 8.4025381 | I18: =I17+$G$3^F18*D38/$C$29 -> 0.0087396763 | J18: =$L$2*H18 -> 23896.818 | K18: =($G$4+$L$5)*I18 -> 878.33747 | M18: =$L$4*(H18-1) -> 370.12691 | N18: =$L$9+M18 -> 1370.1269 | O18: =J18-K18-N18 -> 21648.354 | P18: =(1+$G$2)^F18/G18 -> 1.4968138 | Q18: =O18*P18 -> 32403.555
A19: 27 | B19: 0.00057 | C19: 99423.402 | D19: 56.671339 | F19: 11 | G19: =C40/$C$29 -> 0.98714811 | H19: =H18+G18*$G$3^F18 -> 9.0706239 | I19: =I18+$G$3^F19*D39/$C$29 -> 0.0098972634 | J19: =$L$2*H19 -> 25796.854 | K19: =($G$4+$L$5)*I19 -> 994.67497 | M19: =$L$4*(H19-1) -> 403.5312 | N19: =$L$9+M19 -> 1403.5312 | O19: =J19-K19-N19 -> 23398.648 | P19: =(1+$G$2)^F19/G19 -> 1.5594965 | Q19: =O19*P19 -> 36490.111
A20: 28 | B20: 0.000574 | C20: 99366.73 | D20: 57.036503 | F20: 12 | G20: =C41/$C$29 -> 0.98516591 | H20: =H19+G19*$G$3^F19 -> 9.7118565 | I20: =I19+$G$3^F20*D40/$C$29 -> 0.011135336 | J20: =$L$2*H20 -> 27620.52 | K20: =($G$4+$L$5)*I20 -> 1119.1012 | M20: =$L$4*(H20-1) -> 435.59282 | N20: =$L$9+M20 -> 1435.5928 | O20: =J20-K20-N20 -> 25065.826 | P20: =(1+$G$2)^F20/G20 -> 1.6251397 | Q20: =O20*P20 -> 40735.468
A21: 29 | B21: 0.00058 | C21: 99309.694 | D21: 57.599622 | F21: 13 | G21: =C42/$C$29 -> 0.98295816 | H21: =H20+G20*$G$3^F20 -> 10.327188 | I21: =I20+$G$3^F21*D41/$C$29 -> 0.012461257 | J21: =$L$2*H21 -> 29370.523 | K21: =($G$4+$L$5)*I21 -> 1252.3563 | M21: =$L$4*(H21-1) -> 466.35941 | N21: =$L$9+M21 -> 1466.3594 | O21: =J21-K21-N21 -> 26651.808 | P21: =(1+$G$2)^F21/G21 -> 1.6939414 | Q21: =O21*P21 -> 45146.6
... A31: 39 | B31: 0.00087 | C31: 98648.688 | D31: 85.824358 | F31: 23 | G31: =C52/$C$29 -> 0.93995847 | H31: =H30+G30*$G$3^F30 -> 15.235094 | I31: =I30+$G$3^F31*D51/$C$29 -> 0.032668941 | J31: =$L$2*H31 -> 43328.607 | K31: =($G$4+$L$5)*I31 -> 3283.2286 | M31: =$L$4*(H31-1) -> 711.7547 | N31: =$L$9+M31 -> 1711.7547 | O31: =J31-K31-N31 -> 38333.624 | P31: =(1+$G$2)^F31/G31 -> 2.6221537 | Q31: =O31*P31 -> 100516.65
A32: 40 | B32: 0.000937 | C32: 98562.863 | D32: 92.353403
A33: 41 | B33: 0.001014 | C33: 98470.51 | D33: 99.849097
A34: 42 | B34: 0.001104 | C34: 98370.661 | D34: 108.60121
A35: 43 | B35: 0.001208 | C35: 98262.06 | D35: 118.70057
A36: 44 | B36: 0.001327 | C36: 98143.359 | D36: 130.23624
A37: 45 | B37: 0.001465 | C37: 98013.123 | D37: 143.58922
A38: 46 | B38: 0.001622 | C38: 97869.534 | D38: 158.74438
A39: 47 | B39: 0.001802 | C39: 97710.789 | D39: 176.07484
A40: 48 | B40: 0.002008 | C40: 97534.714 | D40: 195.84971
A41: 49 | B41: 0.002241 | C41: 97338.865 | D41: 218.1364
A42: 50 | B42: 0.002508 | C42: 97120.728 | D42: 243.57879
A43: 51 | B43: 0.002809 | C43: 96877.149 | D43: 272.12791 | I43: =B2-I31 -> -0.032668941
A44: 52 | B44: 0.003152 | C44: 96605.021 | D44: 304.49903 | I44: =C52/C29*1.04^-23 -> 0.3813659
A45: 53 | B45: 0.003539 | C45: 96300.522 | D45: 340.80755
A46: 54 | B46: 0.003976 | C46: 95959.715 | D46: 381.53583
A47: 55 | B47: 0.004469 | C47: 95578.179 | D47: 427.13888
A48: 56 | B48: 0.005025 | C48: 95151.04 | D48: 478.13398
A49: 57 | B49: 0.00565 | C49: 94672.906 | D49: 534.90192
A50: 58 | B50: 0.006352 | C50: 94138.004 | D50: 597.9646
...

Sheet 1(ii)
E7: Profit at maturity = | G7: ='1 (i)'!Q31-'1 (i)'!G4-'1 (i)'!L5 -> 16.653106 | I7: 1
E10: Comments | I10: 3 | J10: (one mark per valid comment)
E12: 1 | F12: The retrospective reserve is the accumulation of policy cashflows at any particular duration of policy
E14: 2 | F14: The company needs to keeps the reserves atleast as large as the maturity sum assured and claim expenses so that it may not make a loss on maturing policy
F15: otherwise the purpose of business is defeated.
E17: 3 | F17: On the given assumption of 4% interest rate the company have money which is sufficient to meet the maturity payouts and claim expenses to generate a profit
E19: 4 | F19: Had the actual interest rates are not expected the company can make provision for any shortfall so that all liabilities are met at portfolio level.

Sheet 1(iii)
F2: i | G2: 0.04 | H2: Interest | K2: p | L2: 3213.6239 | M2: Annual premium | N2: ANSWER
F3: v | G3: =1/(1+G2) -> 0.96153846 | K3: IE | L3: 1000 | M3: Initial expense
F4: S | G4: 100000 | H4: Sum assured | K4: re | L4: 50 | M4: Regular expense
F5: T | G5: 23 | K5: ce | L5: 500 | M5: Claim expense
F6: Profit margin | G6: 0.2
A7: AM92
A8: Age x | B8: qx | C8: lx | D8: dx | F8: t (end of period) | G8: px | H8: annuity due | I8: Term Assurance factor | J8: PV of premiums | K8: PV of SA+ claim expense | L8: PV of initial expenses | M8: PV of regular expense | N8: PV of Past expense | O8: PV of Income and outgo | P8: Accumulation factor | Q8: Retro reserve
A9: 17 | B9: 0.0006 | C9: 100000 | D9: 60 | F9: 1 | G9: =C30/$C$29 -> 0.999235 | H9: 1 | I9: =$G$3^F9*D29/$C$29 -> 0.00073557692 | J9: =$L$2*H9 -> 3213.6239 | K9: =($G$4+$L$5)*I9 -> 73.925481 | L9: =$L$3 -> 1000 | M9: 0 | N9: =$L$9+M9 -> 1000 | O9: =J9-K9-N9 -> 2139.6985 | P9: =(1+$G$2)^F9/G9 -> 1.0407962 | Q9: =O9*P9 -> 2226.99
A10: 18 | B10: 0.000594 | C10: 99940 | D10: 59.36436 | F10: 2 | G10: =C31/$C$29 -> 0.99842262 | H10: =H9+G9*$G$3^F9 -> 1.9608029 | I10: =I9+$G$3^F10*D30/$C$29 -> 0.0014866661 | J10: =$L$2*H10 -> 6301.2831 | K10: =($G$4+$L$5)*I10 -> 149.40994 | M10: =$L$4*(H10-1) -> 48.040144 | N10: =$L$9+M10 -> 1048.0401 | O10: =J10-K10-N10 -> 5103.833 | P10: =(1+$G$2)^F10/G10 -> 1.0833088 | Q10: =O10*P10 -> 5529.0271
A11: 19 | B11: 0.000587 | C11: 99880.636 | D11: 58.629933 | F11: 3 | G11: =C32/$C$29 -> 0.99755399 | H11: =H10+G10*$G$3^F10 -> 2.8839007 | I11: =I10+$G$3^F11*D31/$C$29 -> 0.0022588729 | J11: =$L$2*H11 -> 9267.7724 | K11: =($G$4+$L$5)*I11 -> 227.01673 | M11: =$L$4*(H11-1) -> 94.195036 | N11: =$L$9+M11 -> 1094.195 | O11: =J11-K11-N11 -> 7946.5606 | P11: =(1+$G$2)^F11/G11 -> 1.1276222 | Q11: =O11*P11 -> 8960.7179
A12: 20 | B12: 0.000582 | C12: 99822.006 | D12: 58.096407 | F12: 4 | G12: =C33/$C$29 -> 0.99661929 | H12: =H11+G11*$G$3^F11 -> 3.7707226 | I12: =I11+$G$3^F12*D32/$C$29 -> 0.0030578653 | J12: =$L$2*H12 -> 12117.684 | K12: =($G$4+$L$5)*I12 -> 307.31547 | M12: =$L$4*(H12-1) -> 138.53613 | N12: =$L$9+M12 -> 1138.5361 | O12: =J12-K12-N12 -> 10671.833 | P12: =(1+$G$2)^F12/G12 -> 1.1738269 | Q12: =O12*P12 -> 12526.885
A13: 21 | B13: 0.000577 | C13: 99763.909 | D13: 57.563776 | F13: 5 | G13: =C34/$C$29 -> 0.99560871 | H13: =H12+G12*$G$3^F12 -> 4.6226369 | I13: =I12+$G$3^F13*D33/$C$29 -> 0.0038884818 | J13: =$L$2*H13 -> 14855.417 | K13: =($G$4+$L$5)*I13 -> 390.79242 | M13: =$L$4*(H13-1) -> 181.13185 | N13: =$L$9+M13 -> 1181.1318 | O13: =J13-K13-N13 -> 13283.492 | P13: =(1+$G$2)^F13/G13 -> 1.2220191 | Q13: =O13*P13 -> 16232.682
A14: 22 | B14: 0.000572 | C14: 99706.346 | D14: 57.03203 | F14: 6 | G14: =C35/$C$29 -> 0.99450956 | H14: =H13+G13*$G$3^F13 -> 5.4409547 | I14: =I13+$G$3^F14*D34/$C$29 -> 0.0047571576 | J14: =$L$2*H14 -> 17485.182 | K14: =($G$4+$L$5)*I14 -> 478.09434 | M14: =$L$4*(H14-1) -> 222.04774 | N14: =$L$9+M14 -> 1222.0477 | O14: =J14-K14-N14 -> 15785.04 | P14: =(1+$G$2)^F14/G14 -> 1.2723045 | Q14: =O14*P14 -> 20083.378
A15: 23 | B15: 0.000569 | C15: 99649.313 | D15: 56.700459 | F15: 7 | G15: =C36/$C$29 -> 0.99330819 | H15: =H14+G14*$G$3^F14 -> 6.2269301 | I15: =I14+$G$3^F15*D35/$C$29 -> 0.0056700982 | J15: =$L$2*H15 -> 20011.012 | K15: =($G$4+$L$5)*I15 -> 569.84487 | M15: =$L$4*(H15-1) -> 261.3465 | N15: =$L$9+M15 -> 1261.3465 | O15: =J15-K15-N15 -> 18179.82 | P15: =(1+$G$2)^F15/G15 -> 1.3247971 | Q15: =O15*P15 -> 24084.572
A16: 24 | B16: 0.000567 | C16: 99592.613 | D16: 56.469012 | F16: 8 | G16: =C37/$C$29 -> 0.99199007 | H16: =H15+G15*$G$3^F15 -> 6.9817627 | I16: =I15+$G$3^F16*D36/$C$29 -> 0.0066332356 | J16: =$L$2*H16 -> 22436.76 | K16: =($G$4+$L$5)*I16 -> 666.64018 | M16: =$L$4*(H16-1) -> 299.08813 | N16: =$L$9+M16 -> 1299.0881 | O16: =J16-K16-N16 -> 20471.031 | P16: =(1+$G$2)^F16/G16 -> 1.3796197 | Q16: =O16*P16 -> 28242.238
A17: 25 | B17: 0.000566 | C17: 99536.144 | D17: 56.337458 | F17: 9 | G17: =C38/$C$29 -> 0.99053681 | H17: =H16+G16*$G$3^F16 -> 7.7066001 | I17: =I16+$G$3^F17*D37/$C$29 -> 0.0076542806 | J17: =$L$2*H17 -> 24766.115 | K17: =($G$4+$L$5)*I17 -> 769.2552 | M17: =$L$4*(H17-1) -> 335.33 | N17: =$L$9+M17 -> 1335.33 | O17: =J17-K17-N17 -> 22661.529 | P17: =(1+$G$2)^F17/G17 -> 1.4369096 | Q17: =O17*P17 -> 32562.568
A18: 26 | B18: 0.000567 | C18: 99479.807 | D18: 56.40505 | F18: 10 | G18: =C39/$C$29 -> 0.98893016 | H18: =H17+G17*$G$3^F17 -> 8.4025381 | I18: =I17+$G$3^F18*D38/$C$29 -> 0.0087396763 | J18: =$L$2*H18 -> 27002.598 | K18: =($G$4+$L$5)*I18 -> 878.33747 | M18: =$L$4*(H18-1) -> 370.12691 | N18: =$L$9+M18 -> 1370.1269 | O18: =J18-K18-N18 -> 24754.133 | P18: =(1+$G$2)^F18/G18 -> 1.4968138 | Q18: =O18*P18 -> 37052.328
A19: 27 | B19: 0.00057 | C19: 99423.402 | D19: 56.671339 | F19: 11 | G19: =C40/$C$29 -> 0.98714811 | H19: =H18+G18*$G$3^F18 -> 9.0706239 | I19: =I18+$G$3^F19*D39/$C$29 -> 0.0098972634 | J19: =$L$2*H19 -> 29149.574 | K19: =($G$4+$L$5)*I19 -> 994.67497 | M19: =$L$4*(H19-1) -> 403.5312 | N19: =$L$9+M19 -> 1403.5312 | O19: =J19-K19-N19 -> 26751.368 | P19: =(1+$G$2)^F19/G19 -> 1.5594965 | Q19: =O19*P19 -> 41718.666
A20: 28 | B20: 0.000574 | C20: 99366.73 | D20: 57.036503 | F20: 12 | G20: =C41/$C$29 -> 0.98516591 | H20: =H19+G19*$G$3^F19 -> 9.7118565 | I20: =I19+$G$3^F20*D40/$C$29 -> 0.011135336 | J20: =$L$2*H20 -> 31210.254 | K20: =($G$4+$L$5)*I20 -> 1119.1012 | M20: =$L$4*(H20-1) -> 435.59282 | N20: =$L$9+M20 -> 1435.5928 | O20: =J20-K20-N20 -> 28655.56 | P20: =(1+$G$2)^F20/G20 -> 1.6251397 | Q20: =O20*P20 -> 46569.288
A21: 29 | B21: 0.00058 | C21: 99309.694 | D21: 57.599622 | F21: 13 | G21: =C42/$C$29 -> 0.98295816 | H21: =H20+G20*$G$3^F20 -> 10.327188 | I21: =I20+$G$3^F21*D41/$C$29 -> 0.012461257 | J21: =$L$2*H21 -> 33187.699 | K21: =($G$4+$L$5)*I21 -> 1252.3563 | M21: =$L$4*(H21-1) -> 466.35941 | N21: =$L$9+M21 -> 1466.3594 | O21: =J21-K21-N21 -> 30468.983 | P21: =(1+$G$2)^F21/G21 -> 1.6939414 | Q21: =O21*P21 -> 51612.672
... A31: 39 | B31: 0.00087 | C31: 98648.688 | D31: 85.824358 | F31: 23 | G31: =C52/$C$29 -> 0.93995847 | H31: =H30+G30*$G$3^F30 -> 15.235094 | I31: =I30+$G$3^F31*D51/$C$29 -> 0.032668941 | J31: =$L$2*H31 -> 48959.863 | K31: =($G$4+$L$5)*I31 -> 3283.2286 | M31: =$L$4*(H31-1) -> 711.7547 | N31: =$L$9+M31 -> 1711.7547 | O31: =J31-K31-N31 -> 43964.88 | P31: =(1+$G$2)^F31/G31 -> 2.6221537 | Q31: =O31*P31 -> 115282.67
A32: 40 | B32: 0.000937 | C32: 98562.863 | D32: 92.353403
A33: 41 | B33: 0.001014 | C33: 98470.51 | D33: 99.849097 | S33: 1 | T33: for copying correctly
A34: 42 | B34: 0.001104 | C34: 98370.661 | D34: 108.60121 | P34: Profit at maturity | Q34: =Q31-G4-L5 -> 14782.67 | S34: 1
A35: 43 | B35: 0.001208 | C35: 98262.06 | D35: 118.70057
A36: 44 | B36: 0.001327 | C36: 98143.359 | D36: 130.23624 | P36: Required profit | Q36: =L2*G5*G6 -> 14782.67 | R36: =Q34-Q36 -> -3.2741809e-11 | S36: 1 | T36: required profit
A37: 45 | B37: 0.001465 | C37: 98013.123 | D37: 143.58922 | S37: 2 | T37: correct goal seek
A38: 46 | B38: 0.001622 | C38: 97869.534 | D38: 158.74438
A39: 47 | B39: 0.001802 | C39: 97710.789 | D39: 176.07484
A40: 48 | B40: 0.002008 | C40: 97534.714 | D40: 195.84971
A41: 49 | B41: 0.002241 | C41: 97338.865 | D41: 218.1364
A42: 50 | B42: 0.002508 | C42: 97120.728 | D42: 243.57879
A43: 51 | B43: 0.002809 | C43: 96877.149 | D43: 272.12791 | I43: =B2-I31 -> -0.032668941
A44: 52 | B44: 0.003152 | C44: 96605.021 | D44: 304.49903 | I44: =C52/C29*1.04^-23 -> 0.3813659
A45: 53 | B45: 0.003539 | C45: 96300.522 | D45: 340.80755
A46: 54 | B46: 0.003976 | C46: 95959.715 | D46: 381.53583
A47: 55 | B47: 0.004469 | C47: 95578.179 | D47: 427.13888
A48: 56 | B48: 0.005025 | C48: 95151.04 | D48: 478.13398
A49: 57 | B49: 0.00565 | C49: 94672.906 | D49: 534.90192
A50: 58 | B50: 0.006352 | C50: 94138.004 | D50: 597.9646
...

Sheet Q2 data
A1: Life Table
A2: AM92
A3: Age x | B3: l[x] | C3: l[x-1]+1 | D3: lx | F3: d[x] | G3: d[x-1]+1 | H3: dx | I3: Age x
A4: 17 | B4: 99978.091 | D4: 100000 | F4: 42.691 | H4: 60 | I4: 17
A5: 18 | B5: 99918.904 | C5: 99935.4 | D5: 99940 | F5: 42.566 | G5: 54.76436 | H5: 59.36436 | I5: 18
A6: 19 | B6: 99860.351 | C6: 99876.338 | D6: 99880.636 | F6: 42.44 | G6: 54.332293 | H6: 58.629933 | I6: 19
A7: 20 | B7: 99802.432 | C7: 99817.911 | D7: 99822.006 | F7: 42.416 | G7: 54.0017 | H7: 58.096407 | I7: 20
A8: 21 | B8: 99745.046 | C8: 99760.016 | D8: 99763.909 | F8: 42.392 | G8: 53.670476 | H8: 57.563776 | I8: 21
A9: 22 | B9: 99688.391 | C9: 99702.654 | D9: 99706.346 | F9: 42.567 | G9: 53.340506 | H9: 57.03203 | I9: 22
A10: 23 | B10: 99631.967 | C10: 99645.824 | D10: 99649.313 | F10: 42.742 | G10: 53.210965 | H10: 56.700459 | I10: 23
A11: 24 | B11: 99575.775 | C11: 99589.225 | D11: 99592.613 | F11: 42.917 | G11: 53.080977 | H11: 56.469012 | I11: 24
A12: 25 | B12: 99519.913 | C12: 99532.858 | D12: 99536.144 | F12: 43.291 | G12: 53.051434 | H12: 56.337458 | I12: 25
A13: 26 | B13: 99463.982 | C13: 99476.622 | D13: 99479.807 | F13: 43.764 | G13: 53.220485 | H13: 56.40505 | I13: 26
A14: 27 | B14: 99407.984 | C14: 99420.218 | D14: 99423.402 | F14: 44.435 | G14: 53.487823 | H14: 56.671339 | I14: 27
A15: 28 | B15: 99351.818 | C15: 99363.549 | D15: 99366.73 | F15: 45.205 | G15: 53.855327 | H15: 57.036503 | I15: 28
A16: 29 | B16: 99295.088 | C16: 99306.613 | D16: 99309.694 | F16: 46.172 | G16: 54.518949 | H16: 57.599622 | I16: 29
... A77: 90 | B77: 14070.55 | C77: 15359.801 | D77: 16585.545 | F77: 1463.196 | G77: 1597.8951 | H77: 2823.6393 | I77: 90
A78: 91 | C78: 12607.354 | D78: 13761.906 | G78: 1387.4648 | H78: 2542.0167 | I78: 91
A79: 92 | D79: 11219.889 | H79: 2244.8642 | I79: 92
A80: 93 | D80: 8975.025 | H80: 1941.7826 | I80: 93
A81: 94 | D81: 7033.2424 | H81: 1642.5997 | I81: 94
A82: 95 | D82: 5390.6427 | H82: 1356.6199 | I82: 95
A83: 96 | D83: 4034.0228 | H83: 1091.9616 | I83: 96
A84: 97 | D84: 2942.0612 | H84: 855.00124 | I84: 97
A85: 98 | D85: 2087.06 | H85: 649.9397 | I85: 98
A86: 99 | D86: 1437.1203 | H86: 478.64441 | I86: 99
A87: 100 | D87: 958.47588 | H87: 340.74297 | I87: 100
A88: 101 | D88: 617.73291 | H88: 233.93669 | I88: 101
A89: 102 | D89: 383.79622 | H89: 154.51175 | I89: 102
A90: 103 | D90: 229.28447 | H90: 97.925104 | I90: 103
... A107: 120 | D107: 3.9960418e-06 | H107: 3.9960418e-06 | I107: 120

Sheet 2(i)
B3: Annual Premium | D3: 75000 | F3: Allocation % (1st Year) | H3: 0.25
B4: Risk Discount Rate | D4: 0.085 | F4: Allocation % (2ndYr - 10Yr) | H4: 1.025
B5: Interest of Investment | D5: 0.065 | F5: Management Fees | H5: 0.005
B6: Interest on Non Unit Fund | D6: 0.055 | F6: B/O Spread | H6: 0.05
B7: Dealth Benefit | D7: 2000000 | F7: Maturity Value | H7: 1.1
F8: % Per Month | H8: Total
C9: Initial Expenses | D9: =150*20 -> 3000 | E9: Initial Commission | F9: 0.1 | H9: =D9+D3*F9 -> 10500
C10: Renewal | D10: =65*10 -> 650 | E10: Renewal Commission | F10: 0.025 | H10: =D10+F10*D3 -> 2525
A12: Marking | D12: 1 | E12: 2 | F12: 1 | G12: 1 | H12: 1 | I12: 2
B13: Unit Fund Projection
B14: Year | C14: Age | D14: Value of Units at Start of year | E14: Allocation | F14: B/O Spread | G14: Interest | H14: Management Fees | I14: Value of Units at end of year
B15: 1 | C15: 40 | D15: 0 | E15: =$D$3*$H$3 -> 18750 | F15: =E15*$H$6 -> 937.5 | G15: =(D15+E15-F15)*$D$5 -> 1157.8125 | H15: =(D15+E15+G15-F15)*$H$5 -> 94.851562 | I15: =D15+E15-F15+G15-H15 -> 18875.461
B16: =B15+1 -> 2 | C16: =C15+1 -> 41 | D16: =I15 -> 18875.461 | E16: =$D$3*$H$4 -> 76875 | F16: =E16*$H$6 -> 3843.75 | G16: =(D16+E16-F16)*$D$5 -> 5973.9362 | H16: =(D16+E16+G16-F16)*$H$5 -> 489.40324 | I16: =D16+E16-F16+G16-H16 -> 97391.244
B17: =B16+1 -> 3 | C17: =C16+1 -> 42 | D17: =I16 -> 97391.244 | E17: =$D$3*$H$4 -> 76875 | F17: =E17*$H$6 -> 3843.75 | G17: =(D17+E17-F17)*$D$5 -> 11077.462 | H17: =(D17+E17+G17-F17)*$H$5 -> 907.49978 | I17: =D17+E17-F17+G17-H17 -> 180592.46
B18: =B17+1 -> 4 | C18: =C17+1 -> 43 | D18: =I17 -> 180592.46 | E18: =$D$3*$H$4 -> 76875 | F18: =E18*$H$6 -> 3843.75 | G18: =(D18+E18-F18)*$D$5 -> 16485.541 | H18: =(D18+E18+G18-F18)*$H$5 -> 1350.5462 | I18: =D18+E18-F18+G18-H18 -> 268758.7
B19: =B18+1 -> 5 | C19: =C18+1 -> 44 | D19: =I18 -> 268758.7 | E19: =$D$3*$H$4 -> 76875 | F19: =E19*$H$6 -> 3843.75 | G19: =(D19+E19-F19)*$D$5 -> 22216.347 | H19: =(D19+E19+G19-F19)*$H$5 -> 1820.0315 | I19: =D19+E19-F19+G19-H19 -> 362186.27
B20: =B19+1 -> 6 | C20: =C19+1 -> 45 | D20: =I19 -> 362186.27 | E20: =$D$3*$H$4 -> 76875 | F20: =E20*$H$6 -> 3843.75 | G20: =(D20+E20-F20)*$D$5 -> 28289.139 | H20: =(D20+E20+G20-F20)*$H$5 -> 2317.5333 | I20: =D20+E20-F20+G20-H20 -> 461189.12
B21: =B20+1 -> 7 | C21: =C20+1 -> 46 | D21: =I20 -> 461189.12 | E21: =$D$3*$H$4 -> 76875 | F21: =E21*$H$6 -> 3843.75 | G21: =(D21+E21-F21)*$D$5 -> 34724.324 | H21: =(D21+E21+G21-F21)*$H$5 -> 2844.7235 | I21: =D21+E21-F21+G21-H21 -> 566099.97
B22: =B21+1 -> 8 | C22: =C21+1 -> 47 | D22: =I21 -> 566099.97 | E22: =$D$3*$H$4 -> 76875 | F22: =E22*$H$6 -> 3843.75 | G22: =(D22+E22-F22)*$D$5 -> 41543.529 | H22: =(D22+E22+G22-F22)*$H$5 -> 3403.3738 | I22: =D22+E22-F22+G22-H22 -> 677271.38
B23: =B22+1 -> 9 | C23: =C22+1 -> 48 | D23: =I22 -> 677271.38 | E23: =$D$3*$H$4 -> 76875 | F23: =E23*$H$6 -> 3843.75 | G23: =(D23+E23-F23)*$D$5 -> 48769.671 | H23: =(D23+E23+G23-F23)*$H$5 -> 3995.3615 | I23: =D23+E23-F23+G23-H23 -> 795076.94
B24: =B23+1 -> 10 | C24: =C23+1 -> 49 | D24: =I23 -> 795076.94 | E24: =$D$3*$H$4 -> 76875 | F24: =E24*$H$6 -> 3843.75 | G24: =(D24+E24-F24)*$D$5 -> 56427.032 | H24: =(D24+E24+G24-F24)*$H$5 -> 4622.6761 | I24: =D24+E24-F24+G24-H24 -> 919912.54
B25: =B24+1 -> 11 | C25: =C24+1 -> 50 | D25: =I24 -> 919912.54 | E25: =$D$3 -> 75000 | F25: =E25*$H$6 -> 3750 | G25: =(D25+E25-F25)*$D$5 -> 64425.565 | H25: =(D25+E25+G25-F25)*$H$5 -> 5277.9405 | I25: =D25+E25-F25+G25-H25 -> 1050310.2
B26: =B25+1 -> 12 | C26: =C25+1 -> 51 | D26: =I25 -> 1050310.2 | E26: =$D$3 -> 75000 | F26: =E26*$H$6 -> 3750 | G26: =(D26+E26-F26)*$D$5 -> 72901.411 | H26: =(D26+E26+G26-F26)*$H$5 -> 5972.3079 | I26: =D26+E26-F26+G26-H26 -> 1188489.3
B27: =B26+1 -> 13 | C27: =C26+1 -> 52 | D27: =I26 -> 1188489.3 | E27: =$D$3 -> 75000 | F27: =E27*$H$6 -> 3750 | G27: =(D27+E27-F27)*$D$5 -> 81883.053 | H27: =(D27+E27+G27-F27)*$H$5 -> 6708.1116 | I27: =D27+E27-F27+G27-H27 -> 1334914.2
B28: =B27+1 -> 14 | C28: =C27+1 -> 53 | D28: =I27 -> 1334914.2 | E28: =$D$3 -> 75000 | F28: =E28*$H$6 -> 3750 | G28: =(D28+E28-F28)*$D$5 -> 91400.674 | H28: =(D28+E28+G28-F28)*$H$5 -> 7487.8244 | I28: =D28+E28-F28+G28-H28 -> 1490077.1
B29: =B28+1 -> 15 | C29: =C28+1 -> 54 | D29: =I28 -> 1490077.1 | E29: =$D$3 -> 75000 | F29: =E29*$H$6 -> 3750 | G29: =(D29+E29-F29)*$D$5 -> 101486.26 | H29: =(D29+E29+G29-F29)*$H$5 -> 8314.0666 | I29: =D29+E29-F29+G29-H29 -> 1654499.3
B30: =B29+1 -> 16 | C30: =C29+1 -> 55 | D30: =I29 -> 1654499.3 | E30: =$D$3 -> 75000 | F30: =E30*$H$6 -> 3750 | G30: =(D30+E30-F30)*$D$5 -> 112173.7 | H30: =(D30+E30+G30-F30)*$H$5 -> 9189.6148 | I30: =D30+E30-F30+G30-H30 -> 1828733.3
B31: =B30+1 -> 17 | C31: =C30+1 -> 56 | D31: =I30 -> 1828733.3 | E31: =$D$3 -> 75000 | F31: =E31*$H$6 -> 3750 | G31: =(D31+E31-F31)*$D$5 -> 123498.92 | H31: =(D31+E31+G31-F31)*$H$5 -> 10117.411 | I31: =D31+E31-F31+G31-H31 -> 2013364.8
B32: =B31+1 -> 18 | C32: =C31+1 -> 57 | D32: =I31 -> 2013364.8 | E32: =$D$3 -> 75000 | F32: =E32*$H$6 -> 3750 | G32: =(D32+E32-F32)*$D$5 -> 135499.97 | H32: =(D32+E32+G32-F32)*$H$5 -> 11100.574 | I32: =D32+E32-F32+G32-H32 -> 2209014.2
B33: =B32+1 -> 19 | C33: =C32+1 -> 58 | D33: =I32 -> 2209014.2 | E33: =$D$3 -> 75000 | F33: =E33*$H$6 -> 3750 | G33: =(D33+E33-F33)*$D$5 -> 148217.18 | H33: =(D33+E33+G33-F33)*$H$5 -> 12142.407 | I33: =D33+E33-F33+G33-H33 -> 2416339
B34: =B33+1 -> 20 | C34: =C33+1 -> 59 | D34: =I33 -> 2416339 | E34: =$D$3 -> 75000 | F34: =E34*$H$6 -> 3750 | G34: =(D34+E34-F34)*$D$5 -> 161693.29 | H34: =(D34+E34+G34-F34)*$H$5 -> 13246.411 | I34: =D34+E34-F34+G34-H34 -> 2636035.9

Sheet 2(ii)
C3: Annual Premium | E3: 75000 | G3: Allocation % (1st Year) | I3: 0.25 | K3: Surrender Rate | M3: 0.02
C4: Risk Discount Rate | E4: 0.085 | G4: Allocation % (2ndYr - 10Yr) | I4: 1.025
C5: Interest of Investment | E5: 0.065 | G5: Management Fees | I5: 0.005
C6: Interest on Non Unit Fund | E6: 0.055 | G6: B/O Spread | I6: 0.05
C7: Dealth Benefit | E7: 2000000 | G7: Maturity Value | I7: 1.05
G8: % Per Month | I8: Total
D9: Initial Expenses | E9: =150*20 -> 3000 | G9: 0.1 | I9: =E9+E3*G9 -> 10500
D10: Renewal Expenses | E10: =65*10 -> 650 | G10: 0.025 | I10: =E10+G10*E3 -> 2525
A12: Marking | B12: =SUM(D12:AF12) -> 28 | D12: 2 | E12: 1 | H12: 2 | I12: 1 | J12: 1 | N12: 1 | O12: 1 | P12: 2 | Q12: 1 | R12: 1 | S12: 2 | T12: 1 | U12: 1 | W12: 1 | X12: 2 | Y12: 2 | AA12: 2 | AB12: 2 | AF12: 2
C14: Age | D14: Qxd | E14: Qxs | G14: (aq)xd | H14: (aq)xs | I14: (ap) | J14: t-1(ap) | L14: Year | M14: Age | N14: Unallocated Premium | O14: B/O Spread | P14: Expenses & Commission | Q14: Interest | R14: Management Fees | S14: Death Benefit | T14: Extra Maturity Benefit | U14: End of the Year Cashflow | W14: Profit Vector | X14: Profit Signature | Y14: Discount Factor | AA14: PV of Profits | AB14: PV of Premiums | AD14: Total PV of Profits | AE14: Total PV of Premiums | AF14: Profit Margin
C15: 40 | D15: ='Q2 data'!F27/'Q2 data'!B27 -> 0.00078800089 | E15: =M3 -> 0.02 | G15: =D15 -> 0.00078800089 | H15: =(1-G15)*(E15) -> 0.01998424 | I15: =(1-G15-H15) -> 0.97922776 | J15: 1 | L15: 1 | M15: 40 | N15: =($E$3-'2(i)'!$E15) -> 56250 | O15: ='2(i)'!$F15 -> 937.5 | P15: =$E$9+$E$3*$G$9 -> 10500 | Q15: =(N15+O15-P15)*$E$6 -> 2567.8125 | R15: ='2(i)'!$H15 -> 94.851562 | S15: =MAX(0,($E$7-'2(i)'!I15)*'2(ii)'!$G15) -> 1561.1279 | U15: =N15+O15+Q15+R15-P15-S15-T15 -> 47789.036 | W15: =U15 -> 47789.036 | X15: =W15*J15 -> 47789.036 | Y15: =(1+$E$4)^(-$L15) -> 0.92165899 | AA15: =X15*Y15 -> 44045.195 | AB15: =$E$3*$J15 -> 75000 | AD15: =SUM(AA15:AA34) -> 41436.843 | AE15: =SUM(AB15:AB34) -> 666957.02 | AF15: =AD15/AE15 -> 0.062128205
C16: =C15+1 -> 41 | D16: ='Q2 data'!G28/'Q2 data'!C28 -> 0.00096199536 | E16: =E15 -> 0.02 | G16: =D16 -> 0.00096199536 | H16: =(1-G16)*(E16) -> 0.01998076 | I16: =(1-G16-H16) -> 0.97905724 | J16: =J15*I15 -> 0.97922776 | L16: =L15+1 -> 2 | M16: =M15+1 -> 41 | N16: =($E$3-'2(i)'!$E16) -> -1875 | O16: ='2(i)'!$F16 -> 3843.75 | P16: =$E$10+$G$10*$E$3 -> 2525 | Q16: =(N16+O16-P16)*$E$6 -> -30.59375 | R16: ='2(i)'!$H16 -> 489.40324 | S16: =MAX(0,($E$7-'2(i)'!I16)*'2(ii)'!$G16) -> 1830.3008 | U16: =N16+O16+Q16+R16-P16-S16-T16 -> -1927.7413 | W16: =U16 -> -1927.7413 | X16: =W16*J16 -> -1887.6978 | Y16: =(1+$E$4)^(-$L16) -> 0.84945529 | AA16: =X16*Y16 -> -1603.5149 | AB16: =$E$3*$J16*$Y15 -> 67688.555
C17: =C16+1 -> 42 | D17: ='Q2 data'!H29/'Q2 data'!D29 -> 0.001104 | E17: =E16 -> 0.02 | G17: =D17 -> 0.001104 | H17: =(1-G17)*(E17) -> 0.01997792 | I17: =(1-G17-H17) -> 0.97891808 | J17: =J16*I16 -> 0.95872003 | L17: =L16+1 -> 3 | M17: =M16+1 -> 42 | N17: =($E$3-'2(i)'!$E17) -> -1875 | O17: ='2(i)'!$F17 -> 3843.75 | P17: =$E$10+$G$10*$E$3 -> 2525 | Q17: =(N17+O17-P17)*$E$6 -> -30.59375 | R17: ='2(i)'!$H17 -> 907.49978 | S17: =MAX(0,($E$7-'2(i)'!I17)*'2(ii)'!$G17) -> 2008.6259 | U17: =N17+O17+Q17+R17-P17-S17-T17 -> -1687.9699 | W17: =U17 -> -1687.9699 | X17: =W17*J17 -> -1618.2906 | Y17: =(1+$E$4)^(-$L17) -> 0.7829081 | AA17: =X17*Y17 -> -1266.9728 | AB17: =$E$3*$J17*$Y16 -> 61079.235
C18: =C17+1 -> 43 | D18: ='Q2 data'!H30/'Q2 data'!D30 -> 0.001208 | E18: =E17 -> 0.02 | G18: =D18 -> 0.001208 | H18: =(1-G18)*(E18) -> 0.01997584 | I18: =(1-G18-H18) -> 0.97881616 | J18: =J17*I17 -> 0.93850837 | L18: =L17+1 -> 4 | M18: =M17+1 -> 43 | N18: =($E$3-'2(i)'!$E18) -> -1875 | O18: ='2(i)'!$F18 -> 3843.75 | P18: =$E$10+$G$10*$E$3 -> 2525 | Q18: =(N18+O18-P18)*$E$6 -> -30.59375 | R18: ='2(i)'!$H18 -> 1350.5462 | S18: =MAX(0,($E$7-'2(i)'!I18)*'2(ii)'!$G18) -> 2091.3395 | U18: =N18+O18+Q18+R18-P18-S18-T18 -> -1327.637 | W18: =U18 -> -1327.637 | X18: =W18*J18 -> -1245.9984 | Y18: =(1+$E$4)^(-$L18) -> 0.72157428 | AA18: =X18*Y18 -> -899.08044 | AB18: =$E$3*$J18*$Y17 -> 55107.435
C19: =C18+1 -> 44 | D19: ='Q2 data'!H31/'Q2 data'!D31 -> 0.001327 | E19: =E18 -> 0.02 | G19: =D19 -> 0.001327 | H19: =(1-G19)*(E19) -> 0.01997346 | I19: =(1-G19-H19) -> 0.97869954 | J19: =J18*I18 -> 0.91862716 | L19: =L18+1 -> 5 | M19: =M18+1 -> 44 | N19: =($E$3-'2(i)'!$E19) -> -1875 | O19: ='2(i)'!$F19 -> 3843.75 | P19: =$E$10+$G$10*$E$3 -> 2525 | Q19: =(N19+O19-P19)*$E$6 -> -30.59375 | R19: ='2(i)'!$H19 -> 1820.0315 | S19: =MAX(0,($E$7-'2(i)'!I19)*'2(ii)'!$G19) -> 2173.3788 | U19: =N19+O19+Q19+R19-P19-S19-T19 -> -940.19109 | W19: =U19 -> -940.19109 | X19: =W19*J19 -> -863.68507 | Y19: =(1+$E$4)^(-$L19) -> 0.66504542 | AA19: =X19*Y19 -> -574.3898 | AB19: =$E$3*$J19*$Y18 -> 49714.33
C20: =C19+1 -> 45 | D20: ='Q2 data'!H32/'Q2 data'!D32 -> 0.001465 | E20: =E19 -> 0.02 | G20: =D20 -> 0.001465 | H20: =(1-G20)*(E20) -> 0.0199707 | I20: =(1-G20-H20) -> 0.9785643 | J20: =J19*I19 -> 0.89905998 | L20: =L19+1 -> 6 | M20: =M19+1 -> 45 | N20: =($E$3-'2(i)'!$E20) -> -1875 | O20: ='2(i)'!$F20 -> 3843.75 | P20: =$E$10+$G$10*$E$3 -> 2525 | Q20: =(N20+O20-P20)*$E$6 -> -30.59375 | R20: ='2(i)'!$H20 -> 2317.5333 | S20: =MAX(0,($E$7-'2(i)'!I20)*'2(ii)'!$G20) -> 2254.3579 | U20: =N20+O20+Q20+R20-P20-S20-T20 -> -523.66841 | W20: =U20 -> -523.66841 | X20: =W20*J20 -> -470.80931 | Y20: =(1+$E$4)^(-$L20) -> 0.61294509 | AA20: =X20*Y20 -> -288.58026 | AB20: =$E$3*$J20*$Y19 -> 44843.679
C21: =C20+1 -> 46 | D21: ='Q2 data'!H33/'Q2 data'!D33 -> 0.001622 | E21: =E20 -> 0.02 | G21: =D21 -> 0.001622 | H21: =(1-G21)*(E21) -> 0.01996756 | I21: =(1-G21-H21) -> 0.97841044 | J21: =J20*I20 -> 0.879788 | L21: =L20+1 -> 7 | M21: =M20+1 -> 46 | N21: =($E$3-'2(i)'!$E21) -> -1875 | O21: ='2(i)'!$F21 -> 3843.75 | P21: =$E$10+$G$10*$E$3 -> 2525 | Q21: =(N21+O21-P21)*$E$6 -> -30.59375 | R21: ='2(i)'!$H21 -> 2844.7235 | S21: =MAX(0,($E$7-'2(i)'!I21)*'2(ii)'!$G21) -> 2325.7858 | U21: =N21+O21+Q21+R21-P21-S21-T21 -> -67.906117 | W21: =U21 -> -67.906117 | X21: =W21*J21 -> -59.742987 | Y21: =(1+$E$4)^(-$L21) -> 0.56492635 | AA21: =X21*Y21 -> -33.750387 | AB21: =$E$3*$J21*$Y20 -> 40444.63
C22: =C21+1 -> 47 | D22: ='Q2 data'!H34/'Q2 data'!D34 -> 0.001802 | E22: =E21 -> 0.02 | G22: =D22 -> 0.001802 | H22: =(1-G22)*(E22) -> 0.01996396 | I22: =(1-G22-H22) -> 0.97823404 | J22: =J21*I21 -> 0.86079376 | L22: =L21+1 -> 8 | M22: =M21+1 -> 47 | N22: =($E$3-'2(i)'!$E22) -> -1875 | O22: ='2(i)'!$F22 -> 3843.75 | P22: =$E$10+$G$10*$E$3 -> 2525 | Q22: =(N22+O22-P22)*$E$6 -> -30.59375 | R22: ='2(i)'!$H22 -> 3403.3738 | S22: =MAX(0,($E$7-'2(i)'!I22)*'2(ii)'!$G22) -> 2383.557 | U22: =N22+O22+Q22+R22-P22-S22-T22 -> 432.97303 | W22: =U22 -> 432.97303 | X22: =W22*J22 -> 372.70049 | Y22: =(1+$E$4)^(-$L22) -> 0.52066945 | AA22: =X22*Y22 -> 194.05376 | AB22: =$E$3*$J22*$Y21 -> 36471.381
C23: =C22+1 -> 48 | D23: ='Q2 data'!H35/'Q2 data'!D35 -> 0.002008 | E23: =E22 -> 0.02 | G23: =D23 -> 0.002008 | H23: =(1-G23)*(E23) -> 0.01995984 | I23: =(1-G23-H23) -> 0.97803216 | J23: =J22*I22 -> 0.84205776 | L23: =L22+1 -> 9 | M23: =M22+1 -> 48 | N23: =($E$3-'2(i)'!$E23) -> -1875 | O23: ='2(i)'!$F23 -> 3843.75 | P23: =$E$10+$G$10*$E$3 -> 2525 | Q23: =(N23+O23-P23)*$E$6 -> -30.59375 | R23: ='2(i)'!$H23 -> 3995.3615 | S23: =MAX(0,($E$7-'2(i)'!I23)*'2(ii)'!$G23) -> 2419.4855 | U23: =N23+O23+Q23+R23-P23-S23-T23 -> 989.03223 | W23: =U23 -> 989.03223 | X23: =W23*J23 -> 832.82227 | Y23: =(1+$E$4)^(-$L23) -> 0.47987968 | AA23: =X23*Y23 -> 399.65448 | AB23: =$E$3*$J23*$Y22 -> 32882.531
C24: =C23+1 -> 49 | D24: ='Q2 data'!H36/'Q2 data'!D36 -> 0.002241 | E24: =E23 -> 0.02 | G24: =D24 -> 0.002241 | H24: =(1-G24)*(E24) -> 0.01995518 | I24: =(1-G24-H24) -> 0.97780382 | J24: =J23*I23 -> 0.82355957 | L24: =L23+1 -> 10 | M24: =M23+1 -> 49 | N24: =($E$3-'2(i)'!$E24) -> -1875 | O24: ='2(i)'!$F24 -> 3843.75 | P24: =$E$10+$G$10*$E$3 -> 2525 | Q24: =(N24+O24-P24)*$E$6 -> -30.59375 | R24: ='2(i)'!$H24 -> 4622.6761 | S24: =MAX(0,($E$7-'2(i)'!I24)*'2(ii)'!$G24) -> 2420.476 | U24: =N24+O24+Q24+R24-P24-S24-T24 -> 1615.3564 | W24: =U24 -> 1615.3564 | X24: =W24*J24 -> 1330.3422 | Y24: =(1+$E$4)^(-$L24) -> 0.44228542 | AA24: =X24*Y24 -> 588.39095 | AB24: =$E$3*$J24*$Y23 -> 29640.712
C25: =C24+1 -> 50 | D25: ='Q2 data'!H37/'Q2 data'!D37 -> 0.002508 | E25: =E24 -> 0.02 | G25: =D25 -> 0.002508 | H25: =(1-G25)*(E25) -> 0.01994984 | I25: =(1-G25-H25) -> 0.97754216 | J25: =J24*I24 -> 0.8052797 | L25: =L24+1 -> 11 | M25: =M24+1 -> 50 | N25: =($E$3-'2(i)'!$E25) -> 0 | O25: ='2(i)'!$F25 -> 3750 | P25: =$E$10+$G$10*$E$3 -> 2525 | Q25: =(N25+O25-P25)*$E$6 -> 67.375 | R25: ='2(i)'!$H25 -> 5277.9405 | S25: =MAX(0,($E$7-'2(i)'!I25)*'2(ii)'!$G25) -> 2381.8221 | U25: =N25+O25+Q25+R25-P25-S25-T25 -> 4188.4934 | W25: =U25 -> 4188.4934 | X25: =W25*J25 -> 3372.9087 | Y25: =(1+$E$4)^(-$L25) -> 0.40763633 | AA25: =X25*Y25 -> 1374.9201 | AB25: =$E$3*$J25*$Y24 -> 26712.26
C26: =C25+1 -> 51 | D26: ='Q2 data'!H38/'Q2 data'!D38 -> 0.002809 | E26: =E25 -> 0.02 | G26: =D26 -> 0.002809 | H26: =(1-G26)*(E26) -> 0.01994382 | I26: =(1-G26-H26) -> 0.97724718 | J26: =J25*I25 -> 0.78719485 | L26: =L25+1 -> 12 | M26: =M25+1 -> 51 | N26: =($E$3-'2(i)'!$E26) -> 0 | O26: ='2(i)'!$F26 -> 3750 | P26: =$E$10+$G$10*$E$3 -> 2525 | Q26: =(N26+O26-P26)*$E$6 -> 67.375 | R26: ='2(i)'!$H26 -> 5972.3079 | S26: =MAX(0,($E$7-'2(i)'!I26)*'2(ii)'!$G26) -> 2279.5336 | U26: =N26+O26+Q26+R26-P26-S26-T26 -> 4985.1493 | W26: =U26 -> 4985.1493 | X26: =W26*J26 -> 3924.2838 | Y26: =(1+$E$4)^(-$L26) -> 0.37570168 | AA26: =X26*Y26 -> 1474.36 | AB26: =$E$3*$J26*$Y25 -> 24066.691
C27: =C26+1 -> 52 | D27: ='Q2 data'!H39/'Q2 data'!D39 -> 0.003152 | E27: =E26 -> 0.02 | G27: =D27 -> 0.003152 | H27: =(1-G27)*(E27) -> 0.01993696 | I27: =(1-G27-H27) -> 0.97691104 | J27: =J26*I26 -> 0.76928395 | L27: =L26+1 -> 13 | M27: =M26+1 -> 52 | N27: =($E$3-'2(i)'!$E27) -> 0 | O27: ='2(i)'!$F27 -> 3750 | P27: =$E$10+$G$10*$E$3 -> 2525 | Q27: =(N27+O27-P27)*$E$6 -> 67.375 | R27: ='2(i)'!$H27 -> 6708.1116 | S27: =MAX(0,($E$7-'2(i)'!I27)*'2(ii)'!$G27) -> 2096.3504 | U27: =N27+O27+Q27+R27-P27-S27-T27 -> 5904.1362 | W27: =U27 -> 5904.1362 | X27: =W27*J27 -> 4541.9572 | Y27: =(1+$E$4)^(-$L27) -> 0.34626883 | AA27: =X27*Y27 -> 1572.7382 | AB27: =$E$3*$J27*$Y26 -> 21676.596
C28: =C27+1 -> 53 | D28: ='Q2 data'!H40/'Q2 data'!D40 -> 0.003539 | E28: =E27 -> 0.02 | G28: =D28 -> 0.003539 | H28: =(1-G28)*(E28) -> 0.01992922 | I28: =(1-G28-H28) -> 0.97653178 | J28: =J27*I27 -> 0.75152198 | L28: =L27+1 -> 14 | M28: =M27+1 -> 53 | N28: =($E$3-'2(i)'!$E28) -> 0 | O28: ='2(i)'!$F28 -> 3750 | P28: =$E$10+$G$10*$E$3 -> 2525 | Q28: =(N28+O28-P28)*$E$6 -> 67.375 | R28: ='2(i)'!$H28 -> 7487.8244 | S28: =MAX(0,($E$7-'2(i)'!I28)*'2(ii)'!$G28) -> 1804.6173 | U28: =N28+O28+Q28+R28-P28-S28-T28 -> 6975.5821 | W28: =U28 -> 6975.5821 | X28: =W28*J28 -> 5242.3033 | Y28: =(1+$E$4)^(-$L28) -> 0.31914178 | AA28: =X28*Y28 -> 1673.038 | AB28: =$E$3*$J28*$Y27 -> 19517.148
... C33: =C32+1 -> 58 | D33: ='Q2 data'!H45/'Q2 data'!D45 -> 0.006352 | E33: =E32 -> 0.02 | G33: =D33 -> 0.006352 | H33: =(1-G33)*(E33) -> 0.01987296 | I33: =(1-G33-H33) -> 0.97377504 | J33: =J32*I32 -> 0.66406167 | L33: =L32+1 -> 19 | M33: =M32+1 -> 58 | N33: =($E$3-'2(i)'!$E33) -> 0 | O33: ='2(i)'!$F33 -> 3750 | P33: =$E$10+$G$10*$E$3 -> 2525 | Q33: =(N33+O33-P33)*$E$6 -> 67.375 | R33: ='2(i)'!$H33 -> 12142.407 | S33: =MAX(0,($E$7-'2(i)'!I33)*'2(ii)'!$G33) -> 0 | U33: =N33+O33+Q33+R33-P33-S33-T33 -> 13434.782 | W33: =U33 -> 13434.782 | X33: =W33*J33 -> 8921.5238 | Y33: =(1+$E$4)^(-$L33) -> 0.21224378 | AA33: =X33*Y33 -> 1893.5379 | AB33: =$E$3*$J33*$Y32 -> 11469.233
C34: =C33+1 -> 59 | D34: ='Q2 data'!H46/'Q2 data'!D46 -> 0.00714 | E34: 0 | G34: =D34 -> 0.00714 | H34: =(1-G34)*(E34) -> 0 | I34: =(1-G34-H34) -> 0.99286 | J34: =J33*I33 -> 0.64664668 | L34: =L33+1 -> 20 | M34: =M33+1 -> 59 | N34: =($E$3-'2(i)'!$E34) -> 0 | O34: ='2(i)'!$F34 -> 3750 | P34: =$E$10+$G$10*$E$3 -> 2525 | Q34: =(N34+O34-P34)*$E$6 -> 67.375 | R34: ='2(i)'!$H34 -> 13246.411 | S34: =MAX(0,($E$7-'2(i)'!I34)*'2(ii)'!$G34) -> 0 | T34: ='2(i)'!$I$34*('2(ii)'!$I$7-1)*(1-D34) -> 130860.73 | U34: =N34+O34+Q34+R34-P34-S34-T34 -> -116321.94 | W34: =U34 -> -116321.94 | X34: =W34*J34 -> -75219.198 | Y34: =(1+$E$4)^(-$L34) -> 0.19561639 | AA34: =X34*Y34 -> -14714.108 | AB34: =$E$3*$J34*$Y33 -> 10293.505

Sheet 2(iii)
C3: Annual Premium | E3: 75000 | G3: Allocation % (1st Year) | I3: 0.25 | K3: Surrender Rate | M3: 0.02
C4: Risk Discount Rate | E4: 0.085 | G4: Allocation % (2ndYr - 10Yr) | I4: 1.025
C5: Interest of Investment | E5: 0.065 | G5: Management Fees | I5: 0.005
C6: Interest on Non Unit Fund | E6: 0.055 | G6: B/O Spread | I6: 0.05
C7: Dealth Benefit | E7: 2000000 | G7: Maturity Value | I7: 1.05
G8: % Per Month | I8: Total
D9: Initial Expenses | E9: =150*20 -> 3000 | G9: 0.1 | I9: =E9+E3*G9 -> 10500
D10: Renewal Expenses | E10: =65*10 -> 650 | G10: 0.039053403 | I10: =E10+G10*E3 -> 3579.0052
G11: Solution
A12: Marking | B12: =SUM(C12:AF12) -> 5 | C12: 2 | D12: (for correctly copying) | P12: 1 | AF12: 2
C14: Age | D14: Qxd | E14: Qxs | G14: (aq)xd | H14: (aq)xs | I14: (ap) | J14: t-1(ap) | L14: Year | M14: Age | N14: Unallocated Premium | O14: B/O Spread | P14: Expenses & Commission | Q14: Interest | R14: Management Fees | S14: Death Benefit | T14: Extra Maturity Benefit | U14: End of the Year Cashflow | W14: Profit Vector | X14: Profit Signature | Y14: Discount Factor | AA14: PV of Profits | AB14: PV of Premiums | AD14: Total PV of Profits | AE14: Total PV of Premiums | AF14: Profit Margin
C15: 40 | D15: ='Q2 data'!F27/'Q2 data'!B27 -> 0.00078800089 | E15: =M3 -> 0.02 | G15: =D15 -> 0.00078800089 | H15: =(1-G15)*(E15) -> 0.01998424 | I15: =(1-G15-H15) -> 0.97922776 | J15: 1 | L15: 1 | M15: 40 | N15: =($E$3-'2(i)'!$E15) -> 56250 | O15: ='2(i)'!$F15 -> 937.5 | P15: =$E$9+$E$3*$G$9 -> 10500 | Q15: =(N15+O15-P15)*$E$6 -> 2567.8125 | R15: ='2(i)'!$H15 -> 94.851562 | S15: =MAX(0,($E$7-'2(i)'!I15)*'2(iii)'!$G15) -> 1561.1279 | U15: =N15+O15+Q15+R15-P15-S15-T15 -> 47789.036 | W15: =U15 -> 47789.036 | X15: =W15*J15 -> 47789.036 | Y15: =(1+$E$4)^(-$L15) -> 0.92165899 | AA15: =X15*Y15 -> 44045.195 | AB15: =$E$3*$J15 -> 75000 | AD15: =SUM(AA15:AA34) -> 33347.851 | AE15: =SUM(AB15:AB34) -> 666957.02 | AF15: =AD15/AE15 -> 0.05 | AH15: Goal Seek Profit Margin by Changing Renewal Commission to target 5% Profit Margin.
C16: =C15+1 -> 41 | D16: ='Q2 data'!G28/'Q2 data'!C28 -> 0.00096199536 | E16: =E15 -> 0.02 | G16: =D16 -> 0.00096199536 | H16: =(1-G16)*(E16) -> 0.01998076 | I16: =(1-G16-H16) -> 0.97905724 | J16: =J15*I15 -> 0.97922776 | L16: =L15+1 -> 2 | M16: =M15+1 -> 41 | N16: =($E$3-'2(i)'!$E16) -> -1875 | O16: ='2(i)'!$F16 -> 3843.75 | P16: =$E$10+$G$10*$E$3 -> 3579.0052 | Q16: =(N16+O16-P16)*$E$6 -> -88.564037 | R16: ='2(i)'!$H16 -> 489.40324 | S16: =MAX(0,($E$7-'2(i)'!I16)*'2(iii)'!$G16) -> 1830.3008 | U16: =N16+O16+Q16+R16-P16-S16-T16 -> -3039.7168 | W16: =U16 -> -3039.7168 | X16: =W16*J16 -> -2976.5751 | Y16: =(1+$E$4)^(-$L16) -> 0.84945529 | AA16: =X16*Y16 -> -2528.4674 | AB16: =$E$3*$J16*$Y15 -> 67688.555
C17: =C16+1 -> 42 | D17: ='Q2 data'!H29/'Q2 data'!D29 -> 0.001104 | E17: =E16 -> 0.02 | G17: =D17 -> 0.001104 | H17: =(1-G17)*(E17) -> 0.01997792 | I17: =(1-G17-H17) -> 0.97891808 | J17: =J16*I16 -> 0.95872003 | L17: =L16+1 -> 3 | M17: =M16+1 -> 42 | N17: =($E$3-'2(i)'!$E17) -> -1875 | O17: ='2(i)'!$F17 -> 3843.75 | P17: =$E$10+$G$10*$E$3 -> 3579.0052 | Q17: =(N17+O17-P17)*$E$6 -> -88.564037 | R17: ='2(i)'!$H17 -> 907.49978 | S17: =MAX(0,($E$7-'2(i)'!I17)*'2(iii)'!$G17) -> 2008.6259 | U17: =N17+O17+Q17+R17-P17-S17-T17 -> -2799.9454 | W17: =U17 -> -2799.9454 | X17: =W17*J17 -> -2684.3637 | Y17: =(1+$E$4)^(-$L17) -> 0.7829081 | AA17: =X17*Y17 -> -2101.6101 | AB17: =$E$3*$J17*$Y16 -> 61079.235
C18: =C17+1 -> 43 | D18: ='Q2 data'!H30/'Q2 data'!D30 -> 0.001208 | E18: =E17 -> 0.02 | G18: =D18 -> 0.001208 | H18: =(1-G18)*(E18) -> 0.01997584 | I18: =(1-G18-H18) -> 0.97881616 | J18: =J17*I17 -> 0.93850837 | L18: =L17+1 -> 4 | M18: =M17+1 -> 43 | N18: =($E$3-'2(i)'!$E18) -> -1875 | O18: ='2(i)'!$F18 -> 3843.75 | P18: =$E$10+$G$10*$E$3 -> 3579.0052 | Q18: =(N18+O18-P18)*$E$6 -> -88.564037 | R18: ='2(i)'!$H18 -> 1350.5462 | S18: =MAX(0,($E$7-'2(i)'!I18)*'2(iii)'!$G18) -> 2091.3395 | U18: =N18+O18+Q18+R18-P18-S18-T18 -> -2439.6125 | W18: =U18 -> -2439.6125 | X18: =W18*J18 -> -2289.5968 | Y18: =(1+$E$4)^(-$L18) -> 0.72157428 | AA18: =X18*Y18 -> -1652.1141 | AB18: =$E$3*$J18*$Y17 -> 55107.435
C19: =C18+1 -> 44 | D19: ='Q2 data'!H31/'Q2 data'!D31 -> 0.001327 | E19: =E18 -> 0.02 | G19: =D19 -> 0.001327 | H19: =(1-G19)*(E19) -> 0.01997346 | I19: =(1-G19-H19) -> 0.97869954 | J19: =J18*I18 -> 0.91862716 | L19: =L18+1 -> 5 | M19: =M18+1 -> 44 | N19: =($E$3-'2(i)'!$E19) -> -1875 | O19: ='2(i)'!$F19 -> 3843.75 | P19: =$E$10+$G$10*$E$3 -> 3579.0052 | Q19: =(N19+O19-P19)*$E$6 -> -88.564037 | R19: ='2(i)'!$H19 -> 1820.0315 | S19: =MAX(0,($E$7-'2(i)'!I19)*'2(iii)'!$G19) -> 2173.3788 | U19: =N19+O19+Q19+R19-P19-S19-T19 -> -2052.1666 | W19: =U19 -> -2052.1666 | X19: =W19*J19 -> -1885.176 | Y19: =(1+$E$4)^(-$L19) -> 0.66504542 | AA19: =X19*Y19 -> -1253.7276 | AB19: =$E$3*$J19*$Y18 -> 49714.33
C20: =C19+1 -> 45 | D20: ='Q2 data'!H32/'Q2 data'!D32 -> 0.001465 | E20: =E19 -> 0.02 | G20: =D20 -> 0.001465 | H20: =(1-G20)*(E20) -> 0.0199707 | I20: =(1-G20-H20) -> 0.9785643 | J20: =J19*I19 -> 0.89905998 | L20: =L19+1 -> 6 | M20: =M19+1 -> 45 | N20: =($E$3-'2(i)'!$E20) -> -1875 | O20: ='2(i)'!$F20 -> 3843.75 | P20: =$E$10+$G$10*$E$3 -> 3579.0052 | Q20: =(N20+O20-P20)*$E$6 -> -88.564037 | R20: ='2(i)'!$H20 -> 2317.5333 | S20: =MAX(0,($E$7-'2(i)'!I20)*'2(iii)'!$G20) -> 2254.3579 | U20: =N20+O20+Q20+R20-P20-S20-T20 -> -1635.6439 | W20: =U20 -> -1635.6439 | X20: =W20*J20 -> -1470.542 | Y20: =(1+$E$4)^(-$L20) -> 0.61294509 | AA20: =X20*Y20 -> -901.36149 | AB20: =$E$3*$J20*$Y19 -> 44843.679
C21: =C20+1 -> 46 | D21: ='Q2 data'!H33/'Q2 data'!D33 -> 0.001622 | E21: =E20 -> 0.02 | G21: =D21 -> 0.001622 | H21: =(1-G21)*(E21) -> 0.01996756 | I21: =(1-G21-H21) -> 0.97841044 | J21: =J20*I20 -> 0.879788 | L21: =L20+1 -> 7 | M21: =M20+1 -> 46 | N21: =($E$3-'2(i)'!$E21) -> -1875 | O21: ='2(i)'!$F21 -> 3843.75 | P21: =$E$10+$G$10*$E$3 -> 3579.0052 | Q21: =(N21+O21-P21)*$E$6 -> -88.564037 | R21: ='2(i)'!$H21 -> 2844.7235 | S21: =MAX(0,($E$7-'2(i)'!I21)*'2(iii)'!$G21) -> 2325.7858 | U21: =N21+O21+Q21+R21-P21-S21-T21 -> -1179.8816 | W21: =U21 -> -1179.8816 | X21: =W21*J21 -> -1038.0457 | Y21: =(1+$E$4)^(-$L21) -> 0.56492635 | AA21: =X21*Y21 -> -586.41936 | AB21: =$E$3*$J21*$Y20 -> 40444.63
C22: =C21+1 -> 47 | D22: ='Q2 data'!H34/'Q2 data'!D34 -> 0.001802 | E22: =E21 -> 0.02 | G22: =D22 -> 0.001802 | H22: =(1-G22)*(E22) -> 0.01996396 | I22: =(1-G22-H22) -> 0.97823404 | J22: =J21*I21 -> 0.86079376 | L22: =L21+1 -> 8 | M22: =M21+1 -> 47 | N22: =($E$3-'2(i)'!$E22) -> -1875 | O22: ='2(i)'!$F22 -> 3843.75 | P22: =$E$10+$G$10*$E$3 -> 3579.0052 | Q22: =(N22+O22-P22)*$E$6 -> -88.564037 | R22: ='2(i)'!$H22 -> 3403.3738 | S22: =MAX(0,($E$7-'2(i)'!I22)*'2(iii)'!$G22) -> 2383.557 | U22: =N22+O22+Q22+R22-P22-S22-T22 -> -679.00247 | W22: =U22 -> -679.00247 | X22: =W22*J22 -> -584.48109 | Y22: =(1+$E$4)^(-$L22) -> 0.52066945 | AA22: =X22*Y22 -> -304.32145 | AB22: =$E$3*$J22*$Y21 -> 36471.381
C23: =C22+1 -> 48 | D23: ='Q2 data'!H35/'Q2 data'!D35 -> 0.002008 | E23: =E22 -> 0.02 | G23: =D23 -> 0.002008 | H23: =(1-G23)*(E23) -> 0.01995984 | I23: =(1-G23-H23) -> 0.97803216 | J23: =J22*I22 -> 0.84205776 | L23: =L22+1 -> 9 | M23: =M22+1 -> 48 | N23: =($E$3-'2(i)'!$E23) -> -1875 | O23: ='2(i)'!$F23 -> 3843.75 | P23: =$E$10+$G$10*$E$3 -> 3579.0052 | Q23: =(N23+O23-P23)*$E$6 -> -88.564037 | R23: ='2(i)'!$H23 -> 3995.3615 | S23: =MAX(0,($E$7-'2(i)'!I23)*'2(iii)'!$G23) -> 2419.4855 | U23: =N23+O23+Q23+R23-P23-S23-T23 -> -122.94327 | W23: =U23 -> -122.94327 | X23: =W23*J23 -> -103.52533 | Y23: =(1+$E$4)^(-$L23) -> 0.47987968 | AA23: =X23*Y23 -> -49.679702 | AB23: =$E$3*$J23*$Y22 -> 32882.531
C24: =C23+1 -> 49 | D24: ='Q2 data'!H36/'Q2 data'!D36 -> 0.002241 | E24: =E23 -> 0.02 | G24: =D24 -> 0.002241 | H24: =(1-G24)*(E24) -> 0.01995518 | I24: =(1-G24-H24) -> 0.97780382 | J24: =J23*I23 -> 0.82355957 | L24: =L23+1 -> 10 | M24: =M23+1 -> 49 | N24: =($E$3-'2(i)'!$E24) -> -1875 | O24: ='2(i)'!$F24 -> 3843.75 | P24: =$E$10+$G$10*$E$3 -> 3579.0052 | Q24: =(N24+O24-P24)*$E$6 -> -88.564037 | R24: ='2(i)'!$H24 -> 4622.6761 | S24: =MAX(0,($E$7-'2(i)'!I24)*'2(iii)'!$G24) -> 2420.476 | U24: =N24+O24+Q24+R24-P24-S24-T24 -> 503.38086 | W24: =U24 -> 503.38086 | X24: =W24*J24 -> 414.56412 | Y24: =(1+$E$4)^(-$L24) -> 0.44228542 | AA24: =X24*Y24 -> 183.35567 | AB24: =$E$3*$J24*$Y23 -> 29640.712
C25: =C24+1 -> 50 | D25: ='Q2 data'!H37/'Q2 data'!D37 -> 0.002508 | E25: =E24 -> 0.02 | G25: =D25 -> 0.002508 | H25: =(1-G25)*(E25) -> 0.01994984 | I25: =(1-G25-H25) -> 0.97754216 | J25: =J24*I24 -> 0.8052797 | L25: =L24+1 -> 11 | M25: =M24+1 -> 50 | N25: =($E$3-'2(i)'!$E25) -> 0 | O25: ='2(i)'!$F25 -> 3750 | P25: =$E$10+$G$10*$E$3 -> 3579.0052 | Q25: =(N25+O25-P25)*$E$6 -> 9.4047133 | R25: ='2(i)'!$H25 -> 5277.9405 | S25: =MAX(0,($E$7-'2(i)'!I25)*'2(iii)'!$G25) -> 2381.8221 | U25: =N25+O25+Q25+R25-P25-S25-T25 -> 3076.5179 | W25: =U25 -> 3076.5179 | X25: =W25*J25 -> 2477.4574 | Y25: =(1+$E$4)^(-$L25) -> 0.40763633 | AA25: =X25*Y25 -> 1009.9016 | AB25: =$E$3*$J25*$Y24 -> 26712.26
C26: =C25+1 -> 51 | D26: ='Q2 data'!H38/'Q2 data'!D38 -> 0.002809 | E26: =E25 -> 0.02 | G26: =D26 -> 0.002809 | H26: =(1-G26)*(E26) -> 0.01994382 | I26: =(1-G26-H26) -> 0.97724718 | J26: =J25*I25 -> 0.78719485 | L26: =L25+1 -> 12 | M26: =M25+1 -> 51 | N26: =($E$3-'2(i)'!$E26) -> 0 | O26: ='2(i)'!$F26 -> 3750 | P26: =$E$10+$G$10*$E$3 -> 3579.0052 | Q26: =(N26+O26-P26)*$E$6 -> 9.4047133 | R26: ='2(i)'!$H26 -> 5972.3079 | S26: =MAX(0,($E$7-'2(i)'!I26)*'2(iii)'!$G26) -> 2279.5336 | U26: =N26+O26+Q26+R26-P26-S26-T26 -> 3873.1738 | W26: =U26 -> 3873.1738 | X26: =W26*J26 -> 3048.9424 | Y26: =(1+$E$4)^(-$L26) -> 0.37570168 | AA26: =X26*Y26 -> 1145.4928 | AB26: =$E$3*$J26*$Y25 -> 24066.691
C27: =C26+1 -> 52 | D27: ='Q2 data'!H39/'Q2 data'!D39 -> 0.003152 | E27: =E26 -> 0.02 | G27: =D27 -> 0.003152 | H27: =(1-G27)*(E27) -> 0.01993696 | I27: =(1-G27-H27) -> 0.97691104 | J27: =J26*I26 -> 0.76928395 | L27: =L26+1 -> 13 | M27: =M26+1 -> 52 | N27: =($E$3-'2(i)'!$E27) -> 0 | O27: ='2(i)'!$F27 -> 3750 | P27: =$E$10+$G$10*$E$3 -> 3579.0052 | Q27: =(N27+O27-P27)*$E$6 -> 9.4047133 | R27: ='2(i)'!$H27 -> 6708.1116 | S27: =MAX(0,($E$7-'2(i)'!I27)*'2(iii)'!$G27) -> 2096.3504 | U27: =N27+O27+Q27+R27-P27-S27-T27 -> 4792.1607 | W27: =U27 -> 4792.1607 | X27: =W27*J27 -> 3686.5323 | Y27: =(1+$E$4)^(-$L27) -> 0.34626883 | AA27: =X27*Y27 -> 1276.5312 | AB27: =$E$3*$J27*$Y26 -> 21676.596
C28: =C27+1 -> 53 | D28: ='Q2 data'!H40/'Q2 data'!D40 -> 0.003539 | E28: =E27 -> 0.02 | G28: =D28 -> 0.003539 | H28: =(1-G28)*(E28) -> 0.01992922 | I28: =(1-G28-H28) -> 0.97653178 | J28: =J27*I27 -> 0.75152198 | L28: =L27+1 -> 14 | M28: =M27+1 -> 53 | N28: =($E$3-'2(i)'!$E28) -> 0 | O28: ='2(i)'!$F28 -> 3750 | P28: =$E$10+$G$10*$E$3 -> 3579.0052 | Q28: =(N28+O28-P28)*$E$6 -> 9.4047133 | R28: ='2(i)'!$H28 -> 7487.8244 | S28: =MAX(0,($E$7-'2(i)'!I28)*'2(iii)'!$G28) -> 1804.6173 | U28: =N28+O28+Q28+R28-P28-S28-T28 -> 5863.6067 | W28: =U28 -> 5863.6067 | X28: =W28*J28 -> 4406.6293 | Y28: =(1+$E$4)^(-$L28) -> 0.31914178 | AA28: =X28*Y28 -> 1406.3395 | AB28: =$E$3*$J28*$Y27 -> 19517.148
... C33: =C32+1 -> 58 | D33: ='Q2 data'!H45/'Q2 data'!D45 -> 0.006352 | E33: =E32 -> 0.02 | G33: =D33 -> 0.006352 | H33: =(1-G33)*(E33) -> 0.01987296 | I33: =(1-G33-H33) -> 0.97377504 | J33: =J32*I32 -> 0.66406167 | L33: =L32+1 -> 19 | M33: =M32+1 -> 58 | N33: =($E$3-'2(i)'!$E33) -> 0 | O33: ='2(i)'!$F33 -> 3750 | P33: =$E$10+$G$10*$E$3 -> 3579.0052 | Q33: =(N33+O33-P33)*$E$6 -> 9.4047133 | R33: ='2(i)'!$H33 -> 12142.407 | S33: =MAX(0,($E$7-'2(i)'!I33)*'2(iii)'!$G33) -> 0 | U33: =N33+O33+Q33+R33-P33-S33-T33 -> 12322.807 | W33: =U33 -> 12322.807 | X33: =W33*J33 -> 8183.1035 | Y33: =(1+$E$4)^(-$L33) -> 0.21224378 | AA33: =X33*Y33 -> 1736.8128 | AB33: =$E$3*$J33*$Y32 -> 11469.233
C34: =C33+1 -> 59 | D34: ='Q2 data'!H46/'Q2 data'!D46 -> 0.00714 | E34: 0 | G34: =D34 -> 0.00714 | H34: =(1-G34)*(E34) -> 0 | I34: =(1-G34-H34) -> 0.99286 | J34: =J33*I33 -> 0.64664668 | L34: =L33+1 -> 20 | M34: =M33+1 -> 59 | N34: =($E$3-'2(i)'!$E34) -> 0 | O34: ='2(i)'!$F34 -> 3750 | P34: =$E$10+$G$10*$E$3 -> 3579.0052 | Q34: =(N34+O34-P34)*$E$6 -> 9.4047133 | R34: ='2(i)'!$H34 -> 13246.411 | S34: =MAX(0,($E$7-'2(i)'!I34)*'2(iii)'!$G34) -> 0 | T34: ='2(i)'!$I$34*('2(iii)'!$I$7-1)*(1-D34) -> 130860.73 | U34: =N34+O34+Q34+R34-P34-S34-T34 -> -117433.92 | W34: =U34 -> -117433.92 | X34: =W34*J34 -> -75938.253 | Y34: =(1+$E$4)^(-$L34) -> 0.19561639 | AA34: =X34*Y34 -> -14854.767 | AB34: =$E$3*$J34*$Y33 -> 10293.505

Sheet 2(iv)
C2: 2 marks
B4: 1 | C4: If mortality charge is levied, then the fund growth will reduce as additional charge is deducted each year where death benefit is more than fund value
B5: 2 | C5: As projected fund value reduces, collection of annual management charge will also reduce
B6: 3 | C6: Profit vector will be affected as: profit increases due to collection of mortality charge and reduces due to lower AMC

Sheet Q3 data
B4: Risk-free interest rate: one year forward rates
B6: 1 | C6: 0.045
B7: 2 | C7: 0.0475
B8: 3 | C8: 0.05
B9: 4 | C9: 0.053
B10: 5 | C10: 0.053
B11: 6 | C11: 0.053
B12: 7 | C12: 0.057
B13: 8 | C13: 0.057
B14: 9 | C14: 0.057
B15: 10 | C15: 0.057

Sheet 3(i)
B2: interest rate - annual | C2: 0.05 | G2: a:n (monthly) (A) | H2: =E28 -> 7.9293064
B3: term (years) | C3: 10
G4: i | H4: =C2 -> 0.05
G5: d(p) | H5: =C6/(1+C6)*12 -> 0.048691112 | I5: 0.5 mark
B6: Interest rate (effective monthly) | C6: =(1+C2)^(1/12)-1 -> 0.0040741238 | D6: 0.5 mark | G6: a:n (annual) | H6: =E12 -> 7.7217349
G8: i/d(p) * a:n (annual) (B) | H8: =H4/H5*H6 -> 7.9293064 | I8: 1 mark
B9: Working for a:n (annual) | G9: Check that A = B | H9: =H8-H2 -> -5.4178884e-14 | I9: 1 mark
B10: 0.5 mark | C10: 0.5 mark | D10: 1 mark | E10: 1 mark
B11: end of each year | C11: Cash flow | D11: Discount factor for each payment | E11: Value of annuity function
B12: 0 | E12: =SUMPRODUCT(C13:C22,D13:D22) -> 7.7217349
B13: 1 | C13: 1 | D13: =(1+$C$2)^(-B13) -> 0.95238095
B14: =B13+1 -> 2 | C14: 1 | D14: =(1+$C$2)^(-B14) -> 0.90702948
B15: =B14+1 -> 3 | C15: 1 | D15: =(1+$C$2)^(-B15) -> 0.8638376
B16: =B15+1 -> 4 | C16: 1 | D16: =(1+$C$2)^(-B16) -> 0.82270247
B17: =B16+1 -> 5 | C17: 1 | D17: =(1+$C$2)^(-B17) -> 0.78352617
B18: =B17+1 -> 6 | C18: 1 | D18: =(1+$C$2)^(-B18) -> 0.7462154
B19: =B18+1 -> 7 | C19: 1 | D19: =(1+$C$2)^(-B19) -> 0.71068133
B20: =B19+1 -> 8 | C20: 1 | D20: =(1+$C$2)^(-B20) -> 0.67683936
B21: =B20+1 -> 9 | C21: 1 | D21: =(1+$C$2)^(-B21) -> 0.64460892
B22: =B21+1 -> 10 | C22: 1 | D22: =(1+$C$2)^(-B22) -> 0.61391325
B25: Working for a(due):n (monthly)
B26: 0.5 mark | C26: 0.5 mark | D26: 1 mark | E26: 1 mark
B27: end of each month | C27: Cash flow | D27: Discount factor for each payment | E27: Value of annuity function
B28: 0 | C28: =1/12 -> 0.083333333 | D28: =(1+$C$6)^(-B28) -> 1 | E28: =SUMPRODUCT(C28:C147,D28:D147) -> 7.9293064
B29: 1 | C29: =$C$28 -> 0.083333333 | D29: =(1+$C$6)^(-B29) -> 0.99594241
B30: =B29+1 -> 2 | C30: =$C$28 -> 0.083333333 | D30: =(1+$C$6)^(-B30) -> 0.99190128
B31: =B30+1 -> 3 | C31: =$C$28 -> 0.083333333 | D31: =(1+$C$6)^(-B31) -> 0.98787655
B32: =B31+1 -> 4 | C32: =$C$28 -> 0.083333333 | D32: =(1+$C$6)^(-B32) -> 0.98386815
B33: =B32+1 -> 5 | C33: =$C$28 -> 0.083333333 | D33: =(1+$C$6)^(-B33) -> 0.97987601
B34: =B33+1 -> 6 | C34: =$C$28 -> 0.083333333 | D34: =(1+$C$6)^(-B34) -> 0.97590007
B35: =B34+1 -> 7 | C35: =$C$28 -> 0.083333333 | D35: =(1+$C$6)^(-B35) -> 0.97194027
B36: =B35+1 -> 8 | C36: =$C$28 -> 0.083333333 | D36: =(1+$C$6)^(-B36) -> 0.96799653
B37: =B36+1 -> 9 | C37: =$C$28 -> 0.083333333 | D37: =(1+$C$6)^(-B37) -> 0.96406879
B38: =B37+1 -> 10 | C38: =$C$28 -> 0.083333333 | D38: =(1+$C$6)^(-B38) -> 0.960157
B39: =B38+1 -> 11 | C39: =$C$28 -> 0.083333333 | D39: =(1+$C$6)^(-B39) -> 0.95626107
B40: =B39+1 -> 12 | C40: =$C$28 -> 0.083333333 | D40: =(1+$C$6)^(-B40) -> 0.95238095
B41: =B40+1 -> 13 | C41: =$C$28 -> 0.083333333 | D41: =(1+$C$6)^(-B41) -> 0.94851658
... B147: =B146+1 -> 119 | C147: =$C$28 -> 0.083333333 | D147: =(1+$C$6)^(-B147) -> 0.61641441
B148: =B147+1 -> 120

Sheet 3(ii)
B2: Nominal amount | C2: 10000 | H2: Answer | I2: =C4 -> 0.050364597
B3: Floating rate spread | C3: 0.002
B4: Fixed rate | C4: 0.050364597
B6: marks 1 | D6: marks 1 | F6: marks 2 | G6: marks 2 | H6: marks 1 | I6: marks 1 | J6: marks 1
B7: End of time step | C7: risk-free forward | D7: Floating rate | E7: Fixed rate | F7: Fixed interest outgo | G7: Floating rate income | H7: Net cash flow | I7: Discount factor | J7: Present value
B8: 0 | I8: 1 | J8: =SUMPRODUCT(H9:H18,I9:I18) -> -1.3500312e-13 | K8: (to be set equal to 0 using Goal Seek on cell C4)
B9: =B8+1 -> 1 | C9: ='Q3 data'!C6 -> 0.045 | D9: =C9-$C$3 -> 0.043 | E9: =$C$4 -> 0.050364597 | F9: =$C$2*E9 -> 503.64597 | G9: =$C$2*D9 -> 430 | H9: =G9-F9 -> -73.645966 | I9: =I8/(1+C9) -> 0.9569378
B10: =B9+1 -> 2 | C10: ='Q3 data'!C7 -> 0.0475 | D10: =C10-$C$3 -> 0.0455 | E10: =$C$4 -> 0.050364597 | F10: =$C$2*E10 -> 503.64597 | G10: =$C$2*D10 -> 455 | H10: =G10-F10 -> -48.645966 | I10: =I9/(1+C10) -> 0.91354444
B11: =B10+1 -> 3 | C11: ='Q3 data'!C8 -> 0.05 | D11: =C11-$C$3 -> 0.048 | E11: =$C$4 -> 0.050364597 | F11: =$C$2*E11 -> 503.64597 | G11: =$C$2*D11 -> 480 | H11: =G11-F11 -> -23.645966 | I11: =I10/(1+C11) -> 0.87004232
B12: =B11+1 -> 4 | C12: ='Q3 data'!C9 -> 0.053 | D12: =C12-$C$3 -> 0.051 | E12: =$C$4 -> 0.050364597 | F12: =$C$2*E12 -> 503.64597 | G12: =$C$2*D12 -> 510 | H12: =G12-F12 -> 6.3540335 | I12: =I11/(1+C12) -> 0.82625102
B13: =B12+1 -> 5 | C13: ='Q3 data'!C10 -> 0.053 | D13: =C13-$C$3 -> 0.051 | E13: =$C$4 -> 0.050364597 | F13: =$C$2*E13 -> 503.64597 | G13: =$C$2*D13 -> 510 | H13: =G13-F13 -> 6.3540335 | I13: =I12/(1+C13) -> 0.78466383
B14: =B13+1 -> 6 | C14: ='Q3 data'!C11 -> 0.053 | D14: =C14-$C$3 -> 0.051 | E14: =$C$4 -> 0.050364597 | F14: =$C$2*E14 -> 503.64597 | G14: =$C$2*D14 -> 510 | H14: =G14-F14 -> 6.3540335 | I14: =I13/(1+C14) -> 0.74516983
B15: =B14+1 -> 7 | C15: ='Q3 data'!C12 -> 0.057 | D15: =C15-$C$3 -> 0.055 | E15: =$C$4 -> 0.050364597 | F15: =$C$2*E15 -> 503.64597 | G15: =$C$2*D15 -> 550 | H15: =G15-F15 -> 46.354034 | I15: =I14/(1+C15) -> 0.70498565
B16: =B15+1 -> 8 | C16: ='Q3 data'!C13 -> 0.057 | D16: =C16-$C$3 -> 0.055 | E16: =$C$4 -> 0.050364597 | F16: =$C$2*E16 -> 503.64597 | G16: =$C$2*D16 -> 550 | H16: =G16-F16 -> 46.354034 | I16: =I15/(1+C16) -> 0.66696845
B17: =B16+1 -> 9 | C17: ='Q3 data'!C14 -> 0.057 | D17: =C17-$C$3 -> 0.055 | E17: =$C$4 -> 0.050364597 | F17: =$C$2*E17 -> 503.64597 | G17: =$C$2*D17 -> 550 | H17: =G17-F17 -> 46.354034 | I17: =I16/(1+C17) -> 0.63100137
B18: =B17+1 -> 10 | C18: ='Q3 data'!C15 -> 0.057 | D18: =C18-$C$3 -> 0.055 | E18: =$C$4 -> 0.050364597 | F18: =$C$2*E18 -> 503.64597 | G18: =$C$2*D18 -> 550 | H18: =G18-F18 -> 46.354034 | I18: =I17/(1+C18) -> 0.59697386

Sheet 3(iii)
A1: This is a copy of 3(ii)
B2: Nominal amount | C2: 10000 | H2: Answer | I2: =J8 -> 371.69043 | J2: Net profit
B3: Floating rate spread | C3: 0.002 | I3: mark 1 | J3: mark 1
B4: Fixed rate | C4: ='3(ii)'!C4 -> 0.050364597
C6: Mark 1 | D6: mark 0.5 | E6: mark 0.5 | H6: mark 1
B7: End of time step | C7: risk-free forward | D7: Floating rate | E7: Fixed rate | F7: Fixed interest outgo | G7: Floating rate income | H7: Net cash flow | I7: Discount factor | J7: Present value
B8: 0 | I8: 1 | J8: =SUMPRODUCT(H9:H18,I9:I18) -> 371.69043 | K8: (to be set equal to 0 using Goal Seek on cell C4)
B9: =B8+1 -> 1 | C9: ='Q3 data'!C6+0.5% -> 0.05 | D9: =C9-$C$3 -> 0.048 | E9: =$C$4 -> 0.050364597 | F9: =$C$2*E9 -> 503.64597 | G9: =$C$2*D9 -> 480 | H9: =G9-F9 -> -23.645966 | I9: =I8/(1+C9) -> 0.95238095
B10: =B9+1 -> 2 | C10: ='Q3 data'!C7+0.5% -> 0.0525 | D10: =C10-$C$3 -> 0.0505 | E10: =$C$4 -> 0.050364597 | F10: =$C$2*E10 -> 503.64597 | G10: =$C$2*D10 -> 505 | H10: =G10-F10 -> 1.3540335 | I10: =I9/(1+C10) -> 0.90487501
B11: =B10+1 -> 3 | C11: ='Q3 data'!C8+0.5% -> 0.055 | D11: =C11-$C$3 -> 0.053 | E11: =$C$4 -> 0.050364597 | F11: =$C$2*E11 -> 503.64597 | G11: =$C$2*D11 -> 530 | H11: =G11-F11 -> 26.354034 | I11: =I10/(1+C11) -> 0.85770144
B12: =B11+1 -> 4 | C12: ='Q3 data'!C9+0.5% -> 0.058 | D12: =C12-$C$3 -> 0.056 | E12: =$C$4 -> 0.050364597 | F12: =$C$2*E12 -> 503.64597 | G12: =$C$2*D12 -> 560 | H12: =G12-F12 -> 56.354034 | I12: =I11/(1+C12) -> 0.81068189
B13: =B12+1 -> 5 | C13: ='Q3 data'!C10+0.5% -> 0.058 | D13: =C13-$C$3 -> 0.056 | E13: =$C$4 -> 0.050364597 | F13: =$C$2*E13 -> 503.64597 | G13: =$C$2*D13 -> 560 | H13: =G13-F13 -> 56.354034 | I13: =I12/(1+C13) -> 0.76623997
B14: =B13+1 -> 6 | C14: ='Q3 data'!C11+0.5% -> 0.058 | D14: =C14-$C$3 -> 0.056 | E14: =$C$4 -> 0.050364597 | F14: =$C$2*E14 -> 503.64597 | G14: =$C$2*D14 -> 560 | H14: =G14-F14 -> 56.354034 | I14: =I13/(1+C14) -> 0.72423437
B15: =B14+1 -> 7 | C15: ='Q3 data'!C12+0.5% -> 0.062 | D15: =C15-$C$3 -> 0.06 | E15: =$C$4 -> 0.050364597 | F15: =$C$2*E15 -> 503.64597 | G15: =$C$2*D15 -> 600 | H15: =G15-F15 -> 96.354034 | I15: =I14/(1+C15) -> 0.68195327
B16: =B15+1 -> 8 | C16: ='Q3 data'!C13+0.5% -> 0.062 | D16: =C16-$C$3 -> 0.06 | E16: =$C$4 -> 0.050364597 | F16: =$C$2*E16 -> 503.64597 | G16: =$C$2*D16 -> 600 | H16: =G16-F16 -> 96.354034 | I16: =I15/(1+C16) -> 0.64214056
B17: =B16+1 -> 9 | C17: ='Q3 data'!C14+0.5% -> 0.062 | D17: =C17-$C$3 -> 0.06 | E17: =$C$4 -> 0.050364597 | F17: =$C$2*E17 -> 503.64597 | G17: =$C$2*D17 -> 600 | H17: =G17-F17 -> 96.354034 | I17: =I16/(1+C17) -> 0.60465212
B18: =B17+1 -> 10 | C18: ='Q3 data'!C15+0.5% -> 0.062 | D18: =C18-$C$3 -> 0.06 | E18: =$C$4 -> 0.050364597 | F18: =$C$2*E18 -> 503.64597 | G18: =$C$2*D18 -> 600 | H18: =G18-F18 -> 96.354034 | I18: =I17/(1+C18) -> 0.56935228

Sheet 3(iv)
D3: 4 marks
B4: Risk-free interest rate: one year forward rates | D4: Spot rate
B5: 0
B6: 1 | C6: ='Q3 data'!C6 -> 0.045 | D6: =((1+D5)^B5*(1+C6))^(1/B6)-1 -> 0.045
B7: 2 | C7: ='Q3 data'!C7 -> 0.0475 | D7: =((1+D6)^B6*(1+C7))^(1/B7)-1 -> 0.046249253
B8: 3 | C8: ='Q3 data'!C8 -> 0.05 | D8: =((1+D7)^B7*(1+C8))^(1/B8)-1 -> 0.047498011
B9: 4 | C9: ='Q3 data'!C9 -> 0.053 | D9: =((1+D8)^B8*(1+C9))^(1/B9)-1 -> 0.048870807
B10: 5 | C10: ='Q3 data'!C10 -> 0.053 | D10: =((1+D9)^B9*(1+C10))^(1/B10)-1 -> 0.049695348
B11: 6 | C11: ='Q3 data'!C11 -> 0.053 | D11: =((1+D10)^B10*(1+C11))^(1/B11)-1 -> 0.050245403
B12: 7 | C12: ='Q3 data'!C12 -> 0.057 | D12: =((1+D11)^B11*(1+C12))^(1/B12)-1 -> 0.051207696
B13: 8 | C13: ='Q3 data'!C13 -> 0.057 | D13: =((1+D12)^B12*(1+C13))^(1/B13)-1 -> 0.051929995
